{"text_format":"3","workbook":"xlsx","n_sheets":18,"sheets":["Master","Check-In","Qual","Elim","B12","B16","B24","B32","2GMP","2D1GMP","1D1GMP","MSC","1D1GRRMP","MSCPots","Prize List","Opt","Sr-F","Fin Rpt"],"not_rendered":{"images":1,"macros":1,"external_links":3,"defined_names":190},"read":"whole","date_system":"1900"}

{"sheet":"Master","index":0,"n_rows":21,"n_cols":19,"rows_kept":21}
["Tournament","MSC",{"$nulls":8},"TC","Dbls","1-Day","2-Day","Mstrs","Sr Mstrs","MSC",null,"N"]
["Date","2022-04-24",{"$nulls":7},"# of Games",14,16,8,10,8,8,8,"Y"]
["Center","Cedarvale",{"$nulls":7},"High Game",{"$nulls":4},"Y","Y","Y","N"]
["Carryover",{"$nulls":8},"Optional Qualifying",null,"1:3","1:3","1:3"]
["Bet 2 Win Amount",{"$nulls":8},"B2W",null,"Y","Y","Y"]
[{"$nulls":9},"Mini Eliminator",null,"4-5-6","2-3-4","3-4-5","2-3-4","2-3-4","2-3-4"]
["MP Override # Taken",{"$nulls":8},"Mini Eliminator",null,"12-13-14","5-6-7","7-8-9","5-6-7","5-6-7","5-6-7"]
[{"$nulls":9},"Brackets","2-3-4","2-3-4","2-3-4","2-3-4","2-3-4","2-3-4","2-3-4"]
[{"$nulls":9},"Brackets","5-6-7","5-6-7","5-6-7","5-6-7","5-6-7","5-6-7","5-6-7"]
[{"$nulls":9},"Brackets","8-9-10","10-11-12",null,"8-9-10"]
[{"$nulls":9},"Brackets","11-12-13","13-14-15"]
[{"$nulls":9},"Blind Doubles",{"$nulls":6},"Y"]
[{"$nulls":9},"Match Play",null,null,8,8]
[{"$nulls":12},10,10]
[{"$nulls":12},12,12]
[{"$nulls":12},14,14]
[{"$nulls":12},16,16]
[{"$nulls":13},18]
[{"$nulls":13},20]
[{"$nulls":13},22]
[{"$nulls":13},24]

{"sheet":"Check-In","index":1,"n_rows":155,"n_cols":30,"rows_kept":155}
[null,{"$f":"IF(Tourn=\"tc\",\"Minnesota Team Challenge\", IF(Tourn=\"msc\",\"Midwest Senior Classic\",IF(Tourn=\"Sr Mstrs\",\"Senior Masters\",IF(Tourn=\"dbls\",\"Central Bowlers Alliance Doubles\",\"Central Bowlers Alliance\"))))","v":"Midwest Senior Classic"}]
["Date",{"$f":"Master!B2","v":"2022-04-24"}]
["Center",{"$f":"Master!B3","v":"Cedarvale"}]
[]
[null,"Name",null,"Entry Fee","Membership","Non-Member","Optional","Bet To Win","High Game","2-3-4 Brackets","5-6-7 Brackets","8-9-10 Brackets","11-12-13 Brackets","10-11-12 Brackets","13-14-15 Brackets","2-3-4 Mini-Elim","5-6-7 Mini-Elim","4-5-6 Mini-Elim","12-13-14 Mini-Elim","3-4-5 Mini-Elim","7-8-9 Mini-Elim","HI LOW DOUBLES","Total"]
[{"$nulls":3},{"v":90,"d":"$90"},{"v":45,"d":"$45"},{"v":10,"d":"$10"},{"v":25,"d":"$25"},{"$f":"IF(Tourn=\"Dbls\",\"60-40-20\", \"30-20-10\")","v":"30-20-10"},{"v":10,"d":"$10"},{"v":5,"d":"$5"},{"v":5,"d":"$5"},{"v":5,"d":"$5"},{"v":5,"d":"$5"},{"v":5,"d":"$5"},{"v":5,"d":"$5"},{"v":10,"d":"$10"},{"v":10,"d":"$10"},{"v":20,"d":"$20"},{"v":20,"d":"$20"},{"v":10,"d":"$10"},{"v":10,"d":"$10"},{"v":10,"d":"$10"},null,"NOTES"]
[1,"OULMAN, DAVE",null,"X",{"$nulls":5},4,4,{"$nulls":4},"X","X",{"$nulls":4},"X",{"$f":"IF($D7=\"X\",$D$6,0)+IF(E7=\"X\",$E$6,0)+IF(F7=\"X\",$F$6,0)+IF(G7=\"X\",$G$6,0)+ H7+($J$6*J7)+IF(I7=\"X\",$I$6,0)+($K$6*K7)+($L$6*L7)+($M$6*M7)+($N$6*N7)+($O$6*O7)+IF(P7=\"X\",$P$6,0)+IF(Q7=\"x\",$Q$6,0)+IF(R7=\"X\",$R$6,0)+IF(S7=\"x\",$S$6,0)+IF(T7=\"x\",$T$6,0)+IF(U7=\"x\",$U$6,0)+IF(V7=\"x\",$V$6,0)","v":{"v":160,"d":"$160"}},{"$nulls":5},{"$f":"IF(Tourn=\"Dbls\",60,30)","v":30},{"$f":"IF(Tourn=\"MSC\",\"SS\",\"F\")","v":"SS"}]
[2,"DAVIS, SCOTT",null,"X",{"$nulls":5},8,8,{"$nulls":4},"X","X",{"$nulls":4},"X",{"$f":"IF($D8=\"X\",$D$6,0)+IF(E8=\"X\",$E$6,0)+IF(F8=\"X\",$F$6,0)+IF(G8=\"X\",$G$6,0)+ H8+($J$6*J8)+IF(I8=\"X\",$I$6,0)+($K$6*K8)+($L$6*L8)+($M$6*M8)+($N$6*N8)+($O$6*O8)+IF(P8=\"X\",$P$6,0)+IF(Q8=\"x\",$Q$6,0)+IF(R8=\"X\",$R$6,0)+IF(S8=\"x\",$S$6,0)+IF(T8=\"x\",$T$6,0)+IF(U8=\"x\",$U$6,0)+IF(V8=\"x\",$V$6,0)","v":{"v":200,"d":"$200"}},{"$nulls":5},{"$f":"IF(Tourn=\"Dbls\",40,20)","v":20},{"$f":"IF(Tourn=\"MSC\",\"ROG\",\"JR\")","v":"ROG"}]
[3,"PESCH, JOHN",null,"X",{"$nulls":5},2,2,{"$nulls":4},"X","X",{"$nulls":4},"X",{"v":140,"d":"$140"},{"$nulls":5},{"$f":"IF(Tourn=\"Dbls\",20,10)","v":10},{"$f":"IF(Tourn=\"MSC\",\"SDS\",\"SR\")","v":"SDS"}]
[4,"NELSON, BILL",null,"X",{"$nulls":5},4,4,{"$nulls":4},"X","X",{"$nulls":4},"X",{"v":160,"d":"$160"}]
[5,"SCHOSSOW, FRED",null,"X",{"$nulls":5},9,9,{"$nulls":4},"X","X",{"$nulls":4},"X",{"v":210,"d":"$210"}]
[6,"POELZER, CLARK","ROG","X",{"$nulls":5},5,5,{"$nulls":4},"X","X",{"$nulls":4},"X",{"v":170,"d":"$170"}]
[7,"MAGNUSON, TRACEY",null,"X",{"$nulls":17},"X",{"v":100,"d":"$100"}]
[8,"MCKINNEY, TERRY",null,"X",{"$nulls":5},20,20,{"$nulls":4},"X","X",{"$nulls":5},{"v":310,"d":"$310"}]
[9,"FABIN, BILL",null,"X",null,"X",{"$nulls":16},{"v":100,"d":"$100"}]
[10,"WRIGHT, DANA",null,"X",{"$nulls":5},8,8,{"$nulls":4},"X","X",{"$nulls":4},"X",{"v":200,"d":"$200"}]
[11,"DAVIS, BOB",null,"X",{"$nulls":5},2,2,{"$nulls":4},"X","X",{"$nulls":4},"X",{"v":140,"d":"$140"}]
[12,"HAVLISH, TOM","ROG","X",{"$nulls":18},{"v":90,"d":"$90"}]
[13,"VANSLEET, TODD",null,"X",{"$nulls":5},5,5,{"$nulls":4},"X","X",{"$nulls":5},{"v":160,"d":"$160"}]
[14,"JENSEN, ROBERT","SS","X",{"$nulls":5},4,4,{"$nulls":4},"X","X",{"$nulls":4},"X",{"v":160,"d":"$160"}]
[15,"REYNOLDS, TIM",null,"X",null,"X",{"$nulls":16},{"v":100,"d":"$100"}]
[16,"LANGER, DAVE",null,"X",null,"X",{"$nulls":3},8,8,{"$nulls":4},"X","X",{"$nulls":5},{"v":200,"d":"$200"}]
[17,"BLAZEJ, GEORGE","ROG","X",{"$nulls":18},{"v":90,"d":"$90"}]
[18,"WEINKE, RON","ROG","X",null,"X",{"$nulls":16},{"v":100,"d":"$100"}]
[19,"IRVIN, BRAD",null,"X",{"$nulls":5},4,4,{"$nulls":4},"X","X",{"$nulls":4},"X",{"v":160,"d":"$160"}]
[20,"BJERKE, PAUL",null,"X",null,"X",{"$nulls":16},{"v":100,"d":"$100"}]
[21,"VANWIE, MIKE","SS","X",null,"X",{"$nulls":16},{"v":100,"d":"$100"}]
[22,"SATHER, GLEN",null,"X",null,"X",{"$nulls":16},{"v":100,"d":"$100"}]
[23,"GREEN, GARY","SS","X",{"$nulls":5},5,5,{"$nulls":4},"X","X",{"$nulls":5},{"v":160,"d":"$160"}]
[24,"ROBILLARD, BOB","SS","X",null,"X",{"$nulls":16},{"v":100,"d":"$100"}]
[25,"HENK, RICK","SS","X",{"$nulls":5},4,4,{"$nulls":5},"X",{"$nulls":5},{"v":140,"d":"$140"}]
[26,"HOMMES, JOHN","SS","X",{"$nulls":5},5,5,{"$nulls":4},"X","X",{"$nulls":4},"X",{"v":170,"d":"$170"}]
[27,"JONES, TOM",null,"X",{"$nulls":5},7,7,{"$nulls":4},"X","X",{"$nulls":4},"X",{"v":190,"d":"$190"}]
[28,"WENZEL, JEFF",null,"X",{"$nulls":5},10,10,{"$nulls":11},{"v":190,"d":"$190"}]
[29,"BORDSON, DAVE","SS","X",{"$nulls":11},"X","X",{"$nulls":4},"X",{"v":120,"d":"$120"}]
[30,"HAUGAN, ERIC",null,"X",{"$nulls":11},"X","X",{"$nulls":4},"X",{"v":120,"d":"$120"}]
[31,"JENSEN, WAYNE",null,"X",{"$nulls":5},8,8,{"$nulls":4},"X","X",{"$nulls":4},"X",{"v":200,"d":"$200"}]
[32,"SCHACHT, TERRY","ROG","X",null,"X",{"$nulls":16},{"v":100,"d":"$100"}]
[33,"GOODWIN, CRAIG","SS","X",{"$nulls":5},8,8,{"$nulls":4},"X","X",{"$nulls":4},"X",{"v":200,"d":"$200"}]
[34,"CLEVELAND, RON","SS","X",{"$nulls":5},2,2,{"$nulls":11},{"v":110,"d":"$110"}]
[35,"STOEBNER, JOHN","SS","X",{"$nulls":5},3,3,{"$nulls":10},"X",{"v":130,"d":"$130"}]
[36,"SODERGREN, SCOTT","SS","X",{"$nulls":11},"X","X",{"$nulls":5},{"v":110,"d":"$110"}]
[37,"MARSHALL. MAURICE",null,"X",{"$nulls":5},2,3,{"$nulls":11},{"v":115,"d":"$115"}]
[38,"SCHMID, MIKE","ROG","X",{"$nulls":5},3,3,{"$nulls":4},"X","X",{"$nulls":4},"X",{"v":150,"d":"$150"}]
[39,"JONES, DAVE",null,"X",{"$nulls":5},3,3,{"$nulls":10},"X",{"v":130,"d":"$130"}]
[40,"PETERSON, ED",null,"X",{"$nulls":5},5,5,{"$nulls":4},"X","X",{"$nulls":4},"X",{"v":170,"d":"$170"}]
[41,"BRUINSMA, DEAN","SS","X",{"$nulls":5},2,2,{"$nulls":4},"X","X",{"$nulls":4},"X",{"v":140,"d":"$140"}]
[42,"CAUGHEY, STEVE","SS","X",{"$nulls":18},{"v":90,"d":"$90"}]
[43,"WIRZ, MIKE","SS","X",{"$nulls":5},5,5,{"$nulls":4},"X","X",{"$nulls":5},{"$f":"IF($D49=\"X\",$D$6,0)+IF(E49=\"X\",$E$6,0)+IF(F49=\"X\",$F$6,0)+IF(G49=\"X\",$G$6,0)+ H49+($J$6*J49)+IF(I49=\"X\",$I$6,0)+($K$6*K49)+($L$6*L49)+($M$6*M49)+($N$6*N49)+($O$6*O49)+IF(P49=\"X\",$P$6,0)+IF(Q49=\"x\",$Q$6,0)+IF(R49=\"X\",$R$6,0)+IF(S49=\"x\",$S$6,0)+IF(T49=\"x\",$T$6,0)+IF(U49=\"x\",$U$6,0)","v":{"v":160,"d":"$160"}}]
[44,"MANSKE, WARREN","SS","X",{"$nulls":11},"X","X",{"$nulls":5},{"v":110,"d":"$110"}]
[45,"PEARSE, MIKE",null,"X",{"$nulls":18},{"v":90,"d":"$90"}]
[46,"BIRKEDAHL, LARRY",null,"X",{"$nulls":17},"X",{"v":100,"d":"$100"}]
[47,"HALIDA, TERRY","SS","X",{"$nulls":11},"X","X",{"$nulls":5},{"v":110,"d":"$110"}]
[48,"HANKE, KURT",null,"X",{"$nulls":11},"X","X",{"$nulls":5},{"v":110,"d":"$110"}]
[49,"MICEK, BOB","SS","X",null,"X",{"$nulls":16},{"v":100,"d":"$100"}]
[50,"CORBETT, TOM","SS","X",{"$nulls":5},5,5,{"$nulls":4},"X","X",{"$nulls":5},{"v":160,"d":"$160"}]
[51,"SAVOY, TODD","SS","X",null,"X",{"$nulls":3},5,5,{"$nulls":4},"X","X",{"$nulls":4},"X",{"v":180,"d":"$180"}]
[52,"ADAMS, TOM",null,"X",null,"X",{"$nulls":16},{"v":100,"d":"$100"}]
[53,"DOWNER, ROB","SS","X",{"$nulls":5},8,8,{"$nulls":4},"X","X",{"$nulls":4},"X",{"v":200,"d":"$200"}]
[54,"BOHN, STEVE",null,"X",{"$nulls":5},6,6,{"$nulls":4},"X","X",{"$nulls":4},"X",{"v":180,"d":"$180"}]
[55,"URBI, GORDON",null,"X",null,"X",{"$nulls":16},{"v":100,"d":"$100"}]
[56,"THOMPSON, DOUG","SS","X",null,"X",{"$nulls":9},"X","X",{"$nulls":5},{"v":120,"d":"$120"}]
[57,"DAVISON, PAUL","SS","X",null,"X",{"$nulls":9},"X","X",{"$nulls":5},{"v":120,"d":"$120"}]
[58,"HAUGH, BOB","ROG","X",null,"X",{"$nulls":3},1,1,{"$nulls":11},{"v":110,"d":"$110"}]
[59,"RYAN, MIKE",null,"X",{"$nulls":5},2,2,{"$nulls":10},"X",{"v":120,"d":"$120"}]
[60,"RACETTE, TIM","SS","X",{"$nulls":5},4,4,{"$nulls":4},"X","X",{"$nulls":4},"X",{"v":160,"d":"$160"}]
[61,"WINTER, JIM",null,"X",{"$nulls":5},2,2,{"$nulls":10},"X",{"v":120,"d":"$120"}]
[62,"WORM, KEN","ROG","X",{"$nulls":17},"X",{"v":100,"d":"$100"}]
[63,null,null,{"$f":"IF(COUNTA(B69)=1,\"x\",\"\")","v":""},{"$nulls":18},{"v":0,"d":"$0"}]
[64,null,null,"",{"$nulls":18},{"v":0,"d":"$0"}]
[65,null,null,"",{"$nulls":18},{"v":0,"d":"$0"}]
[66,null,null,"",{"$nulls":18},{"v":0,"d":"$0"}]
[67,null,null,"",{"$nulls":18},{"v":0,"d":"$0"}]
[68,null,null,"",{"$nulls":18},{"v":0,"d":"$0"}]
[69,null,null,"",{"$nulls":18},{"v":0,"d":"$0"}]
[70,null,null,"",{"$nulls":18},{"v":0,"d":"$0"}]
[71,null,null,"",{"$nulls":18},{"v":0,"d":"$0"}]
[72,null,null,"",{"$nulls":18},{"v":0,"d":"$0"}]
[73,null,null,"",{"$nulls":18},{"v":0,"d":"$0"}]
[74,null,null,"",{"$nulls":18},{"v":0,"d":"$0"}]
[75,null,null,"",{"$nulls":18},{"v":0,"d":"$0"}]
[76,null,null,"",{"$nulls":18},{"v":0,"d":"$0"}]
[77,null,null,"",{"$nulls":18},{"v":0,"d":"$0"}]
[78,null,null,"",{"$nulls":18},{"v":0,"d":"$0"}]
[79,null,null,"",{"$nulls":18},{"v":0,"d":"$0"}]
[80,null,null,"",{"$nulls":18},{"v":0,"d":"$0"}]
[81,null,null,"",{"$nulls":18},{"v":0,"d":"$0"}]
[82,null,null,"",{"$nulls":18},{"v":0,"d":"$0"}]
[83,null,null,"",{"$nulls":18},{"v":0,"d":"$0"}]
[84,null,null,"",{"$nulls":18},{"v":0,"d":"$0"}]
[85,null,null,"",{"$nulls":18},{"v":0,"d":"$0"}]
[86,null,null,"",{"$nulls":18},{"v":0,"d":"$0"}]
[87,null,null,"",{"$nulls":18},{"v":0,"d":"$0"}]
[88,null,null,"",{"$nulls":18},{"v":0,"d":"$0"}]
[89,null,null,"",{"$nulls":18},{"v":0,"d":"$0"}]
[90,null,null,{"$f":"IF(COUNTA(B96)=1,\"x\",\"\")","v":""},{"$nulls":18},{"v":0,"d":"$0"}]
[91,null,null,"",{"$nulls":18},{"v":0,"d":"$0"}]
[92,null,null,"",{"$nulls":18},{"v":0,"d":"$0"}]
[93,null,null,"",{"$nulls":18},{"v":0,"d":"$0"}]
[94,null,null,"",{"$nulls":18},{"v":0,"d":"$0"}]
[95,null,null,"",{"$nulls":18},{"v":0,"d":"$0"}]
[96,null,null,"",{"$nulls":18},{"v":0,"d":"$0"}]
[97,null,null,"",{"$nulls":18},{"v":0,"d":"$0"}]
[98,null,null,"",{"$nulls":18},{"v":0,"d":"$0"}]
[99,null,null,"",{"$nulls":18},{"v":0,"d":"$0"}]
[100,null,null,"",{"$nulls":18},{"v":0,"d":"$0"}]
[101,null,null,"",{"$nulls":18},{"v":0,"d":"$0"}]
[102,null,null,"",{"$nulls":18},{"v":0,"d":"$0"}]
[103,null,null,"",{"$nulls":18},{"v":0,"d":"$0"}]
[104,null,null,"",{"$nulls":18},{"v":0,"d":"$0"}]
[105,null,null,"",{"$nulls":18},{"v":0,"d":"$0"}]
[106,null,null,"",{"$nulls":18},{"v":0,"d":"$0"}]
[107,null,null,"",{"$nulls":18},{"$f":"IF($D113=\"X\",$D$6,0)+IF(E113=\"X\",$E$6,0)+IF(F113=\"X\",$F$6,0)+IF(G113=\"X\",$G$6,0)+ H113+($J$6*J113)+IF(I113=\"X\",$I$6,0)+($K$6*K113)+($L$6*L113)+($M$6*M113)+($N$6*N113)+($O$6*O113)+IF(P113=\"X\",$P$6,0)+IF(Q113=\"x\",$Q$6,0)+IF(R113=\"X\",$R$6,0)+IF(S113=\"x\",$S$6,0)+IF(T113=\"x\",$T$6,0)+IF(U113=\"x\",$U$6,0)","v":{"v":0,"d":"$0"}}]
[108,null,null,"",{"$nulls":18},{"v":0,"d":"$0"}]
[109,null,null,"",{"$nulls":18},{"v":0,"d":"$0"}]
[110,null,null,"",{"$nulls":18},{"v":0,"d":"$0"}]
[111,null,null,"",{"$nulls":18},{"v":0,"d":"$0"}]
[112,null,null,"",{"$nulls":18},{"v":0,"d":"$0"}]
[113,null,null,"",{"$nulls":18},{"v":0,"d":"$0"}]
[114,null,null,"",{"$nulls":18},{"v":0,"d":"$0"}]
[115,null,null,"",{"$nulls":18},{"v":0,"d":"$0"}]
[116,null,null,"",{"$nulls":18},{"v":0,"d":"$0"}]
[117,null,null,"",{"$nulls":18},{"v":0,"d":"$0"}]
[118,null,null,"",{"$nulls":18},{"v":0,"d":"$0"}]
[119,null,null,"",{"$nulls":18},{"v":0,"d":"$0"}]
[120,null,null,"",{"$nulls":18},{"v":0,"d":"$0"}]
[121,null,null,"",{"$nulls":18},{"v":0,"d":"$0"}]
[122,null,null,"",{"$nulls":18},{"v":0,"d":"$0"}]
[123,null,null,"",{"$nulls":18},{"v":0,"d":"$0"}]
[124,null,null,"",{"$nulls":18},{"v":0,"d":"$0"}]
[125,null,null,"",{"$nulls":18},{"v":0,"d":"$0"}]
[126,null,null,"",{"$nulls":18},{"v":0,"d":"$0"}]
[]
[null,"Counts per Category",null,{"$f":"COUNTA(B7:B132)","v":62},{"$f":"COUNTA(E7:E132)","v":0},{"$f":"COUNTA(F7:F132)","v":16},{"$f":"COUNTA(G7:G132)","v":0},{"$f":"COUNTA(H7:H132)","v":0},{"$f":"COUNTA(I7:I132)","v":0},{"$f":"SUM(J7:J132)","v":188},189,0,0,0,0,{"$f":"COUNTA(P7:P132)","v":35},36,0,0,0,0,30,{"$f":"SUM(W7:W132)","v":{"v":8635,"d":"$8,635"}}]
[null,"Pay-Out",null,{"$f":"TRUNC(Entries/3,0)","v":20},{"$f":"IF(MPOR=\"\",Payout,MPOR)","v":20},{"$f":"IF(MPOR<>\"\",MPOR,IF(EVEN(Entries/3)>Payout2,EVEN(Entries/3-2),EVEN(Entries/3)))","v":20},{"$f":"ROUNDDOWN(G134/3,0)","v":0}]
[null,{"$f":"IF(Tourn=\"msc\",\"SS\",\"Senior\")","v":"SS"},{"$f":"COUNTIF(C7:C132,IF(Tourn=\"MSC\",\"SS\",\"SR\"))","v":23},{"$f":"IF(Tourn=\"MSC\",TRUNC(C136/2,0),TRUNC(C136/3,0))","v":11},{"$nulls":4},{"$f":"I142/8","v":{"v":0,"d":"$0.00"}},{"$nulls":5},"Elimanator = # to make through 1st round",{"$f":"ROUNDUP(P134/2,0)","v":18},{"$f":"ROUNDUP(Q134/2,0)","v":18},0,0,0,0,{"$f":"V134/2","v":15}]
[null,{"$f":"IF(Tourn=\"MSC\",\"ROG\",\"F\")","v":"ROG"},{"$f":"COUNTIF(C7:C132,IF(Tourn=\"MSC\",\"ROG\",\"F\"))","v":8},{"$f":"IF(Tourn=\"MSC\",TRUNC(C136/2,0),IF(C137>=1,IF(C137/3<1,1,TRUNC(C137/3,0)),0))","v":11},{"$nulls":10},"Elimanator - # in final round",{"$f":"ROUNDUP(P136/2,0)","v":9},{"$f":"ROUNDUP(Q136/2,0)","v":9},0,0,0,0]
[null,{"$f":"IF(Tourn=\"msc\",\"\",\"JR\")","v":""},{"$f":"COUNTIF(C7:C132,\"JR\")","v":0},{"$f":"TRUNC(C138/3,0)","v":0},{"$nulls":11},{"$f":"ROUNDUP(P137/2,0)","v":5},{"$f":"ROUNDUP(Q137/2,0)","v":5},0,0,0,0]
[{"$nulls":15},{"$f":"ROUNDUP(P137/2,0)","v":5},{"$f":"ROUNDUP(Q137/2,0)","v":5},0,0,0,0]
[null,null,"# of Brackets Filled",{"$f":"J134/8","v":23.5},{"$f":"K134/8","v":23.625}]
[]
[null,"Amount per Category",null,{"$f":"D134*D6","v":{"v":5580,"d":"$5,580"}},{"$f":"E134*E6","v":{"v":0,"d":"$0"}},{"$f":"F134*F6","v":{"v":160,"d":"$160"}},{"$f":"G134*G6","v":{"v":0,"d":"$0"}},{"$f":"SUM(H7:H132)","v":{"v":0,"d":"$0"}},{"$f":"I134*I6","v":{"v":0,"d":"$0"}},{"$f":"J134*J6","v":{"v":940,"d":"$940"}},{"v":945,"d":"$945"},{"v":0,"d":"$0"},{"v":0,"d":"$0"},{"v":0,"d":"$0"},{"v":0,"d":"$0"},{"v":350,"d":"$350"},{"v":360,"d":"$360"},{"v":0,"d":"$0"},{"v":0,"d":"$0"},{"v":0,"d":"$0"},{"v":0,"d":"$0"},{"v":300,"d":"$300"},{"$f":"SUM(D142:Q142)","v":{"v":8335,"d":"$8,335"}}]
[]
[null,"B2WCO",{"$f":"B2W","v":0}]
[null,"Total",{"$f":"C144+H142","v":{"v":0,"d":"$0"}},{"$nulls":5},{"$f":"IF(I136*0.6<10,I136,I136*0.6)","v":{"v":0,"d":"$0.00"}},{"$nulls":6},{"$f":"IF(P$139<2,0,MROUND(P$142*$W145,5))","v":{"v":125,"d":"$125"}},{"$f":"IF(Q$139<2,0,MROUND(Q$142*$W145,5))","v":{"v":130,"d":"$130"}},{"v":0,"d":"$0"},{"v":0,"d":"$0"},{"v":0,"d":"$0"},{"v":0,"d":"$0"},{"$f":"IF(V136>3,V142*0.6,V142)","v":{"v":180,"d":"$180"}},{"v":0.36,"d":"36%"},"1st Place Mini-Eliminator"]
[null,{"v":0.5,"d":"50%"},{"$f":"MROUND(C145*B146,5)","v":0},{"$f":"C145-C146","v":{"v":0,"d":"$0"}},{"$nulls":4},{"$f":"IF(I136*0.6<10,0,I136*0.4)","v":{"v":0,"d":"$0.00"}},{"$nulls":6},{"$f":"IF(P$139<2,0,MROUND(P$142*$W146,5))","v":{"v":90,"d":"$90"}},{"v":95,"d":"$95"},{"v":0,"d":"$0"},{"v":0,"d":"$0"},{"v":0,"d":"$0"},{"v":0,"d":"$0"},{"$f":"IF(V136>3,V142*0.4,0)","v":{"v":120,"d":"$120"}},{"v":0.26,"d":"26%"},"2nd Place - Mini-Elimator"]
[null,{"v":0.3,"d":"30%"},{"$f":"MROUND(C145*B147,5)","v":0},{"$f":"C145-C147","v":{"v":0,"d":"$0"}},{"$nulls":11},{"v":75,"d":"$75"},{"v":75,"d":"$75"},{"v":0,"d":"$0"},{"v":0,"d":"$0"},{"v":0,"d":"$0"},{"v":0,"d":"$0"},null,{"v":0.21,"d":"21%"},"3rd Place Mini-Elimator"]
[null,{"v":0.2,"d":"20%"},{"$f":"MROUND(C145*B148,5)","v":0},{"$f":"C145-C148","v":{"v":0,"d":"$0"}},{"$nulls":11},{"v":40,"d":"$40"},{"v":40,"d":"$40"},{"v":0,"d":"$0"},{"v":0,"d":"$0"},{"v":0,"d":"$0"},{"v":0,"d":"$0"},null,{"v":0.11,"d":"11%"},"4th Place Mini-Elimator"]
[{"$nulls":15},{"v":20,"d":"$20"},{"v":20,"d":"$20"},{"v":0,"d":"$0"},{"v":0,"d":"$0"},{"v":0,"d":"$0"},{"v":0,"d":"$0"},null,{"v":0.06,"d":"6%"},"5th Place Mini-Eliminator"]
[{"$nulls":15},{"v":0,"d":"$0"},{"v":0,"d":"$0"},{"v":0,"d":"$0"},{"v":0,"d":"$0"},{"v":0,"d":"$0"},{"v":0,"d":"$0"},null,null,"6th Place - Mini-Elimator"]
[{"$nulls":15},{"v":0,"d":"$0"},{"v":0,"d":"$0"},{"v":0,"d":"$0"},{"v":0,"d":"$0"},{"v":0,"d":"$0"},{"v":0,"d":"$0"},null,null,"7th Place Mini-Elimator"]
[{"$nulls":15},{"v":0,"d":"$0"},{"v":0,"d":"$0"},{"v":0,"d":"$0"},{"v":0,"d":"$0"},{"v":0,"d":"$0"},{"v":0,"d":"$0"},null,null,"8th Place Mini-Elimator"]
[{"$nulls":15},{"$f":"SUM(P145:P152)","v":{"v":350,"d":"$350"}},{"v":360,"d":"$360"},{"v":0,"d":"$0"},{"v":0,"d":"$0"},{"v":0,"d":"$0"},{"v":0,"d":"$0"},null,{"v":1,"d":"100%"}]
[{"$nulls":15},{"$f":"P142-P6","v":{"v":340,"d":"$340"}},{"v":350,"d":"$350"},{"v":-20,"d":"-$20"},{"v":-20,"d":"-$20"},{"v":-10,"d":"-$10"},{"v":-10,"d":"-$10"}]
[{"$nulls":17},{"$f":"R154-R153","v":{"v":-20,"d":"-$20"}},{"$f":"S154-S153","v":{"v":-20,"d":"-$20"}}]

{"sheet":"Qual","index":2,"n_rows":148,"n_cols":35,"rows_kept":148,"merged":[[1,7,1,12]]}
[{"$nulls":9},{"$f":"'Check-In'!B1","v":"Midwest Senior Classic"}]
[{"$nulls":7},{"$f":"'Check-In'!B2","v":"2022-04-24"}]
[{"$nulls":9},{"$f":"'Check-In'!B3","v":"Cedarvale"}]
[{"$nulls":9},"Results After Game:",{"$f":"COUNTIF(F6:U6,\">0\")","v":8}]
[]
[null,null,{"$f":"'Check-In'!D134","v":62},null,null,{"$f":"IF($C$6=0,0,IF(COUNTIF(F8:F133,\">0\")=$C$6,1,0))","v":1},{"$f":"IF($C$6=0,0,IF(COUNTIF(G8:G133,\">0\")=$C$6,1,0))","v":0},1,0,1,0,1,0,1,0,1,0,1,0,1,0,1]
["Pos",null,"Name",null,"HG","G1",{"$f":"IF(Tourn=\"MSC\",\"B1\",\"G2\")","v":"B1"},{"$f":"IF(Tourn=\"MSC\",\"G2\",\"G3\")","v":"G2"},{"$f":"IF(Tourn=\"MSC\",\"B2\",\"G4\")","v":"B2"},{"$f":"IF(Tourn=\"MSC\",\"G3\",\"G5\")","v":"G3"},{"$f":"IF(Tourn=\"MSC\",\"B3\",\"G6\")","v":"B3"},{"$f":"IF(Tourn=\"MSC\",\"G4\",\"G7\")","v":"G4"},{"$f":"IF(Tourn=\"MSC\",\"B4\",\"G8\")","v":"B4"},{"$f":"IF(Tourn=\"MSC\",\"G5\",\"G9\")","v":"G5"},{"$f":"IF(Tourn=\"MSC\",\"B5\",\"G10\")","v":"B5"},{"$f":"IF(Tourn=\"MSC\",\"G6\",\"G11\")","v":"G6"},{"$f":"IF(Tourn=\"MSC\",\"B6\",\"G12\")","v":"B6"},{"$f":"IF(Tourn=\"MSC\",\"G7\",\"G13\")","v":"G7"},{"$f":"IF(Tourn=\"MSC\",\"B7\",\"G14\")","v":"B7"},{"$f":"IF(Tourn=\"MSC\",\"G8\",\"G15\")","v":"G8"},{"$f":"IF(Tourn=\"MSC\",\"B8\",\"G16\")","v":"B8"},"Scratch Total","Bonus Total","Grand Total","+ / -","Average",null,"Series 1-3","Series 4-6","Series 7-9","Series 10-12","Series 13-15",null,"Series 9-11","Series 12-14"]
[1,{"$f":"IF('Check-In'!A7=\"\",\"\",'Check-In'!A7)","v":1},{"$f":"IF('Check-In'!B7=\"\",\"\",'Check-In'!B7)","v":"OULMAN, DAVE"},{"$f":"IF('Check-In'!C7=\"\",\"\",'Check-In'!C7)","v":""},{"$f":"IF('Check-In'!I7=\"\",\"\",'Check-In'!I7)","v":""},227,40,265,40,193,40,234,40,248,40,213,40,215,40,257,40,{"$f":"IF(F8=\"\",\"\",IF(Tourn=\"MSC\",F8+H8+J8+L8+N8+P8+R8+T8,SUM(F8:U8)))","v":1852},{"$f":"IF(F8=\"\",\"\",IF(Tourn=\"MSC\",G8+I8+K8+M8+O8+Q8+S8+U8,0))","v":320},{"$f":"IF(V8=\"\",\"\",V8+W8)","v":2172},{"$f":"IF(F8=\"\",\"\",X8-$K$4*200)","v":572},{"$f":"IF(F8=\"\",\"\",V8/$K$4)","v":{"v":231.5,"d":"231.50"}},null,{"$f":"IF(Tourn=\"MSC\",F8+H8+J8,SUM(F8:H8))","v":685},{"$f":"IF(Tourn=\"MSC\",L8+N8+P8,SUM(I8:K8))","v":695},{"$f":"IF(OR(Tourn=\"MSC\",Tourn=\"1-Day\"),\"\",IF(N8=\"\",0,SUM(L8:N8)))","v":""},{"$f":"IF(OR(Tourn=\"MSC\",Tourn=\"1-Day\"),\"\",IF(O8=\"\",0,SUM(O8:Q8)))","v":""},{"$f":"IF(OR(Tourn=\"MSC\",Tourn=\"1-Day\"),\"\",IF(P8=\"\",0,SUM(R8:T8)))","v":""},null,{"$f":"IF(Tourn=\"Dbls\",SUM(N8:P8),\"\")","v":""},{"$f":"IF(Tourn=\"Dbls\",SUM(Q8:S8),\"\")","v":""}]
[2,{"$f":"IF('Check-In'!A48=\"\",\"\",'Check-In'!A48)","v":42},{"$f":"IF('Check-In'!B48=\"\",\"\",'Check-In'!B48)","v":"CAUGHEY, STEVE"},{"$f":"IF('Check-In'!C48=\"\",\"\",'Check-In'!C48)","v":"SS"},{"$f":"IF('Check-In'!I48=\"\",\"\",'Check-In'!I48)","v":""},213,40,210,40,224,null,245,40,253,40,217,40,223,40,244,40,1829,280,2109,509,{"v":228.625,"d":"228.63"},null,647,715,"","","",null,"",""]
[3,{"$f":"IF('Check-In'!A37=\"\",\"\",'Check-In'!A37)","v":31},{"$f":"IF('Check-In'!B37=\"\",\"\",'Check-In'!B37)","v":"JENSEN, WAYNE"},{"$f":"IF('Check-In'!C37=\"\",\"\",'Check-In'!C37)","v":""},{"$f":"IF('Check-In'!I21=\"\",\"\",'Check-In'!I21)","v":""},258,40,222,40,207,null,202,40,223,40,213,40,238,40,256,40,1819,280,2099,499,{"v":227.375,"d":"227.38"},null,687,638,"","","",null,"",""]
[4,{"$f":"IF('Check-In'!A57=\"\",\"\",'Check-In'!A57)","v":51},{"$f":"IF('Check-In'!B57=\"\",\"\",'Check-In'!B57)","v":"SAVOY, TODD"},{"$f":"IF('Check-In'!C57=\"\",\"\",'Check-In'!C57)","v":"SS"},{"$f":"IF('Check-In'!I57=\"\",\"\",'Check-In'!I57)","v":""},245,40,183,40,223,40,236,40,224,40,209,null,215,40,246,40,1781,280,2061,461,{"v":222.625,"d":"222.63"},null,651,669,"","","",null,"",""]
[5,{"$f":"IF('Check-In'!A32=\"\",\"\",'Check-In'!A32)","v":26},{"$f":"IF('Check-In'!B32=\"\",\"\",'Check-In'!B32)","v":"HOMMES, JOHN"},{"$f":"IF('Check-In'!C32=\"\",\"\",'Check-In'!C32)","v":"SS"},{"$f":"IF('Check-In'!I32=\"\",\"\",'Check-In'!I32)","v":""},214,40,237,40,247,40,198,40,268,40,196,null,235,40,214,null,1809,240,2049,449,{"v":226.125,"d":"226.13"},null,698,662,"","","",null,"",""]
[6,{"$f":"IF('Check-In'!A22=\"\",\"\",'Check-In'!A22)","v":16},{"$f":"IF('Check-In'!B22=\"\",\"\",'Check-In'!B22)","v":"LANGER, DAVE"},{"$f":"IF('Check-In'!C22=\"\",\"\",'Check-In'!C22)","v":""},{"$f":"IF('Check-In'!I22=\"\",\"\",'Check-In'!I22)","v":""},214,null,248,40,208,40,255,40,226,40,268,40,200,null,224,null,1843,200,2043,443,{"v":230.375,"d":"230.38"},null,670,749,"","","",null,"",""]
[7,{"$f":"IF('Check-In'!A59=\"\",\"\",'Check-In'!A59)","v":53},{"$f":"IF('Check-In'!B59=\"\",\"\",'Check-In'!B59)","v":"DOWNER, ROB"},{"$f":"IF('Check-In'!C59=\"\",\"\",'Check-In'!C59)","v":"SS"},{"$f":"IF('Check-In'!I59=\"\",\"\",'Check-In'!I59)","v":""},209,null,204,40,248,40,236,40,214,40,208,40,217,40,247,null,1783,240,2023,423,{"v":222.875,"d":"222.88"},null,661,658,"","","",null,"",""]
[8,{"$f":"IF('Check-In'!A33=\"\",\"\",'Check-In'!A33)","v":27},{"$f":"IF('Check-In'!B33=\"\",\"\",'Check-In'!B33)","v":"JONES, TOM"},{"$f":"IF('Check-In'!C33=\"\",\"\",'Check-In'!C33)","v":""},{"$f":"IF('Check-In'!I33=\"\",\"\",'Check-In'!I33)","v":""},216,40,194,null,245,40,219,40,191,40,215,40,228,40,213,40,1721,280,2001,401,{"v":215.125,"d":"215.13"},null,655,625,"","","",null,"",""]
[9,{"$f":"IF('Check-In'!A29=\"\",\"\",'Check-In'!A29)","v":23},{"$f":"IF('Check-In'!B29=\"\",\"\",'Check-In'!B29)","v":"GREEN, GARY"},{"$f":"IF('Check-In'!C29=\"\",\"\",'Check-In'!C29)","v":"SS"},{"$f":"IF('Check-In'!I29=\"\",\"\",'Check-In'!I29)","v":""},256,40,205,40,228,null,193,40,182,40,245,40,216,40,232,null,1757,240,1997,397,{"v":219.625,"d":"219.63"},null,689,620,"","","",null,"",""]
[10,{"$f":"IF('Check-In'!A18=\"\",\"\",'Check-In'!A18)","v":12},{"$f":"IF('Check-In'!B18=\"\",\"\",'Check-In'!B18)","v":"HAVLISH, TOM"},{"$f":"IF('Check-In'!C18=\"\",\"\",'Check-In'!C18)","v":"ROG"},{"$f":"IF('Check-In'!I18=\"\",\"\",'Check-In'!I18)","v":""},212,40,221,40,236,40,213,20,213,40,194,null,209,40,212,40,1710,260,1970,370,213.75,null,669,620,"","","",null,"",""]
[11,{"$f":"IF('Check-In'!A8=\"\",\"\",'Check-In'!A8)","v":2},{"$f":"IF('Check-In'!B8=\"\",\"\",'Check-In'!B8)","v":"DAVIS, SCOTT"},{"$f":"IF('Check-In'!C8=\"\",\"\",'Check-In'!C8)","v":""},{"$f":"IF('Check-In'!I8=\"\",\"\",'Check-In'!I8)","v":""},187,null,180,null,195,40,235,40,180,40,244,40,223,40,255,40,1699,240,1939,339,{"v":212.375,"d":"212.38"},null,562,659,"","","",null,"",""]
[12,{"$f":"IF('Check-In'!A52=\"\",\"\",'Check-In'!A52)","v":46},{"$f":"IF('Check-In'!B52=\"\",\"\",'Check-In'!B52)","v":"BIRKEDAHL, LARRY"},{"$f":"IF('Check-In'!C52=\"\",\"\",'Check-In'!C52)","v":""},{"$f":"IF('Check-In'!I52=\"\",\"\",'Check-In'!I52)","v":""},189,null,209,null,208,40,258,40,225,40,235,null,198,40,209,40,1731,200,1931,331,{"v":216.375,"d":"216.38"},null,606,718,"","","",null,"",""]
[13,{"$f":"IF('Check-In'!A14=\"\",\"\",'Check-In'!A14)","v":8},{"$f":"IF('Check-In'!B14=\"\",\"\",'Check-In'!B14)","v":"MCKINNEY, TERRY"},{"$f":"IF('Check-In'!C14=\"\",\"\",'Check-In'!C14)","v":""},{"$f":"IF('Check-In'!I14=\"\",\"\",'Check-In'!I14)","v":""},199,null,222,null,201,null,248,40,248,40,236,40,225,20,202,null,1781,140,1921,321,{"v":222.625,"d":"222.63"},null,622,732,"","","",null,"",""]
[14,{"$f":"IF('Check-In'!A19=\"\",\"\",'Check-In'!A19)","v":13},{"$f":"IF('Check-In'!B19=\"\",\"\",'Check-In'!B19)","v":"VANSLEET, TODD"},{"$f":"IF('Check-In'!C19=\"\",\"\",'Check-In'!C19)","v":""},{"$f":"IF('Check-In'!I19=\"\",\"\",'Check-In'!I19)","v":""},238,40,216,40,204,null,199,40,225,40,237,40,192,null,200,null,1711,200,1911,311,{"v":213.875,"d":"213.88"},null,658,661,"","","",null,"",""]
[15,{"$f":"IF('Check-In'!A45=\"\",\"\",'Check-In'!A45)","v":39},{"$f":"IF('Check-In'!B45=\"\",\"\",'Check-In'!B45)","v":"JONES, DAVE"},{"$f":"IF('Check-In'!C45=\"\",\"\",'Check-In'!C45)","v":""},{"$f":"IF('Check-In'!I45=\"\",\"\",'Check-In'!I45)","v":""},203,40,221,40,168,null,206,40,177,null,299,40,197,null,234,40,1705,200,1905,305,{"v":213.125,"d":"213.13"},null,592,682,"","","",null,"",""]
[16,{"$f":"IF('Check-In'!A9=\"\",\"\",'Check-In'!A9)","v":3},{"$f":"IF('Check-In'!B9=\"\",\"\",'Check-In'!B9)","v":"PESCH, JOHN"},{"$f":"IF('Check-In'!C9=\"\",\"\",'Check-In'!C9)","v":""},{"$f":"IF('Check-In'!I9=\"\",\"\",'Check-In'!I9)","v":""},170,null,191,40,234,40,223,null,202,40,268,40,225,20,187,null,1700,180,1880,280,{"v":212.5,"d":"212.50"},null,595,693,"","","",null,"",""]
[17,{"$f":"IF('Check-In'!A35=\"\",\"\",'Check-In'!A35)","v":29},{"$f":"IF('Check-In'!B35=\"\",\"\",'Check-In'!B35)","v":"BORDSON, DAVE"},{"$f":"IF('Check-In'!C35=\"\",\"\",'Check-In'!C35)","v":"SS"},{"$f":"IF('Check-In'!I35=\"\",\"\",'Check-In'!I35)","v":""},215,40,211,40,145,null,203,null,214,40,226,40,238,40,226,null,1678,200,1878,278,209.75,null,571,643,"","","",null,"",""]
[18,{"$f":"IF('Check-In'!A16=\"\",\"\",'Check-In'!A16)","v":10},{"$f":"IF('Check-In'!B16=\"\",\"\",'Check-In'!B16)","v":"WRIGHT, DANA"},{"$f":"IF('Check-In'!C16=\"\",\"\",'Check-In'!C16)","v":""},{"$f":"IF('Check-In'!I16=\"\",\"\",'Check-In'!I16)","v":""},198,null,269,40,215,40,219,null,226,40,194,null,172,null,222,40,1715,160,1875,275,{"v":214.375,"d":"214.38"},null,682,639,"","","",null,"",""]
[19,{"$f":"IF('Check-In'!A46=\"\",\"\",'Check-In'!A46)","v":40},{"$f":"IF('Check-In'!B46=\"\",\"\",'Check-In'!B46)","v":"PETERSON, ED"},{"$f":"IF('Check-In'!C46=\"\",\"\",'Check-In'!C46)","v":""},{"$f":"IF('Check-In'!I46=\"\",\"\",'Check-In'!I46)","v":""},200,40,203,40,215,40,203,40,159,null,170,null,249,40,228,40,1627,240,1867,267,{"v":203.375,"d":"203.38"},null,618,532,"","","",null,"",""]
[20,{"$f":"IF('Check-In'!A41=\"\",\"\",'Check-In'!A41)","v":35},{"$f":"IF('Check-In'!B41=\"\",\"\",'Check-In'!B41)","v":"STOEBNER, JOHN"},{"$f":"IF('Check-In'!C41=\"\",\"\",'Check-In'!C41)","v":"SS"},{"$f":"IF('Check-In'!I41=\"\",\"\",'Check-In'!I41)","v":""},234,40,199,40,179,null,202,null,168,40,217,40,204,40,224,40,1627,240,1867,267,{"v":203.375,"d":"203.38"},null,612,587,"","","",null,"",""]
[21,{"$f":"IF('Check-In'!A55=\"\",\"\",'Check-In'!A55)","v":49},{"$f":"IF('Check-In'!B55=\"\",\"\",'Check-In'!B55)","v":"MICEK, BOB"},{"$f":"IF('Check-In'!C55=\"\",\"\",'Check-In'!C55)","v":"SS"},{"$f":"IF('Check-In'!I55=\"\",\"\",'Check-In'!I55)","v":""},216,null,234,null,246,40,171,40,223,40,214,null,169,null,223,40,1696,160,1856,256,{"v":212,"d":"212.00"},null,696,608,"","","",null,"",""]
[22,{"$f":"IF('Check-In'!A25=\"\",\"\",'Check-In'!A25)","v":19},{"$f":"IF('Check-In'!B25=\"\",\"\",'Check-In'!B25)","v":"IRVIN, BRAD"},{"$f":"IF('Check-In'!C25=\"\",\"\",'Check-In'!C25)","v":""},{"$f":"IF('Check-In'!I25=\"\",\"\",'Check-In'!I25)","v":""},214,40,223,40,187,40,169,40,223,null,190,null,192,null,243,40,1641,200,1841,241,{"v":205.125,"d":"205.13"},null,624,582,"","","",null,"",""]
[23,{"$f":"IF('Check-In'!A60=\"\",\"\",'Check-In'!A60)","v":54},{"$f":"IF('Check-In'!B60=\"\",\"\",'Check-In'!B60)","v":"BOHN, STEVE"},{"$f":"IF('Check-In'!C60=\"\",\"\",'Check-In'!C60)","v":""},{"$f":"IF('Check-In'!I60=\"\",\"\",'Check-In'!I60)","v":""},175,40,189,null,207,40,183,null,235,null,228,40,206,40,205,40,1628,200,1828,228,{"v":203.5,"d":"203.50"},null,571,646,"","","",null,"",""]
[24,{"$f":"IF('Check-In'!A21=\"\",\"\",'Check-In'!A21)","v":15},{"$f":"IF('Check-In'!B21=\"\",\"\",'Check-In'!B21)","v":"REYNOLDS, TIM"},{"$f":"IF('Check-In'!C21=\"\",\"\",'Check-In'!C21)","v":""},{"$f":"IF('Check-In'!I37=\"\",\"\",'Check-In'!I37)","v":""},212,40,171,null,232,40,224,40,217,null,198,null,222,40,185,null,1661,160,1821,221,{"v":207.625,"d":"207.63"},null,615,639,"","","",null,"",""]
[25,{"$f":"IF('Check-In'!A66=\"\",\"\",'Check-In'!A66)","v":60},{"$f":"IF('Check-In'!B66=\"\",\"\",'Check-In'!B66)","v":"RACETTE, TIM"},{"$f":"IF('Check-In'!C66=\"\",\"\",'Check-In'!C66)","v":"SS"},{"$f":"IF('Check-In'!I66=\"\",\"\",'Check-In'!I66)","v":""},176,null,240,40,175,null,222,40,179,null,215,40,217,null,226,40,1650,160,1810,210,206.25,null,591,616,"","","",null,"",""]
[26,{"$f":"IF('Check-In'!A54=\"\",\"\",'Check-In'!A54)","v":48},{"$f":"IF('Check-In'!B54=\"\",\"\",'Check-In'!B54)","v":"HANKE, KURT"},{"$f":"IF('Check-In'!C54=\"\",\"\",'Check-In'!C54)","v":""},{"$f":"IF('Check-In'!I54=\"\",\"\",'Check-In'!I54)","v":""},216,40,190,null,196,null,220,null,228,40,257,40,193,null,181,null,1681,120,1801,201,{"v":210.125,"d":"210.13"},null,602,705,"","","",null,"",""]
[27,{"$f":"IF('Check-In'!A61=\"\",\"\",'Check-In'!A61)","v":55},{"$f":"IF('Check-In'!B61=\"\",\"\",'Check-In'!B61)","v":"URBI, GORDON"},{"$f":"IF('Check-In'!C61=\"\",\"\",'Check-In'!C61)","v":""},{"$f":"IF('Check-In'!I61=\"\",\"\",'Check-In'!I61)","v":""},232,40,193,40,190,40,176,null,179,null,215,40,222,40,193,null,1600,200,1800,200,{"v":200,"d":"200.00"},null,615,570,"","","",null,"",""]
[28,{"$f":"IF('Check-In'!A36=\"\",\"\",'Check-In'!A36)","v":30},{"$f":"IF('Check-In'!B36=\"\",\"\",'Check-In'!B36)","v":"HAUGAN, ERIC"},{"$f":"IF('Check-In'!C36=\"\",\"\",'Check-In'!C36)","v":""},{"$f":"IF('Check-In'!I36=\"\",\"\",'Check-In'!I36)","v":""},148,null,220,null,247,40,180,null,223,40,193,40,201,40,187,40,1599,200,1799,199,{"v":199.875,"d":"199.88"},null,615,596,"","","",null,"",""]
[29,{"$f":"IF('Check-In'!A67=\"\",\"\",'Check-In'!A67)","v":61},{"$f":"IF('Check-In'!B67=\"\",\"\",'Check-In'!B67)","v":"WINTER, JIM"},{"$f":"IF('Check-In'!C67=\"\",\"\",'Check-In'!C67)","v":""},{"$f":"IF('Check-In'!I67=\"\",\"\",'Check-In'!I67)","v":""},227,40,167,null,167,null,194,null,215,40,222,40,207,40,198,40,1597,200,1797,197,{"v":199.625,"d":"199.63"},null,561,631,"","","",null,"",""]
[30,{"$f":"IF('Check-In'!A49=\"\",\"\",'Check-In'!A49)","v":43},{"$f":"IF('Check-In'!B49=\"\",\"\",'Check-In'!B49)","v":"WIRZ, MIKE"},{"$f":"IF('Check-In'!C49=\"\",\"\",'Check-In'!C49)","v":"SS"},{"$f":"IF('Check-In'!I49=\"\",\"\",'Check-In'!I49)","v":""},196,40,226,40,215,40,216,40,216,null,190,null,174,null,187,null,1620,160,1780,180,{"v":202.5,"d":"202.50"},null,637,622,"","","",null,"",""]
[31,{"$f":"IF('Check-In'!A11=\"\",\"\",'Check-In'!A11)","v":5},{"$f":"IF('Check-In'!B11=\"\",\"\",'Check-In'!B11)","v":"SCHOSSOW, FRED"},{"$f":"IF('Check-In'!C11=\"\",\"\",'Check-In'!C11)","v":""},{"$f":"IF('Check-In'!I11=\"\",\"\",'Check-In'!I11)","v":""},207,40,159,null,190,40,172,null,190,null,227,40,229,40,202,40,1576,200,1776,176,{"v":197,"d":"197.00"},null,556,589,"","","",null,"",""]
[32,{"$f":"IF('Check-In'!A34=\"\",\"\",'Check-In'!A34)","v":28},{"$f":"IF('Check-In'!B34=\"\",\"\",'Check-In'!B34)","v":"WENZEL, JEFF"},{"$f":"IF('Check-In'!C34=\"\",\"\",'Check-In'!C34)","v":""},{"$f":"IF('Check-In'!I34=\"\",\"\",'Check-In'!I34)","v":""},225,null,215,40,205,null,223,40,221,40,189,40,144,null,187,null,1609,160,1769,169,{"v":201.125,"d":"201.13"},null,645,633,"","","",null,"",""]
[33,{"$f":"IF('Check-In'!A56=\"\",\"\",'Check-In'!A56)","v":50},{"$f":"IF('Check-In'!B56=\"\",\"\",'Check-In'!B56)","v":"CORBETT, TOM"},{"$f":"IF('Check-In'!C56=\"\",\"\",'Check-In'!C56)","v":"SS"},{"$f":"IF('Check-In'!I56=\"\",\"\",'Check-In'!I56)","v":""},227,40,210,null,207,40,179,null,213,null,202,null,226,40,180,null,{"$f":"IF(F40=\"\",\"\",IF(Tourn=\"MSC\",F40+H40+J40+L40+N40+P40+R40+T40,SUM(F40:U40)))","v":1644},{"$f":"IF(F40=\"\",\"\",IF(Tourn=\"MSC\",G40+I40+K40+M40+O40+Q40+S40+U40,0))","v":120},{"$f":"IF(V40=\"\",\"\",V40+W40)","v":1764},{"$f":"IF(F40=\"\",\"\",X40-$K$4*200)","v":164},{"$f":"IF(F40=\"\",\"\",V40/$K$4)","v":{"v":205.5,"d":"205.50"}},null,{"$f":"IF(Tourn=\"MSC\",F40+H40+J40,SUM(F40:H40))","v":644},{"$f":"IF(Tourn=\"MSC\",L40+N40+P40,SUM(I40:K40))","v":594},{"$f":"IF(OR(Tourn=\"MSC\",Tourn=\"1-Day\"),\"\",IF(N40=\"\",0,SUM(L40:N40)))","v":""},{"$f":"IF(OR(Tourn=\"MSC\",Tourn=\"1-Day\"),\"\",IF(O40=\"\",0,SUM(O40:Q40)))","v":""},{"$f":"IF(OR(Tourn=\"MSC\",Tourn=\"1-Day\"),\"\",IF(P40=\"\",0,SUM(R40:T40)))","v":""},null,{"$f":"IF(Tourn=\"Dbls\",SUM(N40:P40),\"\")","v":""},{"$f":"IF(Tourn=\"Dbls\",SUM(Q40:S40),\"\")","v":""}]
[34,{"$f":"IF('Check-In'!A27=\"\",\"\",'Check-In'!A27)","v":21},{"$f":"IF('Check-In'!B27=\"\",\"\",'Check-In'!B27)","v":"VANWIE, MIKE"},{"$f":"IF('Check-In'!C27=\"\",\"\",'Check-In'!C27)","v":"SS"},{"$f":"IF('Check-In'!I27=\"\",\"\",'Check-In'!I27)","v":""},248,40,155,null,177,null,225,40,194,40,188,null,235,40,178,null,1600,160,1760,160,{"v":200,"d":"200.00"},null,580,607,"","","",null,"",""]
[35,{"$f":"IF('Check-In'!A68=\"\",\"\",'Check-In'!A68)","v":62},{"$f":"IF('Check-In'!B68=\"\",\"\",'Check-In'!B68)","v":"WORM, KEN"},{"$f":"IF('Check-In'!C68=\"\",\"\",'Check-In'!C68)","v":"ROG"},{"$f":"IF('Check-In'!I68=\"\",\"\",'Check-In'!I68)","v":""},194,40,203,40,177,40,183,40,226,null,184,null,201,null,191,40,1559,200,1759,159,{"v":194.875,"d":"194.88"},null,574,593,"","","",null,"",""]
[36,{"$f":"IF('Check-In'!A51=\"\",\"\",'Check-In'!A51)","v":45},{"$f":"IF('Check-In'!B51=\"\",\"\",'Check-In'!B51)","v":"PEARSE, MIKE"},{"$f":"IF('Check-In'!C51=\"\",\"\",'Check-In'!C51)","v":""},{"$f":"IF('Check-In'!I51=\"\",\"\",'Check-In'!I51)","v":""},200,null,234,40,207,null,194,null,168,40,197,null,233,40,203,null,1636,120,1756,156,{"v":204.5,"d":"204.50"},null,641,559,"","","",null,"",""]
[37,{"$f":"IF('Check-In'!A23=\"\",\"\",'Check-In'!A23)","v":17},{"$f":"IF('Check-In'!B23=\"\",\"\",'Check-In'!B23)","v":"BLAZEJ, GEORGE"},{"$f":"IF('Check-In'!C23=\"\",\"\",'Check-In'!C23)","v":"ROG"},{"$f":"IF('Check-In'!I23=\"\",\"\",'Check-In'!I23)","v":""},170,null,225,40,179,40,211,null,180,null,206,40,216,40,188,null,1575,160,1735,135,{"v":196.875,"d":"196.88"},null,574,597,"","","",null,"",""]
[38,{"$f":"IF('Check-In'!A30=\"\",\"\",'Check-In'!A30)","v":24},{"$f":"IF('Check-In'!B30=\"\",\"\",'Check-In'!B30)","v":"ROBILLARD, BOB"},{"$f":"IF('Check-In'!C30=\"\",\"\",'Check-In'!C30)","v":"SS"},{"$f":"IF('Check-In'!I30=\"\",\"\",'Check-In'!I30)","v":""},258,40,169,40,191,null,174,null,212,40,175,null,183,null,211,40,1573,160,1733,133,{"v":196.625,"d":"196.63"},null,618,561,"","","",null,"",""]
[39,{"$f":"IF('Check-In'!A44=\"\",\"\",'Check-In'!A44)","v":38},{"$f":"IF('Check-In'!B44=\"\",\"\",'Check-In'!B44)","v":"SCHMID, MIKE"},{"$f":"IF('Check-In'!C44=\"\",\"\",'Check-In'!C44)","v":"ROG"},{"$f":"IF('Check-In'!I44=\"\",\"\",'Check-In'!I44)","v":""},204,40,193,null,236,40,190,null,213,40,185,null,200,null,182,null,1603,120,1723,123,{"v":200.375,"d":"200.38"},null,633,588,"","","",null,"",""]
[40,{"$f":"IF('Check-In'!A31=\"\",\"\",'Check-In'!A31)","v":25},{"$f":"IF('Check-In'!B31=\"\",\"\",'Check-In'!B31)","v":"HENK, RICK"},{"$f":"IF('Check-In'!C31=\"\",\"\",'Check-In'!C31)","v":"SS"},{"$f":"IF('Check-In'!I31=\"\",\"\",'Check-In'!I31)","v":""},232,null,223,40,172,40,155,null,178,null,196,null,192,null,247,40,1595,120,1715,115,{"v":199.375,"d":"199.38"},null,627,529,"","","",null,"",""]
[41,{"$f":"IF('Check-In'!A10=\"\",\"\",'Check-In'!A10)","v":4},{"$f":"IF('Check-In'!B10=\"\",\"\",'Check-In'!B10)","v":"NELSON, BILL"},{"$f":"IF('Check-In'!C10=\"\",\"\",'Check-In'!C10)","v":""},{"$f":"IF('Check-In'!I10=\"\",\"\",'Check-In'!I10)","v":""},236,40,204,null,187,null,184,null,238,40,193,40,204,null,147,null,1593,120,1713,113,{"v":199.125,"d":"199.13"},null,627,615,"","","",null,"",""]
[42,{"$f":"IF('Check-In'!A12=\"\",\"\",'Check-In'!A12)","v":6},{"$f":"IF('Check-In'!B12=\"\",\"\",'Check-In'!B12)","v":"POELZER, CLARK"},{"$f":"IF('Check-In'!C12=\"\",\"\",'Check-In'!C12)","v":"ROG"},{"$f":"IF('Check-In'!I12=\"\",\"\",'Check-In'!I12)","v":""},214,40,168,null,215,null,205,40,194,null,212,null,201,null,181,40,1590,120,1710,110,198.75,null,597,611,"","","",null,"",""]
[43,{"$f":"IF('Check-In'!A65=\"\",\"\",'Check-In'!A65)","v":59},{"$f":"IF('Check-In'!B65=\"\",\"\",'Check-In'!B65)","v":"RYAN, MIKE"},{"$f":"IF('Check-In'!C65=\"\",\"\",'Check-In'!C65)","v":""},{"$f":"IF('Check-In'!I65=\"\",\"\",'Check-In'!I65)","v":""},193,40,202,null,178,null,237,40,164,null,226,40,202,null,182,null,1584,120,1704,104,{"v":198,"d":"198.00"},null,573,627,"","","",null,"",""]
[44,{"$f":"IF('Check-In'!A13=\"\",\"\",'Check-In'!A13)","v":7},{"$f":"IF('Check-In'!B13=\"\",\"\",'Check-In'!B13)","v":"MAGNUSON, TRACEY"},{"$f":"IF('Check-In'!C13=\"\",\"\",'Check-In'!C13)","v":""},{"$f":"IF('Check-In'!I13=\"\",\"\",'Check-In'!I13)","v":""},171,null,205,40,186,null,158,null,205,null,223,null,213,40,212,40,1573,120,1693,93,{"v":196.625,"d":"196.63"},null,562,586,"","","",null,"",""]
[45,{"$f":"IF('Check-In'!A42=\"\",\"\",'Check-In'!A42)","v":36},{"$f":"IF('Check-In'!B42=\"\",\"\",'Check-In'!B42)","v":"SODERGREN, SCOTT"},{"$f":"IF('Check-In'!C42=\"\",\"\",'Check-In'!C42)","v":"SS"},{"$f":"IF('Check-In'!I42=\"\",\"\",'Check-In'!I42)","v":""},173,null,187,40,219,40,201,null,146,null,196,40,171,null,213,40,1506,160,1666,66,188.25,null,579,543,"","","",null,"",""]
[46,{"$f":"IF('Check-In'!A38=\"\",\"\",'Check-In'!A38)","v":32},{"$f":"IF('Check-In'!B38=\"\",\"\",'Check-In'!B38)","v":"SCHACHT, TERRY"},{"$f":"IF('Check-In'!C38=\"\",\"\",'Check-In'!C38)","v":"ROG"},{"$f":"IF('Check-In'!I38=\"\",\"\",'Check-In'!I38)","v":""},187,40,173,null,168,null,200,40,165,null,236,40,204,null,209,null,1542,120,1662,62,192.75,null,528,601,"","","",null,"",""]
[47,{"$f":"IF('Check-In'!A39=\"\",\"\",'Check-In'!A39)","v":33},{"$f":"IF('Check-In'!B39=\"\",\"\",'Check-In'!B39)","v":"GOODWIN, CRAIG"},{"$f":"IF('Check-In'!C39=\"\",\"\",'Check-In'!C39)","v":"SS"},{"$f":"IF('Check-In'!I39=\"\",\"\",'Check-In'!I39)","v":""},165,null,222,null,232,40,170,null,203,null,200,null,217,null,206,null,1615,40,1655,55,{"v":201.875,"d":"201.88"},null,619,573,"","","",null,"",""]
[48,{"$f":"IF('Check-In'!A47=\"\",\"\",'Check-In'!A47)","v":41},{"$f":"IF('Check-In'!B47=\"\",\"\",'Check-In'!B47)","v":"BRUINSMA, DEAN"},{"$f":"IF('Check-In'!C47=\"\",\"\",'Check-In'!C47)","v":"SS"},{"$f":"IF('Check-In'!I47=\"\",\"\",'Check-In'!I47)","v":""},156,null,223,40,189,null,154,null,213,null,189,null,204,40,202,40,1530,120,1650,50,191.25,null,568,556,"","","",null,"",""]
[49,{"$f":"IF('Check-In'!A20=\"\",\"\",'Check-In'!A20)","v":14},{"$f":"IF('Check-In'!B20=\"\",\"\",'Check-In'!B20)","v":"JENSEN, ROBERT"},{"$f":"IF('Check-In'!C20=\"\",\"\",'Check-In'!C20)","v":"SS"},{"$f":"IF('Check-In'!I20=\"\",\"\",'Check-In'!I20)","v":""},196,null,170,null,182,40,213,20,204,null,204,null,228,40,135,null,1532,100,1632,32,{"v":191.5,"d":"191.50"},null,548,621,"","","",null,"",""]
[50,{"$f":"IF('Check-In'!A64=\"\",\"\",'Check-In'!A64)","v":58},{"$f":"IF('Check-In'!B64=\"\",\"\",'Check-In'!B64)","v":"HAUGH, BOB"},{"$f":"IF('Check-In'!C64=\"\",\"\",'Check-In'!C64)","v":"ROG"},{"$f":"IF('Check-In'!I64=\"\",\"\",'Check-In'!I64)","v":""},266,40,199,null,233,null,153,null,180,null,138,null,212,null,210,null,1591,40,1631,31,{"v":198.875,"d":"198.88"},null,698,471,"","","",null,"",""]
[51,{"$f":"IF('Check-In'!A40=\"\",\"\",'Check-In'!A40)","v":34},{"$f":"IF('Check-In'!B40=\"\",\"\",'Check-In'!B40)","v":"CLEVELAND, RON"},{"$f":"IF('Check-In'!C40=\"\",\"\",'Check-In'!C40)","v":"SS"},{"$f":"IF('Check-In'!I40=\"\",\"\",'Check-In'!I40)","v":""},183,null,188,null,194,null,211,null,186,null,212,null,202,null,211,40,1587,40,1627,27,{"v":198.375,"d":"198.38"},null,565,609,"","","",null,"",""]
[52,{"$f":"IF('Check-In'!A28=\"\",\"\",'Check-In'!A28)","v":22},{"$f":"IF('Check-In'!B28=\"\",\"\",'Check-In'!B28)","v":"SATHER, GLEN"},{"$f":"IF('Check-In'!C28=\"\",\"\",'Check-In'!C28)","v":""},{"$f":"IF('Check-In'!I28=\"\",\"\",'Check-In'!I28)","v":""},158,null,224,40,176,null,143,null,171,40,243,40,171,null,193,null,1479,120,1599,-1,{"v":184.875,"d":"184.88"},null,558,557,"","","",null,"",""]
[53,{"$f":"IF('Check-In'!A43=\"\",\"\",'Check-In'!A43)","v":37},{"$f":"IF('Check-In'!B43=\"\",\"\",'Check-In'!B43)","v":"MARSHALL. MAURICE"},{"$f":"IF('Check-In'!C43=\"\",\"\",'Check-In'!C43)","v":""},{"$f":"IF('Check-In'!I43=\"\",\"\",'Check-In'!I43)","v":""},159,null,169,null,168,null,235,40,258,40,174,null,177,null,169,null,1509,80,1589,-11,{"v":188.625,"d":"188.63"},null,496,667,"","","",null,"",""]
[54,{"$f":"IF('Check-In'!A50=\"\",\"\",'Check-In'!A50)","v":44},{"$f":"IF('Check-In'!B50=\"\",\"\",'Check-In'!B50)","v":"MANSKE, WARREN"},{"$f":"IF('Check-In'!C50=\"\",\"\",'Check-In'!C50)","v":"SS"},{"$f":"IF('Check-In'!I50=\"\",\"\",'Check-In'!I50)","v":""},201,null,180,40,172,null,177,null,170,null,192,40,187,null,193,null,1472,80,1552,-48,{"v":184,"d":"184.00"},null,553,539,"","","",null,"",""]
[55,{"$f":"IF('Check-In'!A15=\"\",\"\",'Check-In'!A15)","v":9},{"$f":"IF('Check-In'!B15=\"\",\"\",'Check-In'!B15)","v":"FABIN, BILL"},{"$f":"IF('Check-In'!C15=\"\",\"\",'Check-In'!C15)","v":""},{"$f":"IF('Check-In'!I15=\"\",\"\",'Check-In'!I15)","v":""},158,40,165,null,164,null,214,40,180,null,158,null,180,40,172,40,1391,160,1551,-49,{"v":173.875,"d":"173.88"},null,487,552,"","","",null,"",""]
[56,{"$f":"IF('Check-In'!A63=\"\",\"\",'Check-In'!A63)","v":57},{"$f":"IF('Check-In'!B63=\"\",\"\",'Check-In'!B63)","v":"DAVISON, PAUL"},{"$f":"IF('Check-In'!C63=\"\",\"\",'Check-In'!C63)","v":"SS"},{"$f":"IF('Check-In'!I63=\"\",\"\",'Check-In'!I63)","v":""},158,null,181,40,192,null,185,null,179,null,180,20,171,null,190,40,1436,100,1536,-64,{"v":179.5,"d":"179.50"},null,531,544,"","","",null,"",""]
[57,{"$f":"IF('Check-In'!A26=\"\",\"\",'Check-In'!A26)","v":20},{"$f":"IF('Check-In'!B26=\"\",\"\",'Check-In'!B26)","v":"BJERKE, PAUL"},{"$f":"IF('Check-In'!C26=\"\",\"\",'Check-In'!C26)","v":""},{"$f":"IF('Check-In'!I26=\"\",\"\",'Check-In'!I26)","v":""},213,40,193,null,169,null,168,null,161,null,180,20,191,null,192,null,1467,60,1527,-73,{"v":183.375,"d":"183.38"},null,575,509,"","","",null,"",""]
[58,{"$f":"IF('Check-In'!A17=\"\",\"\",'Check-In'!A17)","v":11},{"$f":"IF('Check-In'!B17=\"\",\"\",'Check-In'!B17)","v":"DAVIS, BOB"},{"$f":"IF('Check-In'!C17=\"\",\"\",'Check-In'!C17)","v":""},{"$f":"IF('Check-In'!I17=\"\",\"\",'Check-In'!I17)","v":""},225,40,148,null,178,null,157,null,217,40,190,null,157,null,163,null,1435,80,1515,-85,{"v":179.375,"d":"179.38"},null,551,564,"","","",null,"",""]
[59,{"$f":"IF('Check-In'!A58=\"\",\"\",'Check-In'!A58)","v":52},{"$f":"IF('Check-In'!B58=\"\",\"\",'Check-In'!B58)","v":"ADAMS, TOM"},{"$f":"IF('Check-In'!C58=\"\",\"\",'Check-In'!C58)","v":""},{"$f":"IF('Check-In'!I58=\"\",\"\",'Check-In'!I58)","v":""},173,null,175,null,201,null,165,null,157,null,230,40,190,null,160,null,1451,40,1491,-109,{"v":181.375,"d":"181.38"},null,549,552,"","","",null,"",""]
[60,{"$f":"IF('Check-In'!A53=\"\",\"\",'Check-In'!A53)","v":47},{"$f":"IF('Check-In'!B53=\"\",\"\",'Check-In'!B53)","v":"HALIDA, TERRY"},{"$f":"IF('Check-In'!C53=\"\",\"\",'Check-In'!C53)","v":"SS"},{"$f":"IF('Check-In'!I53=\"\",\"\",'Check-In'!I53)","v":""},191,null,186,null,170,null,189,null,183,40,147,null,154,null,189,null,1409,40,1449,-151,{"v":176.125,"d":"176.13"},null,547,519,"","","",null,"",""]
[61,{"$f":"IF('Check-In'!A62=\"\",\"\",'Check-In'!A62)","v":56},{"$f":"IF('Check-In'!B62=\"\",\"\",'Check-In'!B62)","v":"THOMPSON, DOUG"},{"$f":"IF('Check-In'!C62=\"\",\"\",'Check-In'!C62)","v":"SS"},{"$f":"IF('Check-In'!I62=\"\",\"\",'Check-In'!I62)","v":""},174,null,150,null,175,null,185,null,190,null,189,null,180,null,176,null,1419,0,1419,-181,{"v":177.375,"d":"177.38"},null,499,564,"","","",null,"",""]
[62,{"$f":"IF('Check-In'!A24=\"\",\"\",'Check-In'!A24)","v":18},{"$f":"IF('Check-In'!B24=\"\",\"\",'Check-In'!B24)","v":"WEINKE, RON"},{"$f":"IF('Check-In'!C24=\"\",\"\",'Check-In'!C24)","v":"ROG"},{"$f":"IF('Check-In'!I24=\"\",\"\",'Check-In'!I24)","v":""},150,null,156,null,158,null,213,40,141,null,178,null,155,null,181,40,1332,80,1412,-188,{"v":166.5,"d":"166.50"},null,464,532,"","","",null,"",""]
[63,{"$f":"IF('Check-In'!A69=\"\",\"\",'Check-In'!A69)","v":63},{"$f":"IF('Check-In'!B69=\"\",\"\",'Check-In'!B69)","v":""},{"$f":"IF('Check-In'!C69=\"\",\"\",'Check-In'!C69)","v":""},{"$f":"IF('Check-In'!I69=\"\",\"\",'Check-In'!I69)","v":""},{"$nulls":16},{"$f":"IF(F70=\"\",\"\",IF(Tourn=\"MSC\",F70+H70+J70+L70+N70+P70+R70+T70,SUM(F70:U70)))","v":""},{"$f":"IF(F70=\"\",\"\",IF(Tourn=\"MSC\",G70+I70+K70+M70+O70+Q70+S70+U70,0))","v":""},{"$f":"IF(V70=\"\",\"\",V70+W70)","v":""},{"$f":"IF(F70=\"\",\"\",X70-$K$4*200)","v":""},{"$f":"IF(F70=\"\",\"\",V70/$K$4)","v":""},null,0,0,"","","",null,"",""]
[64,{"$f":"IF('Check-In'!A70=\"\",\"\",'Check-In'!A70)","v":64},{"$f":"IF('Check-In'!B70=\"\",\"\",'Check-In'!B70)","v":""},{"$f":"IF('Check-In'!C70=\"\",\"\",'Check-In'!C70)","v":""},{"$f":"IF('Check-In'!I70=\"\",\"\",'Check-In'!I70)","v":""},{"$nulls":16},"","","","","",null,0,0,"","","",null,"",""]
[65,{"$f":"IF('Check-In'!A71=\"\",\"\",'Check-In'!A71)","v":65},{"$f":"IF('Check-In'!B71=\"\",\"\",'Check-In'!B71)","v":""},{"$f":"IF('Check-In'!C71=\"\",\"\",'Check-In'!C71)","v":""},{"$f":"IF('Check-In'!I71=\"\",\"\",'Check-In'!I71)","v":""},{"$nulls":16},{"$f":"IF(F72=\"\",\"\",IF(Tourn=\"MSC\",F72+H72+J72+L72+N72+P72+R72+T72,SUM(F72:U72)))","v":""},{"$f":"IF(F72=\"\",\"\",IF(Tourn=\"MSC\",G72+I72+K72+M72+O72+Q72+S72+U72,0))","v":""},{"$f":"IF(V72=\"\",\"\",V72+W72)","v":""},{"$f":"IF(F72=\"\",\"\",X72-$K$4*200)","v":""},{"$f":"IF(F72=\"\",\"\",V72/$K$4)","v":""},null,{"$f":"IF(Tourn=\"MSC\",F72+H72+J72,SUM(F72:H72))","v":0},{"$f":"IF(Tourn=\"MSC\",L72+N72+P72,SUM(I72:K72))","v":0},{"$f":"IF(OR(Tourn=\"MSC\",Tourn=\"1-Day\"),\"\",IF(N72=\"\",0,SUM(L72:N72)))","v":""},{"$f":"IF(OR(Tourn=\"MSC\",Tourn=\"1-Day\"),\"\",IF(O72=\"\",0,SUM(O72:Q72)))","v":""},{"$f":"IF(OR(Tourn=\"MSC\",Tourn=\"1-Day\"),\"\",IF(P72=\"\",0,SUM(R72:T72)))","v":""},null,{"$f":"IF(Tourn=\"Dbls\",SUM(N72:P72),\"\")","v":""},{"$f":"IF(Tourn=\"Dbls\",SUM(Q72:S72),\"\")","v":""}]
[66,{"$f":"IF('Check-In'!A72=\"\",\"\",'Check-In'!A72)","v":66},{"$f":"IF('Check-In'!B72=\"\",\"\",'Check-In'!B72)","v":""},{"$f":"IF('Check-In'!C72=\"\",\"\",'Check-In'!C72)","v":""},{"$f":"IF('Check-In'!I72=\"\",\"\",'Check-In'!I72)","v":""},{"$nulls":16},"","","","","",null,0,0,"","","",null,"",""]
[67,{"$f":"IF('Check-In'!A73=\"\",\"\",'Check-In'!A73)","v":67},{"$f":"IF('Check-In'!B73=\"\",\"\",'Check-In'!B73)","v":""},{"$f":"IF('Check-In'!C73=\"\",\"\",'Check-In'!C73)","v":""},{"$f":"IF('Check-In'!I73=\"\",\"\",'Check-In'!I73)","v":""},{"$nulls":16},"","","","","",null,0,0,"","","",null,"",""]
[68,{"$f":"IF('Check-In'!A74=\"\",\"\",'Check-In'!A74)","v":68},{"$f":"IF('Check-In'!B74=\"\",\"\",'Check-In'!B74)","v":""},{"$f":"IF('Check-In'!C74=\"\",\"\",'Check-In'!C74)","v":""},{"$f":"IF('Check-In'!I74=\"\",\"\",'Check-In'!I74)","v":""},{"$nulls":16},"","","","","",null,0,0,"","","",null,"",""]
[69,{"$f":"IF('Check-In'!A75=\"\",\"\",'Check-In'!A75)","v":69},{"$f":"IF('Check-In'!B75=\"\",\"\",'Check-In'!B75)","v":""},{"$f":"IF('Check-In'!C75=\"\",\"\",'Check-In'!C75)","v":""},{"$f":"IF('Check-In'!I75=\"\",\"\",'Check-In'!I75)","v":""},{"$nulls":16},"","","","","",null,0,0,"","","",null,"",""]
[70,{"$f":"IF('Check-In'!A76=\"\",\"\",'Check-In'!A76)","v":70},{"$f":"IF('Check-In'!B76=\"\",\"\",'Check-In'!B76)","v":""},{"$f":"IF('Check-In'!C76=\"\",\"\",'Check-In'!C76)","v":""},{"$f":"IF('Check-In'!I76=\"\",\"\",'Check-In'!I76)","v":""},{"$nulls":16},"","","","","",null,0,0,"","","",null,"",""]
[71,{"$f":"IF('Check-In'!A77=\"\",\"\",'Check-In'!A77)","v":71},{"$f":"IF('Check-In'!B77=\"\",\"\",'Check-In'!B77)","v":""},{"$f":"IF('Check-In'!C77=\"\",\"\",'Check-In'!C77)","v":""},{"$f":"IF('Check-In'!I77=\"\",\"\",'Check-In'!I77)","v":""},{"$nulls":16},"","","","","",null,0,0,"","","",null,"",""]
[72,{"$f":"IF('Check-In'!A78=\"\",\"\",'Check-In'!A78)","v":72},{"$f":"IF('Check-In'!B78=\"\",\"\",'Check-In'!B78)","v":""},{"$f":"IF('Check-In'!C78=\"\",\"\",'Check-In'!C78)","v":""},{"$f":"IF('Check-In'!I78=\"\",\"\",'Check-In'!I78)","v":""},{"$nulls":16},"","","","","",null,0,0,"","","",null,"",""]
[73,{"$f":"IF('Check-In'!A79=\"\",\"\",'Check-In'!A79)","v":73},{"$f":"IF('Check-In'!B79=\"\",\"\",'Check-In'!B79)","v":""},{"$f":"IF('Check-In'!C79=\"\",\"\",'Check-In'!C79)","v":""},{"$f":"IF('Check-In'!I79=\"\",\"\",'Check-In'!I79)","v":""},{"$nulls":16},"","","","","",null,0,0,"","","",null,"",""]
[74,{"$f":"IF('Check-In'!A80=\"\",\"\",'Check-In'!A80)","v":74},{"$f":"IF('Check-In'!B80=\"\",\"\",'Check-In'!B80)","v":""},{"$f":"IF('Check-In'!C80=\"\",\"\",'Check-In'!C80)","v":""},{"$f":"IF('Check-In'!I80=\"\",\"\",'Check-In'!I80)","v":""},{"$nulls":16},"","","","","",null,0,0,"","","",null,"",""]
[75,{"$f":"IF('Check-In'!A81=\"\",\"\",'Check-In'!A81)","v":75},{"$f":"IF('Check-In'!B81=\"\",\"\",'Check-In'!B81)","v":""},{"$f":"IF('Check-In'!C81=\"\",\"\",'Check-In'!C81)","v":""},{"$f":"IF('Check-In'!I81=\"\",\"\",'Check-In'!I81)","v":""},{"$nulls":16},"","","","","",null,0,0,"","","",null,"",""]
[76,{"$f":"IF('Check-In'!A82=\"\",\"\",'Check-In'!A82)","v":76},{"$f":"IF('Check-In'!B82=\"\",\"\",'Check-In'!B82)","v":""},{"$f":"IF('Check-In'!C82=\"\",\"\",'Check-In'!C82)","v":""},{"$f":"IF('Check-In'!I82=\"\",\"\",'Check-In'!I82)","v":""},{"$nulls":16},"","","","","",null,0,0,"","","",null,"",""]
[77,{"$f":"IF('Check-In'!A83=\"\",\"\",'Check-In'!A83)","v":77},{"$f":"IF('Check-In'!B83=\"\",\"\",'Check-In'!B83)","v":""},{"$f":"IF('Check-In'!C83=\"\",\"\",'Check-In'!C83)","v":""},{"$f":"IF('Check-In'!I83=\"\",\"\",'Check-In'!I83)","v":""},{"$nulls":16},"","","","","",null,0,0,"","","",null,"",""]
[78,{"$f":"IF('Check-In'!A84=\"\",\"\",'Check-In'!A84)","v":78},{"$f":"IF('Check-In'!B84=\"\",\"\",'Check-In'!B84)","v":""},{"$f":"IF('Check-In'!C84=\"\",\"\",'Check-In'!C84)","v":""},{"$f":"IF('Check-In'!I84=\"\",\"\",'Check-In'!I84)","v":""},{"$nulls":16},"","","","","",null,0,0,"","","",null,"",""]
[79,{"$f":"IF('Check-In'!A85=\"\",\"\",'Check-In'!A85)","v":79},{"$f":"IF('Check-In'!B85=\"\",\"\",'Check-In'!B85)","v":""},{"$f":"IF('Check-In'!C85=\"\",\"\",'Check-In'!C85)","v":""},{"$f":"IF('Check-In'!I85=\"\",\"\",'Check-In'!I85)","v":""},{"$nulls":16},"","","","","",null,0,0,"","","",null,"",""]
[80,{"$f":"IF('Check-In'!A86=\"\",\"\",'Check-In'!A86)","v":80},{"$f":"IF('Check-In'!B86=\"\",\"\",'Check-In'!B86)","v":""},{"$f":"IF('Check-In'!C86=\"\",\"\",'Check-In'!C86)","v":""},{"$f":"IF('Check-In'!I86=\"\",\"\",'Check-In'!I86)","v":""},{"$nulls":16},"","","","","",null,0,0,"","","",null,"",""]
[81,{"$f":"IF('Check-In'!A87=\"\",\"\",'Check-In'!A87)","v":81},{"$f":"IF('Check-In'!B87=\"\",\"\",'Check-In'!B87)","v":""},{"$f":"IF('Check-In'!C87=\"\",\"\",'Check-In'!C87)","v":""},{"$f":"IF('Check-In'!I87=\"\",\"\",'Check-In'!I87)","v":""},{"$nulls":16},"","","","","",null,0,0,"","","",null,"",""]
[82,{"$f":"IF('Check-In'!A88=\"\",\"\",'Check-In'!A88)","v":82},{"$f":"IF('Check-In'!B88=\"\",\"\",'Check-In'!B88)","v":""},{"$f":"IF('Check-In'!C88=\"\",\"\",'Check-In'!C88)","v":""},{"$f":"IF('Check-In'!I88=\"\",\"\",'Check-In'!I88)","v":""},{"$nulls":16},"","","","","",null,0,0,"","","",null,"",""]
[83,{"$f":"IF('Check-In'!A89=\"\",\"\",'Check-In'!A89)","v":83},{"$f":"IF('Check-In'!B89=\"\",\"\",'Check-In'!B89)","v":""},{"$f":"IF('Check-In'!C89=\"\",\"\",'Check-In'!C89)","v":""},{"$f":"IF('Check-In'!I89=\"\",\"\",'Check-In'!I89)","v":""},{"$nulls":16},"","","","","",null,0,0,"","","",null,"",""]
[84,{"$f":"IF('Check-In'!A90=\"\",\"\",'Check-In'!A90)","v":84},{"$f":"IF('Check-In'!B90=\"\",\"\",'Check-In'!B90)","v":""},{"$f":"IF('Check-In'!C90=\"\",\"\",'Check-In'!C90)","v":""},{"$f":"IF('Check-In'!I90=\"\",\"\",'Check-In'!I90)","v":""},{"$nulls":16},"","","","","",null,0,0,"","","",null,"",""]
[85,{"$f":"IF('Check-In'!A91=\"\",\"\",'Check-In'!A91)","v":85},{"$f":"IF('Check-In'!B91=\"\",\"\",'Check-In'!B91)","v":""},{"$f":"IF('Check-In'!C91=\"\",\"\",'Check-In'!C91)","v":""},{"$f":"IF('Check-In'!I91=\"\",\"\",'Check-In'!I91)","v":""},{"$nulls":16},"","","","","",null,0,0,"","","",null,"",""]
[86,{"$f":"IF('Check-In'!A92=\"\",\"\",'Check-In'!A92)","v":86},{"$f":"IF('Check-In'!B92=\"\",\"\",'Check-In'!B92)","v":""},{"$f":"IF('Check-In'!C92=\"\",\"\",'Check-In'!C92)","v":""},{"$f":"IF('Check-In'!I92=\"\",\"\",'Check-In'!I92)","v":""},{"$nulls":16},"","","","","",null,0,0,"","","",null,"",""]
[87,{"$f":"IF('Check-In'!A93=\"\",\"\",'Check-In'!A93)","v":87},{"$f":"IF('Check-In'!B93=\"\",\"\",'Check-In'!B93)","v":""},{"$f":"IF('Check-In'!C93=\"\",\"\",'Check-In'!C93)","v":""},{"$f":"IF('Check-In'!I93=\"\",\"\",'Check-In'!I93)","v":""},{"$nulls":16},"","","","","",null,0,0,"","","",null,"",""]
[88,{"$f":"IF('Check-In'!A94=\"\",\"\",'Check-In'!A94)","v":88},{"$f":"IF('Check-In'!B94=\"\",\"\",'Check-In'!B94)","v":""},{"$f":"IF('Check-In'!C94=\"\",\"\",'Check-In'!C94)","v":""},{"$f":"IF('Check-In'!I94=\"\",\"\",'Check-In'!I94)","v":""},{"$nulls":16},"","","","","",null,0,0,"","","",null,"",""]
[89,{"$f":"IF('Check-In'!A95=\"\",\"\",'Check-In'!A95)","v":89},{"$f":"IF('Check-In'!B95=\"\",\"\",'Check-In'!B95)","v":""},{"$f":"IF('Check-In'!C95=\"\",\"\",'Check-In'!C95)","v":""},{"$f":"IF('Check-In'!I95=\"\",\"\",'Check-In'!I95)","v":""},{"$nulls":16},"","","","","",null,0,0,"","","",null,"",""]
[90,{"$f":"IF('Check-In'!A96=\"\",\"\",'Check-In'!A96)","v":90},{"$f":"IF('Check-In'!B96=\"\",\"\",'Check-In'!B96)","v":""},{"$f":"IF('Check-In'!C96=\"\",\"\",'Check-In'!C96)","v":""},{"$f":"IF('Check-In'!I96=\"\",\"\",'Check-In'!I96)","v":""},{"$nulls":16},"","","","","",null,0,0,"","","",null,"",""]
[91,{"$f":"IF('Check-In'!A97=\"\",\"\",'Check-In'!A97)","v":91},{"$f":"IF('Check-In'!B97=\"\",\"\",'Check-In'!B97)","v":""},{"$f":"IF('Check-In'!C97=\"\",\"\",'Check-In'!C97)","v":""},{"$f":"IF('Check-In'!I97=\"\",\"\",'Check-In'!I97)","v":""},{"$nulls":16},"","","","","",null,0,0,"","","",null,"",""]
[92,{"$f":"IF('Check-In'!A98=\"\",\"\",'Check-In'!A98)","v":92},{"$f":"IF('Check-In'!B98=\"\",\"\",'Check-In'!B98)","v":""},{"$f":"IF('Check-In'!C98=\"\",\"\",'Check-In'!C98)","v":""},{"$f":"IF('Check-In'!I98=\"\",\"\",'Check-In'!I98)","v":""},{"$nulls":16},"","","","","",null,0,0,"","","",null,"",""]
[93,{"$f":"IF('Check-In'!A99=\"\",\"\",'Check-In'!A99)","v":93},{"$f":"IF('Check-In'!B99=\"\",\"\",'Check-In'!B99)","v":""},{"$f":"IF('Check-In'!C99=\"\",\"\",'Check-In'!C99)","v":""},{"$f":"IF('Check-In'!I99=\"\",\"\",'Check-In'!I99)","v":""},{"$nulls":16},"","","","","",null,0,0,"","","",null,"",""]
[94,{"$f":"IF('Check-In'!A100=\"\",\"\",'Check-In'!A100)","v":94},{"$f":"IF('Check-In'!B100=\"\",\"\",'Check-In'!B100)","v":""},{"$f":"IF('Check-In'!C100=\"\",\"\",'Check-In'!C100)","v":""},{"$f":"IF('Check-In'!I100=\"\",\"\",'Check-In'!I100)","v":""},{"$nulls":16},"","","","","",null,0,0,"","","",null,"",""]
[95,{"$f":"IF('Check-In'!A101=\"\",\"\",'Check-In'!A101)","v":95},{"$f":"IF('Check-In'!B101=\"\",\"\",'Check-In'!B101)","v":""},{"$f":"IF('Check-In'!C101=\"\",\"\",'Check-In'!C101)","v":""},{"$f":"IF('Check-In'!I101=\"\",\"\",'Check-In'!I101)","v":""},{"$nulls":16},"","","","","",null,0,0,"","","",null,"",""]
[96,{"$f":"IF('Check-In'!A102=\"\",\"\",'Check-In'!A102)","v":96},{"$f":"IF('Check-In'!B102=\"\",\"\",'Check-In'!B102)","v":""},{"$f":"IF('Check-In'!C102=\"\",\"\",'Check-In'!C102)","v":""},{"$f":"IF('Check-In'!I102=\"\",\"\",'Check-In'!I102)","v":""},{"$nulls":16},"","","","","",null,0,0,"","","",null,"",""]
[97,{"$f":"IF('Check-In'!A103=\"\",\"\",'Check-In'!A103)","v":97},{"$f":"IF('Check-In'!B103=\"\",\"\",'Check-In'!B103)","v":""},{"$f":"IF('Check-In'!C103=\"\",\"\",'Check-In'!C103)","v":""},{"$f":"IF('Check-In'!I103=\"\",\"\",'Check-In'!I103)","v":""},{"$nulls":16},{"$f":"IF(F104=\"\",\"\",IF(Tourn=\"MSC\",F104+H104+J104+L104+N104+P104+R104+T104,SUM(F104:U104)))","v":""},{"$f":"IF(F104=\"\",\"\",IF(Tourn=\"MSC\",G104+I104+K104+M104+O104+Q104+S104+U104,0))","v":""},{"$f":"IF(V104=\"\",\"\",V104+W104)","v":""},{"$f":"IF(F104=\"\",\"\",X104-$K$4*200)","v":""},{"$f":"IF(F104=\"\",\"\",V104/$K$4)","v":""},null,{"$f":"IF(Tourn=\"MSC\",F104+H104+J104,SUM(F104:H104))","v":0},{"$f":"IF(Tourn=\"MSC\",L104+N104+P104,SUM(I104:K104))","v":0},{"$f":"IF(OR(Tourn=\"MSC\",Tourn=\"1-Day\"),\"\",IF(N104=\"\",0,SUM(L104:N104)))","v":""},{"$f":"IF(OR(Tourn=\"MSC\",Tourn=\"1-Day\"),\"\",IF(O104=\"\",0,SUM(O104:Q104)))","v":""},{"$f":"IF(OR(Tourn=\"MSC\",Tourn=\"1-Day\"),\"\",IF(P104=\"\",0,SUM(R104:T104)))","v":""},null,{"$f":"IF(Tourn=\"Dbls\",SUM(N104:P104),\"\")","v":""},{"$f":"IF(Tourn=\"Dbls\",SUM(Q104:S104),\"\")","v":""}]
[98,{"$f":"IF('Check-In'!A104=\"\",\"\",'Check-In'!A104)","v":98},{"$f":"IF('Check-In'!B104=\"\",\"\",'Check-In'!B104)","v":""},{"$f":"IF('Check-In'!C104=\"\",\"\",'Check-In'!C104)","v":""},{"$f":"IF('Check-In'!I104=\"\",\"\",'Check-In'!I104)","v":""},{"$nulls":16},"","","","","",null,0,0,"","","",null,"",""]
[99,{"$f":"IF('Check-In'!A105=\"\",\"\",'Check-In'!A105)","v":99},{"$f":"IF('Check-In'!B105=\"\",\"\",'Check-In'!B105)","v":""},{"$f":"IF('Check-In'!C105=\"\",\"\",'Check-In'!C105)","v":""},{"$f":"IF('Check-In'!I105=\"\",\"\",'Check-In'!I105)","v":""},{"$nulls":16},"","","","","",null,0,0,"","","",null,"",""]
[100,{"$f":"IF('Check-In'!A106=\"\",\"\",'Check-In'!A106)","v":100},{"$f":"IF('Check-In'!B106=\"\",\"\",'Check-In'!B106)","v":""},{"$f":"IF('Check-In'!C106=\"\",\"\",'Check-In'!C106)","v":""},{"$f":"IF('Check-In'!I106=\"\",\"\",'Check-In'!I106)","v":""},{"$nulls":16},"","","","","",null,0,0,"","","",null,"",""]
[101,{"$f":"IF('Check-In'!A107=\"\",\"\",'Check-In'!A107)","v":101},{"$f":"IF('Check-In'!B107=\"\",\"\",'Check-In'!B107)","v":""},{"$f":"IF('Check-In'!C107=\"\",\"\",'Check-In'!C107)","v":""},{"$f":"IF('Check-In'!I107=\"\",\"\",'Check-In'!I107)","v":""},{"$nulls":16},"","","","","",null,0,0,"","","",null,"",""]
[102,{"$f":"IF('Check-In'!A108=\"\",\"\",'Check-In'!A108)","v":102},{"$f":"IF('Check-In'!B108=\"\",\"\",'Check-In'!B108)","v":""},{"$f":"IF('Check-In'!C108=\"\",\"\",'Check-In'!C108)","v":""},{"$f":"IF('Check-In'!I108=\"\",\"\",'Check-In'!I108)","v":""},{"$nulls":16},"","","","","",null,0,0,"","","",null,"",""]
[103,{"$f":"IF('Check-In'!A109=\"\",\"\",'Check-In'!A109)","v":103},{"$f":"IF('Check-In'!B109=\"\",\"\",'Check-In'!B109)","v":""},{"$f":"IF('Check-In'!C109=\"\",\"\",'Check-In'!C109)","v":""},{"$f":"IF('Check-In'!I109=\"\",\"\",'Check-In'!I109)","v":""},{"$nulls":16},"","","","","",null,0,0,"","","",null,"",""]
[104,{"$f":"IF('Check-In'!A110=\"\",\"\",'Check-In'!A110)","v":104},{"$f":"IF('Check-In'!B110=\"\",\"\",'Check-In'!B110)","v":""},{"$f":"IF('Check-In'!C110=\"\",\"\",'Check-In'!C110)","v":""},{"$f":"IF('Check-In'!I110=\"\",\"\",'Check-In'!I110)","v":""},{"$nulls":16},"","","","","",null,0,0,"","","",null,"",""]
[105,{"$f":"IF('Check-In'!A111=\"\",\"\",'Check-In'!A111)","v":105},{"$f":"IF('Check-In'!B111=\"\",\"\",'Check-In'!B111)","v":""},{"$f":"IF('Check-In'!C111=\"\",\"\",'Check-In'!C111)","v":""},{"$f":"IF('Check-In'!I111=\"\",\"\",'Check-In'!I111)","v":""},{"$nulls":16},"","","","","",null,0,0,"","","",null,"",""]
[106,{"$f":"IF('Check-In'!A112=\"\",\"\",'Check-In'!A112)","v":106},{"$f":"IF('Check-In'!B112=\"\",\"\",'Check-In'!B112)","v":""},{"$f":"IF('Check-In'!C112=\"\",\"\",'Check-In'!C112)","v":""},{"$f":"IF('Check-In'!I112=\"\",\"\",'Check-In'!I112)","v":""},{"$nulls":16},"","","","","",null,0,0,"","","",null,"",""]
[107,{"$f":"IF('Check-In'!A113=\"\",\"\",'Check-In'!A113)","v":107},{"$f":"IF('Check-In'!B113=\"\",\"\",'Check-In'!B113)","v":""},{"$f":"IF('Check-In'!C113=\"\",\"\",'Check-In'!C113)","v":""},{"$f":"IF('Check-In'!I113=\"\",\"\",'Check-In'!I113)","v":""},{"$nulls":16},"","","","","",null,0,0,"","","",null,"",""]
[108,{"$f":"IF('Check-In'!A114=\"\",\"\",'Check-In'!A114)","v":108},{"$f":"IF('Check-In'!B114=\"\",\"\",'Check-In'!B114)","v":""},{"$f":"IF('Check-In'!C114=\"\",\"\",'Check-In'!C114)","v":""},{"$f":"IF('Check-In'!I114=\"\",\"\",'Check-In'!I114)","v":""},{"$nulls":16},"","","","","",null,0,0,"","","",null,"",""]
[109,{"$f":"IF('Check-In'!A115=\"\",\"\",'Check-In'!A115)","v":109},{"$f":"IF('Check-In'!B115=\"\",\"\",'Check-In'!B115)","v":""},{"$f":"IF('Check-In'!C115=\"\",\"\",'Check-In'!C115)","v":""},{"$f":"IF('Check-In'!I115=\"\",\"\",'Check-In'!I115)","v":""},{"$nulls":16},"","","","","",null,0,0,"","","",null,"",""]
[110,{"$f":"IF('Check-In'!A116=\"\",\"\",'Check-In'!A116)","v":110},{"$f":"IF('Check-In'!B116=\"\",\"\",'Check-In'!B116)","v":""},{"$f":"IF('Check-In'!C116=\"\",\"\",'Check-In'!C116)","v":""},{"$f":"IF('Check-In'!I116=\"\",\"\",'Check-In'!I116)","v":""},{"$nulls":16},"","","","","",null,0,0,"","","",null,"",""]
[111,{"$f":"IF('Check-In'!A117=\"\",\"\",'Check-In'!A117)","v":111},{"$f":"IF('Check-In'!B117=\"\",\"\",'Check-In'!B117)","v":""},{"$f":"IF('Check-In'!C117=\"\",\"\",'Check-In'!C117)","v":""},{"$f":"IF('Check-In'!I117=\"\",\"\",'Check-In'!I117)","v":""},{"$nulls":16},"","","","","",null,0,0,"","","",null,"",""]
[112,{"$f":"IF('Check-In'!A118=\"\",\"\",'Check-In'!A118)","v":112},{"$f":"IF('Check-In'!B118=\"\",\"\",'Check-In'!B118)","v":""},{"$f":"IF('Check-In'!C118=\"\",\"\",'Check-In'!C118)","v":""},{"$f":"IF('Check-In'!I118=\"\",\"\",'Check-In'!I118)","v":""},{"$nulls":16},"","","","","",null,0,0,"","","",null,"",""]
[113,{"$f":"IF('Check-In'!A119=\"\",\"\",'Check-In'!A119)","v":113},{"$f":"IF('Check-In'!B119=\"\",\"\",'Check-In'!B119)","v":""},{"$f":"IF('Check-In'!C119=\"\",\"\",'Check-In'!C119)","v":""},{"$f":"IF('Check-In'!I119=\"\",\"\",'Check-In'!I119)","v":""},{"$nulls":16},"","","","","",null,0,0,"","","",null,"",""]
[114,{"$f":"IF('Check-In'!A120=\"\",\"\",'Check-In'!A120)","v":114},{"$f":"IF('Check-In'!B120=\"\",\"\",'Check-In'!B120)","v":""},{"$f":"IF('Check-In'!C120=\"\",\"\",'Check-In'!C120)","v":""},{"$f":"IF('Check-In'!I120=\"\",\"\",'Check-In'!I120)","v":""},{"$nulls":16},"","","","","",null,0,0,"","","",null,"",""]
[115,{"$f":"IF('Check-In'!A121=\"\",\"\",'Check-In'!A121)","v":115},{"$f":"IF('Check-In'!B121=\"\",\"\",'Check-In'!B121)","v":""},{"$f":"IF('Check-In'!C121=\"\",\"\",'Check-In'!C121)","v":""},{"$f":"IF('Check-In'!I121=\"\",\"\",'Check-In'!I121)","v":""},{"$nulls":16},"","","","","",null,0,0,"","","",null,"",""]
[116,{"$f":"IF('Check-In'!A122=\"\",\"\",'Check-In'!A122)","v":116},{"$f":"IF('Check-In'!B122=\"\",\"\",'Check-In'!B122)","v":""},{"$f":"IF('Check-In'!C122=\"\",\"\",'Check-In'!C122)","v":""},{"$f":"IF('Check-In'!I122=\"\",\"\",'Check-In'!I122)","v":""},{"$nulls":16},"","","","","",null,0,0,"","","",null,"",""]
[117,{"$f":"IF('Check-In'!A123=\"\",\"\",'Check-In'!A123)","v":117},{"$f":"IF('Check-In'!B123=\"\",\"\",'Check-In'!B123)","v":""},{"$f":"IF('Check-In'!C123=\"\",\"\",'Check-In'!C123)","v":""},{"$f":"IF('Check-In'!I123=\"\",\"\",'Check-In'!I123)","v":""},{"$nulls":16},"","","","","",null,0,0,"","","",null,"",""]
[118,{"$f":"IF('Check-In'!A124=\"\",\"\",'Check-In'!A124)","v":118},{"$f":"IF('Check-In'!B124=\"\",\"\",'Check-In'!B124)","v":""},{"$f":"IF('Check-In'!C124=\"\",\"\",'Check-In'!C124)","v":""},{"$f":"IF('Check-In'!I124=\"\",\"\",'Check-In'!I124)","v":""},{"$nulls":16},"","","","","",null,0,0,"","","",null,"",""]
[119,{"$f":"IF('Check-In'!A125=\"\",\"\",'Check-In'!A125)","v":119},{"$f":"IF('Check-In'!B125=\"\",\"\",'Check-In'!B125)","v":""},{"$f":"IF('Check-In'!C125=\"\",\"\",'Check-In'!C125)","v":""},{"$f":"IF('Check-In'!I125=\"\",\"\",'Check-In'!I125)","v":""},{"$nulls":16},"","","","","",null,0,0,"","","",null,"",""]
[120,{"$f":"IF('Check-In'!A126=\"\",\"\",'Check-In'!A126)","v":120},{"$f":"IF('Check-In'!B126=\"\",\"\",'Check-In'!B126)","v":""},{"$f":"IF('Check-In'!C126=\"\",\"\",'Check-In'!C126)","v":""},{"$f":"IF('Check-In'!I126=\"\",\"\",'Check-In'!I126)","v":""},{"$nulls":16},"","","","","",null,0,0,"","","",null,"",""]
[121,{"$f":"IF('Check-In'!A127=\"\",\"\",'Check-In'!A127)","v":121},{"$f":"IF('Check-In'!B127=\"\",\"\",'Check-In'!B127)","v":""},{"$f":"IF('Check-In'!C127=\"\",\"\",'Check-In'!C127)","v":""},{"$f":"IF('Check-In'!I127=\"\",\"\",'Check-In'!I127)","v":""},{"$nulls":16},"","","","","",null,0,0,"","","",null,"",""]
[122,{"$f":"IF('Check-In'!A128=\"\",\"\",'Check-In'!A128)","v":122},{"$f":"IF('Check-In'!B128=\"\",\"\",'Check-In'!B128)","v":""},{"$f":"IF('Check-In'!C128=\"\",\"\",'Check-In'!C128)","v":""},{"$f":"IF('Check-In'!I128=\"\",\"\",'Check-In'!I128)","v":""},{"$nulls":16},"","","","","",null,0,0,"","","",null,"",""]
[123,{"$f":"IF('Check-In'!A129=\"\",\"\",'Check-In'!A129)","v":123},{"$f":"IF('Check-In'!B129=\"\",\"\",'Check-In'!B129)","v":""},{"$f":"IF('Check-In'!C129=\"\",\"\",'Check-In'!C129)","v":""},{"$f":"IF('Check-In'!I129=\"\",\"\",'Check-In'!I129)","v":""},{"$nulls":16},"","","","","",null,0,0,"","","",null,"",""]
[124,{"$f":"IF('Check-In'!A130=\"\",\"\",'Check-In'!A130)","v":124},{"$f":"IF('Check-In'!B130=\"\",\"\",'Check-In'!B130)","v":""},{"$f":"IF('Check-In'!C130=\"\",\"\",'Check-In'!C130)","v":""},{"$f":"IF('Check-In'!I130=\"\",\"\",'Check-In'!I130)","v":""},{"$nulls":16},"","","","","",null,0,0,"","","",null,"",""]
[125,{"$f":"IF('Check-In'!A131=\"\",\"\",'Check-In'!A131)","v":125},{"$f":"IF('Check-In'!B131=\"\",\"\",'Check-In'!B131)","v":""},{"$f":"IF('Check-In'!C131=\"\",\"\",'Check-In'!C131)","v":""},{"$f":"IF('Check-In'!I131=\"\",\"\",'Check-In'!I131)","v":""},{"$nulls":16},"","","","","",null,0,0,"","","",null,"",""]
[126,{"$f":"IF('Check-In'!A132=\"\",\"\",'Check-In'!A132)","v":126},{"$f":"IF('Check-In'!B132=\"\",\"\",'Check-In'!B132)","v":""},{"$f":"IF('Check-In'!C132=\"\",\"\",'Check-In'!C132)","v":""},{"$f":"IF('Check-In'!I132=\"\",\"\",'Check-In'!I132)","v":""},{"$nulls":16},"","","","","",null,0,0,"","","",null,"",""]
[]
[null,null,"Total Pin Fall",null,null,{"$f":"SUM(F8:F133)","v":12574},1360,12417,1280,12332,1120,12405,1200,{"$f":"SUM(N8:N133)","v":12504},1280,12865,1240,12552,1160,12615,1200,{"$f":"SUM(V8:V133)","v":100264},9840,{"$f":"SUM(X8:X133)","v":110104}]
[null,null,"Average",null,null,{"$f":"AVERAGE(F8:F133)","v":{"v":202.80645161290323,"d":"203"}},40,{"v":200.2741935483871,"d":"200"},40,{"v":198.90322580645162,"d":"199"},40,{"v":200.08064516129033,"d":"200"},{"v":38.70967741935484,"d":"39"},{"$f":"AVERAGE(N8:N133)","v":{"v":201.67741935483872,"d":"202"}},40,{"v":207.5,"d":"208"},{"v":38.75,"d":"39"},{"v":202.4516129032258,"d":"202"},{"v":38.666666666666664,"d":"39"},{"v":203.46774193548387,"d":"203"},40,{"$f":"AVERAGE(V8:V133)","v":{"v":1617.1612903225807,"d":"1617"}},{"v":158.70967741935485,"d":"159"},{"$f":"AVERAGE(X8:X133)","v":{"v":1775.8709677419354,"d":"1776"}}]
[null,null,"High Game/Total",null,null,{"$f":"MAX(F8:F133)","v":266},40,269,40,248,40,258,40,{"$f":"MAX(N8:N133)","v":268},40,299,40,249,40,257,40,{"$f":"MAX(V8:V133)","v":1852},320,{"$f":"MAX(X8:X133)","v":2172}]
[null,null,"Low Game/Total",null,null,{"$f":"MIN(F8:F133)","v":148},40,148,40,145,40,143,20,{"$f":"MIN(N8:N133)","v":141},40,138,20,144,20,135,40,{"$f":"MIN(V8:V133)","v":1332},0,{"$f":"MIN(X8:X133)","v":1412}]
[]
[{"$nulls":5},{"$f":"IF(F8=\"\",1,LARGE(IF($E$8:$E$133=\"x\",Game1,),1))","v":0},{"$f":"IF(Tourn=\"MSC\",1,IF(G8=\"\",1,LARGE(IF($E$8:$E$133=\"x\",Game2,),1)))","v":1},{"$f":"IF(H8=\"\",1,LARGE(IF($E$8:$E$133=\"x\",Game3,),1))","v":0},{"$f":"IF(Tourn=\"MSC\",1,IF(I8=\"\",1,LARGE(IF($E$8:$E$133=\"x\",Game4,),1)))","v":1},{"$f":"IF(J8=\"\",1,LARGE(IF($E$8:$E$133=\"x\",Game5,),1))","v":0},{"$f":"IF(Tourn=\"MSC\",1,IF(K8=\"\",1,LARGE(IF($E$8:$E$133=\"x\",Game6,),1)))","v":1},{"$f":"IF(L8=\"\",1,LARGE(IF($E$8:$E$133=\"x\",Game7,),1))","v":0},{"$f":"IF(Tourn=\"MSC\",1,IF(M8=\"\",1,LARGE(IF($E$8:$E$133=\"x\",Game8,),1)))","v":1},{"$f":"IF(N8=\"\",1,LARGE(IF($E$8:$E$133=\"x\",Game9,),1))","v":0},{"$f":"IF(Tourn=\"MSC\",1,IF(O8=\"\",1,LARGE(IF($E$8:$E$133=\"x\",Game10,),1)))","v":1},{"$f":"IF(P8=\"\",1,LARGE(IF($E$8:$E$133=\"x\",Game11,),1))","v":0},{"$f":"IF(Tourn=\"MSC\",1,IF(Q8=\"\",1,LARGE(IF($E$8:$E$133=\"x\",Game12,),1)))","v":1},{"$f":"IF(R8=\"\",1,LARGE(IF($E$8:$E$133=\"x\",Game13,),1))","v":0},{"$f":"IF(Tourn=\"MSC\",1,IF(S8=\"\",1,LARGE(IF($E$8:$E$133=\"x\",Game14,),1)))","v":1},{"$f":"IF(T8=\"\",1,LARGE(IF($E$8:$E$133=\"x\",Game15,),1))","v":0},{"$f":"IF(Tourn=\"MSC\",1,IF(U8=\"\",1,LARGE(IF($E$8:$E$133=\"x\",Game16,),1)))","v":1}]
[{"$nulls":5},1,{"$f":"IF(Tourn=\"MSC\",1,IF(G9=\"\",1,LARGE(IF($E$8:$E$133=\"x\",Game2,),2)))","v":1},1,{"$f":"IF(Tourn=\"MSC\",1,IF(I9=\"\",1,LARGE(IF($E$8:$E$133=\"x\",Game4,),2)))","v":1},1,{"$f":"IF(Tourn=\"MSC\",1,IF(K9=\"\",1,LARGE(IF($E$8:$E$133=\"x\",Game6,),2)))","v":1},1,{"$f":"IF(Tourn=\"MSC\",1,IF(M9=\"\",1,LARGE(IF($E$8:$E$133=\"x\",Game8,),2)))","v":1},1,{"$f":"IF(Tourn=\"MSC\",1,IF(O9=\"\",1,LARGE(IF($E$8:$E$133=\"x\",Game10,),2)))","v":1},1,{"$f":"IF(Tourn=\"MSC\",1,IF(Q9=\"\",1,LARGE(IF($E$8:$E$133=\"x\",Game12,),2)))","v":1},1,{"$f":"IF(Tourn=\"MSC\",1,IF(S9=\"\",1,LARGE(IF($E$8:$E$133=\"x\",Game14,),2)))","v":1},1,{"$f":"IF(Tourn=\"MSC\",1,IF(U9=\"\",1,LARGE(IF($E$8:$E$133=\"x\",Game16,),2)))","v":1}]
[]
[]
[null,null,"1st high = ",null,null,{"$f":"LARGE(Game1,1)","v":266},{"$f":"LARGE(Game2,1)","v":40},{"$f":"LARGE(Game3,1)","v":269},{"$f":"LARGE(Game4,1)","v":40},{"$f":"LARGE(Game5,1)","v":248},{"$f":"LARGE(Game6,1)","v":40},{"$f":"LARGE(Game7,1)","v":258},{"$f":"LARGE(Game8,1)","v":40},{"$f":"IF(LARGE(Total,1)=0,1,LARGE(Total,1))","v":40},{"$nulls":9},{"$f":"LARGE(GTtl,1)","v":2172}]
[null,null,"2nd high = ",null,null,{"$f":"LARGE(Game1,2)","v":258},{"$f":"LARGE(Game2,2)","v":40},{"$f":"LARGE(Game3,2)","v":265},{"$f":"LARGE(Game4,2)","v":40},{"$f":"LARGE(Game5,2)","v":247},{"$f":"LARGE(Game6,2)","v":40},{"$f":"LARGE(Game7,2)","v":255},{"$f":"LARGE(Game8,2)","v":40},{"$f":"IF(LARGE(Total,2)=0,1,LARGE(Total,2))","v":40},{"$nulls":9},{"$f":"LARGE(GTtl,2)","v":2109}]
[null,null,"3rd high = ",null,null,{"$f":"LARGE(Game1,3)","v":258},{"$f":"LARGE(Game2,3)","v":40},{"$f":"LARGE(Game3,3)","v":248},{"$f":"LARGE(Game4,3)","v":40},{"$f":"LARGE(Game5,3)","v":247},{"$f":"LARGE(Game6,3)","v":40},{"$f":"LARGE(Game7,3)","v":248},{"$f":"LARGE(Game8,3)","v":40},{"$f":"IF(LARGE(Total,3)=0,1,LARGE(Total,3))","v":40},{"$nulls":9},{"$f":"LARGE(GTtl,3)","v":2099}]
[null,null,"4th high = ",null,null,{"$f":"LARGE(Game1,4)","v":256},{"$f":"LARGE(Game2,4)","v":40},{"$f":"LARGE(Game3,4)","v":240},{"$f":"LARGE(Game4,4)","v":40},{"$f":"LARGE(Game5,4)","v":246},{"$f":"LARGE(Game6,4)","v":40},{"$f":"LARGE(Game7,4)","v":245},{"$f":"LARGE(Game8,4)","v":40},{"$f":"IF(LARGE(Total,4)=0,1,LARGE(Total,4))","v":40},{"$nulls":9},{"$f":"LARGE(GTtl,4)","v":2061}]
[null,null,"5th high = ",null,null,{"$f":"LARGE(Game1,5)","v":248},{"$f":"LARGE(Game2,5)","v":40},{"$f":"LARGE(Game3,5)","v":237},{"$f":"LARGE(Game4,5)","v":40},{"$f":"LARGE(Game5,5)","v":245},{"$f":"LARGE(Game6,5)","v":40},{"$f":"LARGE(Game7,5)","v":237},{"$f":"LARGE(Game8,5)","v":40},{"$f":"IF(LARGE(Total,5)=0,1,LARGE(Total,5))","v":40},{"$nulls":9},{"$f":"LARGE(GTtl,5)","v":2049}]

{"sheet":"Elim","index":3,"n_rows":127,"n_cols":45,"rows_kept":127,"merged":[[0,29,0,32],[1,2,1,4],[1,6,1,8],[1,10,1,12],[1,16,1,18],[1,20,1,22],[1,24,1,26],[1,29,1,32],[2,29,2,32],[4,29,4,32],[18,29,18,32]]}
[{"$nulls":29},{"$f":"'Check-In'!B1","v":"Midwest Senior Classic"},{"$nulls":6},{"$f":"IF(Tourn=\"2-Day\",3,IF(Tourn=\"Dbls\",4,2))","v":2},{"$f":"IF(Tourn=\"2-Day\",4,IF(Tourn=\"Dbls\",5,3))","v":3},{"$f":"IF(Tourn=\"2-Day\",5,IF(Tourn=\"Dbls\",6,4))","v":4},{"$nulls":3},{"$f":"IF(Tourn=\"2-Day\",7,IF(Tourn=\"Dbls\",12,5))","v":5},{"$f":"IF(Tourn=\"2-Day\",8,IF(Tourn=\"Dbls\",13,6))","v":6},{"$f":"IF(Tourn=\"2-Day\",9,IF(Tourn=\"Dbls\",14,7))","v":7}]
[null,null,{"$f":"IF(Master!$B$1=\"Dbls\",\"Game 4\",IF(Master!$B$1=\"2-Day\",\"Game 3\",\"Game 2\"))","v":"Game 2"},{"$nulls":3},{"$f":"IF(Master!$B$1=\"Dbls\",\"Game 5\",IF(Master!$B$1=\"2-Day\",\"Game 4\",\"Game 3\"))","v":"Game 3"},{"$nulls":3},{"$f":"IF(Master!$B$1=\"Dbls\",\"Game 6\",IF(Master!$B$1=\"2-Day\",\"Game 5\",\"Game 4\"))","v":"Game 4"},{"$nulls":5},{"$f":"IF(Master!$B$1=\"Dbls\",\"Game 12\",IF(Master!$B$1=\"2-Day\",\"Game 7\",\"Game 5\"))","v":"Game 5"},{"$nulls":3},{"$f":"IF(Master!$B$1=\"Dbls\",\"Game 13\",IF(Master!$B$1=\"2-Day\",\"Game 8\",\"Game 6\"))","v":"Game 6"},{"$nulls":3},{"$f":"IF(Master!$B$1=\"Dbls\",\"Game 14\",IF(Master!$B$1=\"2-Day\",\"Game 9\",\"Game 7\"))","v":"Game 7"},{"$nulls":4},{"$f":"'Check-In'!B2","v":"2022-04-24"},{"$nulls":4},{"$f":"IF(AJ2=0,\"\",'Check-In'!$B7)","v":"OULMAN, DAVE"},{"$f":"IF(Tourn=\"2-Day\",'Check-In'!T7,IF(Tourn=\"Dbls\", 'Check-In'!R7,'Check-In'!P7))","v":"X"},{"$f":"IF(AJ2=\"x\",INDEX(Qual!$C$8:$U$133,MATCH(AI2,Qual!$C$8:$C$133,0),IF(Tourn=\"Dbls\",7,IF(Tourn=\"2-Day\",6,IF(Tourn=\"MSC\",6,5)))),\"\")","v":265},{"$f":"IF(AJ2=\"x\",INDEX(Qual!$C$8:$U$133,MATCH(AI2,Qual!$C$8:$C$133,0),IF(Tourn=\"Dbls\",8,IF(Tourn=\"2-Day\",7,IF(Tourn=\"MSC\",8,6)))),\"\")","v":193},{"$f":"IF(AJ2=\"x\",INDEX(Qual!$C$8:$U$133,MATCH(AI2,Qual!$C$8:$C$133,0),IF(Tourn=\"Dbls\",9,IF(Tourn=\"2-Day\",8,IF(Tourn=\"MSC\",10,7)))),\"\")","v":234},null,{"$f":"IF(AP2=0,\"\",'Check-In'!$B7)","v":"OULMAN, DAVE"},{"$f":"IF(Tourn=\"2-Day\",'Check-In'!U7,IF(Tourn=\"Dbls\", 'Check-In'!S7,'Check-In'!P7))","v":"X"},{"$f":"IF(AP2=\"x\",INDEX(Qual!$C$8:$U$133,MATCH(AO2,Qual!$C$8:$C$133,0),IF(Tourn=\"Dbls\",15,IF(Tourn=\"2-Day\",10,IF(Tourn=\"MSC\",12,8)))),\"\")","v":248},{"$f":"IF(AP2=\"x\",INDEX(Qual!$C$8:$U$133,MATCH(AO2,Qual!$C$8:$C$133,0),IF(Tourn=\"Dbls\",16,IF(Tourn=\"2-Day\",11,IF(Tourn=\"MSC\",14,9)))),\"\")","v":213},{"$f":"IF(AP2=\"x\",INDEX(Qual!$C$8:$U$133,MATCH(AO2,Qual!$C$8:$C$133,0),IF(Tourn=\"Dbls\",17,IF(Tourn=\"2-Day\",12,IF(Tourn=\"MSC\",16,10)))),\"\")","v":215}]
[null,1,{"$f":"IF(Master!$B$1=\"Dbls\",IF(B3<='Check-In'!$R$136,B3,IF(AND(E2=E3,C2='Check-In'!$R$136),B3,\"\")),IF(Master!$B$1=\"2-Day\",IF(B3<='Check-In'!$T$136,B3,IF(AND(E2=E3,C2='Check-In'!$T$136),B3,\"\")),IF(B3<='Check-In'!$P$136,B3,IF(AND(E2=E3,C2='Check-In'!$P$136),B3,\"\"))))","v":1},{"$f":"IF(E3=\"\",\"\",INDEX(Elim1,MATCH(E3,E1G1,0),1))","v":"WRIGHT, DANA"},{"$f":"IF(COUNTIF($AJ$2:$AJ$133,\"x\")>=B3,LARGE($AK$2:$AK$133,B3),\"\")","v":269},{"$f":"IF(C3<>\"\",INDEX($AI$2:$AM$133,MATCH(D3,$AI$2:$AI$133,0),4),\"\")","v":215},{"$f":"IF(Master!$B$1=\"Dbls\",IF(B3<='Check-In'!$R$137,B3,IF(AND(I2=I3,G2='Check-In'!$R$137),B3,\"\")),IF(Master!$B$1=\"2-Day\",IF(B3<='Check-In'!$T$137,B3,IF(AND(I2=I3,G2='Check-In'!$T$137),B3,\"\")),IF(B3<='Check-In'!$P$137,B3,IF(AND(I2=I3,G2='Check-In'!$P$137),B3,\"\"))))","v":1},{"$f":"IF(I3=\"\",\"\",INDEX(D3:F52,MATCH(I3,E1G2B,0),1))","v":"DOWNER, ROB"},{"$f":"IF(C3=\"\",\"\",LARGE(E1G2B,B3))","v":248},{"$f":"IF(G3<>\"\",INDEX($AI$2:$AM$133,MATCH(H3,$AI$2:$AI$133,0),5),\"\")","v":236},1,{"$f":"IF(M3=\"\",\"\",INDEX(H3:J52,MATCH(M3,J3:J52,0),1))","v":"LANGER, DAVE"},{"$f":"IF(K3=\"\",\"\",LARGE($J$2:$J$133,B3))","v":255},null,null,1,{"$f":"IF(Master!$B$1=\"Dbls\",IF(P3<='Check-In'!$S$136,P3,IF(AND(S2=S3,Q2='Check-In'!$S$136),P3,\"\")),IF(Master!$B$1=\"2-Day\",IF(P3<='Check-In'!$U$136,P3,IF(AND(S2=S3,Q2='Check-In'!$U$136),P3,\"\")),IF(P3<='Check-In'!$Q$136,P3,IF(AND(S2=S3,Q2='Check-In'!$Q$136),P3,\"\"))))","v":1},{"$f":"IF(S3=\"\",\"\",INDEX($AO$2:$AS$133,MATCH(S3,$AQ$2:$AQ$133,0),1))","v":"HOMMES, JOHN"},{"$f":"IF(COUNTIF($AP$2:$AP$133,\"x\")>=P3,LARGE($AQ$2:$AQ$133,P3),\"\")","v":268},{"$f":"IF(Q3<>\"\",INDEX($AO$2:$AS$133,MATCH(R3,$AO$2:$AO$133,0),4),\"\")","v":196},{"$f":"IF(Master!$B$1=\"Dbls\",IF(B3<='Check-In'!$S$137,B3,IF(AND(I2=I3,G2='Check-In'!$S$137),B3,\"\")),IF(Master!$B$1=\"2-Day\",IF(B3<='Check-In'!$U$137,B3,IF(AND(I2=I3,G2='Check-In'!$U$137),B3,\"\")),IF(B3<='Check-In'!$Q$137,B3,IF(AND(I2=I3,G2='Check-In'!$Q$137),B3,\"\"))))","v":1},{"$f":"IF(W3=\"\",\"\",INDEX(R3:T52,MATCH(W3,T3:T52,0),1))","v":"LANGER, DAVE"},{"$f":"IF(Q3=\"\",\"\",LARGE($T$2:$T$133,P3))","v":268},{"$f":"IF(U3<>\"\",INDEX($AO$2:$AS$133,MATCH(V3,$AO$2:$AO$133,0),5),\"\")","v":200},1,{"$f":"IF(AA3=\"\",\"\",INDEX(V3:X52,MATCH(AA3,X3:X52,0),1))","v":"BORDSON, DAVE"},{"$f":"IF(Y3=\"\",\"\",LARGE($X$2:$X$133,P3))","v":238},null,null,{"$f":"'Check-In'!B3","v":"Cedarvale"},{"$nulls":4},{"$f":"IF(AJ3=0,\"\",'Check-In'!$B8)","v":"DAVIS, SCOTT"},{"$f":"IF(Tourn=\"2-Day\",'Check-In'!T8,IF(Tourn=\"Dbls\", 'Check-In'!R8,'Check-In'!P8))","v":"X"},{"$f":"IF(AJ3=\"x\",INDEX(Qual!$C$8:$U$133,MATCH(AI3,Qual!$C$8:$C$133,0),IF(Tourn=\"Dbls\",7,IF(Tourn=\"2-Day\",6,IF(Tourn=\"MSC\",6,5)))),\"\")","v":180},{"$f":"IF(AJ3=\"x\",INDEX(Qual!$C$8:$U$133,MATCH(AI3,Qual!$C$8:$C$133,0),IF(Tourn=\"Dbls\",8,IF(Tourn=\"2-Day\",7,IF(Tourn=\"MSC\",8,6)))),\"\")","v":195},{"$f":"IF(AJ3=\"x\",INDEX(Qual!$C$8:$U$133,MATCH(AI3,Qual!$C$8:$C$133,0),IF(Tourn=\"Dbls\",9,IF(Tourn=\"2-Day\",8,IF(Tourn=\"MSC\",10,7)))),\"\")","v":235},null,{"$f":"IF(AP3=0,\"\",'Check-In'!$B8)","v":"DAVIS, SCOTT"},{"$f":"IF(Tourn=\"2-Day\",'Check-In'!U8,IF(Tourn=\"Dbls\", 'Check-In'!S8,'Check-In'!P8))","v":"X"},{"$f":"IF(AP3=\"x\",INDEX(Qual!$C$8:$U$133,MATCH(AO3,Qual!$C$8:$C$133,0),IF(Tourn=\"Dbls\",15,IF(Tourn=\"2-Day\",10,IF(Tourn=\"MSC\",12,8)))),\"\")","v":180},{"$f":"IF(AP3=\"x\",INDEX(Qual!$C$8:$U$133,MATCH(AO3,Qual!$C$8:$C$133,0),IF(Tourn=\"Dbls\",16,IF(Tourn=\"2-Day\",11,IF(Tourn=\"MSC\",14,9)))),\"\")","v":244},{"$f":"IF(AP3=\"x\",INDEX(Qual!$C$8:$U$133,MATCH(AO3,Qual!$C$8:$C$133,0),IF(Tourn=\"Dbls\",17,IF(Tourn=\"2-Day\",12,IF(Tourn=\"MSC\",16,10)))),\"\")","v":223}]
[null,2,{"$f":"IF(Master!$B$1=\"Dbls\",IF(B4<='Check-In'!$R$136,B4,IF(AND(E3=E4,C3='Check-In'!$R$136),B4,\"\")),IF(Master!$B$1=\"2-Day\",IF(B4<='Check-In'!$T$136,B4,IF(AND(E3=E4,C3='Check-In'!$T$136),B4,\"\")),IF(B4<='Check-In'!$P$136,B4,IF(AND(E3=E4,C3='Check-In'!$P$136),B4,\"\"))))","v":2},{"$f":"IF(E4=\"\",\"\",IF(E3<>E4,INDEX($AI$2:$AM$127,MATCH(E4,$AK$2:$AK$127,0),1),INDEX(INDIRECT(\"ai\"&(2+MATCH(D3,$AI$2:$AI$127,0)&\":am127\")),MATCH(E4,INDIRECT(\"ak\"&(2+MATCH(D3,$AI$2:$AI$127,0)&\":ak127\")),0),1)))","v":"OULMAN, DAVE"},265,193,{"$f":"IF(Master!$B$1=\"Dbls\",IF(B4<='Check-In'!$R$137,B4,IF(AND(I3=I4,G3='Check-In'!$R$137),B4,\"\")),IF(Master!$B$1=\"2-Day\",IF(B4<='Check-In'!$T$137,B4,IF(AND(I3=I4,G3='Check-In'!$T$137),B4,\"\")),IF(B4<='Check-In'!$P$137,B4,IF(AND(I3=I4,G3='Check-In'!$P$137),B4,\"\"))))","v":2},{"$f":"IF(I4=\"\",\"\",IF(I3<>I4,INDEX($D$2:$F$127,MATCH(I4,$F$2:$F$127,0),1),INDEX(INDIRECT(\"d\"&(2+MATCH(H3,$D$2:$D$127,0)&\":d127\")),MATCH(I4,INDIRECT(\"f\"&(2+MATCH(H3,$D$2:$D$127,0)&\":f127\")),0),1)))","v":"HOMMES, JOHN"},247,198,{"$f":"IF(Master!$B$1=\"Dbls\",IF(B4<='Check-In'!$R$139,B4,IF(AND(I3=I4,G3='Check-In'!$R$139),B4,\"\")),IF(Master!$B$1=\"2-Day\",IF(B4<='Check-In'!$T$139,B4,IF(AND(I3=I4,G3='Check-In'!$T$139),B4,\"\")),IF(B4<='Check-In'!$P$139,B4,IF(AND(I3=I4,G3='Check-In'!$P$139),B4,\"\"))))","v":2},{"$f":"IF(M4=\"\",\"\",IF(M3<>M4,INDEX($H$2:$J$127,MATCH(M4,$J$2:$J$127,0),1),INDEX(INDIRECT(\"h\"&(2+MATCH(L3,$H$2:$H$127,0)&\":j127\")),MATCH(M4,INDIRECT(\"j\"&(2+MATCH(L3,$H$2:$H$127,0)&\":j127\")),0),1)))","v":"DOWNER, ROB"},236,null,null,2,{"$f":"IF(Master!$B$1=\"Dbls\",IF(P4<='Check-In'!$S$136,P4,IF(AND(S3=S4,Q3='Check-In'!$S$136),P4,\"\")),IF(Master!$B$1=\"2-Day\",IF(P4<='Check-In'!$U$136,P4,IF(AND(S3=S4,Q3='Check-In'!$U$136),P4,\"\")),IF(P4<='Check-In'!$Q$136,P4,IF(AND(S3=S4,Q3='Check-In'!$Q$136),P4,\"\"))))","v":2},{"$f":"IF(S4=\"\",\"\",IF(S3<>S4,INDEX($AO$2:$AS$127,MATCH(S4,$AQ$2:$AQ$127,0),1),INDEX(INDIRECT(\"ao\"&(2+MATCH(R3,$AO$2:$AO$127,0)&\":as127\")),MATCH(S4,INDIRECT(\"aq\"&(2+MATCH(R3,$AO$2:$AO$127,0)&\":aq127\")),0),1)))","v":"OULMAN, DAVE"},248,213,{"$f":"IF(Master!$B$1=\"Dbls\",IF(B4<='Check-In'!$S$137,B4,IF(AND(I3=I4,G3='Check-In'!$S$137),B4,\"\")),IF(Master!$B$1=\"2-Day\",IF(B4<='Check-In'!$U$137,B4,IF(AND(I3=I4,G3='Check-In'!$U$137),B4,\"\")),IF(B4<='Check-In'!$Q$137,B4,IF(AND(I3=I4,G3='Check-In'!$Q$137),B4,\"\"))))","v":2},{"$f":"IF(W4=\"\",\"\",IF(W3<>W4,INDEX($R$2:$T$127,MATCH(W4,$T$2:$T$127,0),1),INDEX(INDIRECT(\"r\"&(2+MATCH(V3,$R$2:$R$127,0)&\":r127\")),MATCH(W4,INDIRECT(\"t\"&(2+MATCH(V3,$R$2:$R$127,0)&\":t127\")),0),1)))","v":"HANKE, KURT"},257,193,{"$f":"IF(Master!$B$1=\"Dbls\",IF(P4<='Check-In'!$R$139,P4,IF(AND(W3=W4,U3='Check-In'!$R$139),P4,\"\")),IF(Master!$B$1=\"2-Day\",IF(P4<='Check-In'!$T$139,P4,IF(AND(W3=W4,U3='Check-In'!$T$139),P4,\"\")),IF(P4<='Check-In'!$P$139,P4,IF(AND(W3=W4,U3='Check-In'!$P$139),P4,\"\"))))","v":2},{"$f":"IF(AA4=\"\",\"\",IF(AA3<>AA4,INDEX($V$2:$X$127,MATCH(AA4,$X$2:$X$127,0),1),INDEX(INDIRECT(\"v\"&(2+MATCH(Z3,$V$2:$V$127,0)&\":v127\")),MATCH(AA4,INDIRECT(\"x\"&(2+MATCH(Z3,$V$2:$V$127,0)&\":x127\")),0),1)))","v":"JENSEN, WAYNE"},{"$f":"IF(Y4=\"\",\"\",LARGE($X$2:$X$133,P4))","v":238},{"$nulls":7},{"$f":"IF(AJ4=0,\"\",'Check-In'!$B9)","v":"PESCH, JOHN"},{"$f":"IF(Tourn=\"2-Day\",'Check-In'!T9,IF(Tourn=\"Dbls\", 'Check-In'!R9,'Check-In'!P9))","v":"X"},{"$f":"IF(AJ4=\"x\",INDEX(Qual!$C$8:$U$133,MATCH(AI4,Qual!$C$8:$C$133,0),IF(Tourn=\"Dbls\",7,IF(Tourn=\"2-Day\",6,IF(Tourn=\"MSC\",6,5)))),\"\")","v":191},{"$f":"IF(AJ4=\"x\",INDEX(Qual!$C$8:$U$133,MATCH(AI4,Qual!$C$8:$C$133,0),IF(Tourn=\"Dbls\",8,IF(Tourn=\"2-Day\",7,IF(Tourn=\"MSC\",8,6)))),\"\")","v":234},{"$f":"IF(AJ4=\"x\",INDEX(Qual!$C$8:$U$133,MATCH(AI4,Qual!$C$8:$C$133,0),IF(Tourn=\"Dbls\",9,IF(Tourn=\"2-Day\",8,IF(Tourn=\"MSC\",10,7)))),\"\")","v":223},null,{"$f":"IF(AP4=0,\"\",'Check-In'!$B9)","v":"PESCH, JOHN"},{"$f":"IF(Tourn=\"2-Day\",'Check-In'!U9,IF(Tourn=\"Dbls\", 'Check-In'!S9,'Check-In'!P9))","v":"X"},{"$f":"IF(AP4=\"x\",INDEX(Qual!$C$8:$U$133,MATCH(AO4,Qual!$C$8:$C$133,0),IF(Tourn=\"Dbls\",15,IF(Tourn=\"2-Day\",10,IF(Tourn=\"MSC\",12,8)))),\"\")","v":202},{"$f":"IF(AP4=\"x\",INDEX(Qual!$C$8:$U$133,MATCH(AO4,Qual!$C$8:$C$133,0),IF(Tourn=\"Dbls\",16,IF(Tourn=\"2-Day\",11,IF(Tourn=\"MSC\",14,9)))),\"\")","v":268},{"$f":"IF(AP4=\"x\",INDEX(Qual!$C$8:$U$133,MATCH(AO4,Qual!$C$8:$C$133,0),IF(Tourn=\"Dbls\",17,IF(Tourn=\"2-Day\",12,IF(Tourn=\"MSC\",16,10)))),\"\")","v":225}]
[null,3,{"$f":"IF(Master!$B$1=\"Dbls\",IF(B5<='Check-In'!$R$136,B5,IF(AND(E4=E5,C4='Check-In'!$R$136),B5,\"\")),IF(Master!$B$1=\"2-Day\",IF(B5<='Check-In'!$T$136,B5,IF(AND(E4=E5,C4='Check-In'!$T$136),B5,\"\")),IF(B5<='Check-In'!$P$136,B5,IF(AND(E4=E5,C4='Check-In'!$P$136),B5,\"\"))))","v":3},{"$f":"IF(E5=\"\",\"\",IF(E4<>E5,INDEX($AI$2:$AM$127,MATCH(E5,$AK$2:$AK$127,0),1),INDEX(INDIRECT(\"ai\"&(2+MATCH(D4,$AI$2:$AI$127,0)&\":am127\")),MATCH(E5,INDIRECT(\"ak\"&(2+MATCH(D4,$AI$2:$AI$127,0)&\":ak127\")),0),1)))","v":"LANGER, DAVE"},248,208,{"$f":"IF(Master!$B$1=\"Dbls\",IF(B5<='Check-In'!$R$137,B5,IF(AND(I4=I5,G4='Check-In'!$R$137),B5,\"\")),IF(Master!$B$1=\"2-Day\",IF(B5<='Check-In'!$T$137,B5,IF(AND(I4=I5,G4='Check-In'!$T$137),B5,\"\")),IF(B5<='Check-In'!$P$137,B5,IF(AND(I4=I5,G4='Check-In'!$P$137),B5,\"\"))))","v":3},{"$f":"IF(I5=\"\",\"\",IF(I4<>I5,INDEX($D$2:$F$127,MATCH(I5,$F$2:$F$127,0),1),INDEX(INDIRECT(\"d\"&(2+MATCH(H4,$D$2:$D$127,0)&\":f127\")),MATCH(I5,INDIRECT(\"f\"&(2+MATCH(H4,$D$2:$D$127,0)&\":f127\")),0),1)))","v":"HAUGAN, ERIC"},247,180,{"$f":"IF(Master!$B$1=\"Dbls\",IF(B5<='Check-In'!$R$139,B5,IF(AND(I4=I5,G4='Check-In'!$R$139),B5,\"\")),IF(Master!$B$1=\"2-Day\",IF(B5<='Check-In'!$T$139,B5,IF(AND(I4=I5,G4='Check-In'!$T$139),B5,\"\")),IF(B5<='Check-In'!$P$139,B5,IF(AND(I4=I5,G4='Check-In'!$P$139),B5,\"\"))))","v":3},{"$f":"IF(M5=\"\",\"\",IF(M4<>M5,INDEX($H$2:$J$127,MATCH(M5,$J$2:$J$127,0),1),INDEX(INDIRECT(\"h\"&(2+MATCH(L4,$H$2:$H$127,0)&\":j127\")),MATCH(M5,INDIRECT(\"j\"&(2+MATCH(L4,$H$2:$H$127,0)&\":j127\")),0),1)))","v":"WRIGHT, DANA"},219,null,null,3,{"$f":"IF(Master!$B$1=\"Dbls\",IF(P5<='Check-In'!$S$136,P5,IF(AND(S4=S5,Q4='Check-In'!$S$136),P5,\"\")),IF(Master!$B$1=\"2-Day\",IF(P5<='Check-In'!$U$136,P5,IF(AND(S4=S5,Q4='Check-In'!$U$136),P5,\"\")),IF(P5<='Check-In'!$Q$136,P5,IF(AND(S4=S5,Q4='Check-In'!$Q$136),P5,\"\"))))","v":3},{"$f":"IF(S5=\"\",\"\",IF(S4<>S5,INDEX($AO$2:$AS$127,MATCH(S5,$AQ$2:$AQ$127,0),1),INDEX(INDIRECT(\"ao\"&(2+MATCH(R4,$AO$2:$AO$127,0)&\":as127\")),MATCH(S5,INDIRECT(\"aq\"&(2+MATCH(R4,$AO$2:$AO$127,0)&\":aq127\")),0),1)))","v":"MCKINNEY, TERRY"},248,236,{"$f":"IF(Master!$B$1=\"Dbls\",IF(B5<='Check-In'!$S$137,B5,IF(AND(I4=I5,G4='Check-In'!$S$137),B5,\"\")),IF(Master!$B$1=\"2-Day\",IF(B5<='Check-In'!$U$137,B5,IF(AND(I4=I5,G4='Check-In'!$U$137),B5,\"\")),IF(B5<='Check-In'!$Q$137,B5,IF(AND(I4=I5,G4='Check-In'!$Q$137),B5,\"\"))))","v":3},{"$f":"IF(W5=\"\",\"\",IF(W4<>W5,INDEX($R$2:$T$127,MATCH(W5,$T$2:$T$127,0),1),INDEX(INDIRECT(\"r\"&(2+MATCH(V4,$R$2:$R$127,0)&\":r127\")),MATCH(W5,INDIRECT(\"t\"&(2+MATCH(V4,$R$2:$R$127,0)&\":t127\")),0),1)))","v":"VANSLEET, TODD"},237,192,{"$f":"IF(Master!$B$1=\"Dbls\",IF(P5<='Check-In'!$R$139,P5,IF(AND(W4=W5,U4='Check-In'!$R$139),P5,\"\")),IF(Master!$B$1=\"2-Day\",IF(P5<='Check-In'!$T$139,P5,IF(AND(W4=W5,U4='Check-In'!$T$139),P5,\"\")),IF(P5<='Check-In'!$P$139,P5,IF(AND(W4=W5,U4='Check-In'!$P$139),P5,\"\"))))","v":3},{"$f":"IF(AA5=\"\",\"\",IF(AA4<>AA5,INDEX($V$2:$X$127,MATCH(AA5,$X$2:$X$127,0),1),INDEX(INDIRECT(\"v\"&(2+MATCH(Z4,$V$2:$V$127,0)&\":v127\")),MATCH(AA5,INDIRECT(\"x\"&(2+MATCH(Z4,$V$2:$V$127,0)&\":x127\")),0),1)))","v":"HOMMES, JOHN"},235,null,null,{"$f":"IF(Master!$B$1=\"Dbls\",\"Mini-Eliminator 4-5-6\",IF(Master!$B$1=\"2-Day\",\"Mini-Eliminator 3-4-5\",\"Mini-Eliminator 2-3-4\"))","v":"Mini-Eliminator 2-3-4"},{"$nulls":4},{"$f":"IF(AJ5=0,\"\",'Check-In'!$B10)","v":"NELSON, BILL"},{"$f":"IF(Tourn=\"2-Day\",'Check-In'!T10,IF(Tourn=\"Dbls\", 'Check-In'!R10,'Check-In'!P10))","v":"X"},{"$f":"IF(AJ5=\"x\",INDEX(Qual!$C$8:$U$133,MATCH(AI5,Qual!$C$8:$C$133,0),IF(Tourn=\"Dbls\",7,IF(Tourn=\"2-Day\",6,IF(Tourn=\"MSC\",6,5)))),\"\")","v":204},{"$f":"IF(AJ5=\"x\",INDEX(Qual!$C$8:$U$133,MATCH(AI5,Qual!$C$8:$C$133,0),IF(Tourn=\"Dbls\",8,IF(Tourn=\"2-Day\",7,IF(Tourn=\"MSC\",8,6)))),\"\")","v":187},{"$f":"IF(AJ5=\"x\",INDEX(Qual!$C$8:$U$133,MATCH(AI5,Qual!$C$8:$C$133,0),IF(Tourn=\"Dbls\",9,IF(Tourn=\"2-Day\",8,IF(Tourn=\"MSC\",10,7)))),\"\")","v":184},null,{"$f":"IF(AP5=0,\"\",'Check-In'!$B10)","v":"NELSON, BILL"},{"$f":"IF(Tourn=\"2-Day\",'Check-In'!U10,IF(Tourn=\"Dbls\", 'Check-In'!S10,'Check-In'!P10))","v":"X"},{"$f":"IF(AP5=\"x\",INDEX(Qual!$C$8:$U$133,MATCH(AO5,Qual!$C$8:$C$133,0),IF(Tourn=\"Dbls\",15,IF(Tourn=\"2-Day\",10,IF(Tourn=\"MSC\",12,8)))),\"\")","v":238},{"$f":"IF(AP5=\"x\",INDEX(Qual!$C$8:$U$133,MATCH(AO5,Qual!$C$8:$C$133,0),IF(Tourn=\"Dbls\",16,IF(Tourn=\"2-Day\",11,IF(Tourn=\"MSC\",14,9)))),\"\")","v":193},{"$f":"IF(AP5=\"x\",INDEX(Qual!$C$8:$U$133,MATCH(AO5,Qual!$C$8:$C$133,0),IF(Tourn=\"Dbls\",17,IF(Tourn=\"2-Day\",12,IF(Tourn=\"MSC\",16,10)))),\"\")","v":204}]
[null,4,{"$f":"IF(Master!$B$1=\"Dbls\",IF(B6<='Check-In'!$R$136,B6,IF(AND(E5=E6,C5='Check-In'!$R$136),B6,\"\")),IF(Master!$B$1=\"2-Day\",IF(B6<='Check-In'!$T$136,B6,IF(AND(E5=E6,C5='Check-In'!$T$136),B6,\"\")),IF(B6<='Check-In'!$P$136,B6,IF(AND(E5=E6,C5='Check-In'!$P$136),B6,\"\"))))","v":4},"RACETTE, TIM",240,175,{"$f":"IF(Master!$B$1=\"Dbls\",IF(B6<='Check-In'!$R$137,B6,IF(AND(I5=I6,G5='Check-In'!$R$137),B6,\"\")),IF(Master!$B$1=\"2-Day\",IF(B6<='Check-In'!$T$137,B6,IF(AND(I5=I6,G5='Check-In'!$T$137),B6,\"\")),IF(B6<='Check-In'!$P$137,B6,IF(AND(I5=I6,G5='Check-In'!$P$137),B6,\"\"))))","v":4},{"$f":"IF(I6=\"\",\"\",IF(I5<>I6,INDEX($D$2:$F$127,MATCH(I6,$F$2:$F$127,0),1),INDEX(INDIRECT(\"d\"&(2+MATCH(H5,$D$2:$D$127,0)&\":f127\")),MATCH(I6,INDIRECT(\"f\"&(2+MATCH(H5,$D$2:$D$127,0)&\":f127\")),0),1)))","v":"GOODWIN, CRAIG"},232,170,4,"WIRZ, MIKE",216,null,null,4,{"$f":"IF(Master!$B$1=\"Dbls\",IF(P6<='Check-In'!$S$136,P6,IF(AND(S5=S6,Q5='Check-In'!$S$136),P6,\"\")),IF(Master!$B$1=\"2-Day\",IF(P6<='Check-In'!$U$136,P6,IF(AND(S5=S6,Q5='Check-In'!$U$136),P6,\"\")),IF(P6<='Check-In'!$Q$136,P6,IF(AND(S5=S6,Q5='Check-In'!$Q$136),P6,\"\"))))","v":4},"NELSON, BILL",238,193,{"$f":"IF(Master!$B$1=\"Dbls\",IF(B6<='Check-In'!$S$137,B6,IF(AND(I5=I6,G5='Check-In'!$S$137),B6,\"\")),IF(Master!$B$1=\"2-Day\",IF(B6<='Check-In'!$U$137,B6,IF(AND(I5=I6,G5='Check-In'!$U$137),B6,\"\")),IF(B6<='Check-In'!$Q$137,B6,IF(AND(I5=I6,G5='Check-In'!$Q$137),B6,\"\"))))","v":4},"MCKINNEY, TERRY",236,225,{"$f":"IF(Master!$B$1=\"Dbls\",IF(P6<='Check-In'!$R$139,P6,IF(AND(W5=W6,U5='Check-In'!$R$139),P6,\"\")),IF(Master!$B$1=\"2-Day\",IF(P6<='Check-In'!$T$139,P6,IF(AND(W5=W6,U5='Check-In'!$T$139),P6,\"\")),IF(P6<='Check-In'!$P$139,P6,IF(AND(W5=W6,U5='Check-In'!$P$139),P6,\"\"))))","v":4},"MCKINNEY, TERRY",225,{"$nulls":3},"Bowler","Game","Amount",null,{"$f":"IF(AJ6=0,\"\",'Check-In'!$B11)","v":"SCHOSSOW, FRED"},{"$f":"IF(Tourn=\"2-Day\",'Check-In'!T11,IF(Tourn=\"Dbls\", 'Check-In'!R11,'Check-In'!P11))","v":"X"},{"$f":"IF(AJ6=\"x\",INDEX(Qual!$C$8:$U$133,MATCH(AI6,Qual!$C$8:$C$133,0),IF(Tourn=\"Dbls\",7,IF(Tourn=\"2-Day\",6,IF(Tourn=\"MSC\",6,5)))),\"\")","v":159},{"$f":"IF(AJ6=\"x\",INDEX(Qual!$C$8:$U$133,MATCH(AI6,Qual!$C$8:$C$133,0),IF(Tourn=\"Dbls\",8,IF(Tourn=\"2-Day\",7,IF(Tourn=\"MSC\",8,6)))),\"\")","v":190},{"$f":"IF(AJ6=\"x\",INDEX(Qual!$C$8:$U$133,MATCH(AI6,Qual!$C$8:$C$133,0),IF(Tourn=\"Dbls\",9,IF(Tourn=\"2-Day\",8,IF(Tourn=\"MSC\",10,7)))),\"\")","v":172},null,{"$f":"IF(AP6=0,\"\",'Check-In'!$B11)","v":"SCHOSSOW, FRED"},{"$f":"IF(Tourn=\"2-Day\",'Check-In'!U11,IF(Tourn=\"Dbls\", 'Check-In'!S11,'Check-In'!P11))","v":"X"},{"$f":"IF(AP6=\"x\",INDEX(Qual!$C$8:$U$133,MATCH(AO6,Qual!$C$8:$C$133,0),IF(Tourn=\"Dbls\",15,IF(Tourn=\"2-Day\",10,IF(Tourn=\"MSC\",12,8)))),\"\")","v":190},{"$f":"IF(AP6=\"x\",INDEX(Qual!$C$8:$U$133,MATCH(AO6,Qual!$C$8:$C$133,0),IF(Tourn=\"Dbls\",16,IF(Tourn=\"2-Day\",11,IF(Tourn=\"MSC\",14,9)))),\"\")","v":227},{"$f":"IF(AP6=\"x\",INDEX(Qual!$C$8:$U$133,MATCH(AO6,Qual!$C$8:$C$133,0),IF(Tourn=\"Dbls\",17,IF(Tourn=\"2-Day\",12,IF(Tourn=\"MSC\",16,10)))),\"\")","v":229}]
[null,5,{"$f":"IF(Master!$B$1=\"Dbls\",IF(B7<='Check-In'!$R$136,B7,IF(AND(E6=E7,C6='Check-In'!$R$136),B7,\"\")),IF(Master!$B$1=\"2-Day\",IF(B7<='Check-In'!$T$136,B7,IF(AND(E6=E7,C6='Check-In'!$T$136),B7,\"\")),IF(B7<='Check-In'!$P$136,B7,IF(AND(E6=E7,C6='Check-In'!$P$136),B7,\"\"))))","v":5},"HOMMES, JOHN",237,247,{"$f":"IF(Master!$B$1=\"Dbls\",IF(B7<='Check-In'!$R$137,B7,IF(AND(I6=I7,G6='Check-In'!$R$137),B7,\"\")),IF(Master!$B$1=\"2-Day\",IF(B7<='Check-In'!$T$137,B7,IF(AND(I6=I7,G6='Check-In'!$T$137),B7,\"\")),IF(B7<='Check-In'!$P$137,B7,IF(AND(I6=I7,G6='Check-In'!$P$137),B7,\"\"))))","v":5},"GREEN, GARY",228,193,5,"JENSEN, WAYNE",202,null,null,5,{"$f":"IF(Master!$B$1=\"Dbls\",IF(P7<='Check-In'!$S$136,P7,IF(AND(S6=S7,Q6='Check-In'!$S$136),P7,\"\")),IF(Master!$B$1=\"2-Day\",IF(P7<='Check-In'!$U$136,P7,IF(AND(S6=S7,Q6='Check-In'!$U$136),P7,\"\")),IF(P7<='Check-In'!$Q$136,P7,IF(AND(S6=S7,Q6='Check-In'!$Q$136),P7,\"\"))))","v":5},"BOHN, STEVE",235,228,{"$f":"IF(Master!$B$1=\"Dbls\",IF(B7<='Check-In'!$S$137,B7,IF(AND(I6=I7,G6='Check-In'!$S$137),B7,\"\")),IF(Master!$B$1=\"2-Day\",IF(B7<='Check-In'!$U$137,B7,IF(AND(I6=I7,G6='Check-In'!$U$137),B7,\"\")),IF(B7<='Check-In'!$Q$137,B7,IF(AND(I6=I7,G6='Check-In'!$Q$137),B7,\"\"))))","v":5},"BOHN, STEVE",228,206,5,"DOWNER, ROB",217,null,null,1,{"$f":"L3","v":"LANGER, DAVE"},{"$f":"M3","v":255},{"$f":"IF(Tourn=\"Dbls\",'Check-In'!R145,IF(Tourn=\"2-Day\",'Check-In'!T145,'Check-In'!P145))","v":{"v":125,"d":"$125.00"}},null,{"$f":"IF(AJ7=0,\"\",'Check-In'!$B12)","v":"POELZER, CLARK"},{"$f":"IF(Tourn=\"2-Day\",'Check-In'!T12,IF(Tourn=\"Dbls\", 'Check-In'!R12,'Check-In'!P12))","v":"X"},{"$f":"IF(AJ7=\"x\",INDEX(Qual!$C$8:$U$133,MATCH(AI7,Qual!$C$8:$C$133,0),IF(Tourn=\"Dbls\",7,IF(Tourn=\"2-Day\",6,IF(Tourn=\"MSC\",6,5)))),\"\")","v":168},{"$f":"IF(AJ7=\"x\",INDEX(Qual!$C$8:$U$133,MATCH(AI7,Qual!$C$8:$C$133,0),IF(Tourn=\"Dbls\",8,IF(Tourn=\"2-Day\",7,IF(Tourn=\"MSC\",8,6)))),\"\")","v":215},{"$f":"IF(AJ7=\"x\",INDEX(Qual!$C$8:$U$133,MATCH(AI7,Qual!$C$8:$C$133,0),IF(Tourn=\"Dbls\",9,IF(Tourn=\"2-Day\",8,IF(Tourn=\"MSC\",10,7)))),\"\")","v":205},null,{"$f":"IF(AP7=0,\"\",'Check-In'!$B12)","v":"POELZER, CLARK"},{"$f":"IF(Tourn=\"2-Day\",'Check-In'!U12,IF(Tourn=\"Dbls\", 'Check-In'!S12,'Check-In'!P12))","v":"X"},{"$f":"IF(AP7=\"x\",INDEX(Qual!$C$8:$U$133,MATCH(AO7,Qual!$C$8:$C$133,0),IF(Tourn=\"Dbls\",15,IF(Tourn=\"2-Day\",10,IF(Tourn=\"MSC\",12,8)))),\"\")","v":194},{"$f":"IF(AP7=\"x\",INDEX(Qual!$C$8:$U$133,MATCH(AO7,Qual!$C$8:$C$133,0),IF(Tourn=\"Dbls\",16,IF(Tourn=\"2-Day\",11,IF(Tourn=\"MSC\",14,9)))),\"\")","v":212},{"$f":"IF(AP7=\"x\",INDEX(Qual!$C$8:$U$133,MATCH(AO7,Qual!$C$8:$C$133,0),IF(Tourn=\"Dbls\",17,IF(Tourn=\"2-Day\",12,IF(Tourn=\"MSC\",16,10)))),\"\")","v":201}]
[null,6,{"$f":"IF(Master!$B$1=\"Dbls\",IF(B8<='Check-In'!$R$136,B8,IF(AND(E7=E8,C7='Check-In'!$R$136),B8,\"\")),IF(Master!$B$1=\"2-Day\",IF(B8<='Check-In'!$T$136,B8,IF(AND(E7=E8,C7='Check-In'!$T$136),B8,\"\")),IF(B8<='Check-In'!$P$136,B8,IF(AND(E7=E8,C7='Check-In'!$P$136),B8,\"\"))))","v":6},"WIRZ, MIKE",226,215,{"$f":"IF(Master!$B$1=\"Dbls\",IF(B8<='Check-In'!$R$137,B8,IF(AND(I7=I8,G7='Check-In'!$R$137),B8,\"\")),IF(Master!$B$1=\"2-Day\",IF(B8<='Check-In'!$T$137,B8,IF(AND(I7=I8,G7='Check-In'!$T$137),B8,\"\")),IF(B8<='Check-In'!$P$137,B8,IF(AND(I7=I8,G7='Check-In'!$P$137),B8,\"\"))))","v":6},"WRIGHT, DANA",215,219,6,"HOMMES, JOHN",198,null,null,6,{"$f":"IF(Master!$B$1=\"Dbls\",IF(P8<='Check-In'!$S$136,P8,IF(AND(S7=S8,Q7='Check-In'!$S$136),P8,\"\")),IF(Master!$B$1=\"2-Day\",IF(P8<='Check-In'!$U$136,P8,IF(AND(S7=S8,Q7='Check-In'!$U$136),P8,\"\")),IF(P8<='Check-In'!$Q$136,P8,IF(AND(S7=S8,Q7='Check-In'!$Q$136),P8,\"\"))))","v":6},"HANKE, KURT",228,257,{"$f":"IF(Master!$B$1=\"Dbls\",IF(B8<='Check-In'!$S$137,B8,IF(AND(I7=I8,G7='Check-In'!$S$137),B8,\"\")),IF(Master!$B$1=\"2-Day\",IF(B8<='Check-In'!$U$137,B8,IF(AND(I7=I8,G7='Check-In'!$U$137),B8,\"\")),IF(B8<='Check-In'!$Q$137,B8,IF(AND(I7=I8,G7='Check-In'!$Q$137),B8,\"\"))))","v":6},"BORDSON, DAVE",226,238,6,"OULMAN, DAVE",215,null,null,2,{"$f":"L4","v":"DOWNER, ROB"},{"$f":"M4","v":236},{"$f":"IF(Tourn=\"Dbls\",'Check-In'!R146,IF(Tourn=\"2-Day\",'Check-In'!T146,'Check-In'!P146))","v":{"v":90,"d":"$90.00"}},null,{"$f":"IF(AJ8=0,\"\",'Check-In'!$B13)","v":""},{"$f":"IF(Tourn=\"2-Day\",'Check-In'!T13,IF(Tourn=\"Dbls\", 'Check-In'!R13,'Check-In'!P13))","v":0},{"$f":"IF(AJ8=\"x\",INDEX(Qual!$C$8:$U$133,MATCH(AI8,Qual!$C$8:$C$133,0),IF(Tourn=\"Dbls\",7,IF(Tourn=\"2-Day\",6,IF(Tourn=\"MSC\",6,5)))),\"\")","v":""},{"$f":"IF(AJ8=\"x\",INDEX(Qual!$C$8:$U$133,MATCH(AI8,Qual!$C$8:$C$133,0),IF(Tourn=\"Dbls\",8,IF(Tourn=\"2-Day\",7,IF(Tourn=\"MSC\",8,6)))),\"\")","v":""},{"$f":"IF(AJ8=\"x\",INDEX(Qual!$C$8:$U$133,MATCH(AI8,Qual!$C$8:$C$133,0),IF(Tourn=\"Dbls\",9,IF(Tourn=\"2-Day\",8,IF(Tourn=\"MSC\",10,7)))),\"\")","v":""},null,{"$f":"IF(AP8=0,\"\",'Check-In'!$B13)","v":""},{"$f":"IF(Tourn=\"2-Day\",'Check-In'!U13,IF(Tourn=\"Dbls\", 'Check-In'!S13,'Check-In'!P13))","v":0},{"$f":"IF(AP8=\"x\",INDEX(Qual!$C$8:$U$133,MATCH(AO8,Qual!$C$8:$C$133,0),IF(Tourn=\"Dbls\",15,IF(Tourn=\"2-Day\",10,IF(Tourn=\"MSC\",12,8)))),\"\")","v":""},{"$f":"IF(AP8=\"x\",INDEX(Qual!$C$8:$U$133,MATCH(AO8,Qual!$C$8:$C$133,0),IF(Tourn=\"Dbls\",16,IF(Tourn=\"2-Day\",11,IF(Tourn=\"MSC\",14,9)))),\"\")","v":""},{"$f":"IF(AP8=\"x\",INDEX(Qual!$C$8:$U$133,MATCH(AO8,Qual!$C$8:$C$133,0),IF(Tourn=\"Dbls\",17,IF(Tourn=\"2-Day\",12,IF(Tourn=\"MSC\",16,10)))),\"\")","v":""}]
[null,7,{"$f":"IF(Master!$B$1=\"Dbls\",IF(B9<='Check-In'!$R$136,B9,IF(AND(E8=E9,C8='Check-In'!$R$136),B9,\"\")),IF(Master!$B$1=\"2-Day\",IF(B9<='Check-In'!$T$136,B9,IF(AND(E8=E9,C8='Check-In'!$T$136),B9,\"\")),IF(B9<='Check-In'!$P$136,B9,IF(AND(E8=E9,C8='Check-In'!$P$136),B9,\"\"))))","v":7},"IRVIN, BRAD",223,187,{"$f":"IF(Master!$B$1=\"Dbls\",IF(B9<='Check-In'!$R$137,B9,IF(AND(I8=I9,G8='Check-In'!$R$137),B9,\"\")),IF(Master!$B$1=\"2-Day\",IF(B9<='Check-In'!$T$137,B9,IF(AND(I8=I9,G8='Check-In'!$T$137),B9,\"\")),IF(B9<='Check-In'!$P$137,B9,IF(AND(I8=I9,G8='Check-In'!$P$137),B9,\"\"))))","v":7},"WIRZ, MIKE",215,216,{"$f":"IF(Master!$B$1=\"Dbls\",IF(B9<='Check-In'!$R$139,B9,IF(AND(I8=I9,G8='Check-In'!$R$139),B9,\"\")),IF(Master!$B$1=\"2-Day\",IF(B9<='Check-In'!$T$139,B9,IF(AND(I8=I9,G8='Check-In'!$T$139),B9,\"\")),IF(B9<='Check-In'!$P$139,B9,IF(AND(I8=I9,G8='Check-In'!$P$139),B9,\"\"))))","v":""},"","",null,null,7,{"$f":"IF(Master!$B$1=\"Dbls\",IF(P9<='Check-In'!$S$136,P9,IF(AND(S8=S9,Q8='Check-In'!$S$136),P9,\"\")),IF(Master!$B$1=\"2-Day\",IF(P9<='Check-In'!$U$136,P9,IF(AND(S8=S9,Q8='Check-In'!$U$136),P9,\"\")),IF(P9<='Check-In'!$Q$136,P9,IF(AND(S8=S9,Q8='Check-In'!$Q$136),P9,\"\"))))","v":7},"WRIGHT, DANA",226,194,7,"OULMAN, DAVE",213,215,{"$f":"IF(Master!$B$1=\"Dbls\",IF(P9<='Check-In'!$R$139,P9,IF(AND(W8=W9,U8='Check-In'!$R$139),P9,\"\")),IF(Master!$B$1=\"2-Day\",IF(P9<='Check-In'!$T$139,P9,IF(AND(W8=W9,U8='Check-In'!$T$139),P9,\"\")),IF(P9<='Check-In'!$P$139,P9,IF(AND(W8=W9,U8='Check-In'!$P$139),P9,\"\"))))","v":""},"","",null,null,{"$f":"IF(AG9=\"\",\"\",3)","v":3},{"$f":"IF(AG9=\"\",\"\",L5)","v":"WRIGHT, DANA"},{"$f":"IF(AG9=\"\",\"\",M5)","v":219},{"v":35,"d":"$35.00"},null,{"$f":"IF(AJ9=0,\"\",'Check-In'!$B14)","v":"MCKINNEY, TERRY"},{"$f":"IF(Tourn=\"2-Day\",'Check-In'!T14,IF(Tourn=\"Dbls\", 'Check-In'!R14,'Check-In'!P14))","v":"X"},{"$f":"IF(AJ9=\"x\",INDEX(Qual!$C$8:$U$133,MATCH(AI9,Qual!$C$8:$C$133,0),IF(Tourn=\"Dbls\",7,IF(Tourn=\"2-Day\",6,IF(Tourn=\"MSC\",6,5)))),\"\")","v":222},{"$f":"IF(AJ9=\"x\",INDEX(Qual!$C$8:$U$133,MATCH(AI9,Qual!$C$8:$C$133,0),IF(Tourn=\"Dbls\",8,IF(Tourn=\"2-Day\",7,IF(Tourn=\"MSC\",8,6)))),\"\")","v":201},{"$f":"IF(AJ9=\"x\",INDEX(Qual!$C$8:$U$133,MATCH(AI9,Qual!$C$8:$C$133,0),IF(Tourn=\"Dbls\",9,IF(Tourn=\"2-Day\",8,IF(Tourn=\"MSC\",10,7)))),\"\")","v":248},null,{"$f":"IF(AP9=0,\"\",'Check-In'!$B14)","v":"MCKINNEY, TERRY"},{"$f":"IF(Tourn=\"2-Day\",'Check-In'!U14,IF(Tourn=\"Dbls\", 'Check-In'!S14,'Check-In'!P14))","v":"X"},{"$f":"IF(AP9=\"x\",INDEX(Qual!$C$8:$U$133,MATCH(AO9,Qual!$C$8:$C$133,0),IF(Tourn=\"Dbls\",15,IF(Tourn=\"2-Day\",10,IF(Tourn=\"MSC\",12,8)))),\"\")","v":248},{"$f":"IF(AP9=\"x\",INDEX(Qual!$C$8:$U$133,MATCH(AO9,Qual!$C$8:$C$133,0),IF(Tourn=\"Dbls\",16,IF(Tourn=\"2-Day\",11,IF(Tourn=\"MSC\",14,9)))),\"\")","v":236},{"$f":"IF(AP9=\"x\",INDEX(Qual!$C$8:$U$133,MATCH(AO9,Qual!$C$8:$C$133,0),IF(Tourn=\"Dbls\",17,IF(Tourn=\"2-Day\",12,IF(Tourn=\"MSC\",16,10)))),\"\")","v":225}]
[null,8,{"$f":"IF(Master!$B$1=\"Dbls\",IF(B10<='Check-In'!$R$136,B10,IF(AND(E9=E10,C9='Check-In'!$R$136),B10,\"\")),IF(Master!$B$1=\"2-Day\",IF(B10<='Check-In'!$T$136,B10,IF(AND(E9=E10,C9='Check-In'!$T$136),B10,\"\")),IF(B10<='Check-In'!$P$136,B10,IF(AND(E9=E10,C9='Check-In'!$P$136),B10,\"\"))))","v":8},"BRUINSMA, DEAN",223,189,{"$f":"IF(Master!$B$1=\"Dbls\",IF(B10<='Check-In'!$R$137,B10,IF(AND(I9=I10,G9='Check-In'!$R$137),B10,\"\")),IF(Master!$B$1=\"2-Day\",IF(B10<='Check-In'!$T$137,B10,IF(AND(I9=I10,G9='Check-In'!$T$137),B10,\"\")),IF(B10<='Check-In'!$P$137,B10,IF(AND(I9=I10,G9='Check-In'!$P$137),B10,\"\"))))","v":8},"LANGER, DAVE",208,255,{"$f":"IF(Master!$B$1=\"Dbls\",IF(B10<='Check-In'!$R$139,B10,IF(AND(I9=I10,G9='Check-In'!$R$139),B10,\"\")),IF(Master!$B$1=\"2-Day\",IF(B10<='Check-In'!$T$139,B10,IF(AND(I9=I10,G9='Check-In'!$T$139),B10,\"\")),IF(B10<='Check-In'!$P$139,B10,IF(AND(I9=I10,G9='Check-In'!$P$139),B10,\"\"))))","v":""},"","",null,null,8,{"$f":"IF(Master!$B$1=\"Dbls\",IF(P10<='Check-In'!$S$136,P10,IF(AND(S9=S10,Q9='Check-In'!$S$136),P10,\"\")),IF(Master!$B$1=\"2-Day\",IF(P10<='Check-In'!$U$136,P10,IF(AND(S9=S10,Q9='Check-In'!$U$136),P10,\"\")),IF(P10<='Check-In'!$Q$136,P10,IF(AND(S9=S10,Q9='Check-In'!$Q$136),P10,\"\"))))","v":8},"LANGER, DAVE",226,268,8,"JENSEN, WAYNE",213,238,{"$f":"IF(Master!$B$1=\"Dbls\",IF(P10<='Check-In'!$R$139,P10,IF(AND(W9=W10,U9='Check-In'!$R$139),P10,\"\")),IF(Master!$B$1=\"2-Day\",IF(P10<='Check-In'!$T$139,P10,IF(AND(W9=W10,U9='Check-In'!$T$139),P10,\"\")),IF(P10<='Check-In'!$P$139,P10,IF(AND(W9=W10,U9='Check-In'!$P$139),P10,\"\"))))","v":""},"","",null,null,{"$f":"IF(AG10=\"\",\"\",4)","v":4},{"$f":"IF(AG10=\"\",\"\",L6)","v":"WIRZ, MIKE"},{"$f":"IF(AG10=\"\",\"\",M6)","v":216},{"v":35,"d":"$35.00"},null,{"$f":"IF(AJ10=0,\"\",'Check-In'!$B15)","v":""},{"$f":"IF(Tourn=\"2-Day\",'Check-In'!T15,IF(Tourn=\"Dbls\", 'Check-In'!R15,'Check-In'!P15))","v":0},{"$f":"IF(AJ10=\"x\",INDEX(Qual!$C$8:$U$133,MATCH(AI10,Qual!$C$8:$C$133,0),IF(Tourn=\"Dbls\",7,IF(Tourn=\"2-Day\",6,IF(Tourn=\"MSC\",6,5)))),\"\")","v":""},{"$f":"IF(AJ10=\"x\",INDEX(Qual!$C$8:$U$133,MATCH(AI10,Qual!$C$8:$C$133,0),IF(Tourn=\"Dbls\",8,IF(Tourn=\"2-Day\",7,IF(Tourn=\"MSC\",8,6)))),\"\")","v":""},{"$f":"IF(AJ10=\"x\",INDEX(Qual!$C$8:$U$133,MATCH(AI10,Qual!$C$8:$C$133,0),IF(Tourn=\"Dbls\",9,IF(Tourn=\"2-Day\",8,IF(Tourn=\"MSC\",10,7)))),\"\")","v":""},null,{"$f":"IF(AP10=0,\"\",'Check-In'!$B15)","v":""},{"$f":"IF(Tourn=\"2-Day\",'Check-In'!U15,IF(Tourn=\"Dbls\", 'Check-In'!S15,'Check-In'!P15))","v":0},{"$f":"IF(AP10=\"x\",INDEX(Qual!$C$8:$U$133,MATCH(AO10,Qual!$C$8:$C$133,0),IF(Tourn=\"Dbls\",15,IF(Tourn=\"2-Day\",10,IF(Tourn=\"MSC\",12,8)))),\"\")","v":""},{"$f":"IF(AP10=\"x\",INDEX(Qual!$C$8:$U$133,MATCH(AO10,Qual!$C$8:$C$133,0),IF(Tourn=\"Dbls\",16,IF(Tourn=\"2-Day\",11,IF(Tourn=\"MSC\",14,9)))),\"\")","v":""},{"$f":"IF(AP10=\"x\",INDEX(Qual!$C$8:$U$133,MATCH(AO10,Qual!$C$8:$C$133,0),IF(Tourn=\"Dbls\",17,IF(Tourn=\"2-Day\",12,IF(Tourn=\"MSC\",16,10)))),\"\")","v":""}]
[null,9,{"$f":"IF(Master!$B$1=\"Dbls\",IF(B11<='Check-In'!$R$136,B11,IF(AND(E10=E11,C10='Check-In'!$R$136),B11,\"\")),IF(Master!$B$1=\"2-Day\",IF(B11<='Check-In'!$T$136,B11,IF(AND(E10=E11,C10='Check-In'!$T$136),B11,\"\")),IF(B11<='Check-In'!$P$136,B11,IF(AND(E10=E11,C10='Check-In'!$P$136),B11,\"\"))))","v":9},"MCKINNEY, TERRY",222,201,{"$f":"IF(Master!$B$1=\"Dbls\",IF(B11<='Check-In'!$R$137,B11,IF(AND(I10=I11,G10='Check-In'!$R$137),B11,\"\")),IF(Master!$B$1=\"2-Day\",IF(B11<='Check-In'!$T$137,B11,IF(AND(I10=I11,G10='Check-In'!$T$137),B11,\"\")),IF(B11<='Check-In'!$P$137,B11,IF(AND(I10=I11,G10='Check-In'!$P$137),B11,\"\"))))","v":9},"JENSEN, WAYNE",207,202,{"$f":"IF(Master!$B$1=\"Dbls\",IF(B11<='Check-In'!$R$139,B11,IF(AND(I10=I11,G10='Check-In'!$R$139),B11,\"\")),IF(Master!$B$1=\"2-Day\",IF(B11<='Check-In'!$T$139,B11,IF(AND(I10=I11,G10='Check-In'!$T$139),B11,\"\")),IF(B11<='Check-In'!$P$139,B11,IF(AND(I10=I11,G10='Check-In'!$P$139),B11,\"\"))))","v":""},"",{"$f":"IF(K11=\"\",\"\",LARGE($J$2:$J$133,B11))","v":""},null,null,9,{"$f":"IF(Master!$B$1=\"Dbls\",IF(P11<='Check-In'!$S$136,P11,IF(AND(S10=S11,Q10='Check-In'!$S$136),P11,\"\")),IF(Master!$B$1=\"2-Day\",IF(P11<='Check-In'!$U$136,P11,IF(AND(S10=S11,Q10='Check-In'!$U$136),P11,\"\")),IF(P11<='Check-In'!$Q$136,P11,IF(AND(S10=S11,Q10='Check-In'!$Q$136),P11,\"\"))))","v":9},"VANSLEET, TODD",225,237,9,"SAVOY, TODD",209,215,{"$f":"IF(Master!$B$1=\"Dbls\",IF(P11<='Check-In'!$R$139,P11,IF(AND(W10=W11,U10='Check-In'!$R$139),P11,\"\")),IF(Master!$B$1=\"2-Day\",IF(P11<='Check-In'!$T$139,P11,IF(AND(W10=W11,U10='Check-In'!$T$139),P11,\"\")),IF(P11<='Check-In'!$P$139,P11,IF(AND(W10=W11,U10='Check-In'!$P$139),P11,\"\"))))","v":""},"","",{"$nulls":5},{"$f":"IF(Tourn=\"Dbls\",'Check-In'!R149,IF(Tourn=\"2-Day\",'Check-In'!T149,'Check-In'!P149))","v":{"v":20,"d":"$20.00"}},null,{"$f":"IF(AJ11=0,\"\",'Check-In'!$B16)","v":"WRIGHT, DANA"},{"$f":"IF(Tourn=\"2-Day\",'Check-In'!T16,IF(Tourn=\"Dbls\", 'Check-In'!R16,'Check-In'!P16))","v":"X"},{"$f":"IF(AJ11=\"x\",INDEX(Qual!$C$8:$U$133,MATCH(AI11,Qual!$C$8:$C$133,0),IF(Tourn=\"Dbls\",7,IF(Tourn=\"2-Day\",6,IF(Tourn=\"MSC\",6,5)))),\"\")","v":269},{"$f":"IF(AJ11=\"x\",INDEX(Qual!$C$8:$U$133,MATCH(AI11,Qual!$C$8:$C$133,0),IF(Tourn=\"Dbls\",8,IF(Tourn=\"2-Day\",7,IF(Tourn=\"MSC\",8,6)))),\"\")","v":215},{"$f":"IF(AJ11=\"x\",INDEX(Qual!$C$8:$U$133,MATCH(AI11,Qual!$C$8:$C$133,0),IF(Tourn=\"Dbls\",9,IF(Tourn=\"2-Day\",8,IF(Tourn=\"MSC\",10,7)))),\"\")","v":219},null,{"$f":"IF(AP11=0,\"\",'Check-In'!$B16)","v":"WRIGHT, DANA"},{"$f":"IF(Tourn=\"2-Day\",'Check-In'!U16,IF(Tourn=\"Dbls\", 'Check-In'!S16,'Check-In'!P16))","v":"X"},{"$f":"IF(AP11=\"x\",INDEX(Qual!$C$8:$U$133,MATCH(AO11,Qual!$C$8:$C$133,0),IF(Tourn=\"Dbls\",15,IF(Tourn=\"2-Day\",10,IF(Tourn=\"MSC\",12,8)))),\"\")","v":226},{"$f":"IF(AP11=\"x\",INDEX(Qual!$C$8:$U$133,MATCH(AO11,Qual!$C$8:$C$133,0),IF(Tourn=\"Dbls\",16,IF(Tourn=\"2-Day\",11,IF(Tourn=\"MSC\",14,9)))),\"\")","v":194},{"$f":"IF(AP11=\"x\",INDEX(Qual!$C$8:$U$133,MATCH(AO11,Qual!$C$8:$C$133,0),IF(Tourn=\"Dbls\",17,IF(Tourn=\"2-Day\",12,IF(Tourn=\"MSC\",16,10)))),\"\")","v":172}]
[null,10,{"$f":"IF(Master!$B$1=\"Dbls\",IF(B12<='Check-In'!$R$136,B12,IF(AND(E11=E12,C11='Check-In'!$R$136),B12,\"\")),IF(Master!$B$1=\"2-Day\",IF(B12<='Check-In'!$T$136,B12,IF(AND(E11=E12,C11='Check-In'!$T$136),B12,\"\")),IF(B12<='Check-In'!$P$136,B12,IF(AND(E11=E12,C11='Check-In'!$P$136),B12,\"\"))))","v":10},"JENSEN, WAYNE",222,207,{"$f":"IF(Master!$B$1=\"Dbls\",IF(B12<='Check-In'!$R$137,B12,IF(AND(I11=I12,G11='Check-In'!$R$137),B12,\"\")),IF(Master!$B$1=\"2-Day\",IF(B12<='Check-In'!$T$137,B12,IF(AND(I11=I12,G11='Check-In'!$T$137),B12,\"\")),IF(B12<='Check-In'!$P$137,B12,IF(AND(I11=I12,G11='Check-In'!$P$137),B12,\"\"))))","v":10},"CORBETT, TOM",207,179,{"$f":"IF(Master!$B$1=\"Dbls\",IF(B12<='Check-In'!$R$139,B12,IF(AND(I11=I12,G11='Check-In'!$R$139),B12,\"\")),IF(Master!$B$1=\"2-Day\",IF(B12<='Check-In'!$T$139,B12,IF(AND(I11=I12,G11='Check-In'!$T$139),B12,\"\")),IF(B12<='Check-In'!$P$139,B12,IF(AND(I11=I12,G11='Check-In'!$P$139),B12,\"\"))))","v":""},"","",null,null,10,{"$f":"IF(Master!$B$1=\"Dbls\",IF(P12<='Check-In'!$S$136,P12,IF(AND(S11=S12,Q11='Check-In'!$S$136),P12,\"\")),IF(Master!$B$1=\"2-Day\",IF(P12<='Check-In'!$U$136,P12,IF(AND(S11=S12,Q11='Check-In'!$U$136),P12,\"\")),IF(P12<='Check-In'!$Q$136,P12,IF(AND(S11=S12,Q11='Check-In'!$Q$136),P12,\"\"))))","v":10},"SAVOY, TODD",224,209,10,"DOWNER, ROB",208,217,{"$f":"IF(Master!$B$1=\"Dbls\",IF(P12<='Check-In'!$R$139,P12,IF(AND(W11=W12,U11='Check-In'!$R$139),P12,\"\")),IF(Master!$B$1=\"2-Day\",IF(P12<='Check-In'!$T$139,P12,IF(AND(W11=W12,U11='Check-In'!$T$139),P12,\"\")),IF(P12<='Check-In'!$P$139,P12,IF(AND(W11=W12,U11='Check-In'!$P$139),P12,\"\"))))","v":""},"","",{"$nulls":5},{"$f":"IF(Tourn=\"Dbls\",'Check-In'!R150,IF(Tourn=\"2-Day\",'Check-In'!T150,'Check-In'!P150))","v":0},null,{"$f":"IF(AJ12=0,\"\",'Check-In'!$B17)","v":"DAVIS, BOB"},{"$f":"IF(Tourn=\"2-Day\",'Check-In'!T17,IF(Tourn=\"Dbls\", 'Check-In'!R17,'Check-In'!P17))","v":"X"},{"$f":"IF(AJ12=\"x\",INDEX(Qual!$C$8:$U$133,MATCH(AI12,Qual!$C$8:$C$133,0),IF(Tourn=\"Dbls\",7,IF(Tourn=\"2-Day\",6,IF(Tourn=\"MSC\",6,5)))),\"\")","v":148},{"$f":"IF(AJ12=\"x\",INDEX(Qual!$C$8:$U$133,MATCH(AI12,Qual!$C$8:$C$133,0),IF(Tourn=\"Dbls\",8,IF(Tourn=\"2-Day\",7,IF(Tourn=\"MSC\",8,6)))),\"\")","v":178},{"$f":"IF(AJ12=\"x\",INDEX(Qual!$C$8:$U$133,MATCH(AI12,Qual!$C$8:$C$133,0),IF(Tourn=\"Dbls\",9,IF(Tourn=\"2-Day\",8,IF(Tourn=\"MSC\",10,7)))),\"\")","v":157},null,{"$f":"IF(AP12=0,\"\",'Check-In'!$B17)","v":"DAVIS, BOB"},{"$f":"IF(Tourn=\"2-Day\",'Check-In'!U17,IF(Tourn=\"Dbls\", 'Check-In'!S17,'Check-In'!P17))","v":"X"},{"$f":"IF(AP12=\"x\",INDEX(Qual!$C$8:$U$133,MATCH(AO12,Qual!$C$8:$C$133,0),IF(Tourn=\"Dbls\",15,IF(Tourn=\"2-Day\",10,IF(Tourn=\"MSC\",12,8)))),\"\")","v":217},{"$f":"IF(AP12=\"x\",INDEX(Qual!$C$8:$U$133,MATCH(AO12,Qual!$C$8:$C$133,0),IF(Tourn=\"Dbls\",16,IF(Tourn=\"2-Day\",11,IF(Tourn=\"MSC\",14,9)))),\"\")","v":190},{"$f":"IF(AP12=\"x\",INDEX(Qual!$C$8:$U$133,MATCH(AO12,Qual!$C$8:$C$133,0),IF(Tourn=\"Dbls\",17,IF(Tourn=\"2-Day\",12,IF(Tourn=\"MSC\",16,10)))),\"\")","v":157}]
[null,11,{"$f":"IF(Master!$B$1=\"Dbls\",IF(B13<='Check-In'!$R$136,B13,IF(AND(E12=E13,C12='Check-In'!$R$136),B13,\"\")),IF(Master!$B$1=\"2-Day\",IF(B13<='Check-In'!$T$136,B13,IF(AND(E12=E13,C12='Check-In'!$T$136),B13,\"\")),IF(B13<='Check-In'!$P$136,B13,IF(AND(E12=E13,C12='Check-In'!$P$136),B13,\"\"))))","v":11},"GOODWIN, CRAIG",222,232,{"$f":"IF(Master!$B$1=\"Dbls\",IF(B13<='Check-In'!$R$137,B13,IF(AND(I12=I13,G12='Check-In'!$R$137),B13,\"\")),IF(Master!$B$1=\"2-Day\",IF(B13<='Check-In'!$T$137,B13,IF(AND(I12=I13,G12='Check-In'!$T$137),B13,\"\")),IF(B13<='Check-In'!$P$137,B13,IF(AND(I12=I13,G12='Check-In'!$P$137),B13,\"\"))))","v":""},"VANSLEET, TODD",204,"",{"$f":"IF(Master!$B$1=\"Dbls\",IF(B13<='Check-In'!$R$139,B13,IF(AND(I12=I13,G12='Check-In'!$R$139),B13,\"\")),IF(Master!$B$1=\"2-Day\",IF(B13<='Check-In'!$T$139,B13,IF(AND(I12=I13,G12='Check-In'!$T$139),B13,\"\")),IF(B13<='Check-In'!$P$139,B13,IF(AND(I12=I13,G12='Check-In'!$P$139),B13,\"\"))))","v":""},"","",null,null,11,{"$f":"IF(Master!$B$1=\"Dbls\",IF(P13<='Check-In'!$S$136,P13,IF(AND(S12=S13,Q12='Check-In'!$S$136),P13,\"\")),IF(Master!$B$1=\"2-Day\",IF(P13<='Check-In'!$U$136,P13,IF(AND(S12=S13,Q12='Check-In'!$U$136),P13,\"\")),IF(P13<='Check-In'!$Q$136,P13,IF(AND(S12=S13,Q12='Check-In'!$Q$136),P13,\"\"))))","v":11},"IRVIN, BRAD",223,190,11,"HOMMES, JOHN",196,235,{"$f":"IF(Master!$B$1=\"Dbls\",IF(P13<='Check-In'!$R$139,P13,IF(AND(W12=W13,U12='Check-In'!$R$139),P13,\"\")),IF(Master!$B$1=\"2-Day\",IF(P13<='Check-In'!$T$139,P13,IF(AND(W12=W13,U12='Check-In'!$T$139),P13,\"\")),IF(P13<='Check-In'!$P$139,P13,IF(AND(W12=W13,U12='Check-In'!$P$139),P13,\"\"))))","v":""},"","",{"$nulls":3},{"$f":"IF(AG13=\"\",\"\",L9)","v":""},{"$f":"IF(AG13=\"\",\"\",M9)","v":""},{"$f":"IF(Tourn=\"Dbls\",'Check-In'!R151,IF(Tourn=\"2-Day\",'Check-In'!T151,'Check-In'!P151))","v":0},null,{"$f":"IF(AJ13=0,\"\",'Check-In'!$B18)","v":""},{"$f":"IF(Tourn=\"2-Day\",'Check-In'!T18,IF(Tourn=\"Dbls\", 'Check-In'!R18,'Check-In'!P18))","v":0},{"$f":"IF(AJ13=\"x\",INDEX(Qual!$C$8:$U$133,MATCH(AI13,Qual!$C$8:$C$133,0),IF(Tourn=\"Dbls\",7,IF(Tourn=\"2-Day\",6,IF(Tourn=\"MSC\",6,5)))),\"\")","v":""},{"$f":"IF(AJ13=\"x\",INDEX(Qual!$C$8:$U$133,MATCH(AI13,Qual!$C$8:$C$133,0),IF(Tourn=\"Dbls\",8,IF(Tourn=\"2-Day\",7,IF(Tourn=\"MSC\",8,6)))),\"\")","v":""},{"$f":"IF(AJ13=\"x\",INDEX(Qual!$C$8:$U$133,MATCH(AI13,Qual!$C$8:$C$133,0),IF(Tourn=\"Dbls\",9,IF(Tourn=\"2-Day\",8,IF(Tourn=\"MSC\",10,7)))),\"\")","v":""},null,{"$f":"IF(AP13=0,\"\",'Check-In'!$B18)","v":""},{"$f":"IF(Tourn=\"2-Day\",'Check-In'!U18,IF(Tourn=\"Dbls\", 'Check-In'!S18,'Check-In'!P18))","v":0},{"$f":"IF(AP13=\"x\",INDEX(Qual!$C$8:$U$133,MATCH(AO13,Qual!$C$8:$C$133,0),IF(Tourn=\"Dbls\",15,IF(Tourn=\"2-Day\",10,IF(Tourn=\"MSC\",12,8)))),\"\")","v":""},{"$f":"IF(AP13=\"x\",INDEX(Qual!$C$8:$U$133,MATCH(AO13,Qual!$C$8:$C$133,0),IF(Tourn=\"Dbls\",16,IF(Tourn=\"2-Day\",11,IF(Tourn=\"MSC\",14,9)))),\"\")","v":""},{"$f":"IF(AP13=\"x\",INDEX(Qual!$C$8:$U$133,MATCH(AO13,Qual!$C$8:$C$133,0),IF(Tourn=\"Dbls\",17,IF(Tourn=\"2-Day\",12,IF(Tourn=\"MSC\",16,10)))),\"\")","v":""}]
[null,12,{"$f":"IF(Master!$B$1=\"Dbls\",IF(B14<='Check-In'!$R$136,B14,IF(AND(E13=E14,C13='Check-In'!$R$136),B14,\"\")),IF(Master!$B$1=\"2-Day\",IF(B14<='Check-In'!$T$136,B14,IF(AND(E13=E14,C13='Check-In'!$T$136),B14,\"\")),IF(B14<='Check-In'!$P$136,B14,IF(AND(E13=E14,C13='Check-In'!$P$136),B14,\"\"))))","v":12},"HAUGAN, ERIC",220,247,{"$f":"IF(Master!$B$1=\"Dbls\",IF(B14<='Check-In'!$R$137,B14,IF(AND(I13=I14,G13='Check-In'!$R$137),B14,\"\")),IF(Master!$B$1=\"2-Day\",IF(B14<='Check-In'!$T$137,B14,IF(AND(I13=I14,G13='Check-In'!$T$137),B14,\"\")),IF(B14<='Check-In'!$P$137,B14,IF(AND(I13=I14,G13='Check-In'!$P$137),B14,\"\"))))","v":""},"MCKINNEY, TERRY",201,"",{"$f":"IF(Master!$B$1=\"Dbls\",IF(B14<='Check-In'!$R$139,B14,IF(AND(I13=I14,G13='Check-In'!$R$139),B14,\"\")),IF(Master!$B$1=\"2-Day\",IF(B14<='Check-In'!$T$139,B14,IF(AND(I13=I14,G13='Check-In'!$T$139),B14,\"\")),IF(B14<='Check-In'!$P$139,B14,IF(AND(I13=I14,G13='Check-In'!$P$139),B14,\"\"))))","v":""},"","",null,null,12,12,"HAUGAN, ERIC",223,193,12,"WRIGHT, DANA",194,172,{"$f":"IF(Master!$B$1=\"Dbls\",IF(P14<='Check-In'!$R$139,P14,IF(AND(W13=W14,U13='Check-In'!$R$139),P14,\"\")),IF(Master!$B$1=\"2-Day\",IF(P14<='Check-In'!$T$139,P14,IF(AND(W13=W14,U13='Check-In'!$T$139),P14,\"\")),IF(P14<='Check-In'!$P$139,P14,IF(AND(W13=W14,U13='Check-In'!$P$139),P14,\"\"))))","v":""},"","",{"$nulls":3},{"$f":"IF(AG14=\"\",\"\",L10)","v":""},{"$f":"IF(AG14=\"\",\"\",M10)","v":""},{"$f":"IF(Tourn=\"Dbls\",'Check-In'!R152,IF(Tourn=\"2-Day\",'Check-In'!T152,'Check-In'!P152))","v":0},null,{"$f":"IF(AJ14=0,\"\",'Check-In'!$B19)","v":"VANSLEET, TODD"},{"$f":"IF(Tourn=\"2-Day\",'Check-In'!T19,IF(Tourn=\"Dbls\", 'Check-In'!R19,'Check-In'!P19))","v":"X"},{"$f":"IF(AJ14=\"x\",INDEX(Qual!$C$8:$U$133,MATCH(AI14,Qual!$C$8:$C$133,0),IF(Tourn=\"Dbls\",7,IF(Tourn=\"2-Day\",6,IF(Tourn=\"MSC\",6,5)))),\"\")","v":216},{"$f":"IF(AJ14=\"x\",INDEX(Qual!$C$8:$U$133,MATCH(AI14,Qual!$C$8:$C$133,0),IF(Tourn=\"Dbls\",8,IF(Tourn=\"2-Day\",7,IF(Tourn=\"MSC\",8,6)))),\"\")","v":204},{"$f":"IF(AJ14=\"x\",INDEX(Qual!$C$8:$U$133,MATCH(AI14,Qual!$C$8:$C$133,0),IF(Tourn=\"Dbls\",9,IF(Tourn=\"2-Day\",8,IF(Tourn=\"MSC\",10,7)))),\"\")","v":199},null,{"$f":"IF(AP14=0,\"\",'Check-In'!$B19)","v":"VANSLEET, TODD"},{"$f":"IF(Tourn=\"2-Day\",'Check-In'!U19,IF(Tourn=\"Dbls\", 'Check-In'!S19,'Check-In'!P19))","v":"X"},{"$f":"IF(AP14=\"x\",INDEX(Qual!$C$8:$U$133,MATCH(AO14,Qual!$C$8:$C$133,0),IF(Tourn=\"Dbls\",15,IF(Tourn=\"2-Day\",10,IF(Tourn=\"MSC\",12,8)))),\"\")","v":225},{"$f":"IF(AP14=\"x\",INDEX(Qual!$C$8:$U$133,MATCH(AO14,Qual!$C$8:$C$133,0),IF(Tourn=\"Dbls\",16,IF(Tourn=\"2-Day\",11,IF(Tourn=\"MSC\",14,9)))),\"\")","v":237},{"$f":"IF(AP14=\"x\",INDEX(Qual!$C$8:$U$133,MATCH(AO14,Qual!$C$8:$C$133,0),IF(Tourn=\"Dbls\",17,IF(Tourn=\"2-Day\",12,IF(Tourn=\"MSC\",16,10)))),\"\")","v":192}]
[null,13,{"$f":"IF(Master!$B$1=\"Dbls\",IF(B15<='Check-In'!$R$136,B15,IF(AND(E14=E15,C14='Check-In'!$R$136),B15,\"\")),IF(Master!$B$1=\"2-Day\",IF(B15<='Check-In'!$T$136,B15,IF(AND(E14=E15,C14='Check-In'!$T$136),B15,\"\")),IF(B15<='Check-In'!$P$136,B15,IF(AND(E14=E15,C14='Check-In'!$P$136),B15,\"\"))))","v":13},"VANSLEET, TODD",216,204,{"$f":"IF(Master!$B$1=\"Dbls\",IF(B15<='Check-In'!$R$137,B15,IF(AND(I14=I15,G14='Check-In'!$R$137),B15,\"\")),IF(Master!$B$1=\"2-Day\",IF(B15<='Check-In'!$T$137,B15,IF(AND(I14=I15,G14='Check-In'!$T$137),B15,\"\")),IF(B15<='Check-In'!$P$137,B15,IF(AND(I14=I15,G14='Check-In'!$P$137),B15,\"\"))))","v":""},"OULMAN, DAVE",193,"",{"$f":"IF(Master!$B$1=\"Dbls\",IF(B15<='Check-In'!$R$139,B15,IF(AND(I14=I15,G14='Check-In'!$R$139),B15,\"\")),IF(Master!$B$1=\"2-Day\",IF(B15<='Check-In'!$T$139,B15,IF(AND(I14=I15,G14='Check-In'!$T$139),B15,\"\")),IF(B15<='Check-In'!$P$139,B15,IF(AND(I14=I15,G14='Check-In'!$P$139),B15,\"\"))))","v":""},"","",null,null,13,{"$f":"IF(Master!$B$1=\"Dbls\",IF(P15<='Check-In'!$S$136,P15,IF(AND(S14=S15,Q14='Check-In'!$S$136),P15,\"\")),IF(Master!$B$1=\"2-Day\",IF(P15<='Check-In'!$U$136,P15,IF(AND(S14=S15,Q14='Check-In'!$U$136),P15,\"\")),IF(P15<='Check-In'!$Q$136,P15,IF(AND(S14=S15,Q14='Check-In'!$Q$136),P15,\"\"))))","v":13},"JENSEN, WAYNE",223,213,{"$f":"IF(Master!$B$1=\"Dbls\",IF(B15<='Check-In'!$S$137,B15,IF(AND(I14=I15,G14='Check-In'!$S$137),B15,\"\")),IF(Master!$B$1=\"2-Day\",IF(B15<='Check-In'!$U$137,B15,IF(AND(I14=I15,G14='Check-In'!$U$137),B15,\"\")),IF(B15<='Check-In'!$Q$137,B15,IF(AND(I14=I15,G14='Check-In'!$Q$137),B15,\"\"))))","v":""},"NELSON, BILL",193,"",{"$f":"IF(Master!$B$1=\"Dbls\",IF(P15<='Check-In'!$R$139,P15,IF(AND(W14=W15,U14='Check-In'!$R$139),P15,\"\")),IF(Master!$B$1=\"2-Day\",IF(P15<='Check-In'!$T$139,P15,IF(AND(W14=W15,U14='Check-In'!$T$139),P15,\"\")),IF(P15<='Check-In'!$P$139,P15,IF(AND(W14=W15,U14='Check-In'!$P$139),P15,\"\"))))","v":""},"","",{"$nulls":5},{"$f":"SUM(AG7:AG14)","v":{"v":305,"d":"$305.00"}},null,{"$f":"IF(AJ15=0,\"\",'Check-In'!$B20)","v":"JENSEN, ROBERT"},{"$f":"IF(Tourn=\"2-Day\",'Check-In'!T20,IF(Tourn=\"Dbls\", 'Check-In'!R20,'Check-In'!P20))","v":"X"},{"$f":"IF(AJ15=\"x\",INDEX(Qual!$C$8:$U$133,MATCH(AI15,Qual!$C$8:$C$133,0),IF(Tourn=\"Dbls\",7,IF(Tourn=\"2-Day\",6,IF(Tourn=\"MSC\",6,5)))),\"\")","v":170},{"$f":"IF(AJ15=\"x\",INDEX(Qual!$C$8:$U$133,MATCH(AI15,Qual!$C$8:$C$133,0),IF(Tourn=\"Dbls\",8,IF(Tourn=\"2-Day\",7,IF(Tourn=\"MSC\",8,6)))),\"\")","v":182},{"$f":"IF(AJ15=\"x\",INDEX(Qual!$C$8:$U$133,MATCH(AI15,Qual!$C$8:$C$133,0),IF(Tourn=\"Dbls\",9,IF(Tourn=\"2-Day\",8,IF(Tourn=\"MSC\",10,7)))),\"\")","v":213},null,{"$f":"IF(AP15=0,\"\",'Check-In'!$B20)","v":"JENSEN, ROBERT"},{"$f":"IF(Tourn=\"2-Day\",'Check-In'!U20,IF(Tourn=\"Dbls\", 'Check-In'!S20,'Check-In'!P20))","v":"X"},{"$f":"IF(AP15=\"x\",INDEX(Qual!$C$8:$U$133,MATCH(AO15,Qual!$C$8:$C$133,0),IF(Tourn=\"Dbls\",15,IF(Tourn=\"2-Day\",10,IF(Tourn=\"MSC\",12,8)))),\"\")","v":204},{"$f":"IF(AP15=\"x\",INDEX(Qual!$C$8:$U$133,MATCH(AO15,Qual!$C$8:$C$133,0),IF(Tourn=\"Dbls\",16,IF(Tourn=\"2-Day\",11,IF(Tourn=\"MSC\",14,9)))),\"\")","v":204},{"$f":"IF(AP15=\"x\",INDEX(Qual!$C$8:$U$133,MATCH(AO15,Qual!$C$8:$C$133,0),IF(Tourn=\"Dbls\",17,IF(Tourn=\"2-Day\",12,IF(Tourn=\"MSC\",16,10)))),\"\")","v":228}]
[null,14,{"$f":"IF(Master!$B$1=\"Dbls\",IF(B16<='Check-In'!$R$136,B16,IF(AND(E15=E16,C15='Check-In'!$R$136),B16,\"\")),IF(Master!$B$1=\"2-Day\",IF(B16<='Check-In'!$T$136,B16,IF(AND(E15=E16,C15='Check-In'!$T$136),B16,\"\")),IF(B16<='Check-In'!$P$136,B16,IF(AND(E15=E16,C15='Check-In'!$P$136),B16,\"\"))))","v":14},"BORDSON, DAVE",211,145,{"$f":"IF(Master!$B$1=\"Dbls\",IF(B16<='Check-In'!$R$137,B16,IF(AND(I15=I16,G15='Check-In'!$R$137),B16,\"\")),IF(Master!$B$1=\"2-Day\",IF(B16<='Check-In'!$T$137,B16,IF(AND(I15=I16,G15='Check-In'!$T$137),B16,\"\")),IF(B16<='Check-In'!$P$137,B16,IF(AND(I15=I16,G15='Check-In'!$P$137),B16,\"\"))))","v":""},"BRUINSMA, DEAN",189,"",{"$f":"IF(Master!$B$1=\"Dbls\",IF(B16<='Check-In'!$R$139,B16,IF(AND(I15=I16,G15='Check-In'!$R$139),B16,\"\")),IF(Master!$B$1=\"2-Day\",IF(B16<='Check-In'!$T$139,B16,IF(AND(I15=I16,G15='Check-In'!$T$139),B16,\"\")),IF(B16<='Check-In'!$P$139,B16,IF(AND(I15=I16,G15='Check-In'!$P$139),B16,\"\"))))","v":""},"","",null,null,14,{"$f":"IF(Master!$B$1=\"Dbls\",IF(P16<='Check-In'!$S$136,P16,IF(AND(S15=S16,Q15='Check-In'!$S$136),P16,\"\")),IF(Master!$B$1=\"2-Day\",IF(P16<='Check-In'!$U$136,P16,IF(AND(S15=S16,Q15='Check-In'!$U$136),P16,\"\")),IF(P16<='Check-In'!$Q$136,P16,IF(AND(S15=S16,Q15='Check-In'!$Q$136),P16,\"\"))))","v":14},"DAVIS, BOB",217,190,{"$f":"IF(Master!$B$1=\"Dbls\",IF(B16<='Check-In'!$S$137,B16,IF(AND(I15=I16,G15='Check-In'!$S$137),B16,\"\")),IF(Master!$B$1=\"2-Day\",IF(B16<='Check-In'!$U$137,B16,IF(AND(I15=I16,G15='Check-In'!$U$137),B16,\"\")),IF(B16<='Check-In'!$Q$137,B16,IF(AND(I15=I16,G15='Check-In'!$Q$137),B16,\"\"))))","v":""},"HAUGAN, ERIC",193,"",{"$f":"IF(Master!$B$1=\"Dbls\",IF(P16<='Check-In'!$R$139,P16,IF(AND(W15=W16,U15='Check-In'!$R$139),P16,\"\")),IF(Master!$B$1=\"2-Day\",IF(P16<='Check-In'!$T$139,P16,IF(AND(W15=W16,U15='Check-In'!$T$139),P16,\"\")),IF(P16<='Check-In'!$P$139,P16,IF(AND(W15=W16,U15='Check-In'!$P$139),P16,\"\"))))","v":""},"","",{"$nulls":7},{"$f":"IF(AJ16=0,\"\",'Check-In'!$B21)","v":""},{"$f":"IF(Tourn=\"2-Day\",'Check-In'!T21,IF(Tourn=\"Dbls\", 'Check-In'!R21,'Check-In'!P21))","v":0},{"$f":"IF(AJ16=\"x\",INDEX(Qual!$C$8:$U$133,MATCH(AI16,Qual!$C$8:$C$133,0),IF(Tourn=\"Dbls\",7,IF(Tourn=\"2-Day\",6,IF(Tourn=\"MSC\",6,5)))),\"\")","v":""},{"$f":"IF(AJ16=\"x\",INDEX(Qual!$C$8:$U$133,MATCH(AI16,Qual!$C$8:$C$133,0),IF(Tourn=\"Dbls\",8,IF(Tourn=\"2-Day\",7,IF(Tourn=\"MSC\",8,6)))),\"\")","v":""},{"$f":"IF(AJ16=\"x\",INDEX(Qual!$C$8:$U$133,MATCH(AI16,Qual!$C$8:$C$133,0),IF(Tourn=\"Dbls\",9,IF(Tourn=\"2-Day\",8,IF(Tourn=\"MSC\",10,7)))),\"\")","v":""},null,{"$f":"IF(AP16=0,\"\",'Check-In'!$B21)","v":""},{"$f":"IF(Tourn=\"2-Day\",'Check-In'!U21,IF(Tourn=\"Dbls\", 'Check-In'!S21,'Check-In'!P21))","v":0},{"$f":"IF(AP16=\"x\",INDEX(Qual!$C$8:$U$133,MATCH(AO16,Qual!$C$8:$C$133,0),IF(Tourn=\"Dbls\",15,IF(Tourn=\"2-Day\",10,IF(Tourn=\"MSC\",12,8)))),\"\")","v":""},{"$f":"IF(AP16=\"x\",INDEX(Qual!$C$8:$U$133,MATCH(AO16,Qual!$C$8:$C$133,0),IF(Tourn=\"Dbls\",16,IF(Tourn=\"2-Day\",11,IF(Tourn=\"MSC\",14,9)))),\"\")","v":""},{"$f":"IF(AP16=\"x\",INDEX(Qual!$C$8:$U$133,MATCH(AO16,Qual!$C$8:$C$133,0),IF(Tourn=\"Dbls\",17,IF(Tourn=\"2-Day\",12,IF(Tourn=\"MSC\",16,10)))),\"\")","v":""}]
[null,15,{"$f":"IF(Master!$B$1=\"Dbls\",IF(B17<='Check-In'!$R$136,B17,IF(AND(E16=E17,C16='Check-In'!$R$136),B17,\"\")),IF(Master!$B$1=\"2-Day\",IF(B17<='Check-In'!$T$136,B17,IF(AND(E16=E17,C16='Check-In'!$T$136),B17,\"\")),IF(B17<='Check-In'!$P$136,B17,IF(AND(E16=E17,C16='Check-In'!$P$136),B17,\"\"))))","v":15},"CORBETT, TOM",210,207,{"$f":"IF(Master!$B$1=\"Dbls\",IF(B17<='Check-In'!$R$137,B17,IF(AND(I16=I17,G16='Check-In'!$R$137),B17,\"\")),IF(Master!$B$1=\"2-Day\",IF(B17<='Check-In'!$T$137,B17,IF(AND(I16=I17,G16='Check-In'!$T$137),B17,\"\")),IF(B17<='Check-In'!$P$137,B17,IF(AND(I16=I17,G16='Check-In'!$P$137),B17,\"\"))))","v":""},"IRVIN, BRAD",187,"",{"$f":"IF(Master!$B$1=\"Dbls\",IF(B17<='Check-In'!$R$139,B17,IF(AND(I16=I17,G16='Check-In'!$R$139),B17,\"\")),IF(Master!$B$1=\"2-Day\",IF(B17<='Check-In'!$T$139,B17,IF(AND(I16=I17,G16='Check-In'!$T$139),B17,\"\")),IF(B17<='Check-In'!$P$139,B17,IF(AND(I16=I17,G16='Check-In'!$P$139),B17,\"\"))))","v":""},"","",null,null,15,{"$f":"IF(Master!$B$1=\"Dbls\",IF(P17<='Check-In'!$S$136,P17,IF(AND(S16=S17,Q16='Check-In'!$S$136),P17,\"\")),IF(Master!$B$1=\"2-Day\",IF(P17<='Check-In'!$U$136,P17,IF(AND(S16=S17,Q16='Check-In'!$U$136),P17,\"\")),IF(P17<='Check-In'!$Q$136,P17,IF(AND(S16=S17,Q16='Check-In'!$Q$136),P17,\"\"))))","v":15},"WIRZ, MIKE",216,190,{"$f":"IF(Master!$B$1=\"Dbls\",IF(B17<='Check-In'!$S$137,B17,IF(AND(I16=I17,G16='Check-In'!$S$137),B17,\"\")),IF(Master!$B$1=\"2-Day\",IF(B17<='Check-In'!$U$137,B17,IF(AND(I16=I17,G16='Check-In'!$U$137),B17,\"\")),IF(B17<='Check-In'!$Q$137,B17,IF(AND(I16=I17,G16='Check-In'!$Q$137),B17,\"\"))))","v":""},"IRVIN, BRAD",190,"",{"$f":"IF(Master!$B$1=\"Dbls\",IF(P17<='Check-In'!$R$139,P17,IF(AND(W16=W17,U16='Check-In'!$R$139),P17,\"\")),IF(Master!$B$1=\"2-Day\",IF(P17<='Check-In'!$T$139,P17,IF(AND(W16=W17,U16='Check-In'!$T$139),P17,\"\")),IF(P17<='Check-In'!$P$139,P17,IF(AND(W16=W17,U16='Check-In'!$P$139),P17,\"\"))))","v":""},"","",{"$nulls":7},{"$f":"IF(AJ17=0,\"\",'Check-In'!$B22)","v":"LANGER, DAVE"},{"$f":"IF(Tourn=\"2-Day\",'Check-In'!T22,IF(Tourn=\"Dbls\", 'Check-In'!R22,'Check-In'!P22))","v":"X"},{"$f":"IF(AJ17=\"x\",INDEX(Qual!$C$8:$U$133,MATCH(AI17,Qual!$C$8:$C$133,0),IF(Tourn=\"Dbls\",7,IF(Tourn=\"2-Day\",6,IF(Tourn=\"MSC\",6,5)))),\"\")","v":248},{"$f":"IF(AJ17=\"x\",INDEX(Qual!$C$8:$U$133,MATCH(AI17,Qual!$C$8:$C$133,0),IF(Tourn=\"Dbls\",8,IF(Tourn=\"2-Day\",7,IF(Tourn=\"MSC\",8,6)))),\"\")","v":208},{"$f":"IF(AJ17=\"x\",INDEX(Qual!$C$8:$U$133,MATCH(AI17,Qual!$C$8:$C$133,0),IF(Tourn=\"Dbls\",9,IF(Tourn=\"2-Day\",8,IF(Tourn=\"MSC\",10,7)))),\"\")","v":255},null,{"$f":"IF(AP17=0,\"\",'Check-In'!$B22)","v":"LANGER, DAVE"},{"$f":"IF(Tourn=\"2-Day\",'Check-In'!U22,IF(Tourn=\"Dbls\", 'Check-In'!S22,'Check-In'!P22))","v":"X"},{"$f":"IF(AP17=\"x\",INDEX(Qual!$C$8:$U$133,MATCH(AO17,Qual!$C$8:$C$133,0),IF(Tourn=\"Dbls\",15,IF(Tourn=\"2-Day\",10,IF(Tourn=\"MSC\",12,8)))),\"\")","v":226},{"$f":"IF(AP17=\"x\",INDEX(Qual!$C$8:$U$133,MATCH(AO17,Qual!$C$8:$C$133,0),IF(Tourn=\"Dbls\",16,IF(Tourn=\"2-Day\",11,IF(Tourn=\"MSC\",14,9)))),\"\")","v":268},{"$f":"IF(AP17=\"x\",INDEX(Qual!$C$8:$U$133,MATCH(AO17,Qual!$C$8:$C$133,0),IF(Tourn=\"Dbls\",17,IF(Tourn=\"2-Day\",12,IF(Tourn=\"MSC\",16,10)))),\"\")","v":200}]
[null,16,{"$f":"IF(Master!$B$1=\"Dbls\",IF(B18<='Check-In'!$R$136,B18,IF(AND(E17=E18,C17='Check-In'!$R$136),B18,\"\")),IF(Master!$B$1=\"2-Day\",IF(B18<='Check-In'!$T$136,B18,IF(AND(E17=E18,C17='Check-In'!$T$136),B18,\"\")),IF(B18<='Check-In'!$P$136,B18,IF(AND(E17=E18,C17='Check-In'!$P$136),B18,\"\"))))","v":16},"GREEN, GARY",205,228,{"$f":"IF(Master!$B$1=\"Dbls\",IF(B18<='Check-In'!$R$137,B18,IF(AND(I17=I18,G17='Check-In'!$R$137),B18,\"\")),IF(Master!$B$1=\"2-Day\",IF(B18<='Check-In'!$T$137,B18,IF(AND(I17=I18,G17='Check-In'!$T$137),B18,\"\")),IF(B18<='Check-In'!$P$137,B18,IF(AND(I17=I18,G17='Check-In'!$P$137),B18,\"\"))))","v":""},"NELSON, BILL",187,"",{"$f":"IF(Master!$B$1=\"Dbls\",IF(B18<='Check-In'!$R$139,B18,IF(AND(I17=I18,G17='Check-In'!$R$139),B18,\"\")),IF(Master!$B$1=\"2-Day\",IF(B18<='Check-In'!$T$139,B18,IF(AND(I17=I18,G17='Check-In'!$T$139),B18,\"\")),IF(B18<='Check-In'!$P$139,B18,IF(AND(I17=I18,G17='Check-In'!$P$139),B18,\"\"))))","v":""},"","",null,null,16,{"$f":"IF(Master!$B$1=\"Dbls\",IF(P18<='Check-In'!$S$136,P18,IF(AND(S17=S18,Q17='Check-In'!$S$136),P18,\"\")),IF(Master!$B$1=\"2-Day\",IF(P18<='Check-In'!$U$136,P18,IF(AND(S17=S18,Q17='Check-In'!$U$136),P18,\"\")),IF(P18<='Check-In'!$Q$136,P18,IF(AND(S17=S18,Q17='Check-In'!$Q$136),P18,\"\"))))","v":16},"BORDSON, DAVE",214,226,{"$f":"IF(Master!$B$1=\"Dbls\",IF(B18<='Check-In'!$S$137,B18,IF(AND(I17=I18,G17='Check-In'!$S$137),B18,\"\")),IF(Master!$B$1=\"2-Day\",IF(B18<='Check-In'!$U$137,B18,IF(AND(I17=I18,G17='Check-In'!$U$137),B18,\"\")),IF(B18<='Check-In'!$Q$137,B18,IF(AND(I17=I18,G17='Check-In'!$Q$137),B18,\"\"))))","v":""},"DAVIS, BOB",190,"",{"$f":"IF(Master!$B$1=\"Dbls\",IF(P18<='Check-In'!$R$139,P18,IF(AND(W17=W18,U17='Check-In'!$R$139),P18,\"\")),IF(Master!$B$1=\"2-Day\",IF(P18<='Check-In'!$T$139,P18,IF(AND(W17=W18,U17='Check-In'!$T$139),P18,\"\")),IF(P18<='Check-In'!$P$139,P18,IF(AND(W17=W18,U17='Check-In'!$P$139),P18,\"\"))))","v":""},"","",{"$nulls":7},{"$f":"IF(AJ18=0,\"\",'Check-In'!$B23)","v":""},{"$f":"IF(Tourn=\"2-Day\",'Check-In'!T23,IF(Tourn=\"Dbls\", 'Check-In'!R23,'Check-In'!P23))","v":0},{"$f":"IF(AJ18=\"x\",INDEX(Qual!$C$8:$U$133,MATCH(AI18,Qual!$C$8:$C$133,0),IF(Tourn=\"Dbls\",7,IF(Tourn=\"2-Day\",6,IF(Tourn=\"MSC\",6,5)))),\"\")","v":""},{"$f":"IF(AJ18=\"x\",INDEX(Qual!$C$8:$U$133,MATCH(AI18,Qual!$C$8:$C$133,0),IF(Tourn=\"Dbls\",8,IF(Tourn=\"2-Day\",7,IF(Tourn=\"MSC\",8,6)))),\"\")","v":""},{"$f":"IF(AJ18=\"x\",INDEX(Qual!$C$8:$U$133,MATCH(AI18,Qual!$C$8:$C$133,0),IF(Tourn=\"Dbls\",9,IF(Tourn=\"2-Day\",8,IF(Tourn=\"MSC\",10,7)))),\"\")","v":""},null,{"$f":"IF(AP18=0,\"\",'Check-In'!$B23)","v":""},{"$f":"IF(Tourn=\"2-Day\",'Check-In'!U23,IF(Tourn=\"Dbls\", 'Check-In'!S23,'Check-In'!P23))","v":0},{"$f":"IF(AP18=\"x\",INDEX(Qual!$C$8:$U$133,MATCH(AO18,Qual!$C$8:$C$133,0),IF(Tourn=\"Dbls\",15,IF(Tourn=\"2-Day\",10,IF(Tourn=\"MSC\",12,8)))),\"\")","v":""},{"$f":"IF(AP18=\"x\",INDEX(Qual!$C$8:$U$133,MATCH(AO18,Qual!$C$8:$C$133,0),IF(Tourn=\"Dbls\",16,IF(Tourn=\"2-Day\",11,IF(Tourn=\"MSC\",14,9)))),\"\")","v":""},{"$f":"IF(AP18=\"x\",INDEX(Qual!$C$8:$U$133,MATCH(AO18,Qual!$C$8:$C$133,0),IF(Tourn=\"Dbls\",17,IF(Tourn=\"2-Day\",12,IF(Tourn=\"MSC\",16,10)))),\"\")","v":""}]
[null,17,{"$f":"IF(Master!$B$1=\"Dbls\",IF(B19<='Check-In'!$R$136,B19,IF(AND(E18=E19,C18='Check-In'!$R$136),B19,\"\")),IF(Master!$B$1=\"2-Day\",IF(B19<='Check-In'!$T$136,B19,IF(AND(E18=E19,C18='Check-In'!$T$136),B19,\"\")),IF(B19<='Check-In'!$P$136,B19,IF(AND(E18=E19,C18='Check-In'!$P$136),B19,\"\"))))","v":17},"NELSON, BILL",204,187,{"$f":"IF(Master!$B$1=\"Dbls\",IF(B19<='Check-In'!$R$137,B19,IF(AND(I18=I19,G18='Check-In'!$R$137),B19,\"\")),IF(Master!$B$1=\"2-Day\",IF(B19<='Check-In'!$T$137,B19,IF(AND(I18=I19,G18='Check-In'!$T$137),B19,\"\")),IF(B19<='Check-In'!$P$137,B19,IF(AND(I18=I19,G18='Check-In'!$P$137),B19,\"\"))))","v":""},"RACETTE, TIM",175,"",{"$f":"IF(Master!$B$1=\"Dbls\",IF(B19<='Check-In'!$R$139,B19,IF(AND(I18=I19,G18='Check-In'!$R$139),B19,\"\")),IF(Master!$B$1=\"2-Day\",IF(B19<='Check-In'!$T$139,B19,IF(AND(I18=I19,G18='Check-In'!$T$139),B19,\"\")),IF(B19<='Check-In'!$P$139,B19,IF(AND(I18=I19,G18='Check-In'!$P$139),B19,\"\"))))","v":""},"","",null,null,17,{"$f":"IF(Master!$B$1=\"Dbls\",IF(P19<='Check-In'!$S$136,P19,IF(AND(S18=S19,Q18='Check-In'!$S$136),P19,\"\")),IF(Master!$B$1=\"2-Day\",IF(P19<='Check-In'!$U$136,P19,IF(AND(S18=S19,Q18='Check-In'!$U$136),P19,\"\")),IF(P19<='Check-In'!$Q$136,P19,IF(AND(S18=S19,Q18='Check-In'!$Q$136),P19,\"\"))))","v":17},"DOWNER, ROB",214,208,{"$f":"IF(Master!$B$1=\"Dbls\",IF(B19<='Check-In'!$S$137,B19,IF(AND(I18=I19,G18='Check-In'!$S$137),B19,\"\")),IF(Master!$B$1=\"2-Day\",IF(B19<='Check-In'!$U$137,B19,IF(AND(I18=I19,G18='Check-In'!$U$137),B19,\"\")),IF(B19<='Check-In'!$Q$137,B19,IF(AND(I18=I19,G18='Check-In'!$Q$137),B19,\"\"))))","v":""},"WIRZ, MIKE",190,"",{"$f":"IF(Master!$B$1=\"Dbls\",IF(P19<='Check-In'!$R$139,P19,IF(AND(W18=W19,U18='Check-In'!$R$139),P19,\"\")),IF(Master!$B$1=\"2-Day\",IF(P19<='Check-In'!$T$139,P19,IF(AND(W18=W19,U18='Check-In'!$T$139),P19,\"\")),IF(P19<='Check-In'!$P$139,P19,IF(AND(W18=W19,U18='Check-In'!$P$139),P19,\"\"))))","v":""},"","",null,null,{"$f":"IF(Master!$B$1=\"Dbls\",\"Mini-Eliminator 12-13-14\",IF(Master!$B$1=\"2-Day\",\"Mini-Eliminator 7-8-9\",\"Mini-Eliminator 5-6-7\"))","v":"Mini-Eliminator 5-6-7"},{"$nulls":4},{"$f":"IF(AJ19=0,\"\",'Check-In'!$B24)","v":""},{"$f":"IF(Tourn=\"2-Day\",'Check-In'!T24,IF(Tourn=\"Dbls\", 'Check-In'!R24,'Check-In'!P24))","v":0},{"$f":"IF(AJ19=\"x\",INDEX(Qual!$C$8:$U$133,MATCH(AI19,Qual!$C$8:$C$133,0),IF(Tourn=\"Dbls\",7,IF(Tourn=\"2-Day\",6,IF(Tourn=\"MSC\",6,5)))),\"\")","v":""},{"$f":"IF(AJ19=\"x\",INDEX(Qual!$C$8:$U$133,MATCH(AI19,Qual!$C$8:$C$133,0),IF(Tourn=\"Dbls\",8,IF(Tourn=\"2-Day\",7,IF(Tourn=\"MSC\",8,6)))),\"\")","v":""},{"$f":"IF(AJ19=\"x\",INDEX(Qual!$C$8:$U$133,MATCH(AI19,Qual!$C$8:$C$133,0),IF(Tourn=\"Dbls\",9,IF(Tourn=\"2-Day\",8,IF(Tourn=\"MSC\",10,7)))),\"\")","v":""},null,{"$f":"IF(AP19=0,\"\",'Check-In'!$B24)","v":""},{"$f":"IF(Tourn=\"2-Day\",'Check-In'!U24,IF(Tourn=\"Dbls\", 'Check-In'!S24,'Check-In'!P24))","v":0},{"$f":"IF(AP19=\"x\",INDEX(Qual!$C$8:$U$133,MATCH(AO19,Qual!$C$8:$C$133,0),IF(Tourn=\"Dbls\",15,IF(Tourn=\"2-Day\",10,IF(Tourn=\"MSC\",12,8)))),\"\")","v":""},{"$f":"IF(AP19=\"x\",INDEX(Qual!$C$8:$U$133,MATCH(AO19,Qual!$C$8:$C$133,0),IF(Tourn=\"Dbls\",16,IF(Tourn=\"2-Day\",11,IF(Tourn=\"MSC\",14,9)))),\"\")","v":""},{"$f":"IF(AP19=\"x\",INDEX(Qual!$C$8:$U$133,MATCH(AO19,Qual!$C$8:$C$133,0),IF(Tourn=\"Dbls\",17,IF(Tourn=\"2-Day\",12,IF(Tourn=\"MSC\",16,10)))),\"\")","v":""}]
[null,18,{"$f":"IF(Master!$B$1=\"Dbls\",IF(B20<='Check-In'!$R$136,B20,IF(AND(E19=E20,C19='Check-In'!$R$136),B20,\"\")),IF(Master!$B$1=\"2-Day\",IF(B20<='Check-In'!$T$136,B20,IF(AND(E19=E20,C19='Check-In'!$T$136),B20,\"\")),IF(B20<='Check-In'!$P$136,B20,IF(AND(E19=E20,C19='Check-In'!$P$136),B20,\"\"))))","v":18},"DOWNER, ROB",204,248,{"$f":"IF(Master!$B$1=\"Dbls\",IF(B20<='Check-In'!$R$137,B20,IF(AND(I19=I20,G19='Check-In'!$R$137),B20,\"\")),IF(Master!$B$1=\"2-Day\",IF(B20<='Check-In'!$T$137,B20,IF(AND(I19=I20,G19='Check-In'!$T$137),B20,\"\")),IF(B20<='Check-In'!$P$137,B20,IF(AND(I19=I20,G19='Check-In'!$P$137),B20,\"\"))))","v":""},"BORDSON, DAVE",145,"",{"$f":"IF(Master!$B$1=\"Dbls\",IF(B20<='Check-In'!$R$139,B20,IF(AND(I19=I20,G19='Check-In'!$R$139),B20,\"\")),IF(Master!$B$1=\"2-Day\",IF(B20<='Check-In'!$T$139,B20,IF(AND(I19=I20,G19='Check-In'!$T$139),B20,\"\")),IF(B20<='Check-In'!$P$139,B20,IF(AND(I19=I20,G19='Check-In'!$P$139),B20,\"\"))))","v":""},"","",null,null,18,{"$f":"IF(Master!$B$1=\"Dbls\",IF(P20<='Check-In'!$S$136,P20,IF(AND(S19=S20,Q19='Check-In'!$S$136),P20,\"\")),IF(Master!$B$1=\"2-Day\",IF(P20<='Check-In'!$U$136,P20,IF(AND(S19=S20,Q19='Check-In'!$U$136),P20,\"\")),IF(P20<='Check-In'!$Q$136,P20,IF(AND(S19=S20,Q19='Check-In'!$Q$136),P20,\"\"))))","v":18},"SCHMID, MIKE",213,185,{"$f":"IF(Master!$B$1=\"Dbls\",IF(B20<='Check-In'!$S$137,B20,IF(AND(I19=I20,G19='Check-In'!$S$137),B20,\"\")),IF(Master!$B$1=\"2-Day\",IF(B20<='Check-In'!$U$137,B20,IF(AND(I19=I20,G19='Check-In'!$U$137),B20,\"\")),IF(B20<='Check-In'!$Q$137,B20,IF(AND(I19=I20,G19='Check-In'!$Q$137),B20,\"\"))))","v":""},"BRUINSMA, DEAN",189,"",{"$f":"IF(Master!$B$1=\"Dbls\",IF(P20<='Check-In'!$R$139,P20,IF(AND(W19=W20,U19='Check-In'!$R$139),P20,\"\")),IF(Master!$B$1=\"2-Day\",IF(P20<='Check-In'!$T$139,P20,IF(AND(W19=W20,U19='Check-In'!$T$139),P20,\"\")),IF(P20<='Check-In'!$P$139,P20,IF(AND(W19=W20,U19='Check-In'!$P$139),P20,\"\"))))","v":""},"","",{"$nulls":3},"Bowler","Game","Amount",null,{"$f":"IF(AJ20=0,\"\",'Check-In'!$B25)","v":"IRVIN, BRAD"},{"$f":"IF(Tourn=\"2-Day\",'Check-In'!T25,IF(Tourn=\"Dbls\", 'Check-In'!R25,'Check-In'!P25))","v":"X"},{"$f":"IF(AJ20=\"x\",INDEX(Qual!$C$8:$U$133,MATCH(AI20,Qual!$C$8:$C$133,0),IF(Tourn=\"Dbls\",7,IF(Tourn=\"2-Day\",6,IF(Tourn=\"MSC\",6,5)))),\"\")","v":223},{"$f":"IF(AJ20=\"x\",INDEX(Qual!$C$8:$U$133,MATCH(AI20,Qual!$C$8:$C$133,0),IF(Tourn=\"Dbls\",8,IF(Tourn=\"2-Day\",7,IF(Tourn=\"MSC\",8,6)))),\"\")","v":187},{"$f":"IF(AJ20=\"x\",INDEX(Qual!$C$8:$U$133,MATCH(AI20,Qual!$C$8:$C$133,0),IF(Tourn=\"Dbls\",9,IF(Tourn=\"2-Day\",8,IF(Tourn=\"MSC\",10,7)))),\"\")","v":169},null,{"$f":"IF(AP20=0,\"\",'Check-In'!$B25)","v":"IRVIN, BRAD"},{"$f":"IF(Tourn=\"2-Day\",'Check-In'!U25,IF(Tourn=\"Dbls\", 'Check-In'!S25,'Check-In'!P25))","v":"X"},{"$f":"IF(AP20=\"x\",INDEX(Qual!$C$8:$U$133,MATCH(AO20,Qual!$C$8:$C$133,0),IF(Tourn=\"Dbls\",15,IF(Tourn=\"2-Day\",10,IF(Tourn=\"MSC\",12,8)))),\"\")","v":223},{"$f":"IF(AP20=\"x\",INDEX(Qual!$C$8:$U$133,MATCH(AO20,Qual!$C$8:$C$133,0),IF(Tourn=\"Dbls\",16,IF(Tourn=\"2-Day\",11,IF(Tourn=\"MSC\",14,9)))),\"\")","v":190},{"$f":"IF(AP20=\"x\",INDEX(Qual!$C$8:$U$133,MATCH(AO20,Qual!$C$8:$C$133,0),IF(Tourn=\"Dbls\",17,IF(Tourn=\"2-Day\",12,IF(Tourn=\"MSC\",16,10)))),\"\")","v":192}]
[null,19,{"$f":"IF(Master!$B$1=\"Dbls\",IF(B21<='Check-In'!$R$136,B21,IF(AND(E20=E21,C20='Check-In'!$R$136),B21,\"\")),IF(Master!$B$1=\"2-Day\",IF(B21<='Check-In'!$T$136,B21,IF(AND(E20=E21,C20='Check-In'!$T$136),B21,\"\")),IF(B21<='Check-In'!$P$136,B21,IF(AND(E20=E21,C20='Check-In'!$P$136),B21,\"\"))))","v":""},"PETERSON, ED",203,"",{"$f":"IF(Master!$B$1=\"Dbls\",IF(B21<='Check-In'!$R$137,B21,IF(AND(I20=I21,G20='Check-In'!$R$137),B21,\"\")),IF(Master!$B$1=\"2-Day\",IF(B21<='Check-In'!$T$137,B21,IF(AND(I20=I21,G20='Check-In'!$T$137),B21,\"\")),IF(B21<='Check-In'!$P$137,B21,IF(AND(I20=I21,G20='Check-In'!$P$137),B21,\"\"))))","v":""},"","","",{"$f":"IF(Master!$B$1=\"Dbls\",IF(B21<='Check-In'!$R$139,B21,IF(AND(I20=I21,G20='Check-In'!$R$139),B21,\"\")),IF(Master!$B$1=\"2-Day\",IF(B21<='Check-In'!$T$139,B21,IF(AND(I20=I21,G20='Check-In'!$T$139),B21,\"\")),IF(B21<='Check-In'!$P$139,B21,IF(AND(I20=I21,G20='Check-In'!$P$139),B21,\"\"))))","v":""},"","",null,null,19,{"$f":"IF(Master!$B$1=\"Dbls\",IF(P21<='Check-In'!$S$136,P21,IF(AND(S20=S21,Q20='Check-In'!$S$136),P21,\"\")),IF(Master!$B$1=\"2-Day\",IF(P21<='Check-In'!$U$136,P21,IF(AND(S20=S21,Q20='Check-In'!$U$136),P21,\"\")),IF(P21<='Check-In'!$Q$136,P21,IF(AND(S20=S21,Q20='Check-In'!$Q$136),P21,\"\"))))","v":19},"BRUINSMA, DEAN",213,189,{"$f":"IF(Master!$B$1=\"Dbls\",IF(B21<='Check-In'!$S$137,B21,IF(AND(I20=I21,G20='Check-In'!$S$137),B21,\"\")),IF(Master!$B$1=\"2-Day\",IF(B21<='Check-In'!$U$137,B21,IF(AND(I20=I21,G20='Check-In'!$U$137),B21,\"\")),IF(B21<='Check-In'!$Q$137,B21,IF(AND(I20=I21,G20='Check-In'!$Q$137),B21,\"\"))))","v":""},"SCHMID, MIKE",185,"",{"$f":"IF(Master!$B$1=\"Dbls\",IF(P21<='Check-In'!$R$139,P21,IF(AND(W20=W21,U20='Check-In'!$R$139),P21,\"\")),IF(Master!$B$1=\"2-Day\",IF(P21<='Check-In'!$T$139,P21,IF(AND(W20=W21,U20='Check-In'!$T$139),P21,\"\")),IF(P21<='Check-In'!$P$139,P21,IF(AND(W20=W21,U20='Check-In'!$P$139),P21,\"\"))))","v":""},"","",null,null,1,{"$f":"Z3","v":"BORDSON, DAVE"},238,{"$f":"IF(Tourn=\"Dbls\",'Check-In'!S145,IF(Tourn=\"2-Day\",'Check-In'!U145,'Check-In'!Q145))","v":{"v":130,"d":"$130.00"}},null,{"$f":"IF(AJ21=0,\"\",'Check-In'!$B26)","v":""},{"$f":"IF(Tourn=\"2-Day\",'Check-In'!T26,IF(Tourn=\"Dbls\", 'Check-In'!R26,'Check-In'!P26))","v":0},{"$f":"IF(AJ21=\"x\",INDEX(Qual!$C$8:$U$133,MATCH(AI21,Qual!$C$8:$C$133,0),IF(Tourn=\"Dbls\",7,IF(Tourn=\"2-Day\",6,IF(Tourn=\"MSC\",6,5)))),\"\")","v":""},{"$f":"IF(AJ21=\"x\",INDEX(Qual!$C$8:$U$133,MATCH(AI21,Qual!$C$8:$C$133,0),IF(Tourn=\"Dbls\",8,IF(Tourn=\"2-Day\",7,IF(Tourn=\"MSC\",8,6)))),\"\")","v":""},{"$f":"IF(AJ21=\"x\",INDEX(Qual!$C$8:$U$133,MATCH(AI21,Qual!$C$8:$C$133,0),IF(Tourn=\"Dbls\",9,IF(Tourn=\"2-Day\",8,IF(Tourn=\"MSC\",10,7)))),\"\")","v":""},null,{"$f":"IF(AP21=0,\"\",'Check-In'!$B26)","v":""},{"$f":"IF(Tourn=\"2-Day\",'Check-In'!U26,IF(Tourn=\"Dbls\", 'Check-In'!S26,'Check-In'!P26))","v":0},{"$f":"IF(AP21=\"x\",INDEX(Qual!$C$8:$U$133,MATCH(AO21,Qual!$C$8:$C$133,0),IF(Tourn=\"Dbls\",15,IF(Tourn=\"2-Day\",10,IF(Tourn=\"MSC\",12,8)))),\"\")","v":""},{"$f":"IF(AP21=\"x\",INDEX(Qual!$C$8:$U$133,MATCH(AO21,Qual!$C$8:$C$133,0),IF(Tourn=\"Dbls\",16,IF(Tourn=\"2-Day\",11,IF(Tourn=\"MSC\",14,9)))),\"\")","v":""},{"$f":"IF(AP21=\"x\",INDEX(Qual!$C$8:$U$133,MATCH(AO21,Qual!$C$8:$C$133,0),IF(Tourn=\"Dbls\",17,IF(Tourn=\"2-Day\",12,IF(Tourn=\"MSC\",16,10)))),\"\")","v":""}]
[null,20,{"$f":"IF(Master!$B$1=\"Dbls\",IF(B22<='Check-In'!$R$136,B22,IF(AND(E21=E22,C21='Check-In'!$R$136),B22,\"\")),IF(Master!$B$1=\"2-Day\",IF(B22<='Check-In'!$T$136,B22,IF(AND(E21=E22,C21='Check-In'!$T$136),B22,\"\")),IF(B22<='Check-In'!$P$136,B22,IF(AND(E21=E22,C21='Check-In'!$P$136),B22,\"\"))))","v":""},"JONES, TOM",194,"",{"$f":"IF(Master!$B$1=\"Dbls\",IF(B22<='Check-In'!$R$137,B22,IF(AND(I21=I22,G21='Check-In'!$R$137),B22,\"\")),IF(Master!$B$1=\"2-Day\",IF(B22<='Check-In'!$T$137,B22,IF(AND(I21=I22,G21='Check-In'!$T$137),B22,\"\")),IF(B22<='Check-In'!$P$137,B22,IF(AND(I21=I22,G21='Check-In'!$P$137),B22,\"\"))))","v":""},"","","",{"$f":"IF(Master!$B$1=\"Dbls\",IF(B22<='Check-In'!$R$139,B22,IF(AND(I21=I22,G21='Check-In'!$R$139),B22,\"\")),IF(Master!$B$1=\"2-Day\",IF(B22<='Check-In'!$T$139,B22,IF(AND(I21=I22,G21='Check-In'!$T$139),B22,\"\")),IF(B22<='Check-In'!$P$139,B22,IF(AND(I21=I22,G21='Check-In'!$P$139),B22,\"\"))))","v":""},"","",null,null,20,{"$f":"IF(Master!$B$1=\"Dbls\",IF(P22<='Check-In'!$S$136,P22,IF(AND(S21=S22,Q21='Check-In'!$S$136),P22,\"\")),IF(Master!$B$1=\"2-Day\",IF(P22<='Check-In'!$U$136,P22,IF(AND(S21=S22,Q21='Check-In'!$U$136),P22,\"\")),IF(P22<='Check-In'!$Q$136,P22,IF(AND(S21=S22,Q21='Check-In'!$Q$136),P22,\"\"))))","v":""},"CORBETT, TOM",213,"",{"$f":"IF(Master!$B$1=\"Dbls\",IF(B22<='Check-In'!$S$137,B22,IF(AND(I21=I22,G21='Check-In'!$S$137),B22,\"\")),IF(Master!$B$1=\"2-Day\",IF(B22<='Check-In'!$U$137,B22,IF(AND(I21=I22,G21='Check-In'!$U$137),B22,\"\")),IF(B22<='Check-In'!$Q$137,B22,IF(AND(I21=I22,G21='Check-In'!$Q$137),B22,\"\"))))","v":""},"","","",{"$f":"IF(Master!$B$1=\"Dbls\",IF(P22<='Check-In'!$R$139,P22,IF(AND(W21=W22,U21='Check-In'!$R$139),P22,\"\")),IF(Master!$B$1=\"2-Day\",IF(P22<='Check-In'!$T$139,P22,IF(AND(W21=W22,U21='Check-In'!$T$139),P22,\"\")),IF(P22<='Check-In'!$P$139,P22,IF(AND(W21=W22,U21='Check-In'!$P$139),P22,\"\"))))","v":""},"","",null,null,2,"JENSEN, WAYNE",238,{"$f":"IF(Tourn=\"Dbls\",'Check-In'!S146,IF(Tourn=\"2-Day\",'Check-In'!U146,'Check-In'!Q146))","v":{"v":95,"d":"$95.00"}},null,{"$f":"IF(AJ22=0,\"\",'Check-In'!$B27)","v":""},{"$f":"IF(Tourn=\"2-Day\",'Check-In'!T27,IF(Tourn=\"Dbls\", 'Check-In'!R27,'Check-In'!P27))","v":0},{"$f":"IF(AJ22=\"x\",INDEX(Qual!$C$8:$U$133,MATCH(AI22,Qual!$C$8:$C$133,0),IF(Tourn=\"Dbls\",7,IF(Tourn=\"2-Day\",6,IF(Tourn=\"MSC\",6,5)))),\"\")","v":""},{"$f":"IF(AJ22=\"x\",INDEX(Qual!$C$8:$U$133,MATCH(AI22,Qual!$C$8:$C$133,0),IF(Tourn=\"Dbls\",8,IF(Tourn=\"2-Day\",7,IF(Tourn=\"MSC\",8,6)))),\"\")","v":""},{"$f":"IF(AJ22=\"x\",INDEX(Qual!$C$8:$U$133,MATCH(AI22,Qual!$C$8:$C$133,0),IF(Tourn=\"Dbls\",9,IF(Tourn=\"2-Day\",8,IF(Tourn=\"MSC\",10,7)))),\"\")","v":""},null,{"$f":"IF(AP22=0,\"\",'Check-In'!$B27)","v":""},{"$f":"IF(Tourn=\"2-Day\",'Check-In'!U27,IF(Tourn=\"Dbls\", 'Check-In'!S27,'Check-In'!P27))","v":0},{"$f":"IF(AP22=\"x\",INDEX(Qual!$C$8:$U$133,MATCH(AO22,Qual!$C$8:$C$133,0),IF(Tourn=\"Dbls\",15,IF(Tourn=\"2-Day\",10,IF(Tourn=\"MSC\",12,8)))),\"\")","v":""},{"$f":"IF(AP22=\"x\",INDEX(Qual!$C$8:$U$133,MATCH(AO22,Qual!$C$8:$C$133,0),IF(Tourn=\"Dbls\",16,IF(Tourn=\"2-Day\",11,IF(Tourn=\"MSC\",14,9)))),\"\")","v":""},{"$f":"IF(AP22=\"x\",INDEX(Qual!$C$8:$U$133,MATCH(AO22,Qual!$C$8:$C$133,0),IF(Tourn=\"Dbls\",17,IF(Tourn=\"2-Day\",12,IF(Tourn=\"MSC\",16,10)))),\"\")","v":""}]
[null,21,{"$f":"IF(Master!$B$1=\"Dbls\",IF(B23<='Check-In'!$R$136,B23,IF(AND(E22=E23,C22='Check-In'!$R$136),B23,\"\")),IF(Master!$B$1=\"2-Day\",IF(B23<='Check-In'!$T$136,B23,IF(AND(E22=E23,C22='Check-In'!$T$136),B23,\"\")),IF(B23<='Check-In'!$P$136,B23,IF(AND(E22=E23,C22='Check-In'!$P$136),B23,\"\"))))","v":""},"SCHMID, MIKE",193,"",{"$f":"IF(Master!$B$1=\"Dbls\",IF(B23<='Check-In'!$R$137,B23,IF(AND(I22=I23,G22='Check-In'!$R$137),B23,\"\")),IF(Master!$B$1=\"2-Day\",IF(B23<='Check-In'!$T$137,B23,IF(AND(I22=I23,G22='Check-In'!$T$137),B23,\"\")),IF(B23<='Check-In'!$P$137,B23,IF(AND(I22=I23,G22='Check-In'!$P$137),B23,\"\"))))","v":""},"","","",{"$f":"IF(Master!$B$1=\"Dbls\",IF(B23<='Check-In'!$R$139,B23,IF(AND(I22=I23,G22='Check-In'!$R$139),B23,\"\")),IF(Master!$B$1=\"2-Day\",IF(B23<='Check-In'!$T$139,B23,IF(AND(I22=I23,G22='Check-In'!$T$139),B23,\"\")),IF(B23<='Check-In'!$P$139,B23,IF(AND(I22=I23,G22='Check-In'!$P$139),B23,\"\"))))","v":""},"","",null,null,21,{"$f":"IF(Master!$B$1=\"Dbls\",IF(P23<='Check-In'!$S$136,P23,IF(AND(S22=S23,Q22='Check-In'!$S$136),P23,\"\")),IF(Master!$B$1=\"2-Day\",IF(P23<='Check-In'!$U$136,P23,IF(AND(S22=S23,Q22='Check-In'!$U$136),P23,\"\")),IF(P23<='Check-In'!$Q$136,P23,IF(AND(S22=S23,Q22='Check-In'!$Q$136),P23,\"\"))))","v":""},"JENSEN, ROBERT",204,"",{"$f":"IF(Master!$B$1=\"Dbls\",IF(B23<='Check-In'!$S$137,B23,IF(AND(I22=I23,G22='Check-In'!$S$137),B23,\"\")),IF(Master!$B$1=\"2-Day\",IF(B23<='Check-In'!$U$137,B23,IF(AND(I22=I23,G22='Check-In'!$U$137),B23,\"\")),IF(B23<='Check-In'!$Q$137,B23,IF(AND(I22=I23,G22='Check-In'!$Q$137),B23,\"\"))))","v":""},"","","",{"$f":"IF(Master!$B$1=\"Dbls\",IF(P23<='Check-In'!$R$139,P23,IF(AND(W22=W23,U22='Check-In'!$R$139),P23,\"\")),IF(Master!$B$1=\"2-Day\",IF(P23<='Check-In'!$T$139,P23,IF(AND(W22=W23,U22='Check-In'!$T$139),P23,\"\")),IF(P23<='Check-In'!$P$139,P23,IF(AND(W22=W23,U22='Check-In'!$P$139),P23,\"\"))))","v":""},"","",null,null,{"$f":"IF(AG23=\"\",\"\",3)","v":3},"HOMMES, JOHN",235,{"$f":"IF(Tourn=\"Dbls\",'Check-In'!S147,IF(Tourn=\"2-Day\",'Check-In'!U147,'Check-In'!Q147))","v":{"v":75,"d":"$75.00"}},null,{"$f":"IF(AJ23=0,\"\",'Check-In'!$B28)","v":""},{"$f":"IF(Tourn=\"2-Day\",'Check-In'!T28,IF(Tourn=\"Dbls\", 'Check-In'!R28,'Check-In'!P28))","v":0},{"$f":"IF(AJ23=\"x\",INDEX(Qual!$C$8:$U$133,MATCH(AI23,Qual!$C$8:$C$133,0),IF(Tourn=\"Dbls\",7,IF(Tourn=\"2-Day\",6,IF(Tourn=\"MSC\",6,5)))),\"\")","v":""},{"$f":"IF(AJ23=\"x\",INDEX(Qual!$C$8:$U$133,MATCH(AI23,Qual!$C$8:$C$133,0),IF(Tourn=\"Dbls\",8,IF(Tourn=\"2-Day\",7,IF(Tourn=\"MSC\",8,6)))),\"\")","v":""},{"$f":"IF(AJ23=\"x\",INDEX(Qual!$C$8:$U$133,MATCH(AI23,Qual!$C$8:$C$133,0),IF(Tourn=\"Dbls\",9,IF(Tourn=\"2-Day\",8,IF(Tourn=\"MSC\",10,7)))),\"\")","v":""},null,{"$f":"IF(AP23=0,\"\",'Check-In'!$B28)","v":""},{"$f":"IF(Tourn=\"2-Day\",'Check-In'!U28,IF(Tourn=\"Dbls\", 'Check-In'!S28,'Check-In'!P28))","v":0},{"$f":"IF(AP23=\"x\",INDEX(Qual!$C$8:$U$133,MATCH(AO23,Qual!$C$8:$C$133,0),IF(Tourn=\"Dbls\",15,IF(Tourn=\"2-Day\",10,IF(Tourn=\"MSC\",12,8)))),\"\")","v":""},{"$f":"IF(AP23=\"x\",INDEX(Qual!$C$8:$U$133,MATCH(AO23,Qual!$C$8:$C$133,0),IF(Tourn=\"Dbls\",16,IF(Tourn=\"2-Day\",11,IF(Tourn=\"MSC\",14,9)))),\"\")","v":""},{"$f":"IF(AP23=\"x\",INDEX(Qual!$C$8:$U$133,MATCH(AO23,Qual!$C$8:$C$133,0),IF(Tourn=\"Dbls\",17,IF(Tourn=\"2-Day\",12,IF(Tourn=\"MSC\",16,10)))),\"\")","v":""}]
[null,22,{"$f":"IF(Master!$B$1=\"Dbls\",IF(B24<='Check-In'!$R$136,B24,IF(AND(E23=E24,C23='Check-In'!$R$136),B24,\"\")),IF(Master!$B$1=\"2-Day\",IF(B24<='Check-In'!$T$136,B24,IF(AND(E23=E24,C23='Check-In'!$T$136),B24,\"\")),IF(B24<='Check-In'!$P$136,B24,IF(AND(E23=E24,C23='Check-In'!$P$136),B24,\"\"))))","v":""},"PESCH, JOHN",191,"",{"$f":"IF(Master!$B$1=\"Dbls\",IF(B24<='Check-In'!$R$137,B24,IF(AND(I23=I24,G23='Check-In'!$R$137),B24,\"\")),IF(Master!$B$1=\"2-Day\",IF(B24<='Check-In'!$T$137,B24,IF(AND(I23=I24,G23='Check-In'!$T$137),B24,\"\")),IF(B24<='Check-In'!$P$137,B24,IF(AND(I23=I24,G23='Check-In'!$P$137),B24,\"\"))))","v":""},"","","",{"$f":"IF(Master!$B$1=\"Dbls\",IF(B24<='Check-In'!$R$139,B24,IF(AND(I23=I24,G23='Check-In'!$R$139),B24,\"\")),IF(Master!$B$1=\"2-Day\",IF(B24<='Check-In'!$T$139,B24,IF(AND(I23=I24,G23='Check-In'!$T$139),B24,\"\")),IF(B24<='Check-In'!$P$139,B24,IF(AND(I23=I24,G23='Check-In'!$P$139),B24,\"\"))))","v":""},"","",null,null,22,{"$f":"IF(Master!$B$1=\"Dbls\",IF(P24<='Check-In'!$S$136,P24,IF(AND(S23=S24,Q23='Check-In'!$S$136),P24,\"\")),IF(Master!$B$1=\"2-Day\",IF(P24<='Check-In'!$U$136,P24,IF(AND(S23=S24,Q23='Check-In'!$U$136),P24,\"\")),IF(P24<='Check-In'!$Q$136,P24,IF(AND(S23=S24,Q23='Check-In'!$Q$136),P24,\"\"))))","v":""},"GOODWIN, CRAIG",203,"",{"$f":"IF(Master!$B$1=\"Dbls\",IF(B24<='Check-In'!$S$137,B24,IF(AND(I23=I24,G23='Check-In'!$S$137),B24,\"\")),IF(Master!$B$1=\"2-Day\",IF(B24<='Check-In'!$U$137,B24,IF(AND(I23=I24,G23='Check-In'!$U$137),B24,\"\")),IF(B24<='Check-In'!$Q$137,B24,IF(AND(I23=I24,G23='Check-In'!$Q$137),B24,\"\"))))","v":""},"","","",{"$f":"IF(Master!$B$1=\"Dbls\",IF(P24<='Check-In'!$R$139,P24,IF(AND(W23=W24,U23='Check-In'!$R$139),P24,\"\")),IF(Master!$B$1=\"2-Day\",IF(P24<='Check-In'!$T$139,P24,IF(AND(W23=W24,U23='Check-In'!$T$139),P24,\"\")),IF(P24<='Check-In'!$P$139,P24,IF(AND(W23=W24,U23='Check-In'!$P$139),P24,\"\"))))","v":""},"","",null,null,{"$f":"IF(AG24=\"\",\"\",4)","v":4},"MCKINNEY, TERRY",225,{"$f":"IF(Tourn=\"Dbls\",'Check-In'!S148,IF(Tourn=\"2-Day\",'Check-In'!U148,'Check-In'!Q148))","v":{"v":40,"d":"$40.00"}},null,{"$f":"IF(AJ24=0,\"\",'Check-In'!$B29)","v":"GREEN, GARY"},{"$f":"IF(Tourn=\"2-Day\",'Check-In'!T29,IF(Tourn=\"Dbls\", 'Check-In'!R29,'Check-In'!P29))","v":"X"},{"$f":"IF(AJ24=\"x\",INDEX(Qual!$C$8:$U$133,MATCH(AI24,Qual!$C$8:$C$133,0),IF(Tourn=\"Dbls\",7,IF(Tourn=\"2-Day\",6,IF(Tourn=\"MSC\",6,5)))),\"\")","v":205},{"$f":"IF(AJ24=\"x\",INDEX(Qual!$C$8:$U$133,MATCH(AI24,Qual!$C$8:$C$133,0),IF(Tourn=\"Dbls\",8,IF(Tourn=\"2-Day\",7,IF(Tourn=\"MSC\",8,6)))),\"\")","v":228},{"$f":"IF(AJ24=\"x\",INDEX(Qual!$C$8:$U$133,MATCH(AI24,Qual!$C$8:$C$133,0),IF(Tourn=\"Dbls\",9,IF(Tourn=\"2-Day\",8,IF(Tourn=\"MSC\",10,7)))),\"\")","v":193},null,{"$f":"IF(AP24=0,\"\",'Check-In'!$B29)","v":"GREEN, GARY"},{"$f":"IF(Tourn=\"2-Day\",'Check-In'!U29,IF(Tourn=\"Dbls\", 'Check-In'!S29,'Check-In'!P29))","v":"X"},{"$f":"IF(AP24=\"x\",INDEX(Qual!$C$8:$U$133,MATCH(AO24,Qual!$C$8:$C$133,0),IF(Tourn=\"Dbls\",15,IF(Tourn=\"2-Day\",10,IF(Tourn=\"MSC\",12,8)))),\"\")","v":182},{"$f":"IF(AP24=\"x\",INDEX(Qual!$C$8:$U$133,MATCH(AO24,Qual!$C$8:$C$133,0),IF(Tourn=\"Dbls\",16,IF(Tourn=\"2-Day\",11,IF(Tourn=\"MSC\",14,9)))),\"\")","v":245},{"$f":"IF(AP24=\"x\",INDEX(Qual!$C$8:$U$133,MATCH(AO24,Qual!$C$8:$C$133,0),IF(Tourn=\"Dbls\",17,IF(Tourn=\"2-Day\",12,IF(Tourn=\"MSC\",16,10)))),\"\")","v":216}]
[null,23,{"$f":"IF(Master!$B$1=\"Dbls\",IF(B25<='Check-In'!$R$136,B25,IF(AND(E24=E25,C24='Check-In'!$R$136),B25,\"\")),IF(Master!$B$1=\"2-Day\",IF(B25<='Check-In'!$T$136,B25,IF(AND(E24=E25,C24='Check-In'!$T$136),B25,\"\")),IF(B25<='Check-In'!$P$136,B25,IF(AND(E24=E25,C24='Check-In'!$P$136),B25,\"\"))))","v":""},"HANKE, KURT",190,"",{"$f":"IF(Master!$B$1=\"Dbls\",IF(B25<='Check-In'!$R$137,B25,IF(AND(I24=I25,G24='Check-In'!$R$137),B25,\"\")),IF(Master!$B$1=\"2-Day\",IF(B25<='Check-In'!$T$137,B25,IF(AND(I24=I25,G24='Check-In'!$T$137),B25,\"\")),IF(B25<='Check-In'!$P$137,B25,IF(AND(I24=I25,G24='Check-In'!$P$137),B25,\"\"))))","v":""},"","","",{"$f":"IF(Master!$B$1=\"Dbls\",IF(B25<='Check-In'!$R$139,B25,IF(AND(I24=I25,G24='Check-In'!$R$139),B25,\"\")),IF(Master!$B$1=\"2-Day\",IF(B25<='Check-In'!$T$139,B25,IF(AND(I24=I25,G24='Check-In'!$T$139),B25,\"\")),IF(B25<='Check-In'!$P$139,B25,IF(AND(I24=I25,G24='Check-In'!$P$139),B25,\"\"))))","v":""},"","",null,null,23,{"$f":"IF(Master!$B$1=\"Dbls\",IF(P25<='Check-In'!$S$136,P25,IF(AND(S24=S25,Q24='Check-In'!$S$136),P25,\"\")),IF(Master!$B$1=\"2-Day\",IF(P25<='Check-In'!$U$136,P25,IF(AND(S24=S25,Q24='Check-In'!$U$136),P25,\"\")),IF(P25<='Check-In'!$Q$136,P25,IF(AND(S24=S25,Q24='Check-In'!$Q$136),P25,\"\"))))","v":""},"PESCH, JOHN",202,"",{"$f":"IF(Master!$B$1=\"Dbls\",IF(B25<='Check-In'!$S$137,B25,IF(AND(I24=I25,G24='Check-In'!$S$137),B25,\"\")),IF(Master!$B$1=\"2-Day\",IF(B25<='Check-In'!$U$137,B25,IF(AND(I24=I25,G24='Check-In'!$U$137),B25,\"\")),IF(B25<='Check-In'!$Q$137,B25,IF(AND(I24=I25,G24='Check-In'!$Q$137),B25,\"\"))))","v":""},"","","",{"$f":"IF(Master!$B$1=\"Dbls\",IF(P25<='Check-In'!$R$139,P25,IF(AND(W24=W25,U24='Check-In'!$R$139),P25,\"\")),IF(Master!$B$1=\"2-Day\",IF(P25<='Check-In'!$T$139,P25,IF(AND(W24=W25,U24='Check-In'!$T$139),P25,\"\")),IF(P25<='Check-In'!$P$139,P25,IF(AND(W24=W25,U24='Check-In'!$P$139),P25,\"\"))))","v":""},"","",{"$nulls":5},{"$f":"IF(Tourn=\"Dbls\",'Check-In'!S149,IF(Tourn=\"2-Day\",'Check-In'!U149,'Check-In'!Q149))","v":{"v":20,"d":"$20.00"}},null,{"$f":"IF(AJ25=0,\"\",'Check-In'!$B30)","v":""},{"$f":"IF(Tourn=\"2-Day\",'Check-In'!T30,IF(Tourn=\"Dbls\", 'Check-In'!R30,'Check-In'!P30))","v":0},{"$f":"IF(AJ25=\"x\",INDEX(Qual!$C$8:$U$133,MATCH(AI25,Qual!$C$8:$C$133,0),IF(Tourn=\"Dbls\",7,IF(Tourn=\"2-Day\",6,IF(Tourn=\"MSC\",6,5)))),\"\")","v":""},{"$f":"IF(AJ25=\"x\",INDEX(Qual!$C$8:$U$133,MATCH(AI25,Qual!$C$8:$C$133,0),IF(Tourn=\"Dbls\",8,IF(Tourn=\"2-Day\",7,IF(Tourn=\"MSC\",8,6)))),\"\")","v":""},{"$f":"IF(AJ25=\"x\",INDEX(Qual!$C$8:$U$133,MATCH(AI25,Qual!$C$8:$C$133,0),IF(Tourn=\"Dbls\",9,IF(Tourn=\"2-Day\",8,IF(Tourn=\"MSC\",10,7)))),\"\")","v":""},null,{"$f":"IF(AP25=0,\"\",'Check-In'!$B30)","v":""},{"$f":"IF(Tourn=\"2-Day\",'Check-In'!U30,IF(Tourn=\"Dbls\", 'Check-In'!S30,'Check-In'!P30))","v":0},{"$f":"IF(AP25=\"x\",INDEX(Qual!$C$8:$U$133,MATCH(AO25,Qual!$C$8:$C$133,0),IF(Tourn=\"Dbls\",15,IF(Tourn=\"2-Day\",10,IF(Tourn=\"MSC\",12,8)))),\"\")","v":""},{"$f":"IF(AP25=\"x\",INDEX(Qual!$C$8:$U$133,MATCH(AO25,Qual!$C$8:$C$133,0),IF(Tourn=\"Dbls\",16,IF(Tourn=\"2-Day\",11,IF(Tourn=\"MSC\",14,9)))),\"\")","v":""},{"$f":"IF(AP25=\"x\",INDEX(Qual!$C$8:$U$133,MATCH(AO25,Qual!$C$8:$C$133,0),IF(Tourn=\"Dbls\",17,IF(Tourn=\"2-Day\",12,IF(Tourn=\"MSC\",16,10)))),\"\")","v":""}]
[null,24,{"$f":"IF(Master!$B$1=\"Dbls\",IF(B26<='Check-In'!$R$136,B26,IF(AND(E25=E26,C25='Check-In'!$R$136),B26,\"\")),IF(Master!$B$1=\"2-Day\",IF(B26<='Check-In'!$T$136,B26,IF(AND(E25=E26,C25='Check-In'!$T$136),B26,\"\")),IF(B26<='Check-In'!$P$136,B26,IF(AND(E25=E26,C25='Check-In'!$P$136),B26,\"\"))))","v":""},"BOHN, STEVE",189,"",{"$f":"IF(Master!$B$1=\"Dbls\",IF(B26<='Check-In'!$R$137,B26,IF(AND(I25=I26,G25='Check-In'!$R$137),B26,\"\")),IF(Master!$B$1=\"2-Day\",IF(B26<='Check-In'!$T$137,B26,IF(AND(I25=I26,G25='Check-In'!$T$137),B26,\"\")),IF(B26<='Check-In'!$P$137,B26,IF(AND(I25=I26,G25='Check-In'!$P$137),B26,\"\"))))","v":""},"","","",{"$f":"IF(Master!$B$1=\"Dbls\",IF(B26<='Check-In'!$R$139,B26,IF(AND(I25=I26,G25='Check-In'!$R$139),B26,\"\")),IF(Master!$B$1=\"2-Day\",IF(B26<='Check-In'!$T$139,B26,IF(AND(I25=I26,G25='Check-In'!$T$139),B26,\"\")),IF(B26<='Check-In'!$P$139,B26,IF(AND(I25=I26,G25='Check-In'!$P$139),B26,\"\"))))","v":""},"","",null,null,24,{"$f":"IF(Master!$B$1=\"Dbls\",IF(P26<='Check-In'!$S$136,P26,IF(AND(S25=S26,Q25='Check-In'!$S$136),P26,\"\")),IF(Master!$B$1=\"2-Day\",IF(P26<='Check-In'!$U$136,P26,IF(AND(S25=S26,Q25='Check-In'!$U$136),P26,\"\")),IF(P26<='Check-In'!$Q$136,P26,IF(AND(S25=S26,Q25='Check-In'!$Q$136),P26,\"\"))))","v":""},"POELZER, CLARK",194,"",{"$f":"IF(Master!$B$1=\"Dbls\",IF(B26<='Check-In'!$S$137,B26,IF(AND(I25=I26,G25='Check-In'!$S$137),B26,\"\")),IF(Master!$B$1=\"2-Day\",IF(B26<='Check-In'!$U$137,B26,IF(AND(I25=I26,G25='Check-In'!$U$137),B26,\"\")),IF(B26<='Check-In'!$Q$137,B26,IF(AND(I25=I26,G25='Check-In'!$Q$137),B26,\"\"))))","v":""},"","","",{"$f":"IF(Master!$B$1=\"Dbls\",IF(P26<='Check-In'!$R$139,P26,IF(AND(W25=W26,U25='Check-In'!$R$139),P26,\"\")),IF(Master!$B$1=\"2-Day\",IF(P26<='Check-In'!$T$139,P26,IF(AND(W25=W26,U25='Check-In'!$T$139),P26,\"\")),IF(P26<='Check-In'!$P$139,P26,IF(AND(W25=W26,U25='Check-In'!$P$139),P26,\"\"))))","v":""},"","",{"$nulls":5},{"$f":"IF(Tourn=\"Dbls\",'Check-In'!S150,IF(Tourn=\"2-Day\",'Check-In'!U150,'Check-In'!Q150))","v":0},null,{"$f":"IF(AJ26=0,\"\",'Check-In'!$B31)","v":""},{"$f":"IF(Tourn=\"2-Day\",'Check-In'!T31,IF(Tourn=\"Dbls\", 'Check-In'!R31,'Check-In'!P31))","v":0},{"$f":"IF(AJ26=\"x\",INDEX(Qual!$C$8:$U$133,MATCH(AI26,Qual!$C$8:$C$133,0),IF(Tourn=\"Dbls\",7,IF(Tourn=\"2-Day\",6,IF(Tourn=\"MSC\",6,5)))),\"\")","v":""},{"$f":"IF(AJ26=\"x\",INDEX(Qual!$C$8:$U$133,MATCH(AI26,Qual!$C$8:$C$133,0),IF(Tourn=\"Dbls\",8,IF(Tourn=\"2-Day\",7,IF(Tourn=\"MSC\",8,6)))),\"\")","v":""},{"$f":"IF(AJ26=\"x\",INDEX(Qual!$C$8:$U$133,MATCH(AI26,Qual!$C$8:$C$133,0),IF(Tourn=\"Dbls\",9,IF(Tourn=\"2-Day\",8,IF(Tourn=\"MSC\",10,7)))),\"\")","v":""},null,{"$f":"IF(AP26=0,\"\",'Check-In'!$B31)","v":""},{"$f":"IF(Tourn=\"2-Day\",'Check-In'!U31,IF(Tourn=\"Dbls\", 'Check-In'!S31,'Check-In'!P31))","v":0},{"$f":"IF(AP26=\"x\",INDEX(Qual!$C$8:$U$133,MATCH(AO26,Qual!$C$8:$C$133,0),IF(Tourn=\"Dbls\",15,IF(Tourn=\"2-Day\",10,IF(Tourn=\"MSC\",12,8)))),\"\")","v":""},{"$f":"IF(AP26=\"x\",INDEX(Qual!$C$8:$U$133,MATCH(AO26,Qual!$C$8:$C$133,0),IF(Tourn=\"Dbls\",16,IF(Tourn=\"2-Day\",11,IF(Tourn=\"MSC\",14,9)))),\"\")","v":""},{"$f":"IF(AP26=\"x\",INDEX(Qual!$C$8:$U$133,MATCH(AO26,Qual!$C$8:$C$133,0),IF(Tourn=\"Dbls\",17,IF(Tourn=\"2-Day\",12,IF(Tourn=\"MSC\",16,10)))),\"\")","v":""}]
[null,25,{"$f":"IF(Master!$B$1=\"Dbls\",IF(B27<='Check-In'!$R$136,B27,IF(AND(E26=E27,C26='Check-In'!$R$136),B27,\"\")),IF(Master!$B$1=\"2-Day\",IF(B27<='Check-In'!$T$136,B27,IF(AND(E26=E27,C26='Check-In'!$T$136),B27,\"\")),IF(B27<='Check-In'!$P$136,B27,IF(AND(E26=E27,C26='Check-In'!$P$136),B27,\"\"))))","v":""},"SODERGREN, SCOTT",187,"",{"$f":"IF(Master!$B$1=\"Dbls\",IF(B27<='Check-In'!$R$137,B27,IF(AND(I26=I27,G26='Check-In'!$R$137),B27,\"\")),IF(Master!$B$1=\"2-Day\",IF(B27<='Check-In'!$T$137,B27,IF(AND(I26=I27,G26='Check-In'!$T$137),B27,\"\")),IF(B27<='Check-In'!$P$137,B27,IF(AND(I26=I27,G26='Check-In'!$P$137),B27,\"\"))))","v":""},"","","",{"$f":"IF(Master!$B$1=\"Dbls\",IF(B27<='Check-In'!$R$139,B27,IF(AND(I26=I27,G26='Check-In'!$R$139),B27,\"\")),IF(Master!$B$1=\"2-Day\",IF(B27<='Check-In'!$T$139,B27,IF(AND(I26=I27,G26='Check-In'!$T$139),B27,\"\")),IF(B27<='Check-In'!$P$139,B27,IF(AND(I26=I27,G26='Check-In'!$P$139),B27,\"\"))))","v":""},"","",null,null,25,{"$f":"IF(Master!$B$1=\"Dbls\",IF(P27<='Check-In'!$S$136,P27,IF(AND(S26=S27,Q26='Check-In'!$S$136),P27,\"\")),IF(Master!$B$1=\"2-Day\",IF(P27<='Check-In'!$U$136,P27,IF(AND(S26=S27,Q26='Check-In'!$U$136),P27,\"\")),IF(P27<='Check-In'!$Q$136,P27,IF(AND(S26=S27,Q26='Check-In'!$Q$136),P27,\"\"))))","v":""},"JONES, TOM",191,"",{"$f":"IF(Master!$B$1=\"Dbls\",IF(B27<='Check-In'!$S$137,B27,IF(AND(I26=I27,G26='Check-In'!$S$137),B27,\"\")),IF(Master!$B$1=\"2-Day\",IF(B27<='Check-In'!$U$137,B27,IF(AND(I26=I27,G26='Check-In'!$U$137),B27,\"\")),IF(B27<='Check-In'!$Q$137,B27,IF(AND(I26=I27,G26='Check-In'!$Q$137),B27,\"\"))))","v":""},"","","",{"$f":"IF(Master!$B$1=\"Dbls\",IF(P27<='Check-In'!$R$139,P27,IF(AND(W26=W27,U26='Check-In'!$R$139),P27,\"\")),IF(Master!$B$1=\"2-Day\",IF(P27<='Check-In'!$T$139,P27,IF(AND(W26=W27,U26='Check-In'!$T$139),P27,\"\")),IF(P27<='Check-In'!$P$139,P27,IF(AND(W26=W27,U26='Check-In'!$P$139),P27,\"\"))))","v":""},"","",{"$nulls":3},"","",{"$f":"IF(Tourn=\"Dbls\",'Check-In'!S151,IF(Tourn=\"2-Day\",'Check-In'!U151,'Check-In'!Q151))","v":0},null,{"$f":"IF(AJ27=0,\"\",'Check-In'!$B32)","v":"HOMMES, JOHN"},{"$f":"IF(Tourn=\"2-Day\",'Check-In'!T32,IF(Tourn=\"Dbls\", 'Check-In'!R32,'Check-In'!P32))","v":"X"},{"$f":"IF(AJ27=\"x\",INDEX(Qual!$C$8:$U$133,MATCH(AI27,Qual!$C$8:$C$133,0),IF(Tourn=\"Dbls\",7,IF(Tourn=\"2-Day\",6,IF(Tourn=\"MSC\",6,5)))),\"\")","v":237},{"$f":"IF(AJ27=\"x\",INDEX(Qual!$C$8:$U$133,MATCH(AI27,Qual!$C$8:$C$133,0),IF(Tourn=\"Dbls\",8,IF(Tourn=\"2-Day\",7,IF(Tourn=\"MSC\",8,6)))),\"\")","v":247},{"$f":"IF(AJ27=\"x\",INDEX(Qual!$C$8:$U$133,MATCH(AI27,Qual!$C$8:$C$133,0),IF(Tourn=\"Dbls\",9,IF(Tourn=\"2-Day\",8,IF(Tourn=\"MSC\",10,7)))),\"\")","v":198},null,{"$f":"IF(AP27=0,\"\",'Check-In'!$B32)","v":"HOMMES, JOHN"},{"$f":"IF(Tourn=\"2-Day\",'Check-In'!U32,IF(Tourn=\"Dbls\", 'Check-In'!S32,'Check-In'!P32))","v":"X"},{"$f":"IF(AP27=\"x\",INDEX(Qual!$C$8:$U$133,MATCH(AO27,Qual!$C$8:$C$133,0),IF(Tourn=\"Dbls\",15,IF(Tourn=\"2-Day\",10,IF(Tourn=\"MSC\",12,8)))),\"\")","v":268},{"$f":"IF(AP27=\"x\",INDEX(Qual!$C$8:$U$133,MATCH(AO27,Qual!$C$8:$C$133,0),IF(Tourn=\"Dbls\",16,IF(Tourn=\"2-Day\",11,IF(Tourn=\"MSC\",14,9)))),\"\")","v":196},{"$f":"IF(AP27=\"x\",INDEX(Qual!$C$8:$U$133,MATCH(AO27,Qual!$C$8:$C$133,0),IF(Tourn=\"Dbls\",17,IF(Tourn=\"2-Day\",12,IF(Tourn=\"MSC\",16,10)))),\"\")","v":235}]
[null,26,{"$f":"IF(Master!$B$1=\"Dbls\",IF(B28<='Check-In'!$R$136,B28,IF(AND(E27=E28,C27='Check-In'!$R$136),B28,\"\")),IF(Master!$B$1=\"2-Day\",IF(B28<='Check-In'!$T$136,B28,IF(AND(E27=E28,C27='Check-In'!$T$136),B28,\"\")),IF(B28<='Check-In'!$P$136,B28,IF(AND(E27=E28,C27='Check-In'!$P$136),B28,\"\"))))","v":""},"HALIDA, TERRY",186,"",{"$f":"IF(Master!$B$1=\"Dbls\",IF(B28<='Check-In'!$R$137,B28,IF(AND(I27=I28,G27='Check-In'!$R$137),B28,\"\")),IF(Master!$B$1=\"2-Day\",IF(B28<='Check-In'!$T$137,B28,IF(AND(I27=I28,G27='Check-In'!$T$137),B28,\"\")),IF(B28<='Check-In'!$P$137,B28,IF(AND(I27=I28,G27='Check-In'!$P$137),B28,\"\"))))","v":""},"","","",{"$f":"IF(Master!$B$1=\"Dbls\",IF(B28<='Check-In'!$R$139,B28,IF(AND(I27=I28,G27='Check-In'!$R$139),B28,\"\")),IF(Master!$B$1=\"2-Day\",IF(B28<='Check-In'!$T$139,B28,IF(AND(I27=I28,G27='Check-In'!$T$139),B28,\"\")),IF(B28<='Check-In'!$P$139,B28,IF(AND(I27=I28,G27='Check-In'!$P$139),B28,\"\"))))","v":""},"","",null,null,26,{"$f":"IF(Master!$B$1=\"Dbls\",IF(P28<='Check-In'!$S$136,P28,IF(AND(S27=S28,Q27='Check-In'!$S$136),P28,\"\")),IF(Master!$B$1=\"2-Day\",IF(P28<='Check-In'!$U$136,P28,IF(AND(S27=S28,Q27='Check-In'!$U$136),P28,\"\")),IF(P28<='Check-In'!$Q$136,P28,IF(AND(S27=S28,Q27='Check-In'!$Q$136),P28,\"\"))))","v":""},"SCHOSSOW, FRED",190,"",{"$f":"IF(Master!$B$1=\"Dbls\",IF(B28<='Check-In'!$S$137,B28,IF(AND(I27=I28,G27='Check-In'!$S$137),B28,\"\")),IF(Master!$B$1=\"2-Day\",IF(B28<='Check-In'!$U$137,B28,IF(AND(I27=I28,G27='Check-In'!$U$137),B28,\"\")),IF(B28<='Check-In'!$Q$137,B28,IF(AND(I27=I28,G27='Check-In'!$Q$137),B28,\"\"))))","v":""},"","","",{"$f":"IF(Master!$B$1=\"Dbls\",IF(P28<='Check-In'!$R$139,P28,IF(AND(W27=W28,U27='Check-In'!$R$139),P28,\"\")),IF(Master!$B$1=\"2-Day\",IF(P28<='Check-In'!$T$139,P28,IF(AND(W27=W28,U27='Check-In'!$T$139),P28,\"\")),IF(P28<='Check-In'!$P$139,P28,IF(AND(W27=W28,U27='Check-In'!$P$139),P28,\"\"))))","v":""},"","",{"$nulls":3},"","",{"$f":"IF(Tourn=\"Dbls\",'Check-In'!S152,IF(Tourn=\"2-Day\",'Check-In'!U152,'Check-In'!Q152))","v":0},null,{"$f":"IF(AJ28=0,\"\",'Check-In'!$B33)","v":"JONES, TOM"},{"$f":"IF(Tourn=\"2-Day\",'Check-In'!T33,IF(Tourn=\"Dbls\", 'Check-In'!R33,'Check-In'!P33))","v":"X"},{"$f":"IF(AJ28=\"x\",INDEX(Qual!$C$8:$U$133,MATCH(AI28,Qual!$C$8:$C$133,0),IF(Tourn=\"Dbls\",7,IF(Tourn=\"2-Day\",6,IF(Tourn=\"MSC\",6,5)))),\"\")","v":194},{"$f":"IF(AJ28=\"x\",INDEX(Qual!$C$8:$U$133,MATCH(AI28,Qual!$C$8:$C$133,0),IF(Tourn=\"Dbls\",8,IF(Tourn=\"2-Day\",7,IF(Tourn=\"MSC\",8,6)))),\"\")","v":245},{"$f":"IF(AJ28=\"x\",INDEX(Qual!$C$8:$U$133,MATCH(AI28,Qual!$C$8:$C$133,0),IF(Tourn=\"Dbls\",9,IF(Tourn=\"2-Day\",8,IF(Tourn=\"MSC\",10,7)))),\"\")","v":219},null,{"$f":"IF(AP28=0,\"\",'Check-In'!$B33)","v":"JONES, TOM"},{"$f":"IF(Tourn=\"2-Day\",'Check-In'!U33,IF(Tourn=\"Dbls\", 'Check-In'!S33,'Check-In'!P33))","v":"X"},{"$f":"IF(AP28=\"x\",INDEX(Qual!$C$8:$U$133,MATCH(AO28,Qual!$C$8:$C$133,0),IF(Tourn=\"Dbls\",15,IF(Tourn=\"2-Day\",10,IF(Tourn=\"MSC\",12,8)))),\"\")","v":191},{"$f":"IF(AP28=\"x\",INDEX(Qual!$C$8:$U$133,MATCH(AO28,Qual!$C$8:$C$133,0),IF(Tourn=\"Dbls\",16,IF(Tourn=\"2-Day\",11,IF(Tourn=\"MSC\",14,9)))),\"\")","v":215},{"$f":"IF(AP28=\"x\",INDEX(Qual!$C$8:$U$133,MATCH(AO28,Qual!$C$8:$C$133,0),IF(Tourn=\"Dbls\",17,IF(Tourn=\"2-Day\",12,IF(Tourn=\"MSC\",16,10)))),\"\")","v":228}]
[null,27,{"$f":"IF(Master!$B$1=\"Dbls\",IF(B29<='Check-In'!$R$136,B29,IF(AND(E28=E29,C28='Check-In'!$R$136),B29,\"\")),IF(Master!$B$1=\"2-Day\",IF(B29<='Check-In'!$T$136,B29,IF(AND(E28=E29,C28='Check-In'!$T$136),B29,\"\")),IF(B29<='Check-In'!$P$136,B29,IF(AND(E28=E29,C28='Check-In'!$P$136),B29,\"\"))))","v":""},"SAVOY, TODD",183,"",{"$f":"IF(Master!$B$1=\"Dbls\",IF(B29<='Check-In'!$R$137,B29,IF(AND(I28=I29,G28='Check-In'!$R$137),B29,\"\")),IF(Master!$B$1=\"2-Day\",IF(B29<='Check-In'!$T$137,B29,IF(AND(I28=I29,G28='Check-In'!$T$137),B29,\"\")),IF(B29<='Check-In'!$P$137,B29,IF(AND(I28=I29,G28='Check-In'!$P$137),B29,\"\"))))","v":""},"","","",{"$f":"IF(Master!$B$1=\"Dbls\",IF(B29<='Check-In'!$R$139,B29,IF(AND(I28=I29,G28='Check-In'!$R$139),B29,\"\")),IF(Master!$B$1=\"2-Day\",IF(B29<='Check-In'!$T$139,B29,IF(AND(I28=I29,G28='Check-In'!$T$139),B29,\"\")),IF(B29<='Check-In'!$P$139,B29,IF(AND(I28=I29,G28='Check-In'!$P$139),B29,\"\"))))","v":""},"","",null,null,27,{"$f":"IF(Master!$B$1=\"Dbls\",IF(P29<='Check-In'!$S$136,P29,IF(AND(S28=S29,Q28='Check-In'!$S$136),P29,\"\")),IF(Master!$B$1=\"2-Day\",IF(P29<='Check-In'!$U$136,P29,IF(AND(S28=S29,Q28='Check-In'!$U$136),P29,\"\")),IF(P29<='Check-In'!$Q$136,P29,IF(AND(S28=S29,Q28='Check-In'!$Q$136),P29,\"\"))))","v":""},"THOMPSON, DOUG",190,"",{"$f":"IF(Master!$B$1=\"Dbls\",IF(B29<='Check-In'!$S$137,B29,IF(AND(I28=I29,G28='Check-In'!$S$137),B29,\"\")),IF(Master!$B$1=\"2-Day\",IF(B29<='Check-In'!$U$137,B29,IF(AND(I28=I29,G28='Check-In'!$U$137),B29,\"\")),IF(B29<='Check-In'!$Q$137,B29,IF(AND(I28=I29,G28='Check-In'!$Q$137),B29,\"\"))))","v":""},"","","",{"$f":"IF(Master!$B$1=\"Dbls\",IF(P29<='Check-In'!$R$139,P29,IF(AND(W28=W29,U28='Check-In'!$R$139),P29,\"\")),IF(Master!$B$1=\"2-Day\",IF(P29<='Check-In'!$T$139,P29,IF(AND(W28=W29,U28='Check-In'!$T$139),P29,\"\")),IF(P29<='Check-In'!$P$139,P29,IF(AND(W28=W29,U28='Check-In'!$P$139),P29,\"\"))))","v":""},"","",{"$nulls":5},{"$f":"SUM(AG21:AG28)","v":{"v":360,"d":"$360.00"}},null,{"$f":"IF(AJ29=0,\"\",'Check-In'!$B34)","v":""},{"$f":"IF(Tourn=\"2-Day\",'Check-In'!T34,IF(Tourn=\"Dbls\", 'Check-In'!R34,'Check-In'!P34))","v":0},{"$f":"IF(AJ29=\"x\",INDEX(Qual!$C$8:$U$133,MATCH(AI29,Qual!$C$8:$C$133,0),IF(Tourn=\"Dbls\",7,IF(Tourn=\"2-Day\",6,IF(Tourn=\"MSC\",6,5)))),\"\")","v":""},{"$f":"IF(AJ29=\"x\",INDEX(Qual!$C$8:$U$133,MATCH(AI29,Qual!$C$8:$C$133,0),IF(Tourn=\"Dbls\",8,IF(Tourn=\"2-Day\",7,IF(Tourn=\"MSC\",8,6)))),\"\")","v":""},{"$f":"IF(AJ29=\"x\",INDEX(Qual!$C$8:$U$133,MATCH(AI29,Qual!$C$8:$C$133,0),IF(Tourn=\"Dbls\",9,IF(Tourn=\"2-Day\",8,IF(Tourn=\"MSC\",10,7)))),\"\")","v":""},null,{"$f":"IF(AP29=0,\"\",'Check-In'!$B34)","v":""},{"$f":"IF(Tourn=\"2-Day\",'Check-In'!U34,IF(Tourn=\"Dbls\", 'Check-In'!S34,'Check-In'!P34))","v":0},{"$f":"IF(AP29=\"x\",INDEX(Qual!$C$8:$U$133,MATCH(AO29,Qual!$C$8:$C$133,0),IF(Tourn=\"Dbls\",15,IF(Tourn=\"2-Day\",10,IF(Tourn=\"MSC\",12,8)))),\"\")","v":""},{"$f":"IF(AP29=\"x\",INDEX(Qual!$C$8:$U$133,MATCH(AO29,Qual!$C$8:$C$133,0),IF(Tourn=\"Dbls\",16,IF(Tourn=\"2-Day\",11,IF(Tourn=\"MSC\",14,9)))),\"\")","v":""},{"$f":"IF(AP29=\"x\",INDEX(Qual!$C$8:$U$133,MATCH(AO29,Qual!$C$8:$C$133,0),IF(Tourn=\"Dbls\",17,IF(Tourn=\"2-Day\",12,IF(Tourn=\"MSC\",16,10)))),\"\")","v":""}]
[null,28,{"$f":"IF(Master!$B$1=\"Dbls\",IF(B30<='Check-In'!$R$136,B30,IF(AND(E29=E30,C29='Check-In'!$R$136),B30,\"\")),IF(Master!$B$1=\"2-Day\",IF(B30<='Check-In'!$T$136,B30,IF(AND(E29=E30,C29='Check-In'!$T$136),B30,\"\")),IF(B30<='Check-In'!$P$136,B30,IF(AND(E29=E30,C29='Check-In'!$P$136),B30,\"\"))))","v":""},"DAVISON, PAUL",181,"",{"$f":"IF(Master!$B$1=\"Dbls\",IF(B30<='Check-In'!$R$137,B30,IF(AND(I29=I30,G29='Check-In'!$R$137),B30,\"\")),IF(Master!$B$1=\"2-Day\",IF(B30<='Check-In'!$T$137,B30,IF(AND(I29=I30,G29='Check-In'!$T$137),B30,\"\")),IF(B30<='Check-In'!$P$137,B30,IF(AND(I29=I30,G29='Check-In'!$P$137),B30,\"\"))))","v":""},"","","",{"$f":"IF(Master!$B$1=\"Dbls\",IF(B30<='Check-In'!$R$139,B30,IF(AND(I29=I30,G29='Check-In'!$R$139),B30,\"\")),IF(Master!$B$1=\"2-Day\",IF(B30<='Check-In'!$T$139,B30,IF(AND(I29=I30,G29='Check-In'!$T$139),B30,\"\")),IF(B30<='Check-In'!$P$139,B30,IF(AND(I29=I30,G29='Check-In'!$P$139),B30,\"\"))))","v":""},"","",null,null,28,{"$f":"IF(Master!$B$1=\"Dbls\",IF(P30<='Check-In'!$S$136,P30,IF(AND(S29=S30,Q29='Check-In'!$S$136),P30,\"\")),IF(Master!$B$1=\"2-Day\",IF(P30<='Check-In'!$U$136,P30,IF(AND(S29=S30,Q29='Check-In'!$U$136),P30,\"\")),IF(P30<='Check-In'!$Q$136,P30,IF(AND(S29=S30,Q29='Check-In'!$Q$136),P30,\"\"))))","v":""},"HALIDA, TERRY",183,"",{"$f":"IF(Master!$B$1=\"Dbls\",IF(B30<='Check-In'!$S$137,B30,IF(AND(I29=I30,G29='Check-In'!$S$137),B30,\"\")),IF(Master!$B$1=\"2-Day\",IF(B30<='Check-In'!$U$137,B30,IF(AND(I29=I30,G29='Check-In'!$U$137),B30,\"\")),IF(B30<='Check-In'!$Q$137,B30,IF(AND(I29=I30,G29='Check-In'!$Q$137),B30,\"\"))))","v":""},"","","",{"$f":"IF(Master!$B$1=\"Dbls\",IF(P30<='Check-In'!$R$139,P30,IF(AND(W29=W30,U29='Check-In'!$R$139),P30,\"\")),IF(Master!$B$1=\"2-Day\",IF(P30<='Check-In'!$T$139,P30,IF(AND(W29=W30,U29='Check-In'!$T$139),P30,\"\")),IF(P30<='Check-In'!$P$139,P30,IF(AND(W29=W30,U29='Check-In'!$P$139),P30,\"\"))))","v":""},"","",{"$nulls":7},{"$f":"IF(AJ30=0,\"\",'Check-In'!$B35)","v":"BORDSON, DAVE"},{"$f":"IF(Tourn=\"2-Day\",'Check-In'!T35,IF(Tourn=\"Dbls\", 'Check-In'!R35,'Check-In'!P35))","v":"X"},{"$f":"IF(AJ30=\"x\",INDEX(Qual!$C$8:$U$133,MATCH(AI30,Qual!$C$8:$C$133,0),IF(Tourn=\"Dbls\",7,IF(Tourn=\"2-Day\",6,IF(Tourn=\"MSC\",6,5)))),\"\")","v":211},{"$f":"IF(AJ30=\"x\",INDEX(Qual!$C$8:$U$133,MATCH(AI30,Qual!$C$8:$C$133,0),IF(Tourn=\"Dbls\",8,IF(Tourn=\"2-Day\",7,IF(Tourn=\"MSC\",8,6)))),\"\")","v":145},{"$f":"IF(AJ30=\"x\",INDEX(Qual!$C$8:$U$133,MATCH(AI30,Qual!$C$8:$C$133,0),IF(Tourn=\"Dbls\",9,IF(Tourn=\"2-Day\",8,IF(Tourn=\"MSC\",10,7)))),\"\")","v":203},null,{"$f":"IF(AP30=0,\"\",'Check-In'!$B35)","v":"BORDSON, DAVE"},{"$f":"IF(Tourn=\"2-Day\",'Check-In'!U35,IF(Tourn=\"Dbls\", 'Check-In'!S35,'Check-In'!P35))","v":"X"},{"$f":"IF(AP30=\"x\",INDEX(Qual!$C$8:$U$133,MATCH(AO30,Qual!$C$8:$C$133,0),IF(Tourn=\"Dbls\",15,IF(Tourn=\"2-Day\",10,IF(Tourn=\"MSC\",12,8)))),\"\")","v":214},{"$f":"IF(AP30=\"x\",INDEX(Qual!$C$8:$U$133,MATCH(AO30,Qual!$C$8:$C$133,0),IF(Tourn=\"Dbls\",16,IF(Tourn=\"2-Day\",11,IF(Tourn=\"MSC\",14,9)))),\"\")","v":226},{"$f":"IF(AP30=\"x\",INDEX(Qual!$C$8:$U$133,MATCH(AO30,Qual!$C$8:$C$133,0),IF(Tourn=\"Dbls\",17,IF(Tourn=\"2-Day\",12,IF(Tourn=\"MSC\",16,10)))),\"\")","v":238}]
[null,29,{"$f":"IF(Master!$B$1=\"Dbls\",IF(B31<='Check-In'!$R$136,B31,IF(AND(E30=E31,C30='Check-In'!$R$136),B31,\"\")),IF(Master!$B$1=\"2-Day\",IF(B31<='Check-In'!$T$136,B31,IF(AND(E30=E31,C30='Check-In'!$T$136),B31,\"\")),IF(B31<='Check-In'!$P$136,B31,IF(AND(E30=E31,C30='Check-In'!$P$136),B31,\"\"))))","v":""},"DAVIS, SCOTT",180,"",{"$f":"IF(Master!$B$1=\"Dbls\",IF(B31<='Check-In'!$R$137,B31,IF(AND(I30=I31,G30='Check-In'!$R$137),B31,\"\")),IF(Master!$B$1=\"2-Day\",IF(B31<='Check-In'!$T$137,B31,IF(AND(I30=I31,G30='Check-In'!$T$137),B31,\"\")),IF(B31<='Check-In'!$P$137,B31,IF(AND(I30=I31,G30='Check-In'!$P$137),B31,\"\"))))","v":""},"","","",{"$f":"IF(Master!$B$1=\"Dbls\",IF(B31<='Check-In'!$R$139,B31,IF(AND(I30=I31,G30='Check-In'!$R$139),B31,\"\")),IF(Master!$B$1=\"2-Day\",IF(B31<='Check-In'!$T$139,B31,IF(AND(I30=I31,G30='Check-In'!$T$139),B31,\"\")),IF(B31<='Check-In'!$P$139,B31,IF(AND(I30=I31,G30='Check-In'!$P$139),B31,\"\"))))","v":""},"","",null,null,29,{"$f":"IF(Master!$B$1=\"Dbls\",IF(P31<='Check-In'!$S$136,P31,IF(AND(S30=S31,Q30='Check-In'!$S$136),P31,\"\")),IF(Master!$B$1=\"2-Day\",IF(P31<='Check-In'!$U$136,P31,IF(AND(S30=S31,Q30='Check-In'!$U$136),P31,\"\")),IF(P31<='Check-In'!$Q$136,P31,IF(AND(S30=S31,Q30='Check-In'!$Q$136),P31,\"\"))))","v":""},"GREEN, GARY",182,"",{"$f":"IF(Master!$B$1=\"Dbls\",IF(B31<='Check-In'!$S$137,B31,IF(AND(I30=I31,G30='Check-In'!$S$137),B31,\"\")),IF(Master!$B$1=\"2-Day\",IF(B31<='Check-In'!$U$137,B31,IF(AND(I30=I31,G30='Check-In'!$U$137),B31,\"\")),IF(B31<='Check-In'!$Q$137,B31,IF(AND(I30=I31,G30='Check-In'!$Q$137),B31,\"\"))))","v":""},"","","",{"$f":"IF(Master!$B$1=\"Dbls\",IF(P31<='Check-In'!$R$139,P31,IF(AND(W30=W31,U30='Check-In'!$R$139),P31,\"\")),IF(Master!$B$1=\"2-Day\",IF(P31<='Check-In'!$T$139,P31,IF(AND(W30=W31,U30='Check-In'!$T$139),P31,\"\")),IF(P31<='Check-In'!$P$139,P31,IF(AND(W30=W31,U30='Check-In'!$P$139),P31,\"\"))))","v":""},"","",{"$nulls":7},{"$f":"IF(AJ31=0,\"\",'Check-In'!$B36)","v":"HAUGAN, ERIC"},{"$f":"IF(Tourn=\"2-Day\",'Check-In'!T36,IF(Tourn=\"Dbls\", 'Check-In'!R36,'Check-In'!P36))","v":"X"},{"$f":"IF(AJ31=\"x\",INDEX(Qual!$C$8:$U$133,MATCH(AI31,Qual!$C$8:$C$133,0),IF(Tourn=\"Dbls\",7,IF(Tourn=\"2-Day\",6,IF(Tourn=\"MSC\",6,5)))),\"\")","v":220},{"$f":"IF(AJ31=\"x\",INDEX(Qual!$C$8:$U$133,MATCH(AI31,Qual!$C$8:$C$133,0),IF(Tourn=\"Dbls\",8,IF(Tourn=\"2-Day\",7,IF(Tourn=\"MSC\",8,6)))),\"\")","v":247},{"$f":"IF(AJ31=\"x\",INDEX(Qual!$C$8:$U$133,MATCH(AI31,Qual!$C$8:$C$133,0),IF(Tourn=\"Dbls\",9,IF(Tourn=\"2-Day\",8,IF(Tourn=\"MSC\",10,7)))),\"\")","v":180},null,{"$f":"IF(AP31=0,\"\",'Check-In'!$B36)","v":"HAUGAN, ERIC"},{"$f":"IF(Tourn=\"2-Day\",'Check-In'!U36,IF(Tourn=\"Dbls\", 'Check-In'!S36,'Check-In'!P36))","v":"X"},{"$f":"IF(AP31=\"x\",INDEX(Qual!$C$8:$U$133,MATCH(AO31,Qual!$C$8:$C$133,0),IF(Tourn=\"Dbls\",15,IF(Tourn=\"2-Day\",10,IF(Tourn=\"MSC\",12,8)))),\"\")","v":223},{"$f":"IF(AP31=\"x\",INDEX(Qual!$C$8:$U$133,MATCH(AO31,Qual!$C$8:$C$133,0),IF(Tourn=\"Dbls\",16,IF(Tourn=\"2-Day\",11,IF(Tourn=\"MSC\",14,9)))),\"\")","v":193},{"$f":"IF(AP31=\"x\",INDEX(Qual!$C$8:$U$133,MATCH(AO31,Qual!$C$8:$C$133,0),IF(Tourn=\"Dbls\",17,IF(Tourn=\"2-Day\",12,IF(Tourn=\"MSC\",16,10)))),\"\")","v":201}]
[null,30,{"$f":"IF(Master!$B$1=\"Dbls\",IF(B32<='Check-In'!$R$136,B32,IF(AND(E31=E32,C31='Check-In'!$R$136),B32,\"\")),IF(Master!$B$1=\"2-Day\",IF(B32<='Check-In'!$T$136,B32,IF(AND(E31=E32,C31='Check-In'!$T$136),B32,\"\")),IF(B32<='Check-In'!$P$136,B32,IF(AND(E31=E32,C31='Check-In'!$P$136),B32,\"\"))))","v":""},"MANSKE, WARREN",180,"",{"$f":"IF(Master!$B$1=\"Dbls\",IF(B32<='Check-In'!$R$137,B32,IF(AND(I31=I32,G31='Check-In'!$R$137),B32,\"\")),IF(Master!$B$1=\"2-Day\",IF(B32<='Check-In'!$T$137,B32,IF(AND(I31=I32,G31='Check-In'!$T$137),B32,\"\")),IF(B32<='Check-In'!$P$137,B32,IF(AND(I31=I32,G31='Check-In'!$P$137),B32,\"\"))))","v":""},"","","",{"$f":"IF(Master!$B$1=\"Dbls\",IF(B32<='Check-In'!$R$139,B32,IF(AND(I31=I32,G31='Check-In'!$R$139),B32,\"\")),IF(Master!$B$1=\"2-Day\",IF(B32<='Check-In'!$T$139,B32,IF(AND(I31=I32,G31='Check-In'!$T$139),B32,\"\")),IF(B32<='Check-In'!$P$139,B32,IF(AND(I31=I32,G31='Check-In'!$P$139),B32,\"\"))))","v":""},"","",null,null,30,{"$f":"IF(Master!$B$1=\"Dbls\",IF(P32<='Check-In'!$S$136,P32,IF(AND(S31=S32,Q31='Check-In'!$S$136),P32,\"\")),IF(Master!$B$1=\"2-Day\",IF(P32<='Check-In'!$U$136,P32,IF(AND(S31=S32,Q31='Check-In'!$U$136),P32,\"\")),IF(P32<='Check-In'!$Q$136,P32,IF(AND(S31=S32,Q31='Check-In'!$Q$136),P32,\"\"))))","v":""},"DAVIS, SCOTT",180,"",{"$f":"IF(Master!$B$1=\"Dbls\",IF(B32<='Check-In'!$S$137,B32,IF(AND(I31=I32,G31='Check-In'!$S$137),B32,\"\")),IF(Master!$B$1=\"2-Day\",IF(B32<='Check-In'!$U$137,B32,IF(AND(I31=I32,G31='Check-In'!$U$137),B32,\"\")),IF(B32<='Check-In'!$Q$137,B32,IF(AND(I31=I32,G31='Check-In'!$Q$137),B32,\"\"))))","v":""},"","","",{"$f":"IF(Master!$B$1=\"Dbls\",IF(P32<='Check-In'!$R$139,P32,IF(AND(W31=W32,U31='Check-In'!$R$139),P32,\"\")),IF(Master!$B$1=\"2-Day\",IF(P32<='Check-In'!$T$139,P32,IF(AND(W31=W32,U31='Check-In'!$T$139),P32,\"\")),IF(P32<='Check-In'!$P$139,P32,IF(AND(W31=W32,U31='Check-In'!$P$139),P32,\"\"))))","v":""},"","",{"$nulls":7},{"$f":"IF(AJ32=0,\"\",'Check-In'!$B37)","v":"JENSEN, WAYNE"},{"$f":"IF(Tourn=\"2-Day\",'Check-In'!T37,IF(Tourn=\"Dbls\", 'Check-In'!R37,'Check-In'!P37))","v":"X"},{"$f":"IF(AJ32=\"x\",INDEX(Qual!$C$8:$U$133,MATCH(AI32,Qual!$C$8:$C$133,0),IF(Tourn=\"Dbls\",7,IF(Tourn=\"2-Day\",6,IF(Tourn=\"MSC\",6,5)))),\"\")","v":222},{"$f":"IF(AJ32=\"x\",INDEX(Qual!$C$8:$U$133,MATCH(AI32,Qual!$C$8:$C$133,0),IF(Tourn=\"Dbls\",8,IF(Tourn=\"2-Day\",7,IF(Tourn=\"MSC\",8,6)))),\"\")","v":207},{"$f":"IF(AJ32=\"x\",INDEX(Qual!$C$8:$U$133,MATCH(AI32,Qual!$C$8:$C$133,0),IF(Tourn=\"Dbls\",9,IF(Tourn=\"2-Day\",8,IF(Tourn=\"MSC\",10,7)))),\"\")","v":202},null,{"$f":"IF(AP32=0,\"\",'Check-In'!$B37)","v":"JENSEN, WAYNE"},{"$f":"IF(Tourn=\"2-Day\",'Check-In'!U37,IF(Tourn=\"Dbls\", 'Check-In'!S37,'Check-In'!P37))","v":"X"},{"$f":"IF(AP32=\"x\",INDEX(Qual!$C$8:$U$133,MATCH(AO32,Qual!$C$8:$C$133,0),IF(Tourn=\"Dbls\",15,IF(Tourn=\"2-Day\",10,IF(Tourn=\"MSC\",12,8)))),\"\")","v":223},{"$f":"IF(AP32=\"x\",INDEX(Qual!$C$8:$U$133,MATCH(AO32,Qual!$C$8:$C$133,0),IF(Tourn=\"Dbls\",16,IF(Tourn=\"2-Day\",11,IF(Tourn=\"MSC\",14,9)))),\"\")","v":213},{"$f":"IF(AP32=\"x\",INDEX(Qual!$C$8:$U$133,MATCH(AO32,Qual!$C$8:$C$133,0),IF(Tourn=\"Dbls\",17,IF(Tourn=\"2-Day\",12,IF(Tourn=\"MSC\",16,10)))),\"\")","v":238}]
[null,31,{"$f":"IF(Master!$B$1=\"Dbls\",IF(B33<='Check-In'!$R$136,B33,IF(AND(E32=E33,C32='Check-In'!$R$136),B33,\"\")),IF(Master!$B$1=\"2-Day\",IF(B33<='Check-In'!$T$136,B33,IF(AND(E32=E33,C32='Check-In'!$T$136),B33,\"\")),IF(B33<='Check-In'!$P$136,B33,IF(AND(E32=E33,C32='Check-In'!$P$136),B33,\"\"))))","v":""},"JENSEN, ROBERT",170,"",{"$f":"IF(Master!$B$1=\"Dbls\",IF(B33<='Check-In'!$R$137,B33,IF(AND(I32=I33,G32='Check-In'!$R$137),B33,\"\")),IF(Master!$B$1=\"2-Day\",IF(B33<='Check-In'!$T$137,B33,IF(AND(I32=I33,G32='Check-In'!$T$137),B33,\"\")),IF(B33<='Check-In'!$P$137,B33,IF(AND(I32=I33,G32='Check-In'!$P$137),B33,\"\"))))","v":""},"","","",{"$f":"IF(Master!$B$1=\"Dbls\",IF(B33<='Check-In'!$R$139,B33,IF(AND(I32=I33,G32='Check-In'!$R$139),B33,\"\")),IF(Master!$B$1=\"2-Day\",IF(B33<='Check-In'!$T$139,B33,IF(AND(I32=I33,G32='Check-In'!$T$139),B33,\"\")),IF(B33<='Check-In'!$P$139,B33,IF(AND(I32=I33,G32='Check-In'!$P$139),B33,\"\"))))","v":""},"","",null,null,31,{"$f":"IF(Master!$B$1=\"Dbls\",IF(P33<='Check-In'!$S$136,P33,IF(AND(S32=S33,Q32='Check-In'!$S$136),P33,\"\")),IF(Master!$B$1=\"2-Day\",IF(P33<='Check-In'!$U$136,P33,IF(AND(S32=S33,Q32='Check-In'!$U$136),P33,\"\")),IF(P33<='Check-In'!$Q$136,P33,IF(AND(S32=S33,Q32='Check-In'!$Q$136),P33,\"\"))))","v":""},"DAVISON, PAUL",179,"",{"$f":"IF(Master!$B$1=\"Dbls\",IF(B33<='Check-In'!$S$137,B33,IF(AND(I32=I33,G32='Check-In'!$S$137),B33,\"\")),IF(Master!$B$1=\"2-Day\",IF(B33<='Check-In'!$U$137,B33,IF(AND(I32=I33,G32='Check-In'!$U$137),B33,\"\")),IF(B33<='Check-In'!$Q$137,B33,IF(AND(I32=I33,G32='Check-In'!$Q$137),B33,\"\"))))","v":""},"","","",{"$f":"IF(Master!$B$1=\"Dbls\",IF(P33<='Check-In'!$R$139,P33,IF(AND(W32=W33,U32='Check-In'!$R$139),P33,\"\")),IF(Master!$B$1=\"2-Day\",IF(P33<='Check-In'!$T$139,P33,IF(AND(W32=W33,U32='Check-In'!$T$139),P33,\"\")),IF(P33<='Check-In'!$P$139,P33,IF(AND(W32=W33,U32='Check-In'!$P$139),P33,\"\"))))","v":""},"","",{"$nulls":7},{"$f":"IF(AJ33=0,\"\",'Check-In'!$B38)","v":""},{"$f":"IF(Tourn=\"2-Day\",'Check-In'!T38,IF(Tourn=\"Dbls\", 'Check-In'!R38,'Check-In'!P38))","v":0},{"$f":"IF(AJ33=\"x\",INDEX(Qual!$C$8:$U$133,MATCH(AI33,Qual!$C$8:$C$133,0),IF(Tourn=\"Dbls\",7,IF(Tourn=\"2-Day\",6,IF(Tourn=\"MSC\",6,5)))),\"\")","v":""},{"$f":"IF(AJ33=\"x\",INDEX(Qual!$C$8:$U$133,MATCH(AI33,Qual!$C$8:$C$133,0),IF(Tourn=\"Dbls\",8,IF(Tourn=\"2-Day\",7,IF(Tourn=\"MSC\",8,6)))),\"\")","v":""},{"$f":"IF(AJ33=\"x\",INDEX(Qual!$C$8:$U$133,MATCH(AI33,Qual!$C$8:$C$133,0),IF(Tourn=\"Dbls\",9,IF(Tourn=\"2-Day\",8,IF(Tourn=\"MSC\",10,7)))),\"\")","v":""},null,{"$f":"IF(AP33=0,\"\",'Check-In'!$B38)","v":""},{"$f":"IF(Tourn=\"2-Day\",'Check-In'!U38,IF(Tourn=\"Dbls\", 'Check-In'!S38,'Check-In'!P38))","v":0},{"$f":"IF(AP33=\"x\",INDEX(Qual!$C$8:$U$133,MATCH(AO33,Qual!$C$8:$C$133,0),IF(Tourn=\"Dbls\",15,IF(Tourn=\"2-Day\",10,IF(Tourn=\"MSC\",12,8)))),\"\")","v":""},{"$f":"IF(AP33=\"x\",INDEX(Qual!$C$8:$U$133,MATCH(AO33,Qual!$C$8:$C$133,0),IF(Tourn=\"Dbls\",16,IF(Tourn=\"2-Day\",11,IF(Tourn=\"MSC\",14,9)))),\"\")","v":""},{"$f":"IF(AP33=\"x\",INDEX(Qual!$C$8:$U$133,MATCH(AO33,Qual!$C$8:$C$133,0),IF(Tourn=\"Dbls\",17,IF(Tourn=\"2-Day\",12,IF(Tourn=\"MSC\",16,10)))),\"\")","v":""}]
[null,32,{"$f":"IF(Master!$B$1=\"Dbls\",IF(B34<='Check-In'!$R$136,B34,IF(AND(E33=E34,C33='Check-In'!$R$136),B34,\"\")),IF(Master!$B$1=\"2-Day\",IF(B34<='Check-In'!$T$136,B34,IF(AND(E33=E34,C33='Check-In'!$T$136),B34,\"\")),IF(B34<='Check-In'!$P$136,B34,IF(AND(E33=E34,C33='Check-In'!$P$136),B34,\"\"))))","v":""},"POELZER, CLARK",168,"",{"$f":"IF(Master!$B$1=\"Dbls\",IF(B34<='Check-In'!$R$137,B34,IF(AND(I33=I34,G33='Check-In'!$R$137),B34,\"\")),IF(Master!$B$1=\"2-Day\",IF(B34<='Check-In'!$T$137,B34,IF(AND(I33=I34,G33='Check-In'!$T$137),B34,\"\")),IF(B34<='Check-In'!$P$137,B34,IF(AND(I33=I34,G33='Check-In'!$P$137),B34,\"\"))))","v":""},"","","",{"$f":"IF(Master!$B$1=\"Dbls\",IF(B34<='Check-In'!$R$139,B34,IF(AND(I33=I34,G33='Check-In'!$R$139),B34,\"\")),IF(Master!$B$1=\"2-Day\",IF(B34<='Check-In'!$T$139,B34,IF(AND(I33=I34,G33='Check-In'!$T$139),B34,\"\")),IF(B34<='Check-In'!$P$139,B34,IF(AND(I33=I34,G33='Check-In'!$P$139),B34,\"\"))))","v":""},"","",null,null,32,{"$f":"IF(Master!$B$1=\"Dbls\",IF(P34<='Check-In'!$S$136,P34,IF(AND(S33=S34,Q33='Check-In'!$S$136),P34,\"\")),IF(Master!$B$1=\"2-Day\",IF(P34<='Check-In'!$U$136,P34,IF(AND(S33=S34,Q33='Check-In'!$U$136),P34,\"\")),IF(P34<='Check-In'!$Q$136,P34,IF(AND(S33=S34,Q33='Check-In'!$Q$136),P34,\"\"))))","v":""},"RACETTE, TIM",179,"",{"$f":"IF(Master!$B$1=\"Dbls\",IF(B34<='Check-In'!$S$137,B34,IF(AND(I33=I34,G33='Check-In'!$S$137),B34,\"\")),IF(Master!$B$1=\"2-Day\",IF(B34<='Check-In'!$U$137,B34,IF(AND(I33=I34,G33='Check-In'!$U$137),B34,\"\")),IF(B34<='Check-In'!$Q$137,B34,IF(AND(I33=I34,G33='Check-In'!$Q$137),B34,\"\"))))","v":""},"","","",{"$f":"IF(Master!$B$1=\"Dbls\",IF(P34<='Check-In'!$R$139,P34,IF(AND(W33=W34,U33='Check-In'!$R$139),P34,\"\")),IF(Master!$B$1=\"2-Day\",IF(P34<='Check-In'!$T$139,P34,IF(AND(W33=W34,U33='Check-In'!$T$139),P34,\"\")),IF(P34<='Check-In'!$P$139,P34,IF(AND(W33=W34,U33='Check-In'!$P$139),P34,\"\"))))","v":""},"","",{"$nulls":7},{"$f":"IF(AJ34=0,\"\",'Check-In'!$B39)","v":"GOODWIN, CRAIG"},{"$f":"IF(Tourn=\"2-Day\",'Check-In'!T39,IF(Tourn=\"Dbls\", 'Check-In'!R39,'Check-In'!P39))","v":"X"},{"$f":"IF(AJ34=\"x\",INDEX(Qual!$C$8:$U$133,MATCH(AI34,Qual!$C$8:$C$133,0),IF(Tourn=\"Dbls\",7,IF(Tourn=\"2-Day\",6,IF(Tourn=\"MSC\",6,5)))),\"\")","v":222},{"$f":"IF(AJ34=\"x\",INDEX(Qual!$C$8:$U$133,MATCH(AI34,Qual!$C$8:$C$133,0),IF(Tourn=\"Dbls\",8,IF(Tourn=\"2-Day\",7,IF(Tourn=\"MSC\",8,6)))),\"\")","v":232},{"$f":"IF(AJ34=\"x\",INDEX(Qual!$C$8:$U$133,MATCH(AI34,Qual!$C$8:$C$133,0),IF(Tourn=\"Dbls\",9,IF(Tourn=\"2-Day\",8,IF(Tourn=\"MSC\",10,7)))),\"\")","v":170},null,{"$f":"IF(AP34=0,\"\",'Check-In'!$B39)","v":"GOODWIN, CRAIG"},{"$f":"IF(Tourn=\"2-Day\",'Check-In'!U39,IF(Tourn=\"Dbls\", 'Check-In'!S39,'Check-In'!P39))","v":"X"},{"$f":"IF(AP34=\"x\",INDEX(Qual!$C$8:$U$133,MATCH(AO34,Qual!$C$8:$C$133,0),IF(Tourn=\"Dbls\",15,IF(Tourn=\"2-Day\",10,IF(Tourn=\"MSC\",12,8)))),\"\")","v":203},{"$f":"IF(AP34=\"x\",INDEX(Qual!$C$8:$U$133,MATCH(AO34,Qual!$C$8:$C$133,0),IF(Tourn=\"Dbls\",16,IF(Tourn=\"2-Day\",11,IF(Tourn=\"MSC\",14,9)))),\"\")","v":200},{"$f":"IF(AP34=\"x\",INDEX(Qual!$C$8:$U$133,MATCH(AO34,Qual!$C$8:$C$133,0),IF(Tourn=\"Dbls\",17,IF(Tourn=\"2-Day\",12,IF(Tourn=\"MSC\",16,10)))),\"\")","v":217}]
[null,33,{"$f":"IF(Master!$B$1=\"Dbls\",IF(B35<='Check-In'!$R$136,B35,IF(AND(E34=E35,C34='Check-In'!$R$136),B35,\"\")),IF(Master!$B$1=\"2-Day\",IF(B35<='Check-In'!$T$136,B35,IF(AND(E34=E35,C34='Check-In'!$T$136),B35,\"\")),IF(B35<='Check-In'!$P$136,B35,IF(AND(E34=E35,C34='Check-In'!$P$136),B35,\"\"))))","v":""},"SCHOSSOW, FRED",159,{"$f":"IF(C35<>\"\",INDEX($AI$2:$AM$133,MATCH(D35,$AI$2:$AI$133,0),4),\"\")","v":""},{"$f":"IF(Master!$B$1=\"Dbls\",IF(B35<='Check-In'!$R$137,B35,IF(AND(I34=I35,G34='Check-In'!$R$137),B35,\"\")),IF(Master!$B$1=\"2-Day\",IF(B35<='Check-In'!$T$137,B35,IF(AND(I34=I35,G34='Check-In'!$T$137),B35,\"\")),IF(B35<='Check-In'!$P$137,B35,IF(AND(I34=I35,G34='Check-In'!$P$137),B35,\"\"))))","v":""},"",{"$f":"IF(C35=\"\",\"\",LARGE(E1G2B,B35))","v":""},{"$f":"IF(G35<>\"\",INDEX($AI$2:$AM$133,MATCH(H35,$AI$2:$AI$133,0),5),\"\")","v":""},{"$f":"IF(Master!$B$1=\"Dbls\",IF(B35<='Check-In'!$R$139,B35,IF(AND(I34=I35,G34='Check-In'!$R$139),B35,\"\")),IF(Master!$B$1=\"2-Day\",IF(B35<='Check-In'!$T$139,B35,IF(AND(I34=I35,G34='Check-In'!$T$139),B35,\"\")),IF(B35<='Check-In'!$P$139,B35,IF(AND(I34=I35,G34='Check-In'!$P$139),B35,\"\"))))","v":""},"","",null,null,33,{"$f":"IF(Master!$B$1=\"Dbls\",IF(P35<='Check-In'!$S$136,P35,IF(AND(S34=S35,Q34='Check-In'!$S$136),P35,\"\")),IF(Master!$B$1=\"2-Day\",IF(P35<='Check-In'!$U$136,P35,IF(AND(S34=S35,Q34='Check-In'!$U$136),P35,\"\")),IF(P35<='Check-In'!$Q$136,P35,IF(AND(S34=S35,Q34='Check-In'!$Q$136),P35,\"\"))))","v":""},"MANSKE, WARREN",170,{"$f":"IF(Q35<>\"\",INDEX($AO$2:$AS$133,MATCH(R35,$AO$2:$AO$133,0),4),\"\")","v":""},{"$f":"IF(Master!$B$1=\"Dbls\",IF(B35<='Check-In'!$S$137,B35,IF(AND(I34=I35,G34='Check-In'!$S$137),B35,\"\")),IF(Master!$B$1=\"2-Day\",IF(B35<='Check-In'!$U$137,B35,IF(AND(I34=I35,G34='Check-In'!$U$137),B35,\"\")),IF(B35<='Check-In'!$Q$137,B35,IF(AND(I34=I35,G34='Check-In'!$Q$137),B35,\"\"))))","v":""},"",{"$f":"IF(Q35=\"\",\"\",LARGE($T$2:$T$133,P35))","v":""},{"$f":"IF(U35<>\"\",INDEX($AO$2:$AS$133,MATCH(V35,$AO$2:$AO$133,0),5),\"\")","v":""},{"$f":"IF(Master!$B$1=\"Dbls\",IF(P35<='Check-In'!$R$139,P35,IF(AND(W34=W35,U34='Check-In'!$R$139),P35,\"\")),IF(Master!$B$1=\"2-Day\",IF(P35<='Check-In'!$T$139,P35,IF(AND(W34=W35,U34='Check-In'!$T$139),P35,\"\")),IF(P35<='Check-In'!$P$139,P35,IF(AND(W34=W35,U34='Check-In'!$P$139),P35,\"\"))))","v":""},"","",{"$nulls":7},{"$f":"IF(AJ35=0,\"\",'Check-In'!$B40)","v":""},{"$f":"IF(Tourn=\"2-Day\",'Check-In'!T40,IF(Tourn=\"Dbls\", 'Check-In'!R40,'Check-In'!P40))","v":0},{"$f":"IF(AJ35=\"x\",INDEX(Qual!$C$8:$U$133,MATCH(AI35,Qual!$C$8:$C$133,0),IF(Tourn=\"Dbls\",7,IF(Tourn=\"2-Day\",6,IF(Tourn=\"MSC\",6,5)))),\"\")","v":""},{"$f":"IF(AJ35=\"x\",INDEX(Qual!$C$8:$U$133,MATCH(AI35,Qual!$C$8:$C$133,0),IF(Tourn=\"Dbls\",8,IF(Tourn=\"2-Day\",7,IF(Tourn=\"MSC\",8,6)))),\"\")","v":""},{"$f":"IF(AJ35=\"x\",INDEX(Qual!$C$8:$U$133,MATCH(AI35,Qual!$C$8:$C$133,0),IF(Tourn=\"Dbls\",9,IF(Tourn=\"2-Day\",8,IF(Tourn=\"MSC\",10,7)))),\"\")","v":""},null,{"$f":"IF(AP35=0,\"\",'Check-In'!$B40)","v":""},{"$f":"IF(Tourn=\"2-Day\",'Check-In'!U40,IF(Tourn=\"Dbls\", 'Check-In'!S40,'Check-In'!P40))","v":0},{"$f":"IF(AP35=\"x\",INDEX(Qual!$C$8:$U$133,MATCH(AO35,Qual!$C$8:$C$133,0),IF(Tourn=\"Dbls\",15,IF(Tourn=\"2-Day\",10,IF(Tourn=\"MSC\",12,8)))),\"\")","v":""},{"$f":"IF(AP35=\"x\",INDEX(Qual!$C$8:$U$133,MATCH(AO35,Qual!$C$8:$C$133,0),IF(Tourn=\"Dbls\",16,IF(Tourn=\"2-Day\",11,IF(Tourn=\"MSC\",14,9)))),\"\")","v":""},{"$f":"IF(AP35=\"x\",INDEX(Qual!$C$8:$U$133,MATCH(AO35,Qual!$C$8:$C$133,0),IF(Tourn=\"Dbls\",17,IF(Tourn=\"2-Day\",12,IF(Tourn=\"MSC\",16,10)))),\"\")","v":""}]
[null,34,{"$f":"IF(Master!$B$1=\"Dbls\",IF(B36<='Check-In'!$R$136,B36,IF(AND(E35=E36,C35='Check-In'!$R$136),B36,\"\")),IF(Master!$B$1=\"2-Day\",IF(B36<='Check-In'!$T$136,B36,IF(AND(E35=E36,C35='Check-In'!$T$136),B36,\"\")),IF(B36<='Check-In'!$P$136,B36,IF(AND(E35=E36,C35='Check-In'!$P$136),B36,\"\"))))","v":""},"THOMPSON, DOUG",150,"",{"$f":"IF(Master!$B$1=\"Dbls\",IF(B36<='Check-In'!$R$137,B36,IF(AND(I35=I36,G35='Check-In'!$R$137),B36,\"\")),IF(Master!$B$1=\"2-Day\",IF(B36<='Check-In'!$T$137,B36,IF(AND(I35=I36,G35='Check-In'!$T$137),B36,\"\")),IF(B36<='Check-In'!$P$137,B36,IF(AND(I35=I36,G35='Check-In'!$P$137),B36,\"\"))))","v":""},"","","",{"$f":"IF(Master!$B$1=\"Dbls\",IF(B36<='Check-In'!$R$139,B36,IF(AND(I35=I36,G35='Check-In'!$R$139),B36,\"\")),IF(Master!$B$1=\"2-Day\",IF(B36<='Check-In'!$T$139,B36,IF(AND(I35=I36,G35='Check-In'!$T$139),B36,\"\")),IF(B36<='Check-In'!$P$139,B36,IF(AND(I35=I36,G35='Check-In'!$P$139),B36,\"\"))))","v":""},"","",null,null,34,{"$f":"IF(Master!$B$1=\"Dbls\",IF(P36<='Check-In'!$S$136,P36,IF(AND(S35=S36,Q35='Check-In'!$S$136),P36,\"\")),IF(Master!$B$1=\"2-Day\",IF(P36<='Check-In'!$U$136,P36,IF(AND(S35=S36,Q35='Check-In'!$U$136),P36,\"\")),IF(P36<='Check-In'!$Q$136,P36,IF(AND(S35=S36,Q35='Check-In'!$Q$136),P36,\"\"))))","v":""},"PETERSON, ED",159,"",{"$f":"IF(Master!$B$1=\"Dbls\",IF(B36<='Check-In'!$S$137,B36,IF(AND(I35=I36,G35='Check-In'!$S$137),B36,\"\")),IF(Master!$B$1=\"2-Day\",IF(B36<='Check-In'!$U$137,B36,IF(AND(I35=I36,G35='Check-In'!$U$137),B36,\"\")),IF(B36<='Check-In'!$Q$137,B36,IF(AND(I35=I36,G35='Check-In'!$Q$137),B36,\"\"))))","v":""},"","","",{"$f":"IF(Master!$B$1=\"Dbls\",IF(P36<='Check-In'!$R$139,P36,IF(AND(W35=W36,U35='Check-In'!$R$139),P36,\"\")),IF(Master!$B$1=\"2-Day\",IF(P36<='Check-In'!$T$139,P36,IF(AND(W35=W36,U35='Check-In'!$T$139),P36,\"\")),IF(P36<='Check-In'!$P$139,P36,IF(AND(W35=W36,U35='Check-In'!$P$139),P36,\"\"))))","v":""},"","",{"$nulls":7},{"$f":"IF(AJ36=0,\"\",'Check-In'!$B41)","v":""},{"$f":"IF(Tourn=\"2-Day\",'Check-In'!T41,IF(Tourn=\"Dbls\", 'Check-In'!R41,'Check-In'!P41))","v":0},{"$f":"IF(AJ36=\"x\",INDEX(Qual!$C$8:$U$133,MATCH(AI36,Qual!$C$8:$C$133,0),IF(Tourn=\"Dbls\",7,IF(Tourn=\"2-Day\",6,IF(Tourn=\"MSC\",6,5)))),\"\")","v":""},{"$f":"IF(AJ36=\"x\",INDEX(Qual!$C$8:$U$133,MATCH(AI36,Qual!$C$8:$C$133,0),IF(Tourn=\"Dbls\",8,IF(Tourn=\"2-Day\",7,IF(Tourn=\"MSC\",8,6)))),\"\")","v":""},{"$f":"IF(AJ36=\"x\",INDEX(Qual!$C$8:$U$133,MATCH(AI36,Qual!$C$8:$C$133,0),IF(Tourn=\"Dbls\",9,IF(Tourn=\"2-Day\",8,IF(Tourn=\"MSC\",10,7)))),\"\")","v":""},null,{"$f":"IF(AP36=0,\"\",'Check-In'!$B41)","v":""},{"$f":"IF(Tourn=\"2-Day\",'Check-In'!U41,IF(Tourn=\"Dbls\", 'Check-In'!S41,'Check-In'!P41))","v":0},{"$f":"IF(AP36=\"x\",INDEX(Qual!$C$8:$U$133,MATCH(AO36,Qual!$C$8:$C$133,0),IF(Tourn=\"Dbls\",15,IF(Tourn=\"2-Day\",10,IF(Tourn=\"MSC\",12,8)))),\"\")","v":""},{"$f":"IF(AP36=\"x\",INDEX(Qual!$C$8:$U$133,MATCH(AO36,Qual!$C$8:$C$133,0),IF(Tourn=\"Dbls\",16,IF(Tourn=\"2-Day\",11,IF(Tourn=\"MSC\",14,9)))),\"\")","v":""},{"$f":"IF(AP36=\"x\",INDEX(Qual!$C$8:$U$133,MATCH(AO36,Qual!$C$8:$C$133,0),IF(Tourn=\"Dbls\",17,IF(Tourn=\"2-Day\",12,IF(Tourn=\"MSC\",16,10)))),\"\")","v":""}]
[null,35,{"$f":"IF(Master!$B$1=\"Dbls\",IF(B37<='Check-In'!$R$136,B37,IF(AND(E36=E37,C36='Check-In'!$R$136),B37,\"\")),IF(Master!$B$1=\"2-Day\",IF(B37<='Check-In'!$T$136,B37,IF(AND(E36=E37,C36='Check-In'!$T$136),B37,\"\")),IF(B37<='Check-In'!$P$136,B37,IF(AND(E36=E37,C36='Check-In'!$P$136),B37,\"\"))))","v":""},"DAVIS, BOB",148,"",{"$f":"IF(Master!$B$1=\"Dbls\",IF(B37<='Check-In'!$R$137,B37,IF(AND(I36=I37,G36='Check-In'!$R$137),B37,\"\")),IF(Master!$B$1=\"2-Day\",IF(B37<='Check-In'!$T$137,B37,IF(AND(I36=I37,G36='Check-In'!$T$137),B37,\"\")),IF(B37<='Check-In'!$P$137,B37,IF(AND(I36=I37,G36='Check-In'!$P$137),B37,\"\"))))","v":""},"","","",{"$f":"IF(Master!$B$1=\"Dbls\",IF(B37<='Check-In'!$R$139,B37,IF(AND(I36=I37,G36='Check-In'!$R$139),B37,\"\")),IF(Master!$B$1=\"2-Day\",IF(B37<='Check-In'!$T$139,B37,IF(AND(I36=I37,G36='Check-In'!$T$139),B37,\"\")),IF(B37<='Check-In'!$P$139,B37,IF(AND(I36=I37,G36='Check-In'!$P$139),B37,\"\"))))","v":""},"","",null,null,35,{"$f":"IF(Master!$B$1=\"Dbls\",IF(P37<='Check-In'!$S$136,P37,IF(AND(S36=S37,Q36='Check-In'!$S$136),P37,\"\")),IF(Master!$B$1=\"2-Day\",IF(P37<='Check-In'!$U$136,P37,IF(AND(S36=S37,Q36='Check-In'!$U$136),P37,\"\")),IF(P37<='Check-In'!$Q$136,P37,IF(AND(S36=S37,Q36='Check-In'!$Q$136),P37,\"\"))))","v":""},"SODERGREN, SCOTT",146,"",{"$f":"IF(Master!$B$1=\"Dbls\",IF(B37<='Check-In'!$S$137,B37,IF(AND(I36=I37,G36='Check-In'!$S$137),B37,\"\")),IF(Master!$B$1=\"2-Day\",IF(B37<='Check-In'!$U$137,B37,IF(AND(I36=I37,G36='Check-In'!$U$137),B37,\"\")),IF(B37<='Check-In'!$Q$137,B37,IF(AND(I36=I37,G36='Check-In'!$Q$137),B37,\"\"))))","v":""},"","","",{"$f":"IF(Master!$B$1=\"Dbls\",IF(P37<='Check-In'!$R$139,P37,IF(AND(W36=W37,U36='Check-In'!$R$139),P37,\"\")),IF(Master!$B$1=\"2-Day\",IF(P37<='Check-In'!$T$139,P37,IF(AND(W36=W37,U36='Check-In'!$T$139),P37,\"\")),IF(P37<='Check-In'!$P$139,P37,IF(AND(W36=W37,U36='Check-In'!$P$139),P37,\"\"))))","v":""},"","",{"$nulls":7},{"$f":"IF(AJ37=0,\"\",'Check-In'!$B42)","v":"SODERGREN, SCOTT"},{"$f":"IF(Tourn=\"2-Day\",'Check-In'!T42,IF(Tourn=\"Dbls\", 'Check-In'!R42,'Check-In'!P42))","v":"X"},{"$f":"IF(AJ37=\"x\",INDEX(Qual!$C$8:$U$133,MATCH(AI37,Qual!$C$8:$C$133,0),IF(Tourn=\"Dbls\",7,IF(Tourn=\"2-Day\",6,IF(Tourn=\"MSC\",6,5)))),\"\")","v":187},{"$f":"IF(AJ37=\"x\",INDEX(Qual!$C$8:$U$133,MATCH(AI37,Qual!$C$8:$C$133,0),IF(Tourn=\"Dbls\",8,IF(Tourn=\"2-Day\",7,IF(Tourn=\"MSC\",8,6)))),\"\")","v":219},{"$f":"IF(AJ37=\"x\",INDEX(Qual!$C$8:$U$133,MATCH(AI37,Qual!$C$8:$C$133,0),IF(Tourn=\"Dbls\",9,IF(Tourn=\"2-Day\",8,IF(Tourn=\"MSC\",10,7)))),\"\")","v":201},null,{"$f":"IF(AP37=0,\"\",'Check-In'!$B42)","v":"SODERGREN, SCOTT"},{"$f":"IF(Tourn=\"2-Day\",'Check-In'!U42,IF(Tourn=\"Dbls\", 'Check-In'!S42,'Check-In'!P42))","v":"X"},{"$f":"IF(AP37=\"x\",INDEX(Qual!$C$8:$U$133,MATCH(AO37,Qual!$C$8:$C$133,0),IF(Tourn=\"Dbls\",15,IF(Tourn=\"2-Day\",10,IF(Tourn=\"MSC\",12,8)))),\"\")","v":146},{"$f":"IF(AP37=\"x\",INDEX(Qual!$C$8:$U$133,MATCH(AO37,Qual!$C$8:$C$133,0),IF(Tourn=\"Dbls\",16,IF(Tourn=\"2-Day\",11,IF(Tourn=\"MSC\",14,9)))),\"\")","v":196},{"$f":"IF(AP37=\"x\",INDEX(Qual!$C$8:$U$133,MATCH(AO37,Qual!$C$8:$C$133,0),IF(Tourn=\"Dbls\",17,IF(Tourn=\"2-Day\",12,IF(Tourn=\"MSC\",16,10)))),\"\")","v":171}]
[null,36,{"$f":"IF(Master!$B$1=\"Dbls\",IF(B38<='Check-In'!$R$136,B38,IF(AND(E37=E38,C37='Check-In'!$R$136),B38,\"\")),IF(Master!$B$1=\"2-Day\",IF(B38<='Check-In'!$T$136,B38,IF(AND(E37=E38,C37='Check-In'!$T$136),B38,\"\")),IF(B38<='Check-In'!$P$136,B38,IF(AND(E37=E38,C37='Check-In'!$P$136),B38,\"\"))))","v":""},"","","",{"$f":"IF(Master!$B$1=\"Dbls\",IF(B38<='Check-In'!$R$137,B38,IF(AND(I37=I38,G37='Check-In'!$R$137),B38,\"\")),IF(Master!$B$1=\"2-Day\",IF(B38<='Check-In'!$T$137,B38,IF(AND(I37=I38,G37='Check-In'!$T$137),B38,\"\")),IF(B38<='Check-In'!$P$137,B38,IF(AND(I37=I38,G37='Check-In'!$P$137),B38,\"\"))))","v":""},"","","",{"$f":"IF(Master!$B$1=\"Dbls\",IF(B38<='Check-In'!$R$139,B38,IF(AND(I37=I38,G37='Check-In'!$R$139),B38,\"\")),IF(Master!$B$1=\"2-Day\",IF(B38<='Check-In'!$T$139,B38,IF(AND(I37=I38,G37='Check-In'!$T$139),B38,\"\")),IF(B38<='Check-In'!$P$139,B38,IF(AND(I37=I38,G37='Check-In'!$P$139),B38,\"\"))))","v":""},"","",null,null,36,{"$f":"IF(Master!$B$1=\"Dbls\",IF(P38<='Check-In'!$S$136,P38,IF(AND(S37=S38,Q37='Check-In'!$S$136),P38,\"\")),IF(Master!$B$1=\"2-Day\",IF(P38<='Check-In'!$U$136,P38,IF(AND(S37=S38,Q37='Check-In'!$U$136),P38,\"\")),IF(P38<='Check-In'!$Q$136,P38,IF(AND(S37=S38,Q37='Check-In'!$Q$136),P38,\"\"))))","v":""},"","","",{"$f":"IF(Master!$B$1=\"Dbls\",IF(B38<='Check-In'!$S$137,B38,IF(AND(I37=I38,G37='Check-In'!$S$137),B38,\"\")),IF(Master!$B$1=\"2-Day\",IF(B38<='Check-In'!$U$137,B38,IF(AND(I37=I38,G37='Check-In'!$U$137),B38,\"\")),IF(B38<='Check-In'!$Q$137,B38,IF(AND(I37=I38,G37='Check-In'!$Q$137),B38,\"\"))))","v":""},"","","",{"$f":"IF(Master!$B$1=\"Dbls\",IF(P38<='Check-In'!$R$139,P38,IF(AND(W37=W38,U37='Check-In'!$R$139),P38,\"\")),IF(Master!$B$1=\"2-Day\",IF(P38<='Check-In'!$T$139,P38,IF(AND(W37=W38,U37='Check-In'!$T$139),P38,\"\")),IF(P38<='Check-In'!$P$139,P38,IF(AND(W37=W38,U37='Check-In'!$P$139),P38,\"\"))))","v":""},"","",{"$nulls":7},{"$f":"IF(AJ38=0,\"\",'Check-In'!$B43)","v":""},{"$f":"IF(Tourn=\"2-Day\",'Check-In'!T43,IF(Tourn=\"Dbls\", 'Check-In'!R43,'Check-In'!P43))","v":0},{"$f":"IF(AJ38=\"x\",INDEX(Qual!$C$8:$U$133,MATCH(AI38,Qual!$C$8:$C$133,0),IF(Tourn=\"Dbls\",7,IF(Tourn=\"2-Day\",6,IF(Tourn=\"MSC\",6,5)))),\"\")","v":""},{"$f":"IF(AJ38=\"x\",INDEX(Qual!$C$8:$U$133,MATCH(AI38,Qual!$C$8:$C$133,0),IF(Tourn=\"Dbls\",8,IF(Tourn=\"2-Day\",7,IF(Tourn=\"MSC\",8,6)))),\"\")","v":""},{"$f":"IF(AJ38=\"x\",INDEX(Qual!$C$8:$U$133,MATCH(AI38,Qual!$C$8:$C$133,0),IF(Tourn=\"Dbls\",9,IF(Tourn=\"2-Day\",8,IF(Tourn=\"MSC\",10,7)))),\"\")","v":""},null,{"$f":"IF(AP38=0,\"\",'Check-In'!$B43)","v":""},{"$f":"IF(Tourn=\"2-Day\",'Check-In'!U43,IF(Tourn=\"Dbls\", 'Check-In'!S43,'Check-In'!P43))","v":0},{"$f":"IF(AP38=\"x\",INDEX(Qual!$C$8:$U$133,MATCH(AO38,Qual!$C$8:$C$133,0),IF(Tourn=\"Dbls\",15,IF(Tourn=\"2-Day\",10,IF(Tourn=\"MSC\",12,8)))),\"\")","v":""},{"$f":"IF(AP38=\"x\",INDEX(Qual!$C$8:$U$133,MATCH(AO38,Qual!$C$8:$C$133,0),IF(Tourn=\"Dbls\",16,IF(Tourn=\"2-Day\",11,IF(Tourn=\"MSC\",14,9)))),\"\")","v":""},{"$f":"IF(AP38=\"x\",INDEX(Qual!$C$8:$U$133,MATCH(AO38,Qual!$C$8:$C$133,0),IF(Tourn=\"Dbls\",17,IF(Tourn=\"2-Day\",12,IF(Tourn=\"MSC\",16,10)))),\"\")","v":""}]
[null,37,{"$f":"IF(Master!$B$1=\"Dbls\",IF(B39<='Check-In'!$R$136,B39,IF(AND(E38=E39,C38='Check-In'!$R$136),B39,\"\")),IF(Master!$B$1=\"2-Day\",IF(B39<='Check-In'!$T$136,B39,IF(AND(E38=E39,C38='Check-In'!$T$136),B39,\"\")),IF(B39<='Check-In'!$P$136,B39,IF(AND(E38=E39,C38='Check-In'!$P$136),B39,\"\"))))","v":""},"","","",{"$f":"IF(Master!$B$1=\"Dbls\",IF(B39<='Check-In'!$R$137,B39,IF(AND(I38=I39,G38='Check-In'!$R$137),B39,\"\")),IF(Master!$B$1=\"2-Day\",IF(B39<='Check-In'!$T$137,B39,IF(AND(I38=I39,G38='Check-In'!$T$137),B39,\"\")),IF(B39<='Check-In'!$P$137,B39,IF(AND(I38=I39,G38='Check-In'!$P$137),B39,\"\"))))","v":""},"","","",{"$f":"IF(Master!$B$1=\"Dbls\",IF(B39<='Check-In'!$R$139,B39,IF(AND(I38=I39,G38='Check-In'!$R$139),B39,\"\")),IF(Master!$B$1=\"2-Day\",IF(B39<='Check-In'!$T$139,B39,IF(AND(I38=I39,G38='Check-In'!$T$139),B39,\"\")),IF(B39<='Check-In'!$P$139,B39,IF(AND(I38=I39,G38='Check-In'!$P$139),B39,\"\"))))","v":""},"","",null,null,37,{"$f":"IF(Master!$B$1=\"Dbls\",IF(P39<='Check-In'!$S$136,P39,IF(AND(S38=S39,Q38='Check-In'!$S$136),P39,\"\")),IF(Master!$B$1=\"2-Day\",IF(P39<='Check-In'!$U$136,P39,IF(AND(S38=S39,Q38='Check-In'!$U$136),P39,\"\")),IF(P39<='Check-In'!$Q$136,P39,IF(AND(S38=S39,Q38='Check-In'!$Q$136),P39,\"\"))))","v":""},"","","",{"$f":"IF(Master!$B$1=\"Dbls\",IF(B39<='Check-In'!$S$137,B39,IF(AND(I38=I39,G38='Check-In'!$S$137),B39,\"\")),IF(Master!$B$1=\"2-Day\",IF(B39<='Check-In'!$U$137,B39,IF(AND(I38=I39,G38='Check-In'!$U$137),B39,\"\")),IF(B39<='Check-In'!$Q$137,B39,IF(AND(I38=I39,G38='Check-In'!$Q$137),B39,\"\"))))","v":""},"","","",{"$f":"IF(Master!$B$1=\"Dbls\",IF(P39<='Check-In'!$R$139,P39,IF(AND(W38=W39,U38='Check-In'!$R$139),P39,\"\")),IF(Master!$B$1=\"2-Day\",IF(P39<='Check-In'!$T$139,P39,IF(AND(W38=W39,U38='Check-In'!$T$139),P39,\"\")),IF(P39<='Check-In'!$P$139,P39,IF(AND(W38=W39,U38='Check-In'!$P$139),P39,\"\"))))","v":""},"","",{"$nulls":7},{"$f":"IF(AJ39=0,\"\",'Check-In'!$B44)","v":"SCHMID, MIKE"},{"$f":"IF(Tourn=\"2-Day\",'Check-In'!T44,IF(Tourn=\"Dbls\", 'Check-In'!R44,'Check-In'!P44))","v":"X"},{"$f":"IF(AJ39=\"x\",INDEX(Qual!$C$8:$U$133,MATCH(AI39,Qual!$C$8:$C$133,0),IF(Tourn=\"Dbls\",7,IF(Tourn=\"2-Day\",6,IF(Tourn=\"MSC\",6,5)))),\"\")","v":193},{"$f":"IF(AJ39=\"x\",INDEX(Qual!$C$8:$U$133,MATCH(AI39,Qual!$C$8:$C$133,0),IF(Tourn=\"Dbls\",8,IF(Tourn=\"2-Day\",7,IF(Tourn=\"MSC\",8,6)))),\"\")","v":236},{"$f":"IF(AJ39=\"x\",INDEX(Qual!$C$8:$U$133,MATCH(AI39,Qual!$C$8:$C$133,0),IF(Tourn=\"Dbls\",9,IF(Tourn=\"2-Day\",8,IF(Tourn=\"MSC\",10,7)))),\"\")","v":190},null,{"$f":"IF(AP39=0,\"\",'Check-In'!$B44)","v":"SCHMID, MIKE"},{"$f":"IF(Tourn=\"2-Day\",'Check-In'!U44,IF(Tourn=\"Dbls\", 'Check-In'!S44,'Check-In'!P44))","v":"X"},{"$f":"IF(AP39=\"x\",INDEX(Qual!$C$8:$U$133,MATCH(AO39,Qual!$C$8:$C$133,0),IF(Tourn=\"Dbls\",15,IF(Tourn=\"2-Day\",10,IF(Tourn=\"MSC\",12,8)))),\"\")","v":213},{"$f":"IF(AP39=\"x\",INDEX(Qual!$C$8:$U$133,MATCH(AO39,Qual!$C$8:$C$133,0),IF(Tourn=\"Dbls\",16,IF(Tourn=\"2-Day\",11,IF(Tourn=\"MSC\",14,9)))),\"\")","v":185},{"$f":"IF(AP39=\"x\",INDEX(Qual!$C$8:$U$133,MATCH(AO39,Qual!$C$8:$C$133,0),IF(Tourn=\"Dbls\",17,IF(Tourn=\"2-Day\",12,IF(Tourn=\"MSC\",16,10)))),\"\")","v":200}]
[null,38,{"$f":"IF(Master!$B$1=\"Dbls\",IF(B40<='Check-In'!$R$136,B40,IF(AND(E39=E40,C39='Check-In'!$R$136),B40,\"\")),IF(Master!$B$1=\"2-Day\",IF(B40<='Check-In'!$T$136,B40,IF(AND(E39=E40,C39='Check-In'!$T$136),B40,\"\")),IF(B40<='Check-In'!$P$136,B40,IF(AND(E39=E40,C39='Check-In'!$P$136),B40,\"\"))))","v":""},"","","",{"$f":"IF(Master!$B$1=\"Dbls\",IF(B40<='Check-In'!$R$137,B40,IF(AND(I39=I40,G39='Check-In'!$R$137),B40,\"\")),IF(Master!$B$1=\"2-Day\",IF(B40<='Check-In'!$T$137,B40,IF(AND(I39=I40,G39='Check-In'!$T$137),B40,\"\")),IF(B40<='Check-In'!$P$137,B40,IF(AND(I39=I40,G39='Check-In'!$P$137),B40,\"\"))))","v":""},"","","",{"$f":"IF(Master!$B$1=\"Dbls\",IF(B40<='Check-In'!$R$139,B40,IF(AND(I39=I40,G39='Check-In'!$R$139),B40,\"\")),IF(Master!$B$1=\"2-Day\",IF(B40<='Check-In'!$T$139,B40,IF(AND(I39=I40,G39='Check-In'!$T$139),B40,\"\")),IF(B40<='Check-In'!$P$139,B40,IF(AND(I39=I40,G39='Check-In'!$P$139),B40,\"\"))))","v":""},"","",null,null,38,{"$f":"IF(Master!$B$1=\"Dbls\",IF(P40<='Check-In'!$S$136,P40,IF(AND(S39=S40,Q39='Check-In'!$S$136),P40,\"\")),IF(Master!$B$1=\"2-Day\",IF(P40<='Check-In'!$U$136,P40,IF(AND(S39=S40,Q39='Check-In'!$U$136),P40,\"\")),IF(P40<='Check-In'!$Q$136,P40,IF(AND(S39=S40,Q39='Check-In'!$Q$136),P40,\"\"))))","v":""},"","","",{"$f":"IF(Master!$B$1=\"Dbls\",IF(B40<='Check-In'!$S$137,B40,IF(AND(I39=I40,G39='Check-In'!$S$137),B40,\"\")),IF(Master!$B$1=\"2-Day\",IF(B40<='Check-In'!$U$137,B40,IF(AND(I39=I40,G39='Check-In'!$U$137),B40,\"\")),IF(B40<='Check-In'!$Q$137,B40,IF(AND(I39=I40,G39='Check-In'!$Q$137),B40,\"\"))))","v":""},"","","",{"$f":"IF(Master!$B$1=\"Dbls\",IF(P40<='Check-In'!$R$139,P40,IF(AND(W39=W40,U39='Check-In'!$R$139),P40,\"\")),IF(Master!$B$1=\"2-Day\",IF(P40<='Check-In'!$T$139,P40,IF(AND(W39=W40,U39='Check-In'!$T$139),P40,\"\")),IF(P40<='Check-In'!$P$139,P40,IF(AND(W39=W40,U39='Check-In'!$P$139),P40,\"\"))))","v":""},"","",{"$nulls":7},{"$f":"IF(AJ40=0,\"\",'Check-In'!$B45)","v":""},{"$f":"IF(Tourn=\"2-Day\",'Check-In'!T45,IF(Tourn=\"Dbls\", 'Check-In'!R45,'Check-In'!P45))","v":0},{"$f":"IF(AJ40=\"x\",INDEX(Qual!$C$8:$U$133,MATCH(AI40,Qual!$C$8:$C$133,0),IF(Tourn=\"Dbls\",7,IF(Tourn=\"2-Day\",6,IF(Tourn=\"MSC\",6,5)))),\"\")","v":""},{"$f":"IF(AJ40=\"x\",INDEX(Qual!$C$8:$U$133,MATCH(AI40,Qual!$C$8:$C$133,0),IF(Tourn=\"Dbls\",8,IF(Tourn=\"2-Day\",7,IF(Tourn=\"MSC\",8,6)))),\"\")","v":""},{"$f":"IF(AJ40=\"x\",INDEX(Qual!$C$8:$U$133,MATCH(AI40,Qual!$C$8:$C$133,0),IF(Tourn=\"Dbls\",9,IF(Tourn=\"2-Day\",8,IF(Tourn=\"MSC\",10,7)))),\"\")","v":""},null,{"$f":"IF(AP40=0,\"\",'Check-In'!$B45)","v":""},{"$f":"IF(Tourn=\"2-Day\",'Check-In'!U45,IF(Tourn=\"Dbls\", 'Check-In'!S45,'Check-In'!P45))","v":0},{"$f":"IF(AP40=\"x\",INDEX(Qual!$C$8:$U$133,MATCH(AO40,Qual!$C$8:$C$133,0),IF(Tourn=\"Dbls\",15,IF(Tourn=\"2-Day\",10,IF(Tourn=\"MSC\",12,8)))),\"\")","v":""},{"$f":"IF(AP40=\"x\",INDEX(Qual!$C$8:$U$133,MATCH(AO40,Qual!$C$8:$C$133,0),IF(Tourn=\"Dbls\",16,IF(Tourn=\"2-Day\",11,IF(Tourn=\"MSC\",14,9)))),\"\")","v":""},{"$f":"IF(AP40=\"x\",INDEX(Qual!$C$8:$U$133,MATCH(AO40,Qual!$C$8:$C$133,0),IF(Tourn=\"Dbls\",17,IF(Tourn=\"2-Day\",12,IF(Tourn=\"MSC\",16,10)))),\"\")","v":""}]
[null,39,{"$f":"IF(Master!$B$1=\"Dbls\",IF(B41<='Check-In'!$R$136,B41,IF(AND(E40=E41,C40='Check-In'!$R$136),B41,\"\")),IF(Master!$B$1=\"2-Day\",IF(B41<='Check-In'!$T$136,B41,IF(AND(E40=E41,C40='Check-In'!$T$136),B41,\"\")),IF(B41<='Check-In'!$P$136,B41,IF(AND(E40=E41,C40='Check-In'!$P$136),B41,\"\"))))","v":""},"","","",{"$f":"IF(Master!$B$1=\"Dbls\",IF(B41<='Check-In'!$R$137,B41,IF(AND(I40=I41,G40='Check-In'!$R$137),B41,\"\")),IF(Master!$B$1=\"2-Day\",IF(B41<='Check-In'!$T$137,B41,IF(AND(I40=I41,G40='Check-In'!$T$137),B41,\"\")),IF(B41<='Check-In'!$P$137,B41,IF(AND(I40=I41,G40='Check-In'!$P$137),B41,\"\"))))","v":""},"","","",{"$f":"IF(Master!$B$1=\"Dbls\",IF(B41<='Check-In'!$R$139,B41,IF(AND(I40=I41,G40='Check-In'!$R$139),B41,\"\")),IF(Master!$B$1=\"2-Day\",IF(B41<='Check-In'!$T$139,B41,IF(AND(I40=I41,G40='Check-In'!$T$139),B41,\"\")),IF(B41<='Check-In'!$P$139,B41,IF(AND(I40=I41,G40='Check-In'!$P$139),B41,\"\"))))","v":""},"","",null,null,39,{"$f":"IF(Master!$B$1=\"Dbls\",IF(P41<='Check-In'!$S$136,P41,IF(AND(S40=S41,Q40='Check-In'!$S$136),P41,\"\")),IF(Master!$B$1=\"2-Day\",IF(P41<='Check-In'!$U$136,P41,IF(AND(S40=S41,Q40='Check-In'!$U$136),P41,\"\")),IF(P41<='Check-In'!$Q$136,P41,IF(AND(S40=S41,Q40='Check-In'!$Q$136),P41,\"\"))))","v":""},"","","",{"$f":"IF(Master!$B$1=\"Dbls\",IF(B41<='Check-In'!$S$137,B41,IF(AND(I40=I41,G40='Check-In'!$S$137),B41,\"\")),IF(Master!$B$1=\"2-Day\",IF(B41<='Check-In'!$U$137,B41,IF(AND(I40=I41,G40='Check-In'!$U$137),B41,\"\")),IF(B41<='Check-In'!$Q$137,B41,IF(AND(I40=I41,G40='Check-In'!$Q$137),B41,\"\"))))","v":""},"","","",{"$f":"IF(Master!$B$1=\"Dbls\",IF(P41<='Check-In'!$R$139,P41,IF(AND(W40=W41,U40='Check-In'!$R$139),P41,\"\")),IF(Master!$B$1=\"2-Day\",IF(P41<='Check-In'!$T$139,P41,IF(AND(W40=W41,U40='Check-In'!$T$139),P41,\"\")),IF(P41<='Check-In'!$P$139,P41,IF(AND(W40=W41,U40='Check-In'!$P$139),P41,\"\"))))","v":""},"","",{"$nulls":7},{"$f":"IF(AJ41=0,\"\",'Check-In'!$B46)","v":"PETERSON, ED"},{"$f":"IF(Tourn=\"2-Day\",'Check-In'!T46,IF(Tourn=\"Dbls\", 'Check-In'!R46,'Check-In'!P46))","v":"X"},{"$f":"IF(AJ41=\"x\",INDEX(Qual!$C$8:$U$133,MATCH(AI41,Qual!$C$8:$C$133,0),IF(Tourn=\"Dbls\",7,IF(Tourn=\"2-Day\",6,IF(Tourn=\"MSC\",6,5)))),\"\")","v":203},{"$f":"IF(AJ41=\"x\",INDEX(Qual!$C$8:$U$133,MATCH(AI41,Qual!$C$8:$C$133,0),IF(Tourn=\"Dbls\",8,IF(Tourn=\"2-Day\",7,IF(Tourn=\"MSC\",8,6)))),\"\")","v":215},{"$f":"IF(AJ41=\"x\",INDEX(Qual!$C$8:$U$133,MATCH(AI41,Qual!$C$8:$C$133,0),IF(Tourn=\"Dbls\",9,IF(Tourn=\"2-Day\",8,IF(Tourn=\"MSC\",10,7)))),\"\")","v":203},null,{"$f":"IF(AP41=0,\"\",'Check-In'!$B46)","v":"PETERSON, ED"},{"$f":"IF(Tourn=\"2-Day\",'Check-In'!U46,IF(Tourn=\"Dbls\", 'Check-In'!S46,'Check-In'!P46))","v":"X"},{"$f":"IF(AP41=\"x\",INDEX(Qual!$C$8:$U$133,MATCH(AO41,Qual!$C$8:$C$133,0),IF(Tourn=\"Dbls\",15,IF(Tourn=\"2-Day\",10,IF(Tourn=\"MSC\",12,8)))),\"\")","v":159},{"$f":"IF(AP41=\"x\",INDEX(Qual!$C$8:$U$133,MATCH(AO41,Qual!$C$8:$C$133,0),IF(Tourn=\"Dbls\",16,IF(Tourn=\"2-Day\",11,IF(Tourn=\"MSC\",14,9)))),\"\")","v":170},{"$f":"IF(AP41=\"x\",INDEX(Qual!$C$8:$U$133,MATCH(AO41,Qual!$C$8:$C$133,0),IF(Tourn=\"Dbls\",17,IF(Tourn=\"2-Day\",12,IF(Tourn=\"MSC\",16,10)))),\"\")","v":249}]
[null,40,{"$f":"IF(Master!$B$1=\"Dbls\",IF(B42<='Check-In'!$R$136,B42,IF(AND(E41=E42,C41='Check-In'!$R$136),B42,\"\")),IF(Master!$B$1=\"2-Day\",IF(B42<='Check-In'!$T$136,B42,IF(AND(E41=E42,C41='Check-In'!$T$136),B42,\"\")),IF(B42<='Check-In'!$P$136,B42,IF(AND(E41=E42,C41='Check-In'!$P$136),B42,\"\"))))","v":""},"","","",{"$f":"IF(Master!$B$1=\"Dbls\",IF(B42<='Check-In'!$R$137,B42,IF(AND(I41=I42,G41='Check-In'!$R$137),B42,\"\")),IF(Master!$B$1=\"2-Day\",IF(B42<='Check-In'!$T$137,B42,IF(AND(I41=I42,G41='Check-In'!$T$137),B42,\"\")),IF(B42<='Check-In'!$P$137,B42,IF(AND(I41=I42,G41='Check-In'!$P$137),B42,\"\"))))","v":""},"","","",{"$f":"IF(Master!$B$1=\"Dbls\",IF(B42<='Check-In'!$R$139,B42,IF(AND(I41=I42,G41='Check-In'!$R$139),B42,\"\")),IF(Master!$B$1=\"2-Day\",IF(B42<='Check-In'!$T$139,B42,IF(AND(I41=I42,G41='Check-In'!$T$139),B42,\"\")),IF(B42<='Check-In'!$P$139,B42,IF(AND(I41=I42,G41='Check-In'!$P$139),B42,\"\"))))","v":""},"","",null,null,40,{"$f":"IF(Master!$B$1=\"Dbls\",IF(P42<='Check-In'!$S$136,P42,IF(AND(S41=S42,Q41='Check-In'!$S$136),P42,\"\")),IF(Master!$B$1=\"2-Day\",IF(P42<='Check-In'!$U$136,P42,IF(AND(S41=S42,Q41='Check-In'!$U$136),P42,\"\")),IF(P42<='Check-In'!$Q$136,P42,IF(AND(S41=S42,Q41='Check-In'!$Q$136),P42,\"\"))))","v":""},"","","",{"$f":"IF(Master!$B$1=\"Dbls\",IF(B42<='Check-In'!$S$137,B42,IF(AND(I41=I42,G41='Check-In'!$S$137),B42,\"\")),IF(Master!$B$1=\"2-Day\",IF(B42<='Check-In'!$U$137,B42,IF(AND(I41=I42,G41='Check-In'!$U$137),B42,\"\")),IF(B42<='Check-In'!$Q$137,B42,IF(AND(I41=I42,G41='Check-In'!$Q$137),B42,\"\"))))","v":""},"","","",{"$f":"IF(Master!$B$1=\"Dbls\",IF(P42<='Check-In'!$R$139,P42,IF(AND(W41=W42,U41='Check-In'!$R$139),P42,\"\")),IF(Master!$B$1=\"2-Day\",IF(P42<='Check-In'!$T$139,P42,IF(AND(W41=W42,U41='Check-In'!$T$139),P42,\"\")),IF(P42<='Check-In'!$P$139,P42,IF(AND(W41=W42,U41='Check-In'!$P$139),P42,\"\"))))","v":""},"","",{"$nulls":7},{"$f":"IF(AJ42=0,\"\",'Check-In'!$B47)","v":"BRUINSMA, DEAN"},{"$f":"IF(Tourn=\"2-Day\",'Check-In'!T47,IF(Tourn=\"Dbls\", 'Check-In'!R47,'Check-In'!P47))","v":"X"},{"$f":"IF(AJ42=\"x\",INDEX(Qual!$C$8:$U$133,MATCH(AI42,Qual!$C$8:$C$133,0),IF(Tourn=\"Dbls\",7,IF(Tourn=\"2-Day\",6,IF(Tourn=\"MSC\",6,5)))),\"\")","v":223},{"$f":"IF(AJ42=\"x\",INDEX(Qual!$C$8:$U$133,MATCH(AI42,Qual!$C$8:$C$133,0),IF(Tourn=\"Dbls\",8,IF(Tourn=\"2-Day\",7,IF(Tourn=\"MSC\",8,6)))),\"\")","v":189},{"$f":"IF(AJ42=\"x\",INDEX(Qual!$C$8:$U$133,MATCH(AI42,Qual!$C$8:$C$133,0),IF(Tourn=\"Dbls\",9,IF(Tourn=\"2-Day\",8,IF(Tourn=\"MSC\",10,7)))),\"\")","v":154},null,{"$f":"IF(AP42=0,\"\",'Check-In'!$B47)","v":"BRUINSMA, DEAN"},{"$f":"IF(Tourn=\"2-Day\",'Check-In'!U47,IF(Tourn=\"Dbls\", 'Check-In'!S47,'Check-In'!P47))","v":"X"},{"$f":"IF(AP42=\"x\",INDEX(Qual!$C$8:$U$133,MATCH(AO42,Qual!$C$8:$C$133,0),IF(Tourn=\"Dbls\",15,IF(Tourn=\"2-Day\",10,IF(Tourn=\"MSC\",12,8)))),\"\")","v":213},{"$f":"IF(AP42=\"x\",INDEX(Qual!$C$8:$U$133,MATCH(AO42,Qual!$C$8:$C$133,0),IF(Tourn=\"Dbls\",16,IF(Tourn=\"2-Day\",11,IF(Tourn=\"MSC\",14,9)))),\"\")","v":189},{"$f":"IF(AP42=\"x\",INDEX(Qual!$C$8:$U$133,MATCH(AO42,Qual!$C$8:$C$133,0),IF(Tourn=\"Dbls\",17,IF(Tourn=\"2-Day\",12,IF(Tourn=\"MSC\",16,10)))),\"\")","v":204}]
[null,41,{"$f":"IF(Master!$B$1=\"Dbls\",IF(B43<='Check-In'!$R$136,B43,IF(AND(E42=E43,C42='Check-In'!$R$136),B43,\"\")),IF(Master!$B$1=\"2-Day\",IF(B43<='Check-In'!$T$136,B43,IF(AND(E42=E43,C42='Check-In'!$T$136),B43,\"\")),IF(B43<='Check-In'!$P$136,B43,IF(AND(E42=E43,C42='Check-In'!$P$136),B43,\"\"))))","v":""},"","","",{"$f":"IF(Master!$B$1=\"Dbls\",IF(B43<='Check-In'!$R$137,B43,IF(AND(I42=I43,G42='Check-In'!$R$137),B43,\"\")),IF(Master!$B$1=\"2-Day\",IF(B43<='Check-In'!$T$137,B43,IF(AND(I42=I43,G42='Check-In'!$T$137),B43,\"\")),IF(B43<='Check-In'!$P$137,B43,IF(AND(I42=I43,G42='Check-In'!$P$137),B43,\"\"))))","v":""},"","","",{"$f":"IF(Master!$B$1=\"Dbls\",IF(B43<='Check-In'!$R$139,B43,IF(AND(I42=I43,G42='Check-In'!$R$139),B43,\"\")),IF(Master!$B$1=\"2-Day\",IF(B43<='Check-In'!$T$139,B43,IF(AND(I42=I43,G42='Check-In'!$T$139),B43,\"\")),IF(B43<='Check-In'!$P$139,B43,IF(AND(I42=I43,G42='Check-In'!$P$139),B43,\"\"))))","v":""},"","",null,null,41,{"$f":"IF(Master!$B$1=\"Dbls\",IF(P43<='Check-In'!$S$136,P43,IF(AND(S42=S43,Q42='Check-In'!$S$136),P43,\"\")),IF(Master!$B$1=\"2-Day\",IF(P43<='Check-In'!$U$136,P43,IF(AND(S42=S43,Q42='Check-In'!$U$136),P43,\"\")),IF(P43<='Check-In'!$Q$136,P43,IF(AND(S42=S43,Q42='Check-In'!$Q$136),P43,\"\"))))","v":""},"","","",{"$f":"IF(Master!$B$1=\"Dbls\",IF(B43<='Check-In'!$S$137,B43,IF(AND(I42=I43,G42='Check-In'!$S$137),B43,\"\")),IF(Master!$B$1=\"2-Day\",IF(B43<='Check-In'!$U$137,B43,IF(AND(I42=I43,G42='Check-In'!$U$137),B43,\"\")),IF(B43<='Check-In'!$Q$137,B43,IF(AND(I42=I43,G42='Check-In'!$Q$137),B43,\"\"))))","v":""},"","","",{"$f":"IF(Master!$B$1=\"Dbls\",IF(P43<='Check-In'!$R$139,P43,IF(AND(W42=W43,U42='Check-In'!$R$139),P43,\"\")),IF(Master!$B$1=\"2-Day\",IF(P43<='Check-In'!$T$139,P43,IF(AND(W42=W43,U42='Check-In'!$T$139),P43,\"\")),IF(P43<='Check-In'!$P$139,P43,IF(AND(W42=W43,U42='Check-In'!$P$139),P43,\"\"))))","v":""},"","",{"$nulls":7},{"$f":"IF(AJ43=0,\"\",'Check-In'!$B48)","v":""},{"$f":"IF(Tourn=\"2-Day\",'Check-In'!T48,IF(Tourn=\"Dbls\", 'Check-In'!R48,'Check-In'!P48))","v":0},{"$f":"IF(AJ43=\"x\",INDEX(Qual!$C$8:$U$133,MATCH(AI43,Qual!$C$8:$C$133,0),IF(Tourn=\"Dbls\",7,IF(Tourn=\"2-Day\",6,IF(Tourn=\"MSC\",6,5)))),\"\")","v":""},{"$f":"IF(AJ43=\"x\",INDEX(Qual!$C$8:$U$133,MATCH(AI43,Qual!$C$8:$C$133,0),IF(Tourn=\"Dbls\",8,IF(Tourn=\"2-Day\",7,IF(Tourn=\"MSC\",8,6)))),\"\")","v":""},{"$f":"IF(AJ43=\"x\",INDEX(Qual!$C$8:$U$133,MATCH(AI43,Qual!$C$8:$C$133,0),IF(Tourn=\"Dbls\",9,IF(Tourn=\"2-Day\",8,IF(Tourn=\"MSC\",10,7)))),\"\")","v":""},null,{"$f":"IF(AP43=0,\"\",'Check-In'!$B48)","v":""},{"$f":"IF(Tourn=\"2-Day\",'Check-In'!U48,IF(Tourn=\"Dbls\", 'Check-In'!S48,'Check-In'!P48))","v":0},{"$f":"IF(AP43=\"x\",INDEX(Qual!$C$8:$U$133,MATCH(AO43,Qual!$C$8:$C$133,0),IF(Tourn=\"Dbls\",15,IF(Tourn=\"2-Day\",10,IF(Tourn=\"MSC\",12,8)))),\"\")","v":""},{"$f":"IF(AP43=\"x\",INDEX(Qual!$C$8:$U$133,MATCH(AO43,Qual!$C$8:$C$133,0),IF(Tourn=\"Dbls\",16,IF(Tourn=\"2-Day\",11,IF(Tourn=\"MSC\",14,9)))),\"\")","v":""},{"$f":"IF(AP43=\"x\",INDEX(Qual!$C$8:$U$133,MATCH(AO43,Qual!$C$8:$C$133,0),IF(Tourn=\"Dbls\",17,IF(Tourn=\"2-Day\",12,IF(Tourn=\"MSC\",16,10)))),\"\")","v":""}]
[null,42,{"$f":"IF(Master!$B$1=\"Dbls\",IF(B44<='Check-In'!$R$136,B44,IF(AND(E43=E44,C43='Check-In'!$R$136),B44,\"\")),IF(Master!$B$1=\"2-Day\",IF(B44<='Check-In'!$T$136,B44,IF(AND(E43=E44,C43='Check-In'!$T$136),B44,\"\")),IF(B44<='Check-In'!$P$136,B44,IF(AND(E43=E44,C43='Check-In'!$P$136),B44,\"\"))))","v":""},"","","",{"$f":"IF(Master!$B$1=\"Dbls\",IF(B44<='Check-In'!$R$137,B44,IF(AND(I43=I44,G43='Check-In'!$R$137),B44,\"\")),IF(Master!$B$1=\"2-Day\",IF(B44<='Check-In'!$T$137,B44,IF(AND(I43=I44,G43='Check-In'!$T$137),B44,\"\")),IF(B44<='Check-In'!$P$137,B44,IF(AND(I43=I44,G43='Check-In'!$P$137),B44,\"\"))))","v":""},"","","",{"$f":"IF(Master!$B$1=\"Dbls\",IF(B44<='Check-In'!$R$139,B44,IF(AND(I43=I44,G43='Check-In'!$R$139),B44,\"\")),IF(Master!$B$1=\"2-Day\",IF(B44<='Check-In'!$T$139,B44,IF(AND(I43=I44,G43='Check-In'!$T$139),B44,\"\")),IF(B44<='Check-In'!$P$139,B44,IF(AND(I43=I44,G43='Check-In'!$P$139),B44,\"\"))))","v":""},"","",null,null,42,{"$f":"IF(Master!$B$1=\"Dbls\",IF(P44<='Check-In'!$S$136,P44,IF(AND(S43=S44,Q43='Check-In'!$S$136),P44,\"\")),IF(Master!$B$1=\"2-Day\",IF(P44<='Check-In'!$U$136,P44,IF(AND(S43=S44,Q43='Check-In'!$U$136),P44,\"\")),IF(P44<='Check-In'!$Q$136,P44,IF(AND(S43=S44,Q43='Check-In'!$Q$136),P44,\"\"))))","v":""},"","","",{"$f":"IF(Master!$B$1=\"Dbls\",IF(B44<='Check-In'!$S$137,B44,IF(AND(I43=I44,G43='Check-In'!$S$137),B44,\"\")),IF(Master!$B$1=\"2-Day\",IF(B44<='Check-In'!$U$137,B44,IF(AND(I43=I44,G43='Check-In'!$U$137),B44,\"\")),IF(B44<='Check-In'!$Q$137,B44,IF(AND(I43=I44,G43='Check-In'!$Q$137),B44,\"\"))))","v":""},"","","",{"$f":"IF(Master!$B$1=\"Dbls\",IF(P44<='Check-In'!$R$139,P44,IF(AND(W43=W44,U43='Check-In'!$R$139),P44,\"\")),IF(Master!$B$1=\"2-Day\",IF(P44<='Check-In'!$T$139,P44,IF(AND(W43=W44,U43='Check-In'!$T$139),P44,\"\")),IF(P44<='Check-In'!$P$139,P44,IF(AND(W43=W44,U43='Check-In'!$P$139),P44,\"\"))))","v":""},"","",{"$nulls":7},{"$f":"IF(AJ44=0,\"\",'Check-In'!$B49)","v":"WIRZ, MIKE"},{"$f":"IF(Tourn=\"2-Day\",'Check-In'!T49,IF(Tourn=\"Dbls\", 'Check-In'!R49,'Check-In'!P49))","v":"X"},{"$f":"IF(AJ44=\"x\",INDEX(Qual!$C$8:$U$133,MATCH(AI44,Qual!$C$8:$C$133,0),IF(Tourn=\"Dbls\",7,IF(Tourn=\"2-Day\",6,IF(Tourn=\"MSC\",6,5)))),\"\")","v":226},{"$f":"IF(AJ44=\"x\",INDEX(Qual!$C$8:$U$133,MATCH(AI44,Qual!$C$8:$C$133,0),IF(Tourn=\"Dbls\",8,IF(Tourn=\"2-Day\",7,IF(Tourn=\"MSC\",8,6)))),\"\")","v":215},{"$f":"IF(AJ44=\"x\",INDEX(Qual!$C$8:$U$133,MATCH(AI44,Qual!$C$8:$C$133,0),IF(Tourn=\"Dbls\",9,IF(Tourn=\"2-Day\",8,IF(Tourn=\"MSC\",10,7)))),\"\")","v":216},null,{"$f":"IF(AP44=0,\"\",'Check-In'!$B49)","v":"WIRZ, MIKE"},{"$f":"IF(Tourn=\"2-Day\",'Check-In'!U49,IF(Tourn=\"Dbls\", 'Check-In'!S49,'Check-In'!P49))","v":"X"},{"$f":"IF(AP44=\"x\",INDEX(Qual!$C$8:$U$133,MATCH(AO44,Qual!$C$8:$C$133,0),IF(Tourn=\"Dbls\",15,IF(Tourn=\"2-Day\",10,IF(Tourn=\"MSC\",12,8)))),\"\")","v":216},{"$f":"IF(AP44=\"x\",INDEX(Qual!$C$8:$U$133,MATCH(AO44,Qual!$C$8:$C$133,0),IF(Tourn=\"Dbls\",16,IF(Tourn=\"2-Day\",11,IF(Tourn=\"MSC\",14,9)))),\"\")","v":190},{"$f":"IF(AP44=\"x\",INDEX(Qual!$C$8:$U$133,MATCH(AO44,Qual!$C$8:$C$133,0),IF(Tourn=\"Dbls\",17,IF(Tourn=\"2-Day\",12,IF(Tourn=\"MSC\",16,10)))),\"\")","v":174}]
[null,43,{"$f":"IF(Master!$B$1=\"Dbls\",IF(B45<='Check-In'!$R$136,B45,IF(AND(E44=E45,C44='Check-In'!$R$136),B45,\"\")),IF(Master!$B$1=\"2-Day\",IF(B45<='Check-In'!$T$136,B45,IF(AND(E44=E45,C44='Check-In'!$T$136),B45,\"\")),IF(B45<='Check-In'!$P$136,B45,IF(AND(E44=E45,C44='Check-In'!$P$136),B45,\"\"))))","v":""},"","","",{"$f":"IF(Master!$B$1=\"Dbls\",IF(B45<='Check-In'!$R$137,B45,IF(AND(I44=I45,G44='Check-In'!$R$137),B45,\"\")),IF(Master!$B$1=\"2-Day\",IF(B45<='Check-In'!$T$137,B45,IF(AND(I44=I45,G44='Check-In'!$T$137),B45,\"\")),IF(B45<='Check-In'!$P$137,B45,IF(AND(I44=I45,G44='Check-In'!$P$137),B45,\"\"))))","v":""},"","","",{"$f":"IF(Master!$B$1=\"Dbls\",IF(B45<='Check-In'!$R$139,B45,IF(AND(I44=I45,G44='Check-In'!$R$139),B45,\"\")),IF(Master!$B$1=\"2-Day\",IF(B45<='Check-In'!$T$139,B45,IF(AND(I44=I45,G44='Check-In'!$T$139),B45,\"\")),IF(B45<='Check-In'!$P$139,B45,IF(AND(I44=I45,G44='Check-In'!$P$139),B45,\"\"))))","v":""},"","",null,null,43,{"$f":"IF(Master!$B$1=\"Dbls\",IF(P45<='Check-In'!$S$136,P45,IF(AND(S44=S45,Q44='Check-In'!$S$136),P45,\"\")),IF(Master!$B$1=\"2-Day\",IF(P45<='Check-In'!$U$136,P45,IF(AND(S44=S45,Q44='Check-In'!$U$136),P45,\"\")),IF(P45<='Check-In'!$Q$136,P45,IF(AND(S44=S45,Q44='Check-In'!$Q$136),P45,\"\"))))","v":""},"","","",{"$f":"IF(Master!$B$1=\"Dbls\",IF(B45<='Check-In'!$S$137,B45,IF(AND(I44=I45,G44='Check-In'!$S$137),B45,\"\")),IF(Master!$B$1=\"2-Day\",IF(B45<='Check-In'!$U$137,B45,IF(AND(I44=I45,G44='Check-In'!$U$137),B45,\"\")),IF(B45<='Check-In'!$Q$137,B45,IF(AND(I44=I45,G44='Check-In'!$Q$137),B45,\"\"))))","v":""},"","","",{"$f":"IF(Master!$B$1=\"Dbls\",IF(P45<='Check-In'!$R$139,P45,IF(AND(W44=W45,U44='Check-In'!$R$139),P45,\"\")),IF(Master!$B$1=\"2-Day\",IF(P45<='Check-In'!$T$139,P45,IF(AND(W44=W45,U44='Check-In'!$T$139),P45,\"\")),IF(P45<='Check-In'!$P$139,P45,IF(AND(W44=W45,U44='Check-In'!$P$139),P45,\"\"))))","v":""},"","",{"$nulls":7},{"$f":"IF(AJ45=0,\"\",'Check-In'!$B50)","v":"MANSKE, WARREN"},{"$f":"IF(Tourn=\"2-Day\",'Check-In'!T50,IF(Tourn=\"Dbls\", 'Check-In'!R50,'Check-In'!P50))","v":"X"},{"$f":"IF(AJ45=\"x\",INDEX(Qual!$C$8:$U$133,MATCH(AI45,Qual!$C$8:$C$133,0),IF(Tourn=\"Dbls\",7,IF(Tourn=\"2-Day\",6,IF(Tourn=\"MSC\",6,5)))),\"\")","v":180},{"$f":"IF(AJ45=\"x\",INDEX(Qual!$C$8:$U$133,MATCH(AI45,Qual!$C$8:$C$133,0),IF(Tourn=\"Dbls\",8,IF(Tourn=\"2-Day\",7,IF(Tourn=\"MSC\",8,6)))),\"\")","v":172},{"$f":"IF(AJ45=\"x\",INDEX(Qual!$C$8:$U$133,MATCH(AI45,Qual!$C$8:$C$133,0),IF(Tourn=\"Dbls\",9,IF(Tourn=\"2-Day\",8,IF(Tourn=\"MSC\",10,7)))),\"\")","v":177},null,{"$f":"IF(AP45=0,\"\",'Check-In'!$B50)","v":"MANSKE, WARREN"},{"$f":"IF(Tourn=\"2-Day\",'Check-In'!U50,IF(Tourn=\"Dbls\", 'Check-In'!S50,'Check-In'!P50))","v":"X"},{"$f":"IF(AP45=\"x\",INDEX(Qual!$C$8:$U$133,MATCH(AO45,Qual!$C$8:$C$133,0),IF(Tourn=\"Dbls\",15,IF(Tourn=\"2-Day\",10,IF(Tourn=\"MSC\",12,8)))),\"\")","v":170},{"$f":"IF(AP45=\"x\",INDEX(Qual!$C$8:$U$133,MATCH(AO45,Qual!$C$8:$C$133,0),IF(Tourn=\"Dbls\",16,IF(Tourn=\"2-Day\",11,IF(Tourn=\"MSC\",14,9)))),\"\")","v":192},{"$f":"IF(AP45=\"x\",INDEX(Qual!$C$8:$U$133,MATCH(AO45,Qual!$C$8:$C$133,0),IF(Tourn=\"Dbls\",17,IF(Tourn=\"2-Day\",12,IF(Tourn=\"MSC\",16,10)))),\"\")","v":187}]
[null,44,{"$f":"IF(Master!$B$1=\"Dbls\",IF(B46<='Check-In'!$R$136,B46,IF(AND(E45=E46,C45='Check-In'!$R$136),B46,\"\")),IF(Master!$B$1=\"2-Day\",IF(B46<='Check-In'!$T$136,B46,IF(AND(E45=E46,C45='Check-In'!$T$136),B46,\"\")),IF(B46<='Check-In'!$P$136,B46,IF(AND(E45=E46,C45='Check-In'!$P$136),B46,\"\"))))","v":""},"","","",{"$f":"IF(Master!$B$1=\"Dbls\",IF(B46<='Check-In'!$R$137,B46,IF(AND(I45=I46,G45='Check-In'!$R$137),B46,\"\")),IF(Master!$B$1=\"2-Day\",IF(B46<='Check-In'!$T$137,B46,IF(AND(I45=I46,G45='Check-In'!$T$137),B46,\"\")),IF(B46<='Check-In'!$P$137,B46,IF(AND(I45=I46,G45='Check-In'!$P$137),B46,\"\"))))","v":""},"","","",{"$f":"IF(Master!$B$1=\"Dbls\",IF(B46<='Check-In'!$R$139,B46,IF(AND(I45=I46,G45='Check-In'!$R$139),B46,\"\")),IF(Master!$B$1=\"2-Day\",IF(B46<='Check-In'!$T$139,B46,IF(AND(I45=I46,G45='Check-In'!$T$139),B46,\"\")),IF(B46<='Check-In'!$P$139,B46,IF(AND(I45=I46,G45='Check-In'!$P$139),B46,\"\"))))","v":""},"","",null,null,44,{"$f":"IF(Master!$B$1=\"Dbls\",IF(P46<='Check-In'!$S$136,P46,IF(AND(S45=S46,Q45='Check-In'!$S$136),P46,\"\")),IF(Master!$B$1=\"2-Day\",IF(P46<='Check-In'!$U$136,P46,IF(AND(S45=S46,Q45='Check-In'!$U$136),P46,\"\")),IF(P46<='Check-In'!$Q$136,P46,IF(AND(S45=S46,Q45='Check-In'!$Q$136),P46,\"\"))))","v":""},"","","",{"$f":"IF(Master!$B$1=\"Dbls\",IF(B46<='Check-In'!$S$137,B46,IF(AND(I45=I46,G45='Check-In'!$S$137),B46,\"\")),IF(Master!$B$1=\"2-Day\",IF(B46<='Check-In'!$U$137,B46,IF(AND(I45=I46,G45='Check-In'!$U$137),B46,\"\")),IF(B46<='Check-In'!$Q$137,B46,IF(AND(I45=I46,G45='Check-In'!$Q$137),B46,\"\"))))","v":""},"","","",{"$f":"IF(Master!$B$1=\"Dbls\",IF(P46<='Check-In'!$R$139,P46,IF(AND(W45=W46,U45='Check-In'!$R$139),P46,\"\")),IF(Master!$B$1=\"2-Day\",IF(P46<='Check-In'!$T$139,P46,IF(AND(W45=W46,U45='Check-In'!$T$139),P46,\"\")),IF(P46<='Check-In'!$P$139,P46,IF(AND(W45=W46,U45='Check-In'!$P$139),P46,\"\"))))","v":""},"","",{"$nulls":7},{"$f":"IF(AJ46=0,\"\",'Check-In'!$B51)","v":""},{"$f":"IF(Tourn=\"2-Day\",'Check-In'!T51,IF(Tourn=\"Dbls\", 'Check-In'!R51,'Check-In'!P51))","v":0},{"$f":"IF(AJ46=\"x\",INDEX(Qual!$C$8:$U$133,MATCH(AI46,Qual!$C$8:$C$133,0),IF(Tourn=\"Dbls\",7,IF(Tourn=\"2-Day\",6,IF(Tourn=\"MSC\",6,5)))),\"\")","v":""},{"$f":"IF(AJ46=\"x\",INDEX(Qual!$C$8:$U$133,MATCH(AI46,Qual!$C$8:$C$133,0),IF(Tourn=\"Dbls\",8,IF(Tourn=\"2-Day\",7,IF(Tourn=\"MSC\",8,6)))),\"\")","v":""},{"$f":"IF(AJ46=\"x\",INDEX(Qual!$C$8:$U$133,MATCH(AI46,Qual!$C$8:$C$133,0),IF(Tourn=\"Dbls\",9,IF(Tourn=\"2-Day\",8,IF(Tourn=\"MSC\",10,7)))),\"\")","v":""},null,{"$f":"IF(AP46=0,\"\",'Check-In'!$B51)","v":""},{"$f":"IF(Tourn=\"2-Day\",'Check-In'!U51,IF(Tourn=\"Dbls\", 'Check-In'!S51,'Check-In'!P51))","v":0},{"$f":"IF(AP46=\"x\",INDEX(Qual!$C$8:$U$133,MATCH(AO46,Qual!$C$8:$C$133,0),IF(Tourn=\"Dbls\",15,IF(Tourn=\"2-Day\",10,IF(Tourn=\"MSC\",12,8)))),\"\")","v":""},{"$f":"IF(AP46=\"x\",INDEX(Qual!$C$8:$U$133,MATCH(AO46,Qual!$C$8:$C$133,0),IF(Tourn=\"Dbls\",16,IF(Tourn=\"2-Day\",11,IF(Tourn=\"MSC\",14,9)))),\"\")","v":""},{"$f":"IF(AP46=\"x\",INDEX(Qual!$C$8:$U$133,MATCH(AO46,Qual!$C$8:$C$133,0),IF(Tourn=\"Dbls\",17,IF(Tourn=\"2-Day\",12,IF(Tourn=\"MSC\",16,10)))),\"\")","v":""}]
[null,45,{"$f":"IF(Master!$B$1=\"Dbls\",IF(B47<='Check-In'!$R$136,B47,IF(AND(E46=E47,C46='Check-In'!$R$136),B47,\"\")),IF(Master!$B$1=\"2-Day\",IF(B47<='Check-In'!$T$136,B47,IF(AND(E46=E47,C46='Check-In'!$T$136),B47,\"\")),IF(B47<='Check-In'!$P$136,B47,IF(AND(E46=E47,C46='Check-In'!$P$136),B47,\"\"))))","v":""},"","","",{"$f":"IF(Master!$B$1=\"Dbls\",IF(B47<='Check-In'!$R$137,B47,IF(AND(I46=I47,G46='Check-In'!$R$137),B47,\"\")),IF(Master!$B$1=\"2-Day\",IF(B47<='Check-In'!$T$137,B47,IF(AND(I46=I47,G46='Check-In'!$T$137),B47,\"\")),IF(B47<='Check-In'!$P$137,B47,IF(AND(I46=I47,G46='Check-In'!$P$137),B47,\"\"))))","v":""},"","","",{"$f":"IF(Master!$B$1=\"Dbls\",IF(B47<='Check-In'!$R$139,B47,IF(AND(I46=I47,G46='Check-In'!$R$139),B47,\"\")),IF(Master!$B$1=\"2-Day\",IF(B47<='Check-In'!$T$139,B47,IF(AND(I46=I47,G46='Check-In'!$T$139),B47,\"\")),IF(B47<='Check-In'!$P$139,B47,IF(AND(I46=I47,G46='Check-In'!$P$139),B47,\"\"))))","v":""},"","",null,null,45,{"$f":"IF(Master!$B$1=\"Dbls\",IF(P47<='Check-In'!$S$136,P47,IF(AND(S46=S47,Q46='Check-In'!$S$136),P47,\"\")),IF(Master!$B$1=\"2-Day\",IF(P47<='Check-In'!$U$136,P47,IF(AND(S46=S47,Q46='Check-In'!$U$136),P47,\"\")),IF(P47<='Check-In'!$Q$136,P47,IF(AND(S46=S47,Q46='Check-In'!$Q$136),P47,\"\"))))","v":""},"","","",{"$f":"IF(Master!$B$1=\"Dbls\",IF(B47<='Check-In'!$S$137,B47,IF(AND(I46=I47,G46='Check-In'!$S$137),B47,\"\")),IF(Master!$B$1=\"2-Day\",IF(B47<='Check-In'!$U$137,B47,IF(AND(I46=I47,G46='Check-In'!$U$137),B47,\"\")),IF(B47<='Check-In'!$Q$137,B47,IF(AND(I46=I47,G46='Check-In'!$Q$137),B47,\"\"))))","v":""},"","","",{"$f":"IF(Master!$B$1=\"Dbls\",IF(P47<='Check-In'!$R$139,P47,IF(AND(W46=W47,U46='Check-In'!$R$139),P47,\"\")),IF(Master!$B$1=\"2-Day\",IF(P47<='Check-In'!$T$139,P47,IF(AND(W46=W47,U46='Check-In'!$T$139),P47,\"\")),IF(P47<='Check-In'!$P$139,P47,IF(AND(W46=W47,U46='Check-In'!$P$139),P47,\"\"))))","v":""},"","",{"$nulls":7},{"$f":"IF(AJ47=0,\"\",'Check-In'!$B52)","v":""},{"$f":"IF(Tourn=\"2-Day\",'Check-In'!T52,IF(Tourn=\"Dbls\", 'Check-In'!R52,'Check-In'!P52))","v":0},{"$f":"IF(AJ47=\"x\",INDEX(Qual!$C$8:$U$133,MATCH(AI47,Qual!$C$8:$C$133,0),IF(Tourn=\"Dbls\",7,IF(Tourn=\"2-Day\",6,IF(Tourn=\"MSC\",6,5)))),\"\")","v":""},{"$f":"IF(AJ47=\"x\",INDEX(Qual!$C$8:$U$133,MATCH(AI47,Qual!$C$8:$C$133,0),IF(Tourn=\"Dbls\",8,IF(Tourn=\"2-Day\",7,IF(Tourn=\"MSC\",8,6)))),\"\")","v":""},{"$f":"IF(AJ47=\"x\",INDEX(Qual!$C$8:$U$133,MATCH(AI47,Qual!$C$8:$C$133,0),IF(Tourn=\"Dbls\",9,IF(Tourn=\"2-Day\",8,IF(Tourn=\"MSC\",10,7)))),\"\")","v":""},null,{"$f":"IF(AP47=0,\"\",'Check-In'!$B52)","v":""},{"$f":"IF(Tourn=\"2-Day\",'Check-In'!U52,IF(Tourn=\"Dbls\", 'Check-In'!S52,'Check-In'!P52))","v":0},{"$f":"IF(AP47=\"x\",INDEX(Qual!$C$8:$U$133,MATCH(AO47,Qual!$C$8:$C$133,0),IF(Tourn=\"Dbls\",15,IF(Tourn=\"2-Day\",10,IF(Tourn=\"MSC\",12,8)))),\"\")","v":""},{"$f":"IF(AP47=\"x\",INDEX(Qual!$C$8:$U$133,MATCH(AO47,Qual!$C$8:$C$133,0),IF(Tourn=\"Dbls\",16,IF(Tourn=\"2-Day\",11,IF(Tourn=\"MSC\",14,9)))),\"\")","v":""},{"$f":"IF(AP47=\"x\",INDEX(Qual!$C$8:$U$133,MATCH(AO47,Qual!$C$8:$C$133,0),IF(Tourn=\"Dbls\",17,IF(Tourn=\"2-Day\",12,IF(Tourn=\"MSC\",16,10)))),\"\")","v":""}]
[null,46,{"$f":"IF(Master!$B$1=\"Dbls\",IF(B48<='Check-In'!$R$136,B48,IF(AND(E47=E48,C47='Check-In'!$R$136),B48,\"\")),IF(Master!$B$1=\"2-Day\",IF(B48<='Check-In'!$T$136,B48,IF(AND(E47=E48,C47='Check-In'!$T$136),B48,\"\")),IF(B48<='Check-In'!$P$136,B48,IF(AND(E47=E48,C47='Check-In'!$P$136),B48,\"\"))))","v":""},"","","",{"$f":"IF(Master!$B$1=\"Dbls\",IF(B48<='Check-In'!$R$137,B48,IF(AND(I47=I48,G47='Check-In'!$R$137),B48,\"\")),IF(Master!$B$1=\"2-Day\",IF(B48<='Check-In'!$T$137,B48,IF(AND(I47=I48,G47='Check-In'!$T$137),B48,\"\")),IF(B48<='Check-In'!$P$137,B48,IF(AND(I47=I48,G47='Check-In'!$P$137),B48,\"\"))))","v":""},"","","",{"$f":"IF(Master!$B$1=\"Dbls\",IF(B48<='Check-In'!$R$139,B48,IF(AND(I47=I48,G47='Check-In'!$R$139),B48,\"\")),IF(Master!$B$1=\"2-Day\",IF(B48<='Check-In'!$T$139,B48,IF(AND(I47=I48,G47='Check-In'!$T$139),B48,\"\")),IF(B48<='Check-In'!$P$139,B48,IF(AND(I47=I48,G47='Check-In'!$P$139),B48,\"\"))))","v":""},"","",null,null,46,{"$f":"IF(Master!$B$1=\"Dbls\",IF(P48<='Check-In'!$S$136,P48,IF(AND(S47=S48,Q47='Check-In'!$S$136),P48,\"\")),IF(Master!$B$1=\"2-Day\",IF(P48<='Check-In'!$U$136,P48,IF(AND(S47=S48,Q47='Check-In'!$U$136),P48,\"\")),IF(P48<='Check-In'!$Q$136,P48,IF(AND(S47=S48,Q47='Check-In'!$Q$136),P48,\"\"))))","v":""},"","","",{"$f":"IF(Master!$B$1=\"Dbls\",IF(B48<='Check-In'!$S$137,B48,IF(AND(I47=I48,G47='Check-In'!$S$137),B48,\"\")),IF(Master!$B$1=\"2-Day\",IF(B48<='Check-In'!$U$137,B48,IF(AND(I47=I48,G47='Check-In'!$U$137),B48,\"\")),IF(B48<='Check-In'!$Q$137,B48,IF(AND(I47=I48,G47='Check-In'!$Q$137),B48,\"\"))))","v":""},"","","",{"$f":"IF(Master!$B$1=\"Dbls\",IF(P48<='Check-In'!$R$139,P48,IF(AND(W47=W48,U47='Check-In'!$R$139),P48,\"\")),IF(Master!$B$1=\"2-Day\",IF(P48<='Check-In'!$T$139,P48,IF(AND(W47=W48,U47='Check-In'!$T$139),P48,\"\")),IF(P48<='Check-In'!$P$139,P48,IF(AND(W47=W48,U47='Check-In'!$P$139),P48,\"\"))))","v":""},"","",{"$nulls":7},{"$f":"IF(AJ48=0,\"\",'Check-In'!$B53)","v":"HALIDA, TERRY"},{"$f":"IF(Tourn=\"2-Day\",'Check-In'!T53,IF(Tourn=\"Dbls\", 'Check-In'!R53,'Check-In'!P53))","v":"X"},{"$f":"IF(AJ48=\"x\",INDEX(Qual!$C$8:$U$133,MATCH(AI48,Qual!$C$8:$C$133,0),IF(Tourn=\"Dbls\",7,IF(Tourn=\"2-Day\",6,IF(Tourn=\"MSC\",6,5)))),\"\")","v":186},{"$f":"IF(AJ48=\"x\",INDEX(Qual!$C$8:$U$133,MATCH(AI48,Qual!$C$8:$C$133,0),IF(Tourn=\"Dbls\",8,IF(Tourn=\"2-Day\",7,IF(Tourn=\"MSC\",8,6)))),\"\")","v":170},{"$f":"IF(AJ48=\"x\",INDEX(Qual!$C$8:$U$133,MATCH(AI48,Qual!$C$8:$C$133,0),IF(Tourn=\"Dbls\",9,IF(Tourn=\"2-Day\",8,IF(Tourn=\"MSC\",10,7)))),\"\")","v":189},null,{"$f":"IF(AP48=0,\"\",'Check-In'!$B53)","v":"HALIDA, TERRY"},{"$f":"IF(Tourn=\"2-Day\",'Check-In'!U53,IF(Tourn=\"Dbls\", 'Check-In'!S53,'Check-In'!P53))","v":"X"},{"$f":"IF(AP48=\"x\",INDEX(Qual!$C$8:$U$133,MATCH(AO48,Qual!$C$8:$C$133,0),IF(Tourn=\"Dbls\",15,IF(Tourn=\"2-Day\",10,IF(Tourn=\"MSC\",12,8)))),\"\")","v":183},{"$f":"IF(AP48=\"x\",INDEX(Qual!$C$8:$U$133,MATCH(AO48,Qual!$C$8:$C$133,0),IF(Tourn=\"Dbls\",16,IF(Tourn=\"2-Day\",11,IF(Tourn=\"MSC\",14,9)))),\"\")","v":147},{"$f":"IF(AP48=\"x\",INDEX(Qual!$C$8:$U$133,MATCH(AO48,Qual!$C$8:$C$133,0),IF(Tourn=\"Dbls\",17,IF(Tourn=\"2-Day\",12,IF(Tourn=\"MSC\",16,10)))),\"\")","v":154}]
[null,47,{"$f":"IF(Master!$B$1=\"Dbls\",IF(B49<='Check-In'!$R$136,B49,IF(AND(E48=E49,C48='Check-In'!$R$136),B49,\"\")),IF(Master!$B$1=\"2-Day\",IF(B49<='Check-In'!$T$136,B49,IF(AND(E48=E49,C48='Check-In'!$T$136),B49,\"\")),IF(B49<='Check-In'!$P$136,B49,IF(AND(E48=E49,C48='Check-In'!$P$136),B49,\"\"))))","v":""},"","","",{"$f":"IF(Master!$B$1=\"Dbls\",IF(B49<='Check-In'!$R$137,B49,IF(AND(I48=I49,G48='Check-In'!$R$137),B49,\"\")),IF(Master!$B$1=\"2-Day\",IF(B49<='Check-In'!$T$137,B49,IF(AND(I48=I49,G48='Check-In'!$T$137),B49,\"\")),IF(B49<='Check-In'!$P$137,B49,IF(AND(I48=I49,G48='Check-In'!$P$137),B49,\"\"))))","v":""},"","","",{"$f":"IF(Master!$B$1=\"Dbls\",IF(B49<='Check-In'!$R$139,B49,IF(AND(I48=I49,G48='Check-In'!$R$139),B49,\"\")),IF(Master!$B$1=\"2-Day\",IF(B49<='Check-In'!$T$139,B49,IF(AND(I48=I49,G48='Check-In'!$T$139),B49,\"\")),IF(B49<='Check-In'!$P$139,B49,IF(AND(I48=I49,G48='Check-In'!$P$139),B49,\"\"))))","v":""},"","",null,null,47,{"$f":"IF(Master!$B$1=\"Dbls\",IF(P49<='Check-In'!$S$136,P49,IF(AND(S48=S49,Q48='Check-In'!$S$136),P49,\"\")),IF(Master!$B$1=\"2-Day\",IF(P49<='Check-In'!$U$136,P49,IF(AND(S48=S49,Q48='Check-In'!$U$136),P49,\"\")),IF(P49<='Check-In'!$Q$136,P49,IF(AND(S48=S49,Q48='Check-In'!$Q$136),P49,\"\"))))","v":""},"","","",{"$f":"IF(Master!$B$1=\"Dbls\",IF(B49<='Check-In'!$S$137,B49,IF(AND(I48=I49,G48='Check-In'!$S$137),B49,\"\")),IF(Master!$B$1=\"2-Day\",IF(B49<='Check-In'!$U$137,B49,IF(AND(I48=I49,G48='Check-In'!$U$137),B49,\"\")),IF(B49<='Check-In'!$Q$137,B49,IF(AND(I48=I49,G48='Check-In'!$Q$137),B49,\"\"))))","v":""},"","","",{"$f":"IF(Master!$B$1=\"Dbls\",IF(P49<='Check-In'!$R$139,P49,IF(AND(W48=W49,U48='Check-In'!$R$139),P49,\"\")),IF(Master!$B$1=\"2-Day\",IF(P49<='Check-In'!$T$139,P49,IF(AND(W48=W49,U48='Check-In'!$T$139),P49,\"\")),IF(P49<='Check-In'!$P$139,P49,IF(AND(W48=W49,U48='Check-In'!$P$139),P49,\"\"))))","v":""},"","",{"$nulls":7},{"$f":"IF(AJ49=0,\"\",'Check-In'!$B54)","v":"HANKE, KURT"},{"$f":"IF(Tourn=\"2-Day\",'Check-In'!T54,IF(Tourn=\"Dbls\", 'Check-In'!R54,'Check-In'!P54))","v":"X"},{"$f":"IF(AJ49=\"x\",INDEX(Qual!$C$8:$U$133,MATCH(AI49,Qual!$C$8:$C$133,0),IF(Tourn=\"Dbls\",7,IF(Tourn=\"2-Day\",6,IF(Tourn=\"MSC\",6,5)))),\"\")","v":190},{"$f":"IF(AJ49=\"x\",INDEX(Qual!$C$8:$U$133,MATCH(AI49,Qual!$C$8:$C$133,0),IF(Tourn=\"Dbls\",8,IF(Tourn=\"2-Day\",7,IF(Tourn=\"MSC\",8,6)))),\"\")","v":196},{"$f":"IF(AJ49=\"x\",INDEX(Qual!$C$8:$U$133,MATCH(AI49,Qual!$C$8:$C$133,0),IF(Tourn=\"Dbls\",9,IF(Tourn=\"2-Day\",8,IF(Tourn=\"MSC\",10,7)))),\"\")","v":220},null,{"$f":"IF(AP49=0,\"\",'Check-In'!$B54)","v":"HANKE, KURT"},{"$f":"IF(Tourn=\"2-Day\",'Check-In'!U54,IF(Tourn=\"Dbls\", 'Check-In'!S54,'Check-In'!P54))","v":"X"},{"$f":"IF(AP49=\"x\",INDEX(Qual!$C$8:$U$133,MATCH(AO49,Qual!$C$8:$C$133,0),IF(Tourn=\"Dbls\",15,IF(Tourn=\"2-Day\",10,IF(Tourn=\"MSC\",12,8)))),\"\")","v":228},{"$f":"IF(AP49=\"x\",INDEX(Qual!$C$8:$U$133,MATCH(AO49,Qual!$C$8:$C$133,0),IF(Tourn=\"Dbls\",16,IF(Tourn=\"2-Day\",11,IF(Tourn=\"MSC\",14,9)))),\"\")","v":257},{"$f":"IF(AP49=\"x\",INDEX(Qual!$C$8:$U$133,MATCH(AO49,Qual!$C$8:$C$133,0),IF(Tourn=\"Dbls\",17,IF(Tourn=\"2-Day\",12,IF(Tourn=\"MSC\",16,10)))),\"\")","v":193}]
[null,48,{"$f":"IF(Master!$B$1=\"Dbls\",IF(B50<='Check-In'!$R$136,B50,IF(AND(E49=E50,C49='Check-In'!$R$136),B50,\"\")),IF(Master!$B$1=\"2-Day\",IF(B50<='Check-In'!$T$136,B50,IF(AND(E49=E50,C49='Check-In'!$T$136),B50,\"\")),IF(B50<='Check-In'!$P$136,B50,IF(AND(E49=E50,C49='Check-In'!$P$136),B50,\"\"))))","v":""},"","","",{"$f":"IF(Master!$B$1=\"Dbls\",IF(B50<='Check-In'!$R$137,B50,IF(AND(I49=I50,G49='Check-In'!$R$137),B50,\"\")),IF(Master!$B$1=\"2-Day\",IF(B50<='Check-In'!$T$137,B50,IF(AND(I49=I50,G49='Check-In'!$T$137),B50,\"\")),IF(B50<='Check-In'!$P$137,B50,IF(AND(I49=I50,G49='Check-In'!$P$137),B50,\"\"))))","v":""},"","","",{"$f":"IF(Master!$B$1=\"Dbls\",IF(B50<='Check-In'!$R$139,B50,IF(AND(I49=I50,G49='Check-In'!$R$139),B50,\"\")),IF(Master!$B$1=\"2-Day\",IF(B50<='Check-In'!$T$139,B50,IF(AND(I49=I50,G49='Check-In'!$T$139),B50,\"\")),IF(B50<='Check-In'!$P$139,B50,IF(AND(I49=I50,G49='Check-In'!$P$139),B50,\"\"))))","v":""},"","",null,null,48,{"$f":"IF(Master!$B$1=\"Dbls\",IF(P50<='Check-In'!$S$136,P50,IF(AND(S49=S50,Q49='Check-In'!$S$136),P50,\"\")),IF(Master!$B$1=\"2-Day\",IF(P50<='Check-In'!$U$136,P50,IF(AND(S49=S50,Q49='Check-In'!$U$136),P50,\"\")),IF(P50<='Check-In'!$Q$136,P50,IF(AND(S49=S50,Q49='Check-In'!$Q$136),P50,\"\"))))","v":""},"","","",{"$f":"IF(Master!$B$1=\"Dbls\",IF(B50<='Check-In'!$S$137,B50,IF(AND(I49=I50,G49='Check-In'!$S$137),B50,\"\")),IF(Master!$B$1=\"2-Day\",IF(B50<='Check-In'!$U$137,B50,IF(AND(I49=I50,G49='Check-In'!$U$137),B50,\"\")),IF(B50<='Check-In'!$Q$137,B50,IF(AND(I49=I50,G49='Check-In'!$Q$137),B50,\"\"))))","v":""},"","","",{"$f":"IF(Master!$B$1=\"Dbls\",IF(P50<='Check-In'!$R$139,P50,IF(AND(W49=W50,U49='Check-In'!$R$139),P50,\"\")),IF(Master!$B$1=\"2-Day\",IF(P50<='Check-In'!$T$139,P50,IF(AND(W49=W50,U49='Check-In'!$T$139),P50,\"\")),IF(P50<='Check-In'!$P$139,P50,IF(AND(W49=W50,U49='Check-In'!$P$139),P50,\"\"))))","v":""},"","",{"$nulls":7},{"$f":"IF(AJ50=0,\"\",'Check-In'!$B55)","v":""},{"$f":"IF(Tourn=\"2-Day\",'Check-In'!T55,IF(Tourn=\"Dbls\", 'Check-In'!R55,'Check-In'!P55))","v":0},{"$f":"IF(AJ50=\"x\",INDEX(Qual!$C$8:$U$133,MATCH(AI50,Qual!$C$8:$C$133,0),IF(Tourn=\"Dbls\",7,IF(Tourn=\"2-Day\",6,IF(Tourn=\"MSC\",6,5)))),\"\")","v":""},{"$f":"IF(AJ50=\"x\",INDEX(Qual!$C$8:$U$133,MATCH(AI50,Qual!$C$8:$C$133,0),IF(Tourn=\"Dbls\",8,IF(Tourn=\"2-Day\",7,IF(Tourn=\"MSC\",8,6)))),\"\")","v":""},{"$f":"IF(AJ50=\"x\",INDEX(Qual!$C$8:$U$133,MATCH(AI50,Qual!$C$8:$C$133,0),IF(Tourn=\"Dbls\",9,IF(Tourn=\"2-Day\",8,IF(Tourn=\"MSC\",10,7)))),\"\")","v":""},null,{"$f":"IF(AP50=0,\"\",'Check-In'!$B55)","v":""},{"$f":"IF(Tourn=\"2-Day\",'Check-In'!U55,IF(Tourn=\"Dbls\", 'Check-In'!S55,'Check-In'!P55))","v":0},{"$f":"IF(AP50=\"x\",INDEX(Qual!$C$8:$U$133,MATCH(AO50,Qual!$C$8:$C$133,0),IF(Tourn=\"Dbls\",15,IF(Tourn=\"2-Day\",10,IF(Tourn=\"MSC\",12,8)))),\"\")","v":""},{"$f":"IF(AP50=\"x\",INDEX(Qual!$C$8:$U$133,MATCH(AO50,Qual!$C$8:$C$133,0),IF(Tourn=\"Dbls\",16,IF(Tourn=\"2-Day\",11,IF(Tourn=\"MSC\",14,9)))),\"\")","v":""},{"$f":"IF(AP50=\"x\",INDEX(Qual!$C$8:$U$133,MATCH(AO50,Qual!$C$8:$C$133,0),IF(Tourn=\"Dbls\",17,IF(Tourn=\"2-Day\",12,IF(Tourn=\"MSC\",16,10)))),\"\")","v":""}]
[null,49,{"$f":"IF(Master!$B$1=\"Dbls\",IF(B51<='Check-In'!$R$136,B51,IF(AND(E50=E51,C50='Check-In'!$R$136),B51,\"\")),IF(Master!$B$1=\"2-Day\",IF(B51<='Check-In'!$T$136,B51,IF(AND(E50=E51,C50='Check-In'!$T$136),B51,\"\")),IF(B51<='Check-In'!$P$136,B51,IF(AND(E50=E51,C50='Check-In'!$P$136),B51,\"\"))))","v":""},"","","",{"$f":"IF(Master!$B$1=\"Dbls\",IF(B51<='Check-In'!$R$137,B51,IF(AND(I50=I51,G50='Check-In'!$R$137),B51,\"\")),IF(Master!$B$1=\"2-Day\",IF(B51<='Check-In'!$T$137,B51,IF(AND(I50=I51,G50='Check-In'!$T$137),B51,\"\")),IF(B51<='Check-In'!$P$137,B51,IF(AND(I50=I51,G50='Check-In'!$P$137),B51,\"\"))))","v":""},"","","",{"$f":"IF(Master!$B$1=\"Dbls\",IF(B51<='Check-In'!$R$139,B51,IF(AND(I50=I51,G50='Check-In'!$R$139),B51,\"\")),IF(Master!$B$1=\"2-Day\",IF(B51<='Check-In'!$T$139,B51,IF(AND(I50=I51,G50='Check-In'!$T$139),B51,\"\")),IF(B51<='Check-In'!$P$139,B51,IF(AND(I50=I51,G50='Check-In'!$P$139),B51,\"\"))))","v":""},"","",null,null,49,{"$f":"IF(Master!$B$1=\"Dbls\",IF(P51<='Check-In'!$S$136,P51,IF(AND(S50=S51,Q50='Check-In'!$S$136),P51,\"\")),IF(Master!$B$1=\"2-Day\",IF(P51<='Check-In'!$U$136,P51,IF(AND(S50=S51,Q50='Check-In'!$U$136),P51,\"\")),IF(P51<='Check-In'!$Q$136,P51,IF(AND(S50=S51,Q50='Check-In'!$Q$136),P51,\"\"))))","v":""},"","","",{"$f":"IF(Master!$B$1=\"Dbls\",IF(B51<='Check-In'!$S$137,B51,IF(AND(I50=I51,G50='Check-In'!$S$137),B51,\"\")),IF(Master!$B$1=\"2-Day\",IF(B51<='Check-In'!$U$137,B51,IF(AND(I50=I51,G50='Check-In'!$U$137),B51,\"\")),IF(B51<='Check-In'!$Q$137,B51,IF(AND(I50=I51,G50='Check-In'!$Q$137),B51,\"\"))))","v":""},"","","",{"$f":"IF(Master!$B$1=\"Dbls\",IF(P51<='Check-In'!$R$139,P51,IF(AND(W50=W51,U50='Check-In'!$R$139),P51,\"\")),IF(Master!$B$1=\"2-Day\",IF(P51<='Check-In'!$T$139,P51,IF(AND(W50=W51,U50='Check-In'!$T$139),P51,\"\")),IF(P51<='Check-In'!$P$139,P51,IF(AND(W50=W51,U50='Check-In'!$P$139),P51,\"\"))))","v":""},"","",{"$nulls":7},{"$f":"IF(AJ51=0,\"\",'Check-In'!$B56)","v":"CORBETT, TOM"},{"$f":"IF(Tourn=\"2-Day\",'Check-In'!T56,IF(Tourn=\"Dbls\", 'Check-In'!R56,'Check-In'!P56))","v":"X"},{"$f":"IF(AJ51=\"x\",INDEX(Qual!$C$8:$U$133,MATCH(AI51,Qual!$C$8:$C$133,0),IF(Tourn=\"Dbls\",7,IF(Tourn=\"2-Day\",6,IF(Tourn=\"MSC\",6,5)))),\"\")","v":210},{"$f":"IF(AJ51=\"x\",INDEX(Qual!$C$8:$U$133,MATCH(AI51,Qual!$C$8:$C$133,0),IF(Tourn=\"Dbls\",8,IF(Tourn=\"2-Day\",7,IF(Tourn=\"MSC\",8,6)))),\"\")","v":207},{"$f":"IF(AJ51=\"x\",INDEX(Qual!$C$8:$U$133,MATCH(AI51,Qual!$C$8:$C$133,0),IF(Tourn=\"Dbls\",9,IF(Tourn=\"2-Day\",8,IF(Tourn=\"MSC\",10,7)))),\"\")","v":179},null,{"$f":"IF(AP51=0,\"\",'Check-In'!$B56)","v":"CORBETT, TOM"},{"$f":"IF(Tourn=\"2-Day\",'Check-In'!U56,IF(Tourn=\"Dbls\", 'Check-In'!S56,'Check-In'!P56))","v":"X"},{"$f":"IF(AP51=\"x\",INDEX(Qual!$C$8:$U$133,MATCH(AO51,Qual!$C$8:$C$133,0),IF(Tourn=\"Dbls\",15,IF(Tourn=\"2-Day\",10,IF(Tourn=\"MSC\",12,8)))),\"\")","v":213},{"$f":"IF(AP51=\"x\",INDEX(Qual!$C$8:$U$133,MATCH(AO51,Qual!$C$8:$C$133,0),IF(Tourn=\"Dbls\",16,IF(Tourn=\"2-Day\",11,IF(Tourn=\"MSC\",14,9)))),\"\")","v":202},{"$f":"IF(AP51=\"x\",INDEX(Qual!$C$8:$U$133,MATCH(AO51,Qual!$C$8:$C$133,0),IF(Tourn=\"Dbls\",17,IF(Tourn=\"2-Day\",12,IF(Tourn=\"MSC\",16,10)))),\"\")","v":226}]
[null,50,{"$f":"IF(Master!$B$1=\"Dbls\",IF(B52<='Check-In'!$R$136,B52,IF(AND(E51=E52,C51='Check-In'!$R$136),B52,\"\")),IF(Master!$B$1=\"2-Day\",IF(B52<='Check-In'!$T$136,B52,IF(AND(E51=E52,C51='Check-In'!$T$136),B52,\"\")),IF(B52<='Check-In'!$P$136,B52,IF(AND(E51=E52,C51='Check-In'!$P$136),B52,\"\"))))","v":""},"","","",{"$f":"IF(Master!$B$1=\"Dbls\",IF(B52<='Check-In'!$R$137,B52,IF(AND(I51=I52,G51='Check-In'!$R$137),B52,\"\")),IF(Master!$B$1=\"2-Day\",IF(B52<='Check-In'!$T$137,B52,IF(AND(I51=I52,G51='Check-In'!$T$137),B52,\"\")),IF(B52<='Check-In'!$P$137,B52,IF(AND(I51=I52,G51='Check-In'!$P$137),B52,\"\"))))","v":""},"","","",{"$f":"IF(Master!$B$1=\"Dbls\",IF(B52<='Check-In'!$R$139,B52,IF(AND(I51=I52,G51='Check-In'!$R$139),B52,\"\")),IF(Master!$B$1=\"2-Day\",IF(B52<='Check-In'!$T$139,B52,IF(AND(I51=I52,G51='Check-In'!$T$139),B52,\"\")),IF(B52<='Check-In'!$P$139,B52,IF(AND(I51=I52,G51='Check-In'!$P$139),B52,\"\"))))","v":""},"","",null,null,50,{"$f":"IF(Master!$B$1=\"Dbls\",IF(P52<='Check-In'!$S$136,P52,IF(AND(S51=S52,Q51='Check-In'!$S$136),P52,\"\")),IF(Master!$B$1=\"2-Day\",IF(P52<='Check-In'!$U$136,P52,IF(AND(S51=S52,Q51='Check-In'!$U$136),P52,\"\")),IF(P52<='Check-In'!$Q$136,P52,IF(AND(S51=S52,Q51='Check-In'!$Q$136),P52,\"\"))))","v":""},"","","",{"$f":"IF(Master!$B$1=\"Dbls\",IF(B52<='Check-In'!$S$137,B52,IF(AND(I51=I52,G51='Check-In'!$S$137),B52,\"\")),IF(Master!$B$1=\"2-Day\",IF(B52<='Check-In'!$U$137,B52,IF(AND(I51=I52,G51='Check-In'!$U$137),B52,\"\")),IF(B52<='Check-In'!$Q$137,B52,IF(AND(I51=I52,G51='Check-In'!$Q$137),B52,\"\"))))","v":""},"","","",{"$f":"IF(Master!$B$1=\"Dbls\",IF(P52<='Check-In'!$R$139,P52,IF(AND(W51=W52,U51='Check-In'!$R$139),P52,\"\")),IF(Master!$B$1=\"2-Day\",IF(P52<='Check-In'!$T$139,P52,IF(AND(W51=W52,U51='Check-In'!$T$139),P52,\"\")),IF(P52<='Check-In'!$P$139,P52,IF(AND(W51=W52,U51='Check-In'!$P$139),P52,\"\"))))","v":""},"","",{"$nulls":7},{"$f":"IF(AJ52=0,\"\",'Check-In'!$B57)","v":"SAVOY, TODD"},{"$f":"IF(Tourn=\"2-Day\",'Check-In'!T57,IF(Tourn=\"Dbls\", 'Check-In'!R57,'Check-In'!P57))","v":"X"},{"$f":"IF(AJ52=\"x\",INDEX(Qual!$C$8:$U$133,MATCH(AI52,Qual!$C$8:$C$133,0),IF(Tourn=\"Dbls\",7,IF(Tourn=\"2-Day\",6,IF(Tourn=\"MSC\",6,5)))),\"\")","v":183},{"$f":"IF(AJ52=\"x\",INDEX(Qual!$C$8:$U$133,MATCH(AI52,Qual!$C$8:$C$133,0),IF(Tourn=\"Dbls\",8,IF(Tourn=\"2-Day\",7,IF(Tourn=\"MSC\",8,6)))),\"\")","v":223},{"$f":"IF(AJ52=\"x\",INDEX(Qual!$C$8:$U$133,MATCH(AI52,Qual!$C$8:$C$133,0),IF(Tourn=\"Dbls\",9,IF(Tourn=\"2-Day\",8,IF(Tourn=\"MSC\",10,7)))),\"\")","v":236},null,{"$f":"IF(AP52=0,\"\",'Check-In'!$B57)","v":"SAVOY, TODD"},{"$f":"IF(Tourn=\"2-Day\",'Check-In'!U57,IF(Tourn=\"Dbls\", 'Check-In'!S57,'Check-In'!P57))","v":"X"},{"$f":"IF(AP52=\"x\",INDEX(Qual!$C$8:$U$133,MATCH(AO52,Qual!$C$8:$C$133,0),IF(Tourn=\"Dbls\",15,IF(Tourn=\"2-Day\",10,IF(Tourn=\"MSC\",12,8)))),\"\")","v":224},{"$f":"IF(AP52=\"x\",INDEX(Qual!$C$8:$U$133,MATCH(AO52,Qual!$C$8:$C$133,0),IF(Tourn=\"Dbls\",16,IF(Tourn=\"2-Day\",11,IF(Tourn=\"MSC\",14,9)))),\"\")","v":209},{"$f":"IF(AP52=\"x\",INDEX(Qual!$C$8:$U$133,MATCH(AO52,Qual!$C$8:$C$133,0),IF(Tourn=\"Dbls\",17,IF(Tourn=\"2-Day\",12,IF(Tourn=\"MSC\",16,10)))),\"\")","v":215}]
[{"$nulls":34},{"$f":"IF(AJ53=0,\"\",'Check-In'!$B58)","v":""},{"$f":"IF(Tourn=\"2-Day\",'Check-In'!T58,IF(Tourn=\"Dbls\", 'Check-In'!R58,'Check-In'!P58))","v":0},{"$f":"IF(AJ53=\"x\",INDEX(Qual!$C$8:$U$133,MATCH(AI53,Qual!$C$8:$C$133,0),IF(Tourn=\"Dbls\",7,IF(Tourn=\"2-Day\",6,IF(Tourn=\"MSC\",6,5)))),\"\")","v":""},{"$f":"IF(AJ53=\"x\",INDEX(Qual!$C$8:$U$133,MATCH(AI53,Qual!$C$8:$C$133,0),IF(Tourn=\"Dbls\",8,IF(Tourn=\"2-Day\",7,IF(Tourn=\"MSC\",8,6)))),\"\")","v":""},{"$f":"IF(AJ53=\"x\",INDEX(Qual!$C$8:$U$133,MATCH(AI53,Qual!$C$8:$C$133,0),IF(Tourn=\"Dbls\",9,IF(Tourn=\"2-Day\",8,IF(Tourn=\"MSC\",10,7)))),\"\")","v":""},null,{"$f":"IF(AP53=0,\"\",'Check-In'!$B58)","v":""},{"$f":"IF(Tourn=\"2-Day\",'Check-In'!U58,IF(Tourn=\"Dbls\", 'Check-In'!S58,'Check-In'!P58))","v":0},{"$f":"IF(AP53=\"x\",INDEX(Qual!$C$8:$U$133,MATCH(AO53,Qual!$C$8:$C$133,0),IF(Tourn=\"Dbls\",15,IF(Tourn=\"2-Day\",10,IF(Tourn=\"MSC\",12,8)))),\"\")","v":""},{"$f":"IF(AP53=\"x\",INDEX(Qual!$C$8:$U$133,MATCH(AO53,Qual!$C$8:$C$133,0),IF(Tourn=\"Dbls\",16,IF(Tourn=\"2-Day\",11,IF(Tourn=\"MSC\",14,9)))),\"\")","v":""},{"$f":"IF(AP53=\"x\",INDEX(Qual!$C$8:$U$133,MATCH(AO53,Qual!$C$8:$C$133,0),IF(Tourn=\"Dbls\",17,IF(Tourn=\"2-Day\",12,IF(Tourn=\"MSC\",16,10)))),\"\")","v":""}]
[{"$nulls":34},{"$f":"IF(AJ54=0,\"\",'Check-In'!$B59)","v":"DOWNER, ROB"},{"$f":"IF(Tourn=\"2-Day\",'Check-In'!T59,IF(Tourn=\"Dbls\", 'Check-In'!R59,'Check-In'!P59))","v":"X"},{"$f":"IF(AJ54=\"x\",INDEX(Qual!$C$8:$U$133,MATCH(AI54,Qual!$C$8:$C$133,0),IF(Tourn=\"Dbls\",7,IF(Tourn=\"2-Day\",6,IF(Tourn=\"MSC\",6,5)))),\"\")","v":204},{"$f":"IF(AJ54=\"x\",INDEX(Qual!$C$8:$U$133,MATCH(AI54,Qual!$C$8:$C$133,0),IF(Tourn=\"Dbls\",8,IF(Tourn=\"2-Day\",7,IF(Tourn=\"MSC\",8,6)))),\"\")","v":248},{"$f":"IF(AJ54=\"x\",INDEX(Qual!$C$8:$U$133,MATCH(AI54,Qual!$C$8:$C$133,0),IF(Tourn=\"Dbls\",9,IF(Tourn=\"2-Day\",8,IF(Tourn=\"MSC\",10,7)))),\"\")","v":236},null,{"$f":"IF(AP54=0,\"\",'Check-In'!$B59)","v":"DOWNER, ROB"},{"$f":"IF(Tourn=\"2-Day\",'Check-In'!U59,IF(Tourn=\"Dbls\", 'Check-In'!S59,'Check-In'!P59))","v":"X"},{"$f":"IF(AP54=\"x\",INDEX(Qual!$C$8:$U$133,MATCH(AO54,Qual!$C$8:$C$133,0),IF(Tourn=\"Dbls\",15,IF(Tourn=\"2-Day\",10,IF(Tourn=\"MSC\",12,8)))),\"\")","v":214},{"$f":"IF(AP54=\"x\",INDEX(Qual!$C$8:$U$133,MATCH(AO54,Qual!$C$8:$C$133,0),IF(Tourn=\"Dbls\",16,IF(Tourn=\"2-Day\",11,IF(Tourn=\"MSC\",14,9)))),\"\")","v":208},{"$f":"IF(AP54=\"x\",INDEX(Qual!$C$8:$U$133,MATCH(AO54,Qual!$C$8:$C$133,0),IF(Tourn=\"Dbls\",17,IF(Tourn=\"2-Day\",12,IF(Tourn=\"MSC\",16,10)))),\"\")","v":217}]
[{"$nulls":34},{"$f":"IF(AJ55=0,\"\",'Check-In'!$B60)","v":"BOHN, STEVE"},{"$f":"IF(Tourn=\"2-Day\",'Check-In'!T60,IF(Tourn=\"Dbls\", 'Check-In'!R60,'Check-In'!P60))","v":"X"},{"$f":"IF(AJ55=\"x\",INDEX(Qual!$C$8:$U$133,MATCH(AI55,Qual!$C$8:$C$133,0),IF(Tourn=\"Dbls\",7,IF(Tourn=\"2-Day\",6,IF(Tourn=\"MSC\",6,5)))),\"\")","v":189},{"$f":"IF(AJ55=\"x\",INDEX(Qual!$C$8:$U$133,MATCH(AI55,Qual!$C$8:$C$133,0),IF(Tourn=\"Dbls\",8,IF(Tourn=\"2-Day\",7,IF(Tourn=\"MSC\",8,6)))),\"\")","v":207},{"$f":"IF(AJ55=\"x\",INDEX(Qual!$C$8:$U$133,MATCH(AI55,Qual!$C$8:$C$133,0),IF(Tourn=\"Dbls\",9,IF(Tourn=\"2-Day\",8,IF(Tourn=\"MSC\",10,7)))),\"\")","v":183},null,{"$f":"IF(AP55=0,\"\",'Check-In'!$B60)","v":"BOHN, STEVE"},{"$f":"IF(Tourn=\"2-Day\",'Check-In'!U60,IF(Tourn=\"Dbls\", 'Check-In'!S60,'Check-In'!P60))","v":"X"},{"$f":"IF(AP55=\"x\",INDEX(Qual!$C$8:$U$133,MATCH(AO55,Qual!$C$8:$C$133,0),IF(Tourn=\"Dbls\",15,IF(Tourn=\"2-Day\",10,IF(Tourn=\"MSC\",12,8)))),\"\")","v":235},{"$f":"IF(AP55=\"x\",INDEX(Qual!$C$8:$U$133,MATCH(AO55,Qual!$C$8:$C$133,0),IF(Tourn=\"Dbls\",16,IF(Tourn=\"2-Day\",11,IF(Tourn=\"MSC\",14,9)))),\"\")","v":228},{"$f":"IF(AP55=\"x\",INDEX(Qual!$C$8:$U$133,MATCH(AO55,Qual!$C$8:$C$133,0),IF(Tourn=\"Dbls\",17,IF(Tourn=\"2-Day\",12,IF(Tourn=\"MSC\",16,10)))),\"\")","v":206}]
[{"$nulls":34},{"$f":"IF(AJ56=0,\"\",'Check-In'!$B61)","v":""},{"$f":"IF(Tourn=\"2-Day\",'Check-In'!T61,IF(Tourn=\"Dbls\", 'Check-In'!R61,'Check-In'!P61))","v":0},{"$f":"IF(AJ56=\"x\",INDEX(Qual!$C$8:$U$133,MATCH(AI56,Qual!$C$8:$C$133,0),IF(Tourn=\"Dbls\",7,IF(Tourn=\"2-Day\",6,IF(Tourn=\"MSC\",6,5)))),\"\")","v":""},{"$f":"IF(AJ56=\"x\",INDEX(Qual!$C$8:$U$133,MATCH(AI56,Qual!$C$8:$C$133,0),IF(Tourn=\"Dbls\",8,IF(Tourn=\"2-Day\",7,IF(Tourn=\"MSC\",8,6)))),\"\")","v":""},{"$f":"IF(AJ56=\"x\",INDEX(Qual!$C$8:$U$133,MATCH(AI56,Qual!$C$8:$C$133,0),IF(Tourn=\"Dbls\",9,IF(Tourn=\"2-Day\",8,IF(Tourn=\"MSC\",10,7)))),\"\")","v":""},null,{"$f":"IF(AP56=0,\"\",'Check-In'!$B61)","v":""},{"$f":"IF(Tourn=\"2-Day\",'Check-In'!U61,IF(Tourn=\"Dbls\", 'Check-In'!S61,'Check-In'!P61))","v":0},{"$f":"IF(AP56=\"x\",INDEX(Qual!$C$8:$U$133,MATCH(AO56,Qual!$C$8:$C$133,0),IF(Tourn=\"Dbls\",15,IF(Tourn=\"2-Day\",10,IF(Tourn=\"MSC\",12,8)))),\"\")","v":""},{"$f":"IF(AP56=\"x\",INDEX(Qual!$C$8:$U$133,MATCH(AO56,Qual!$C$8:$C$133,0),IF(Tourn=\"Dbls\",16,IF(Tourn=\"2-Day\",11,IF(Tourn=\"MSC\",14,9)))),\"\")","v":""},{"$f":"IF(AP56=\"x\",INDEX(Qual!$C$8:$U$133,MATCH(AO56,Qual!$C$8:$C$133,0),IF(Tourn=\"Dbls\",17,IF(Tourn=\"2-Day\",12,IF(Tourn=\"MSC\",16,10)))),\"\")","v":""}]
[{"$nulls":34},{"$f":"IF(AJ57=0,\"\",'Check-In'!$B62)","v":"THOMPSON, DOUG"},{"$f":"IF(Tourn=\"2-Day\",'Check-In'!T62,IF(Tourn=\"Dbls\", 'Check-In'!R62,'Check-In'!P62))","v":"X"},{"$f":"IF(AJ57=\"x\",INDEX(Qual!$C$8:$U$133,MATCH(AI57,Qual!$C$8:$C$133,0),IF(Tourn=\"Dbls\",7,IF(Tourn=\"2-Day\",6,IF(Tourn=\"MSC\",6,5)))),\"\")","v":150},{"$f":"IF(AJ57=\"x\",INDEX(Qual!$C$8:$U$133,MATCH(AI57,Qual!$C$8:$C$133,0),IF(Tourn=\"Dbls\",8,IF(Tourn=\"2-Day\",7,IF(Tourn=\"MSC\",8,6)))),\"\")","v":175},{"$f":"IF(AJ57=\"x\",INDEX(Qual!$C$8:$U$133,MATCH(AI57,Qual!$C$8:$C$133,0),IF(Tourn=\"Dbls\",9,IF(Tourn=\"2-Day\",8,IF(Tourn=\"MSC\",10,7)))),\"\")","v":185},null,{"$f":"IF(AP57=0,\"\",'Check-In'!$B62)","v":"THOMPSON, DOUG"},{"$f":"IF(Tourn=\"2-Day\",'Check-In'!U62,IF(Tourn=\"Dbls\", 'Check-In'!S62,'Check-In'!P62))","v":"X"},{"$f":"IF(AP57=\"x\",INDEX(Qual!$C$8:$U$133,MATCH(AO57,Qual!$C$8:$C$133,0),IF(Tourn=\"Dbls\",15,IF(Tourn=\"2-Day\",10,IF(Tourn=\"MSC\",12,8)))),\"\")","v":190},{"$f":"IF(AP57=\"x\",INDEX(Qual!$C$8:$U$133,MATCH(AO57,Qual!$C$8:$C$133,0),IF(Tourn=\"Dbls\",16,IF(Tourn=\"2-Day\",11,IF(Tourn=\"MSC\",14,9)))),\"\")","v":189},{"$f":"IF(AP57=\"x\",INDEX(Qual!$C$8:$U$133,MATCH(AO57,Qual!$C$8:$C$133,0),IF(Tourn=\"Dbls\",17,IF(Tourn=\"2-Day\",12,IF(Tourn=\"MSC\",16,10)))),\"\")","v":180}]
[{"$nulls":34},{"$f":"IF(AJ58=0,\"\",'Check-In'!$B63)","v":"DAVISON, PAUL"},{"$f":"IF(Tourn=\"2-Day\",'Check-In'!T63,IF(Tourn=\"Dbls\", 'Check-In'!R63,'Check-In'!P63))","v":"X"},{"$f":"IF(AJ58=\"x\",INDEX(Qual!$C$8:$U$133,MATCH(AI58,Qual!$C$8:$C$133,0),IF(Tourn=\"Dbls\",7,IF(Tourn=\"2-Day\",6,IF(Tourn=\"MSC\",6,5)))),\"\")","v":181},{"$f":"IF(AJ58=\"x\",INDEX(Qual!$C$8:$U$133,MATCH(AI58,Qual!$C$8:$C$133,0),IF(Tourn=\"Dbls\",8,IF(Tourn=\"2-Day\",7,IF(Tourn=\"MSC\",8,6)))),\"\")","v":192},{"$f":"IF(AJ58=\"x\",INDEX(Qual!$C$8:$U$133,MATCH(AI58,Qual!$C$8:$C$133,0),IF(Tourn=\"Dbls\",9,IF(Tourn=\"2-Day\",8,IF(Tourn=\"MSC\",10,7)))),\"\")","v":185},null,{"$f":"IF(AP58=0,\"\",'Check-In'!$B63)","v":"DAVISON, PAUL"},{"$f":"IF(Tourn=\"2-Day\",'Check-In'!U63,IF(Tourn=\"Dbls\", 'Check-In'!S63,'Check-In'!P63))","v":"X"},{"$f":"IF(AP58=\"x\",INDEX(Qual!$C$8:$U$133,MATCH(AO58,Qual!$C$8:$C$133,0),IF(Tourn=\"Dbls\",15,IF(Tourn=\"2-Day\",10,IF(Tourn=\"MSC\",12,8)))),\"\")","v":179},{"$f":"IF(AP58=\"x\",INDEX(Qual!$C$8:$U$133,MATCH(AO58,Qual!$C$8:$C$133,0),IF(Tourn=\"Dbls\",16,IF(Tourn=\"2-Day\",11,IF(Tourn=\"MSC\",14,9)))),\"\")","v":180},{"$f":"IF(AP58=\"x\",INDEX(Qual!$C$8:$U$133,MATCH(AO58,Qual!$C$8:$C$133,0),IF(Tourn=\"Dbls\",17,IF(Tourn=\"2-Day\",12,IF(Tourn=\"MSC\",16,10)))),\"\")","v":171}]
[{"$nulls":34},{"$f":"IF(AJ59=0,\"\",'Check-In'!$B64)","v":""},{"$f":"IF(Tourn=\"2-Day\",'Check-In'!T64,IF(Tourn=\"Dbls\", 'Check-In'!R64,'Check-In'!P64))","v":0},{"$f":"IF(AJ59=\"x\",INDEX(Qual!$C$8:$U$133,MATCH(AI59,Qual!$C$8:$C$133,0),IF(Tourn=\"Dbls\",7,IF(Tourn=\"2-Day\",6,IF(Tourn=\"MSC\",6,5)))),\"\")","v":""},{"$f":"IF(AJ59=\"x\",INDEX(Qual!$C$8:$U$133,MATCH(AI59,Qual!$C$8:$C$133,0),IF(Tourn=\"Dbls\",8,IF(Tourn=\"2-Day\",7,IF(Tourn=\"MSC\",8,6)))),\"\")","v":""},{"$f":"IF(AJ59=\"x\",INDEX(Qual!$C$8:$U$133,MATCH(AI59,Qual!$C$8:$C$133,0),IF(Tourn=\"Dbls\",9,IF(Tourn=\"2-Day\",8,IF(Tourn=\"MSC\",10,7)))),\"\")","v":""},null,{"$f":"IF(AP59=0,\"\",'Check-In'!$B64)","v":""},{"$f":"IF(Tourn=\"2-Day\",'Check-In'!U64,IF(Tourn=\"Dbls\", 'Check-In'!S64,'Check-In'!P64))","v":0},{"$f":"IF(AP59=\"x\",INDEX(Qual!$C$8:$U$133,MATCH(AO59,Qual!$C$8:$C$133,0),IF(Tourn=\"Dbls\",15,IF(Tourn=\"2-Day\",10,IF(Tourn=\"MSC\",12,8)))),\"\")","v":""},{"$f":"IF(AP59=\"x\",INDEX(Qual!$C$8:$U$133,MATCH(AO59,Qual!$C$8:$C$133,0),IF(Tourn=\"Dbls\",16,IF(Tourn=\"2-Day\",11,IF(Tourn=\"MSC\",14,9)))),\"\")","v":""},{"$f":"IF(AP59=\"x\",INDEX(Qual!$C$8:$U$133,MATCH(AO59,Qual!$C$8:$C$133,0),IF(Tourn=\"Dbls\",17,IF(Tourn=\"2-Day\",12,IF(Tourn=\"MSC\",16,10)))),\"\")","v":""}]
[{"$nulls":34},{"$f":"IF(AJ60=0,\"\",'Check-In'!$B65)","v":""},{"$f":"IF(Tourn=\"2-Day\",'Check-In'!T65,IF(Tourn=\"Dbls\", 'Check-In'!R65,'Check-In'!P65))","v":0},{"$f":"IF(AJ60=\"x\",INDEX(Qual!$C$8:$U$133,MATCH(AI60,Qual!$C$8:$C$133,0),IF(Tourn=\"Dbls\",7,IF(Tourn=\"2-Day\",6,IF(Tourn=\"MSC\",6,5)))),\"\")","v":""},{"$f":"IF(AJ60=\"x\",INDEX(Qual!$C$8:$U$133,MATCH(AI60,Qual!$C$8:$C$133,0),IF(Tourn=\"Dbls\",8,IF(Tourn=\"2-Day\",7,IF(Tourn=\"MSC\",8,6)))),\"\")","v":""},{"$f":"IF(AJ60=\"x\",INDEX(Qual!$C$8:$U$133,MATCH(AI60,Qual!$C$8:$C$133,0),IF(Tourn=\"Dbls\",9,IF(Tourn=\"2-Day\",8,IF(Tourn=\"MSC\",10,7)))),\"\")","v":""},null,{"$f":"IF(AP60=0,\"\",'Check-In'!$B65)","v":""},{"$f":"IF(Tourn=\"2-Day\",'Check-In'!U65,IF(Tourn=\"Dbls\", 'Check-In'!S65,'Check-In'!P65))","v":0},{"$f":"IF(AP60=\"x\",INDEX(Qual!$C$8:$U$133,MATCH(AO60,Qual!$C$8:$C$133,0),IF(Tourn=\"Dbls\",15,IF(Tourn=\"2-Day\",10,IF(Tourn=\"MSC\",12,8)))),\"\")","v":""},{"$f":"IF(AP60=\"x\",INDEX(Qual!$C$8:$U$133,MATCH(AO60,Qual!$C$8:$C$133,0),IF(Tourn=\"Dbls\",16,IF(Tourn=\"2-Day\",11,IF(Tourn=\"MSC\",14,9)))),\"\")","v":""},{"$f":"IF(AP60=\"x\",INDEX(Qual!$C$8:$U$133,MATCH(AO60,Qual!$C$8:$C$133,0),IF(Tourn=\"Dbls\",17,IF(Tourn=\"2-Day\",12,IF(Tourn=\"MSC\",16,10)))),\"\")","v":""}]
[{"$nulls":34},{"$f":"IF(AJ61=0,\"\",'Check-In'!$B66)","v":"RACETTE, TIM"},{"$f":"IF(Tourn=\"2-Day\",'Check-In'!T66,IF(Tourn=\"Dbls\", 'Check-In'!R66,'Check-In'!P66))","v":"X"},{"$f":"IF(AJ61=\"x\",INDEX(Qual!$C$8:$U$133,MATCH(AI61,Qual!$C$8:$C$133,0),IF(Tourn=\"Dbls\",7,IF(Tourn=\"2-Day\",6,IF(Tourn=\"MSC\",6,5)))),\"\")","v":240},{"$f":"IF(AJ61=\"x\",INDEX(Qual!$C$8:$U$133,MATCH(AI61,Qual!$C$8:$C$133,0),IF(Tourn=\"Dbls\",8,IF(Tourn=\"2-Day\",7,IF(Tourn=\"MSC\",8,6)))),\"\")","v":175},{"$f":"IF(AJ61=\"x\",INDEX(Qual!$C$8:$U$133,MATCH(AI61,Qual!$C$8:$C$133,0),IF(Tourn=\"Dbls\",9,IF(Tourn=\"2-Day\",8,IF(Tourn=\"MSC\",10,7)))),\"\")","v":222},null,{"$f":"IF(AP61=0,\"\",'Check-In'!$B66)","v":"RACETTE, TIM"},{"$f":"IF(Tourn=\"2-Day\",'Check-In'!U66,IF(Tourn=\"Dbls\", 'Check-In'!S66,'Check-In'!P66))","v":"X"},{"$f":"IF(AP61=\"x\",INDEX(Qual!$C$8:$U$133,MATCH(AO61,Qual!$C$8:$C$133,0),IF(Tourn=\"Dbls\",15,IF(Tourn=\"2-Day\",10,IF(Tourn=\"MSC\",12,8)))),\"\")","v":179},{"$f":"IF(AP61=\"x\",INDEX(Qual!$C$8:$U$133,MATCH(AO61,Qual!$C$8:$C$133,0),IF(Tourn=\"Dbls\",16,IF(Tourn=\"2-Day\",11,IF(Tourn=\"MSC\",14,9)))),\"\")","v":215},{"$f":"IF(AP61=\"x\",INDEX(Qual!$C$8:$U$133,MATCH(AO61,Qual!$C$8:$C$133,0),IF(Tourn=\"Dbls\",17,IF(Tourn=\"2-Day\",12,IF(Tourn=\"MSC\",16,10)))),\"\")","v":217}]
[{"$nulls":34},{"$f":"IF(AJ62=0,\"\",'Check-In'!$B67)","v":""},{"$f":"IF(Tourn=\"2-Day\",'Check-In'!T67,IF(Tourn=\"Dbls\", 'Check-In'!R67,'Check-In'!P67))","v":0},{"$f":"IF(AJ62=\"x\",INDEX(Qual!$C$8:$U$133,MATCH(AI62,Qual!$C$8:$C$133,0),IF(Tourn=\"Dbls\",7,IF(Tourn=\"2-Day\",6,IF(Tourn=\"MSC\",6,5)))),\"\")","v":""},{"$f":"IF(AJ62=\"x\",INDEX(Qual!$C$8:$U$133,MATCH(AI62,Qual!$C$8:$C$133,0),IF(Tourn=\"Dbls\",8,IF(Tourn=\"2-Day\",7,IF(Tourn=\"MSC\",8,6)))),\"\")","v":""},{"$f":"IF(AJ62=\"x\",INDEX(Qual!$C$8:$U$133,MATCH(AI62,Qual!$C$8:$C$133,0),IF(Tourn=\"Dbls\",9,IF(Tourn=\"2-Day\",8,IF(Tourn=\"MSC\",10,7)))),\"\")","v":""},null,{"$f":"IF(AP62=0,\"\",'Check-In'!$B67)","v":""},{"$f":"IF(Tourn=\"2-Day\",'Check-In'!U67,IF(Tourn=\"Dbls\", 'Check-In'!S67,'Check-In'!P67))","v":0},{"$f":"IF(AP62=\"x\",INDEX(Qual!$C$8:$U$133,MATCH(AO62,Qual!$C$8:$C$133,0),IF(Tourn=\"Dbls\",15,IF(Tourn=\"2-Day\",10,IF(Tourn=\"MSC\",12,8)))),\"\")","v":""},{"$f":"IF(AP62=\"x\",INDEX(Qual!$C$8:$U$133,MATCH(AO62,Qual!$C$8:$C$133,0),IF(Tourn=\"Dbls\",16,IF(Tourn=\"2-Day\",11,IF(Tourn=\"MSC\",14,9)))),\"\")","v":""},{"$f":"IF(AP62=\"x\",INDEX(Qual!$C$8:$U$133,MATCH(AO62,Qual!$C$8:$C$133,0),IF(Tourn=\"Dbls\",17,IF(Tourn=\"2-Day\",12,IF(Tourn=\"MSC\",16,10)))),\"\")","v":""}]
[{"$nulls":34},{"$f":"IF(AJ63=0,\"\",'Check-In'!$B68)","v":""},{"$f":"IF(Tourn=\"2-Day\",'Check-In'!T68,IF(Tourn=\"Dbls\", 'Check-In'!R68,'Check-In'!P68))","v":0},{"$f":"IF(AJ63=\"x\",INDEX(Qual!$C$8:$U$133,MATCH(AI63,Qual!$C$8:$C$133,0),IF(Tourn=\"Dbls\",7,IF(Tourn=\"2-Day\",6,IF(Tourn=\"MSC\",6,5)))),\"\")","v":""},{"$f":"IF(AJ63=\"x\",INDEX(Qual!$C$8:$U$133,MATCH(AI63,Qual!$C$8:$C$133,0),IF(Tourn=\"Dbls\",8,IF(Tourn=\"2-Day\",7,IF(Tourn=\"MSC\",8,6)))),\"\")","v":""},{"$f":"IF(AJ63=\"x\",INDEX(Qual!$C$8:$U$133,MATCH(AI63,Qual!$C$8:$C$133,0),IF(Tourn=\"Dbls\",9,IF(Tourn=\"2-Day\",8,IF(Tourn=\"MSC\",10,7)))),\"\")","v":""},null,{"$f":"IF(AP63=0,\"\",'Check-In'!$B68)","v":""},{"$f":"IF(Tourn=\"2-Day\",'Check-In'!U68,IF(Tourn=\"Dbls\", 'Check-In'!S68,'Check-In'!P68))","v":0},{"$f":"IF(AP63=\"x\",INDEX(Qual!$C$8:$U$133,MATCH(AO63,Qual!$C$8:$C$133,0),IF(Tourn=\"Dbls\",15,IF(Tourn=\"2-Day\",10,IF(Tourn=\"MSC\",12,8)))),\"\")","v":""},{"$f":"IF(AP63=\"x\",INDEX(Qual!$C$8:$U$133,MATCH(AO63,Qual!$C$8:$C$133,0),IF(Tourn=\"Dbls\",16,IF(Tourn=\"2-Day\",11,IF(Tourn=\"MSC\",14,9)))),\"\")","v":""},{"$f":"IF(AP63=\"x\",INDEX(Qual!$C$8:$U$133,MATCH(AO63,Qual!$C$8:$C$133,0),IF(Tourn=\"Dbls\",17,IF(Tourn=\"2-Day\",12,IF(Tourn=\"MSC\",16,10)))),\"\")","v":""}]
[{"$nulls":34},{"$f":"IF(AJ64=0,\"\",'Check-In'!$B69)","v":""},{"$f":"IF(Tourn=\"2-Day\",'Check-In'!T69,IF(Tourn=\"Dbls\", 'Check-In'!R69,'Check-In'!P69))","v":0},{"$f":"IF(AJ64=\"x\",INDEX(Qual!$C$8:$U$133,MATCH(AI64,Qual!$C$8:$C$133,0),IF(Tourn=\"Dbls\",7,IF(Tourn=\"2-Day\",6,IF(Tourn=\"MSC\",6,5)))),\"\")","v":""},{"$f":"IF(AJ64=\"x\",INDEX(Qual!$C$8:$U$133,MATCH(AI64,Qual!$C$8:$C$133,0),IF(Tourn=\"Dbls\",8,IF(Tourn=\"2-Day\",7,IF(Tourn=\"MSC\",8,6)))),\"\")","v":""},{"$f":"IF(AJ64=\"x\",INDEX(Qual!$C$8:$U$133,MATCH(AI64,Qual!$C$8:$C$133,0),IF(Tourn=\"Dbls\",9,IF(Tourn=\"2-Day\",8,IF(Tourn=\"MSC\",10,7)))),\"\")","v":""},null,{"$f":"IF(AP64=0,\"\",'Check-In'!$B69)","v":""},{"$f":"IF(Tourn=\"2-Day\",'Check-In'!U69,IF(Tourn=\"Dbls\", 'Check-In'!S69,'Check-In'!P69))","v":0},{"$f":"IF(AP64=\"x\",INDEX(Qual!$C$8:$U$133,MATCH(AO64,Qual!$C$8:$C$133,0),IF(Tourn=\"Dbls\",15,IF(Tourn=\"2-Day\",10,IF(Tourn=\"MSC\",12,8)))),\"\")","v":""},{"$f":"IF(AP64=\"x\",INDEX(Qual!$C$8:$U$133,MATCH(AO64,Qual!$C$8:$C$133,0),IF(Tourn=\"Dbls\",16,IF(Tourn=\"2-Day\",11,IF(Tourn=\"MSC\",14,9)))),\"\")","v":""},{"$f":"IF(AP64=\"x\",INDEX(Qual!$C$8:$U$133,MATCH(AO64,Qual!$C$8:$C$133,0),IF(Tourn=\"Dbls\",17,IF(Tourn=\"2-Day\",12,IF(Tourn=\"MSC\",16,10)))),\"\")","v":""}]
[{"$nulls":34},{"$f":"IF(AJ65=0,\"\",'Check-In'!$B70)","v":""},{"$f":"IF(Tourn=\"2-Day\",'Check-In'!T70,IF(Tourn=\"Dbls\", 'Check-In'!R70,'Check-In'!P70))","v":0},{"$f":"IF(AJ65=\"x\",INDEX(Qual!$C$8:$U$133,MATCH(AI65,Qual!$C$8:$C$133,0),IF(Tourn=\"Dbls\",7,IF(Tourn=\"2-Day\",6,IF(Tourn=\"MSC\",6,5)))),\"\")","v":""},{"$f":"IF(AJ65=\"x\",INDEX(Qual!$C$8:$U$133,MATCH(AI65,Qual!$C$8:$C$133,0),IF(Tourn=\"Dbls\",8,IF(Tourn=\"2-Day\",7,IF(Tourn=\"MSC\",8,6)))),\"\")","v":""},{"$f":"IF(AJ65=\"x\",INDEX(Qual!$C$8:$U$133,MATCH(AI65,Qual!$C$8:$C$133,0),IF(Tourn=\"Dbls\",9,IF(Tourn=\"2-Day\",8,IF(Tourn=\"MSC\",10,7)))),\"\")","v":""},null,{"$f":"IF(AP65=0,\"\",'Check-In'!$B70)","v":""},{"$f":"IF(Tourn=\"2-Day\",'Check-In'!U70,IF(Tourn=\"Dbls\", 'Check-In'!S70,'Check-In'!P70))","v":0},{"$f":"IF(AP65=\"x\",INDEX(Qual!$C$8:$U$133,MATCH(AO65,Qual!$C$8:$C$133,0),IF(Tourn=\"Dbls\",15,IF(Tourn=\"2-Day\",10,IF(Tourn=\"MSC\",12,8)))),\"\")","v":""},{"$f":"IF(AP65=\"x\",INDEX(Qual!$C$8:$U$133,MATCH(AO65,Qual!$C$8:$C$133,0),IF(Tourn=\"Dbls\",16,IF(Tourn=\"2-Day\",11,IF(Tourn=\"MSC\",14,9)))),\"\")","v":""},{"$f":"IF(AP65=\"x\",INDEX(Qual!$C$8:$U$133,MATCH(AO65,Qual!$C$8:$C$133,0),IF(Tourn=\"Dbls\",17,IF(Tourn=\"2-Day\",12,IF(Tourn=\"MSC\",16,10)))),\"\")","v":""}]
[{"$nulls":34},{"$f":"IF(AJ66=0,\"\",'Check-In'!$B71)","v":""},{"$f":"IF(Tourn=\"2-Day\",'Check-In'!T71,IF(Tourn=\"Dbls\", 'Check-In'!R71,'Check-In'!P71))","v":0},{"$f":"IF(AJ66=\"x\",INDEX(Qual!$C$8:$U$133,MATCH(AI66,Qual!$C$8:$C$133,0),IF(Tourn=\"Dbls\",7,IF(Tourn=\"2-Day\",6,IF(Tourn=\"MSC\",6,5)))),\"\")","v":""},{"$f":"IF(AJ66=\"x\",INDEX(Qual!$C$8:$U$133,MATCH(AI66,Qual!$C$8:$C$133,0),IF(Tourn=\"Dbls\",8,IF(Tourn=\"2-Day\",7,IF(Tourn=\"MSC\",8,6)))),\"\")","v":""},{"$f":"IF(AJ66=\"x\",INDEX(Qual!$C$8:$U$133,MATCH(AI66,Qual!$C$8:$C$133,0),IF(Tourn=\"Dbls\",9,IF(Tourn=\"2-Day\",8,IF(Tourn=\"MSC\",10,7)))),\"\")","v":""},null,{"$f":"IF(AP66=0,\"\",'Check-In'!$B71)","v":""},{"$f":"IF(Tourn=\"2-Day\",'Check-In'!U71,IF(Tourn=\"Dbls\", 'Check-In'!S71,'Check-In'!P71))","v":0},{"$f":"IF(AP66=\"x\",INDEX(Qual!$C$8:$U$133,MATCH(AO66,Qual!$C$8:$C$133,0),IF(Tourn=\"Dbls\",15,IF(Tourn=\"2-Day\",10,IF(Tourn=\"MSC\",12,8)))),\"\")","v":""},{"$f":"IF(AP66=\"x\",INDEX(Qual!$C$8:$U$133,MATCH(AO66,Qual!$C$8:$C$133,0),IF(Tourn=\"Dbls\",16,IF(Tourn=\"2-Day\",11,IF(Tourn=\"MSC\",14,9)))),\"\")","v":""},{"$f":"IF(AP66=\"x\",INDEX(Qual!$C$8:$U$133,MATCH(AO66,Qual!$C$8:$C$133,0),IF(Tourn=\"Dbls\",17,IF(Tourn=\"2-Day\",12,IF(Tourn=\"MSC\",16,10)))),\"\")","v":""}]
[{"$nulls":34},{"$f":"IF(AJ67=0,\"\",'Check-In'!$B72)","v":""},{"$f":"IF(Tourn=\"2-Day\",'Check-In'!T72,IF(Tourn=\"Dbls\", 'Check-In'!R72,'Check-In'!P72))","v":0},{"$f":"IF(AJ67=\"x\",INDEX(Qual!$C$8:$U$133,MATCH(AI67,Qual!$C$8:$C$133,0),IF(Tourn=\"Dbls\",7,IF(Tourn=\"2-Day\",6,IF(Tourn=\"MSC\",6,5)))),\"\")","v":""},{"$f":"IF(AJ67=\"x\",INDEX(Qual!$C$8:$U$133,MATCH(AI67,Qual!$C$8:$C$133,0),IF(Tourn=\"Dbls\",8,IF(Tourn=\"2-Day\",7,IF(Tourn=\"MSC\",8,6)))),\"\")","v":""},{"$f":"IF(AJ67=\"x\",INDEX(Qual!$C$8:$U$133,MATCH(AI67,Qual!$C$8:$C$133,0),IF(Tourn=\"Dbls\",9,IF(Tourn=\"2-Day\",8,IF(Tourn=\"MSC\",10,7)))),\"\")","v":""},null,{"$f":"IF(AP67=0,\"\",'Check-In'!$B72)","v":""},{"$f":"IF(Tourn=\"2-Day\",'Check-In'!U72,IF(Tourn=\"Dbls\", 'Check-In'!S72,'Check-In'!P72))","v":0},{"$f":"IF(AP67=\"x\",INDEX(Qual!$C$8:$U$133,MATCH(AO67,Qual!$C$8:$C$133,0),IF(Tourn=\"Dbls\",15,IF(Tourn=\"2-Day\",10,IF(Tourn=\"MSC\",12,8)))),\"\")","v":""},{"$f":"IF(AP67=\"x\",INDEX(Qual!$C$8:$U$133,MATCH(AO67,Qual!$C$8:$C$133,0),IF(Tourn=\"Dbls\",16,IF(Tourn=\"2-Day\",11,IF(Tourn=\"MSC\",14,9)))),\"\")","v":""},{"$f":"IF(AP67=\"x\",INDEX(Qual!$C$8:$U$133,MATCH(AO67,Qual!$C$8:$C$133,0),IF(Tourn=\"Dbls\",17,IF(Tourn=\"2-Day\",12,IF(Tourn=\"MSC\",16,10)))),\"\")","v":""}]
[{"$nulls":34},{"$f":"IF(AJ68=0,\"\",'Check-In'!$B73)","v":""},{"$f":"IF(Tourn=\"2-Day\",'Check-In'!T73,IF(Tourn=\"Dbls\", 'Check-In'!R73,'Check-In'!P73))","v":0},{"$f":"IF(AJ68=\"x\",INDEX(Qual!$C$8:$U$133,MATCH(AI68,Qual!$C$8:$C$133,0),IF(Tourn=\"Dbls\",7,IF(Tourn=\"2-Day\",6,IF(Tourn=\"MSC\",6,5)))),\"\")","v":""},{"$f":"IF(AJ68=\"x\",INDEX(Qual!$C$8:$U$133,MATCH(AI68,Qual!$C$8:$C$133,0),IF(Tourn=\"Dbls\",8,IF(Tourn=\"2-Day\",7,IF(Tourn=\"MSC\",8,6)))),\"\")","v":""},{"$f":"IF(AJ68=\"x\",INDEX(Qual!$C$8:$U$133,MATCH(AI68,Qual!$C$8:$C$133,0),IF(Tourn=\"Dbls\",9,IF(Tourn=\"2-Day\",8,IF(Tourn=\"MSC\",10,7)))),\"\")","v":""},null,{"$f":"IF(AP68=0,\"\",'Check-In'!$B73)","v":""},{"$f":"IF(Tourn=\"2-Day\",'Check-In'!U73,IF(Tourn=\"Dbls\", 'Check-In'!S73,'Check-In'!P73))","v":0},{"$f":"IF(AP68=\"x\",INDEX(Qual!$C$8:$U$133,MATCH(AO68,Qual!$C$8:$C$133,0),IF(Tourn=\"Dbls\",15,IF(Tourn=\"2-Day\",10,IF(Tourn=\"MSC\",12,8)))),\"\")","v":""},{"$f":"IF(AP68=\"x\",INDEX(Qual!$C$8:$U$133,MATCH(AO68,Qual!$C$8:$C$133,0),IF(Tourn=\"Dbls\",16,IF(Tourn=\"2-Day\",11,IF(Tourn=\"MSC\",14,9)))),\"\")","v":""},{"$f":"IF(AP68=\"x\",INDEX(Qual!$C$8:$U$133,MATCH(AO68,Qual!$C$8:$C$133,0),IF(Tourn=\"Dbls\",17,IF(Tourn=\"2-Day\",12,IF(Tourn=\"MSC\",16,10)))),\"\")","v":""}]
[{"$nulls":34},{"$f":"IF(AJ69=0,\"\",'Check-In'!$B74)","v":""},{"$f":"IF(Tourn=\"2-Day\",'Check-In'!T74,IF(Tourn=\"Dbls\", 'Check-In'!R74,'Check-In'!P74))","v":0},{"$f":"IF(AJ69=\"x\",INDEX(Qual!$C$8:$U$133,MATCH(AI69,Qual!$C$8:$C$133,0),IF(Tourn=\"Dbls\",7,IF(Tourn=\"2-Day\",6,IF(Tourn=\"MSC\",6,5)))),\"\")","v":""},{"$f":"IF(AJ69=\"x\",INDEX(Qual!$C$8:$U$133,MATCH(AI69,Qual!$C$8:$C$133,0),IF(Tourn=\"Dbls\",8,IF(Tourn=\"2-Day\",7,IF(Tourn=\"MSC\",8,6)))),\"\")","v":""},{"$f":"IF(AJ69=\"x\",INDEX(Qual!$C$8:$U$133,MATCH(AI69,Qual!$C$8:$C$133,0),IF(Tourn=\"Dbls\",9,IF(Tourn=\"2-Day\",8,IF(Tourn=\"MSC\",10,7)))),\"\")","v":""},null,{"$f":"IF(AP69=0,\"\",'Check-In'!$B74)","v":""},{"$f":"IF(Tourn=\"2-Day\",'Check-In'!U74,IF(Tourn=\"Dbls\", 'Check-In'!S74,'Check-In'!P74))","v":0},{"$f":"IF(AP69=\"x\",INDEX(Qual!$C$8:$U$133,MATCH(AO69,Qual!$C$8:$C$133,0),IF(Tourn=\"Dbls\",15,IF(Tourn=\"2-Day\",10,IF(Tourn=\"MSC\",12,8)))),\"\")","v":""},{"$f":"IF(AP69=\"x\",INDEX(Qual!$C$8:$U$133,MATCH(AO69,Qual!$C$8:$C$133,0),IF(Tourn=\"Dbls\",16,IF(Tourn=\"2-Day\",11,IF(Tourn=\"MSC\",14,9)))),\"\")","v":""},{"$f":"IF(AP69=\"x\",INDEX(Qual!$C$8:$U$133,MATCH(AO69,Qual!$C$8:$C$133,0),IF(Tourn=\"Dbls\",17,IF(Tourn=\"2-Day\",12,IF(Tourn=\"MSC\",16,10)))),\"\")","v":""}]
[{"$nulls":34},{"$f":"IF(AJ70=0,\"\",'Check-In'!$B75)","v":""},{"$f":"IF(Tourn=\"2-Day\",'Check-In'!T75,IF(Tourn=\"Dbls\", 'Check-In'!R75,'Check-In'!P75))","v":0},{"$f":"IF(AJ70=\"x\",INDEX(Qual!$C$8:$U$133,MATCH(AI70,Qual!$C$8:$C$133,0),IF(Tourn=\"Dbls\",7,IF(Tourn=\"2-Day\",6,IF(Tourn=\"MSC\",6,5)))),\"\")","v":""},{"$f":"IF(AJ70=\"x\",INDEX(Qual!$C$8:$U$133,MATCH(AI70,Qual!$C$8:$C$133,0),IF(Tourn=\"Dbls\",8,IF(Tourn=\"2-Day\",7,IF(Tourn=\"MSC\",8,6)))),\"\")","v":""},{"$f":"IF(AJ70=\"x\",INDEX(Qual!$C$8:$U$133,MATCH(AI70,Qual!$C$8:$C$133,0),IF(Tourn=\"Dbls\",9,IF(Tourn=\"2-Day\",8,IF(Tourn=\"MSC\",10,7)))),\"\")","v":""},null,{"$f":"IF(AP70=0,\"\",'Check-In'!$B75)","v":""},{"$f":"IF(Tourn=\"2-Day\",'Check-In'!U75,IF(Tourn=\"Dbls\", 'Check-In'!S75,'Check-In'!P75))","v":0},{"$f":"IF(AP70=\"x\",INDEX(Qual!$C$8:$U$133,MATCH(AO70,Qual!$C$8:$C$133,0),IF(Tourn=\"Dbls\",15,IF(Tourn=\"2-Day\",10,IF(Tourn=\"MSC\",12,8)))),\"\")","v":""},{"$f":"IF(AP70=\"x\",INDEX(Qual!$C$8:$U$133,MATCH(AO70,Qual!$C$8:$C$133,0),IF(Tourn=\"Dbls\",16,IF(Tourn=\"2-Day\",11,IF(Tourn=\"MSC\",14,9)))),\"\")","v":""},{"$f":"IF(AP70=\"x\",INDEX(Qual!$C$8:$U$133,MATCH(AO70,Qual!$C$8:$C$133,0),IF(Tourn=\"Dbls\",17,IF(Tourn=\"2-Day\",12,IF(Tourn=\"MSC\",16,10)))),\"\")","v":""}]
[{"$nulls":34},{"$f":"IF(AJ71=0,\"\",'Check-In'!$B76)","v":""},{"$f":"IF(Tourn=\"2-Day\",'Check-In'!T76,IF(Tourn=\"Dbls\", 'Check-In'!R76,'Check-In'!P76))","v":0},{"$f":"IF(AJ71=\"x\",INDEX(Qual!$C$8:$U$133,MATCH(AI71,Qual!$C$8:$C$133,0),IF(Tourn=\"Dbls\",7,IF(Tourn=\"2-Day\",6,IF(Tourn=\"MSC\",6,5)))),\"\")","v":""},{"$f":"IF(AJ71=\"x\",INDEX(Qual!$C$8:$U$133,MATCH(AI71,Qual!$C$8:$C$133,0),IF(Tourn=\"Dbls\",8,IF(Tourn=\"2-Day\",7,IF(Tourn=\"MSC\",8,6)))),\"\")","v":""},{"$f":"IF(AJ71=\"x\",INDEX(Qual!$C$8:$U$133,MATCH(AI71,Qual!$C$8:$C$133,0),IF(Tourn=\"Dbls\",9,IF(Tourn=\"2-Day\",8,IF(Tourn=\"MSC\",10,7)))),\"\")","v":""},null,{"$f":"IF(AP71=0,\"\",'Check-In'!$B76)","v":""},{"$f":"IF(Tourn=\"2-Day\",'Check-In'!U76,IF(Tourn=\"Dbls\", 'Check-In'!S76,'Check-In'!P76))","v":0},{"$f":"IF(AP71=\"x\",INDEX(Qual!$C$8:$U$133,MATCH(AO71,Qual!$C$8:$C$133,0),IF(Tourn=\"Dbls\",15,IF(Tourn=\"2-Day\",10,IF(Tourn=\"MSC\",12,8)))),\"\")","v":""},{"$f":"IF(AP71=\"x\",INDEX(Qual!$C$8:$U$133,MATCH(AO71,Qual!$C$8:$C$133,0),IF(Tourn=\"Dbls\",16,IF(Tourn=\"2-Day\",11,IF(Tourn=\"MSC\",14,9)))),\"\")","v":""},{"$f":"IF(AP71=\"x\",INDEX(Qual!$C$8:$U$133,MATCH(AO71,Qual!$C$8:$C$133,0),IF(Tourn=\"Dbls\",17,IF(Tourn=\"2-Day\",12,IF(Tourn=\"MSC\",16,10)))),\"\")","v":""}]
[{"$nulls":34},{"$f":"IF(AJ72=0,\"\",'Check-In'!$B77)","v":""},{"$f":"IF(Tourn=\"2-Day\",'Check-In'!T77,IF(Tourn=\"Dbls\", 'Check-In'!R77,'Check-In'!P77))","v":0},{"$f":"IF(AJ72=\"x\",INDEX(Qual!$C$8:$U$133,MATCH(AI72,Qual!$C$8:$C$133,0),IF(Tourn=\"Dbls\",7,IF(Tourn=\"2-Day\",6,IF(Tourn=\"MSC\",6,5)))),\"\")","v":""},{"$f":"IF(AJ72=\"x\",INDEX(Qual!$C$8:$U$133,MATCH(AI72,Qual!$C$8:$C$133,0),IF(Tourn=\"Dbls\",8,IF(Tourn=\"2-Day\",7,IF(Tourn=\"MSC\",8,6)))),\"\")","v":""},{"$f":"IF(AJ72=\"x\",INDEX(Qual!$C$8:$U$133,MATCH(AI72,Qual!$C$8:$C$133,0),IF(Tourn=\"Dbls\",9,IF(Tourn=\"2-Day\",8,IF(Tourn=\"MSC\",10,7)))),\"\")","v":""},null,{"$f":"IF(AP72=0,\"\",'Check-In'!$B77)","v":""},{"$f":"IF(Tourn=\"2-Day\",'Check-In'!U77,IF(Tourn=\"Dbls\", 'Check-In'!S77,'Check-In'!P77))","v":0},{"$f":"IF(AP72=\"x\",INDEX(Qual!$C$8:$U$133,MATCH(AO72,Qual!$C$8:$C$133,0),IF(Tourn=\"Dbls\",15,IF(Tourn=\"2-Day\",10,IF(Tourn=\"MSC\",12,8)))),\"\")","v":""},{"$f":"IF(AP72=\"x\",INDEX(Qual!$C$8:$U$133,MATCH(AO72,Qual!$C$8:$C$133,0),IF(Tourn=\"Dbls\",16,IF(Tourn=\"2-Day\",11,IF(Tourn=\"MSC\",14,9)))),\"\")","v":""},{"$f":"IF(AP72=\"x\",INDEX(Qual!$C$8:$U$133,MATCH(AO72,Qual!$C$8:$C$133,0),IF(Tourn=\"Dbls\",17,IF(Tourn=\"2-Day\",12,IF(Tourn=\"MSC\",16,10)))),\"\")","v":""}]
[{"$nulls":34},{"$f":"IF(AJ73=0,\"\",'Check-In'!$B78)","v":""},{"$f":"IF(Tourn=\"2-Day\",'Check-In'!T78,IF(Tourn=\"Dbls\", 'Check-In'!R78,'Check-In'!P78))","v":0},{"$f":"IF(AJ73=\"x\",INDEX(Qual!$C$8:$U$133,MATCH(AI73,Qual!$C$8:$C$133,0),IF(Tourn=\"Dbls\",7,IF(Tourn=\"2-Day\",6,IF(Tourn=\"MSC\",6,5)))),\"\")","v":""},{"$f":"IF(AJ73=\"x\",INDEX(Qual!$C$8:$U$133,MATCH(AI73,Qual!$C$8:$C$133,0),IF(Tourn=\"Dbls\",8,IF(Tourn=\"2-Day\",7,IF(Tourn=\"MSC\",8,6)))),\"\")","v":""},{"$f":"IF(AJ73=\"x\",INDEX(Qual!$C$8:$U$133,MATCH(AI73,Qual!$C$8:$C$133,0),IF(Tourn=\"Dbls\",9,IF(Tourn=\"2-Day\",8,IF(Tourn=\"MSC\",10,7)))),\"\")","v":""},null,{"$f":"IF(AP73=0,\"\",'Check-In'!$B78)","v":""},{"$f":"IF(Tourn=\"2-Day\",'Check-In'!U78,IF(Tourn=\"Dbls\", 'Check-In'!S78,'Check-In'!P78))","v":0},{"$f":"IF(AP73=\"x\",INDEX(Qual!$C$8:$U$133,MATCH(AO73,Qual!$C$8:$C$133,0),IF(Tourn=\"Dbls\",15,IF(Tourn=\"2-Day\",10,IF(Tourn=\"MSC\",12,8)))),\"\")","v":""},{"$f":"IF(AP73=\"x\",INDEX(Qual!$C$8:$U$133,MATCH(AO73,Qual!$C$8:$C$133,0),IF(Tourn=\"Dbls\",16,IF(Tourn=\"2-Day\",11,IF(Tourn=\"MSC\",14,9)))),\"\")","v":""},{"$f":"IF(AP73=\"x\",INDEX(Qual!$C$8:$U$133,MATCH(AO73,Qual!$C$8:$C$133,0),IF(Tourn=\"Dbls\",17,IF(Tourn=\"2-Day\",12,IF(Tourn=\"MSC\",16,10)))),\"\")","v":""}]
[{"$nulls":34},{"$f":"IF(AJ74=0,\"\",'Check-In'!$B79)","v":""},{"$f":"IF(Tourn=\"2-Day\",'Check-In'!T79,IF(Tourn=\"Dbls\", 'Check-In'!R79,'Check-In'!P79))","v":0},{"$f":"IF(AJ74=\"x\",INDEX(Qual!$C$8:$U$133,MATCH(AI74,Qual!$C$8:$C$133,0),IF(Tourn=\"Dbls\",7,IF(Tourn=\"2-Day\",6,IF(Tourn=\"MSC\",6,5)))),\"\")","v":""},{"$f":"IF(AJ74=\"x\",INDEX(Qual!$C$8:$U$133,MATCH(AI74,Qual!$C$8:$C$133,0),IF(Tourn=\"Dbls\",8,IF(Tourn=\"2-Day\",7,IF(Tourn=\"MSC\",8,6)))),\"\")","v":""},{"$f":"IF(AJ74=\"x\",INDEX(Qual!$C$8:$U$133,MATCH(AI74,Qual!$C$8:$C$133,0),IF(Tourn=\"Dbls\",9,IF(Tourn=\"2-Day\",8,IF(Tourn=\"MSC\",10,7)))),\"\")","v":""},null,{"$f":"IF(AP74=0,\"\",'Check-In'!$B79)","v":""},{"$f":"IF(Tourn=\"2-Day\",'Check-In'!U79,IF(Tourn=\"Dbls\", 'Check-In'!S79,'Check-In'!P79))","v":0},{"$f":"IF(AP74=\"x\",INDEX(Qual!$C$8:$U$133,MATCH(AO74,Qual!$C$8:$C$133,0),IF(Tourn=\"Dbls\",15,IF(Tourn=\"2-Day\",10,IF(Tourn=\"MSC\",12,8)))),\"\")","v":""},{"$f":"IF(AP74=\"x\",INDEX(Qual!$C$8:$U$133,MATCH(AO74,Qual!$C$8:$C$133,0),IF(Tourn=\"Dbls\",16,IF(Tourn=\"2-Day\",11,IF(Tourn=\"MSC\",14,9)))),\"\")","v":""},{"$f":"IF(AP74=\"x\",INDEX(Qual!$C$8:$U$133,MATCH(AO74,Qual!$C$8:$C$133,0),IF(Tourn=\"Dbls\",17,IF(Tourn=\"2-Day\",12,IF(Tourn=\"MSC\",16,10)))),\"\")","v":""}]
[{"$nulls":34},{"$f":"IF(AJ75=0,\"\",'Check-In'!$B80)","v":""},{"$f":"IF(Tourn=\"2-Day\",'Check-In'!T80,IF(Tourn=\"Dbls\", 'Check-In'!R80,'Check-In'!P80))","v":0},{"$f":"IF(AJ75=\"x\",INDEX(Qual!$C$8:$U$133,MATCH(AI75,Qual!$C$8:$C$133,0),IF(Tourn=\"Dbls\",7,IF(Tourn=\"2-Day\",6,IF(Tourn=\"MSC\",6,5)))),\"\")","v":""},{"$f":"IF(AJ75=\"x\",INDEX(Qual!$C$8:$U$133,MATCH(AI75,Qual!$C$8:$C$133,0),IF(Tourn=\"Dbls\",8,IF(Tourn=\"2-Day\",7,IF(Tourn=\"MSC\",8,6)))),\"\")","v":""},{"$f":"IF(AJ75=\"x\",INDEX(Qual!$C$8:$U$133,MATCH(AI75,Qual!$C$8:$C$133,0),IF(Tourn=\"Dbls\",9,IF(Tourn=\"2-Day\",8,IF(Tourn=\"MSC\",10,7)))),\"\")","v":""},null,{"$f":"IF(AP75=0,\"\",'Check-In'!$B80)","v":""},{"$f":"IF(Tourn=\"2-Day\",'Check-In'!U80,IF(Tourn=\"Dbls\", 'Check-In'!S80,'Check-In'!P80))","v":0},{"$f":"IF(AP75=\"x\",INDEX(Qual!$C$8:$U$133,MATCH(AO75,Qual!$C$8:$C$133,0),IF(Tourn=\"Dbls\",15,IF(Tourn=\"2-Day\",10,IF(Tourn=\"MSC\",12,8)))),\"\")","v":""},{"$f":"IF(AP75=\"x\",INDEX(Qual!$C$8:$U$133,MATCH(AO75,Qual!$C$8:$C$133,0),IF(Tourn=\"Dbls\",16,IF(Tourn=\"2-Day\",11,IF(Tourn=\"MSC\",14,9)))),\"\")","v":""},{"$f":"IF(AP75=\"x\",INDEX(Qual!$C$8:$U$133,MATCH(AO75,Qual!$C$8:$C$133,0),IF(Tourn=\"Dbls\",17,IF(Tourn=\"2-Day\",12,IF(Tourn=\"MSC\",16,10)))),\"\")","v":""}]
[{"$nulls":34},{"$f":"IF(AJ76=0,\"\",'Check-In'!$B81)","v":""},{"$f":"IF(Tourn=\"2-Day\",'Check-In'!T81,IF(Tourn=\"Dbls\", 'Check-In'!R81,'Check-In'!P81))","v":0},{"$f":"IF(AJ76=\"x\",INDEX(Qual!$C$8:$U$133,MATCH(AI76,Qual!$C$8:$C$133,0),IF(Tourn=\"Dbls\",7,IF(Tourn=\"2-Day\",6,IF(Tourn=\"MSC\",6,5)))),\"\")","v":""},{"$f":"IF(AJ76=\"x\",INDEX(Qual!$C$8:$U$133,MATCH(AI76,Qual!$C$8:$C$133,0),IF(Tourn=\"Dbls\",8,IF(Tourn=\"2-Day\",7,IF(Tourn=\"MSC\",8,6)))),\"\")","v":""},{"$f":"IF(AJ76=\"x\",INDEX(Qual!$C$8:$U$133,MATCH(AI76,Qual!$C$8:$C$133,0),IF(Tourn=\"Dbls\",9,IF(Tourn=\"2-Day\",8,IF(Tourn=\"MSC\",10,7)))),\"\")","v":""},null,{"$f":"IF(AP76=0,\"\",'Check-In'!$B81)","v":""},{"$f":"IF(Tourn=\"2-Day\",'Check-In'!U81,IF(Tourn=\"Dbls\", 'Check-In'!S81,'Check-In'!P81))","v":0},{"$f":"IF(AP76=\"x\",INDEX(Qual!$C$8:$U$133,MATCH(AO76,Qual!$C$8:$C$133,0),IF(Tourn=\"Dbls\",15,IF(Tourn=\"2-Day\",10,IF(Tourn=\"MSC\",12,8)))),\"\")","v":""},{"$f":"IF(AP76=\"x\",INDEX(Qual!$C$8:$U$133,MATCH(AO76,Qual!$C$8:$C$133,0),IF(Tourn=\"Dbls\",16,IF(Tourn=\"2-Day\",11,IF(Tourn=\"MSC\",14,9)))),\"\")","v":""},{"$f":"IF(AP76=\"x\",INDEX(Qual!$C$8:$U$133,MATCH(AO76,Qual!$C$8:$C$133,0),IF(Tourn=\"Dbls\",17,IF(Tourn=\"2-Day\",12,IF(Tourn=\"MSC\",16,10)))),\"\")","v":""}]
[{"$nulls":34},{"$f":"IF(AJ77=0,\"\",'Check-In'!$B82)","v":""},{"$f":"IF(Tourn=\"2-Day\",'Check-In'!T82,IF(Tourn=\"Dbls\", 'Check-In'!R82,'Check-In'!P82))","v":0},{"$f":"IF(AJ77=\"x\",INDEX(Qual!$C$8:$U$133,MATCH(AI77,Qual!$C$8:$C$133,0),IF(Tourn=\"Dbls\",7,IF(Tourn=\"2-Day\",6,IF(Tourn=\"MSC\",6,5)))),\"\")","v":""},{"$f":"IF(AJ77=\"x\",INDEX(Qual!$C$8:$U$133,MATCH(AI77,Qual!$C$8:$C$133,0),IF(Tourn=\"Dbls\",8,IF(Tourn=\"2-Day\",7,IF(Tourn=\"MSC\",8,6)))),\"\")","v":""},{"$f":"IF(AJ77=\"x\",INDEX(Qual!$C$8:$U$133,MATCH(AI77,Qual!$C$8:$C$133,0),IF(Tourn=\"Dbls\",9,IF(Tourn=\"2-Day\",8,IF(Tourn=\"MSC\",10,7)))),\"\")","v":""},null,{"$f":"IF(AP77=0,\"\",'Check-In'!$B82)","v":""},{"$f":"IF(Tourn=\"2-Day\",'Check-In'!U82,IF(Tourn=\"Dbls\", 'Check-In'!S82,'Check-In'!P82))","v":0},{"$f":"IF(AP77=\"x\",INDEX(Qual!$C$8:$U$133,MATCH(AO77,Qual!$C$8:$C$133,0),IF(Tourn=\"Dbls\",15,IF(Tourn=\"2-Day\",10,IF(Tourn=\"MSC\",12,8)))),\"\")","v":""},{"$f":"IF(AP77=\"x\",INDEX(Qual!$C$8:$U$133,MATCH(AO77,Qual!$C$8:$C$133,0),IF(Tourn=\"Dbls\",16,IF(Tourn=\"2-Day\",11,IF(Tourn=\"MSC\",14,9)))),\"\")","v":""},{"$f":"IF(AP77=\"x\",INDEX(Qual!$C$8:$U$133,MATCH(AO77,Qual!$C$8:$C$133,0),IF(Tourn=\"Dbls\",17,IF(Tourn=\"2-Day\",12,IF(Tourn=\"MSC\",16,10)))),\"\")","v":""}]
[{"$nulls":34},{"$f":"IF(AJ78=0,\"\",'Check-In'!$B83)","v":""},{"$f":"IF(Tourn=\"2-Day\",'Check-In'!T83,IF(Tourn=\"Dbls\", 'Check-In'!R83,'Check-In'!P83))","v":0},{"$f":"IF(AJ78=\"x\",INDEX(Qual!$C$8:$U$133,MATCH(AI78,Qual!$C$8:$C$133,0),IF(Tourn=\"Dbls\",7,IF(Tourn=\"2-Day\",6,IF(Tourn=\"MSC\",6,5)))),\"\")","v":""},{"$f":"IF(AJ78=\"x\",INDEX(Qual!$C$8:$U$133,MATCH(AI78,Qual!$C$8:$C$133,0),IF(Tourn=\"Dbls\",8,IF(Tourn=\"2-Day\",7,IF(Tourn=\"MSC\",8,6)))),\"\")","v":""},{"$f":"IF(AJ78=\"x\",INDEX(Qual!$C$8:$U$133,MATCH(AI78,Qual!$C$8:$C$133,0),IF(Tourn=\"Dbls\",9,IF(Tourn=\"2-Day\",8,IF(Tourn=\"MSC\",10,7)))),\"\")","v":""},null,{"$f":"IF(AP78=0,\"\",'Check-In'!$B83)","v":""},{"$f":"IF(Tourn=\"2-Day\",'Check-In'!U83,IF(Tourn=\"Dbls\", 'Check-In'!S83,'Check-In'!P83))","v":0},{"$f":"IF(AP78=\"x\",INDEX(Qual!$C$8:$U$133,MATCH(AO78,Qual!$C$8:$C$133,0),IF(Tourn=\"Dbls\",15,IF(Tourn=\"2-Day\",10,IF(Tourn=\"MSC\",12,8)))),\"\")","v":""},{"$f":"IF(AP78=\"x\",INDEX(Qual!$C$8:$U$133,MATCH(AO78,Qual!$C$8:$C$133,0),IF(Tourn=\"Dbls\",16,IF(Tourn=\"2-Day\",11,IF(Tourn=\"MSC\",14,9)))),\"\")","v":""},{"$f":"IF(AP78=\"x\",INDEX(Qual!$C$8:$U$133,MATCH(AO78,Qual!$C$8:$C$133,0),IF(Tourn=\"Dbls\",17,IF(Tourn=\"2-Day\",12,IF(Tourn=\"MSC\",16,10)))),\"\")","v":""}]
[{"$nulls":34},{"$f":"IF(AJ79=0,\"\",'Check-In'!$B84)","v":""},{"$f":"IF(Tourn=\"2-Day\",'Check-In'!T84,IF(Tourn=\"Dbls\", 'Check-In'!R84,'Check-In'!P84))","v":0},{"$f":"IF(AJ79=\"x\",INDEX(Qual!$C$8:$U$133,MATCH(AI79,Qual!$C$8:$C$133,0),IF(Tourn=\"Dbls\",7,IF(Tourn=\"2-Day\",6,IF(Tourn=\"MSC\",6,5)))),\"\")","v":""},{"$f":"IF(AJ79=\"x\",INDEX(Qual!$C$8:$U$133,MATCH(AI79,Qual!$C$8:$C$133,0),IF(Tourn=\"Dbls\",8,IF(Tourn=\"2-Day\",7,IF(Tourn=\"MSC\",8,6)))),\"\")","v":""},{"$f":"IF(AJ79=\"x\",INDEX(Qual!$C$8:$U$133,MATCH(AI79,Qual!$C$8:$C$133,0),IF(Tourn=\"Dbls\",9,IF(Tourn=\"2-Day\",8,IF(Tourn=\"MSC\",10,7)))),\"\")","v":""},null,{"$f":"IF(AP79=0,\"\",'Check-In'!$B84)","v":""},{"$f":"IF(Tourn=\"2-Day\",'Check-In'!U84,IF(Tourn=\"Dbls\", 'Check-In'!S84,'Check-In'!P84))","v":0},{"$f":"IF(AP79=\"x\",INDEX(Qual!$C$8:$U$133,MATCH(AO79,Qual!$C$8:$C$133,0),IF(Tourn=\"Dbls\",15,IF(Tourn=\"2-Day\",10,IF(Tourn=\"MSC\",12,8)))),\"\")","v":""},{"$f":"IF(AP79=\"x\",INDEX(Qual!$C$8:$U$133,MATCH(AO79,Qual!$C$8:$C$133,0),IF(Tourn=\"Dbls\",16,IF(Tourn=\"2-Day\",11,IF(Tourn=\"MSC\",14,9)))),\"\")","v":""},{"$f":"IF(AP79=\"x\",INDEX(Qual!$C$8:$U$133,MATCH(AO79,Qual!$C$8:$C$133,0),IF(Tourn=\"Dbls\",17,IF(Tourn=\"2-Day\",12,IF(Tourn=\"MSC\",16,10)))),\"\")","v":""}]
[{"$nulls":34},{"$f":"IF(AJ80=0,\"\",'Check-In'!$B85)","v":""},{"$f":"IF(Tourn=\"2-Day\",'Check-In'!T85,IF(Tourn=\"Dbls\", 'Check-In'!R85,'Check-In'!P85))","v":0},{"$f":"IF(AJ80=\"x\",INDEX(Qual!$C$8:$U$133,MATCH(AI80,Qual!$C$8:$C$133,0),IF(Tourn=\"Dbls\",7,IF(Tourn=\"2-Day\",6,IF(Tourn=\"MSC\",6,5)))),\"\")","v":""},{"$f":"IF(AJ80=\"x\",INDEX(Qual!$C$8:$U$133,MATCH(AI80,Qual!$C$8:$C$133,0),IF(Tourn=\"Dbls\",8,IF(Tourn=\"2-Day\",7,IF(Tourn=\"MSC\",8,6)))),\"\")","v":""},{"$f":"IF(AJ80=\"x\",INDEX(Qual!$C$8:$U$133,MATCH(AI80,Qual!$C$8:$C$133,0),IF(Tourn=\"Dbls\",9,IF(Tourn=\"2-Day\",8,IF(Tourn=\"MSC\",10,7)))),\"\")","v":""},null,{"$f":"IF(AP80=0,\"\",'Check-In'!$B85)","v":""},{"$f":"IF(Tourn=\"2-Day\",'Check-In'!U85,IF(Tourn=\"Dbls\", 'Check-In'!S85,'Check-In'!P85))","v":0},{"$f":"IF(AP80=\"x\",INDEX(Qual!$C$8:$U$133,MATCH(AO80,Qual!$C$8:$C$133,0),IF(Tourn=\"Dbls\",15,IF(Tourn=\"2-Day\",10,IF(Tourn=\"MSC\",12,8)))),\"\")","v":""},{"$f":"IF(AP80=\"x\",INDEX(Qual!$C$8:$U$133,MATCH(AO80,Qual!$C$8:$C$133,0),IF(Tourn=\"Dbls\",16,IF(Tourn=\"2-Day\",11,IF(Tourn=\"MSC\",14,9)))),\"\")","v":""},{"$f":"IF(AP80=\"x\",INDEX(Qual!$C$8:$U$133,MATCH(AO80,Qual!$C$8:$C$133,0),IF(Tourn=\"Dbls\",17,IF(Tourn=\"2-Day\",12,IF(Tourn=\"MSC\",16,10)))),\"\")","v":""}]
[{"$nulls":34},{"$f":"IF(AJ81=0,\"\",'Check-In'!$B86)","v":""},{"$f":"IF(Tourn=\"2-Day\",'Check-In'!T86,IF(Tourn=\"Dbls\", 'Check-In'!R86,'Check-In'!P86))","v":0},{"$f":"IF(AJ81=\"x\",INDEX(Qual!$C$8:$U$133,MATCH(AI81,Qual!$C$8:$C$133,0),IF(Tourn=\"Dbls\",7,IF(Tourn=\"2-Day\",6,IF(Tourn=\"MSC\",6,5)))),\"\")","v":""},{"$f":"IF(AJ81=\"x\",INDEX(Qual!$C$8:$U$133,MATCH(AI81,Qual!$C$8:$C$133,0),IF(Tourn=\"Dbls\",8,IF(Tourn=\"2-Day\",7,IF(Tourn=\"MSC\",8,6)))),\"\")","v":""},{"$f":"IF(AJ81=\"x\",INDEX(Qual!$C$8:$U$133,MATCH(AI81,Qual!$C$8:$C$133,0),IF(Tourn=\"Dbls\",9,IF(Tourn=\"2-Day\",8,IF(Tourn=\"MSC\",10,7)))),\"\")","v":""},null,{"$f":"IF(AP81=0,\"\",'Check-In'!$B86)","v":""},{"$f":"IF(Tourn=\"2-Day\",'Check-In'!U86,IF(Tourn=\"Dbls\", 'Check-In'!S86,'Check-In'!P86))","v":0},{"$f":"IF(AP81=\"x\",INDEX(Qual!$C$8:$U$133,MATCH(AO81,Qual!$C$8:$C$133,0),IF(Tourn=\"Dbls\",15,IF(Tourn=\"2-Day\",10,IF(Tourn=\"MSC\",12,8)))),\"\")","v":""},{"$f":"IF(AP81=\"x\",INDEX(Qual!$C$8:$U$133,MATCH(AO81,Qual!$C$8:$C$133,0),IF(Tourn=\"Dbls\",16,IF(Tourn=\"2-Day\",11,IF(Tourn=\"MSC\",14,9)))),\"\")","v":""},{"$f":"IF(AP81=\"x\",INDEX(Qual!$C$8:$U$133,MATCH(AO81,Qual!$C$8:$C$133,0),IF(Tourn=\"Dbls\",17,IF(Tourn=\"2-Day\",12,IF(Tourn=\"MSC\",16,10)))),\"\")","v":""}]
[{"$nulls":34},{"$f":"IF(AJ82=0,\"\",'Check-In'!$B87)","v":""},{"$f":"IF(Tourn=\"2-Day\",'Check-In'!T87,IF(Tourn=\"Dbls\", 'Check-In'!R87,'Check-In'!P87))","v":0},{"$f":"IF(AJ82=\"x\",INDEX(Qual!$C$8:$U$133,MATCH(AI82,Qual!$C$8:$C$133,0),IF(Tourn=\"Dbls\",7,IF(Tourn=\"2-Day\",6,IF(Tourn=\"MSC\",6,5)))),\"\")","v":""},{"$f":"IF(AJ82=\"x\",INDEX(Qual!$C$8:$U$133,MATCH(AI82,Qual!$C$8:$C$133,0),IF(Tourn=\"Dbls\",8,IF(Tourn=\"2-Day\",7,IF(Tourn=\"MSC\",8,6)))),\"\")","v":""},{"$f":"IF(AJ82=\"x\",INDEX(Qual!$C$8:$U$133,MATCH(AI82,Qual!$C$8:$C$133,0),IF(Tourn=\"Dbls\",9,IF(Tourn=\"2-Day\",8,IF(Tourn=\"MSC\",10,7)))),\"\")","v":""},null,{"$f":"IF(AP82=0,\"\",'Check-In'!$B87)","v":""},{"$f":"IF(Tourn=\"2-Day\",'Check-In'!U87,IF(Tourn=\"Dbls\", 'Check-In'!S87,'Check-In'!P87))","v":0},{"$f":"IF(AP82=\"x\",INDEX(Qual!$C$8:$U$133,MATCH(AO82,Qual!$C$8:$C$133,0),IF(Tourn=\"Dbls\",15,IF(Tourn=\"2-Day\",10,IF(Tourn=\"MSC\",12,8)))),\"\")","v":""},{"$f":"IF(AP82=\"x\",INDEX(Qual!$C$8:$U$133,MATCH(AO82,Qual!$C$8:$C$133,0),IF(Tourn=\"Dbls\",16,IF(Tourn=\"2-Day\",11,IF(Tourn=\"MSC\",14,9)))),\"\")","v":""},{"$f":"IF(AP82=\"x\",INDEX(Qual!$C$8:$U$133,MATCH(AO82,Qual!$C$8:$C$133,0),IF(Tourn=\"Dbls\",17,IF(Tourn=\"2-Day\",12,IF(Tourn=\"MSC\",16,10)))),\"\")","v":""}]
[{"$nulls":34},{"$f":"IF(AJ83=0,\"\",'Check-In'!$B88)","v":""},{"$f":"IF(Tourn=\"2-Day\",'Check-In'!T88,IF(Tourn=\"Dbls\", 'Check-In'!R88,'Check-In'!P88))","v":0},{"$f":"IF(AJ83=\"x\",INDEX(Qual!$C$8:$U$133,MATCH(AI83,Qual!$C$8:$C$133,0),IF(Tourn=\"Dbls\",7,IF(Tourn=\"2-Day\",6,IF(Tourn=\"MSC\",6,5)))),\"\")","v":""},{"$f":"IF(AJ83=\"x\",INDEX(Qual!$C$8:$U$133,MATCH(AI83,Qual!$C$8:$C$133,0),IF(Tourn=\"Dbls\",8,IF(Tourn=\"2-Day\",7,IF(Tourn=\"MSC\",8,6)))),\"\")","v":""},{"$f":"IF(AJ83=\"x\",INDEX(Qual!$C$8:$U$133,MATCH(AI83,Qual!$C$8:$C$133,0),IF(Tourn=\"Dbls\",9,IF(Tourn=\"2-Day\",8,IF(Tourn=\"MSC\",10,7)))),\"\")","v":""},null,{"$f":"IF(AP83=0,\"\",'Check-In'!$B88)","v":""},{"$f":"IF(Tourn=\"2-Day\",'Check-In'!U88,IF(Tourn=\"Dbls\", 'Check-In'!S88,'Check-In'!P88))","v":0},{"$f":"IF(AP83=\"x\",INDEX(Qual!$C$8:$U$133,MATCH(AO83,Qual!$C$8:$C$133,0),IF(Tourn=\"Dbls\",15,IF(Tourn=\"2-Day\",10,IF(Tourn=\"MSC\",12,8)))),\"\")","v":""},{"$f":"IF(AP83=\"x\",INDEX(Qual!$C$8:$U$133,MATCH(AO83,Qual!$C$8:$C$133,0),IF(Tourn=\"Dbls\",16,IF(Tourn=\"2-Day\",11,IF(Tourn=\"MSC\",14,9)))),\"\")","v":""},{"$f":"IF(AP83=\"x\",INDEX(Qual!$C$8:$U$133,MATCH(AO83,Qual!$C$8:$C$133,0),IF(Tourn=\"Dbls\",17,IF(Tourn=\"2-Day\",12,IF(Tourn=\"MSC\",16,10)))),\"\")","v":""}]
[{"$nulls":34},{"$f":"IF(AJ84=0,\"\",'Check-In'!$B89)","v":""},{"$f":"IF(Tourn=\"2-Day\",'Check-In'!T89,IF(Tourn=\"Dbls\", 'Check-In'!R89,'Check-In'!P89))","v":0},{"$f":"IF(AJ84=\"x\",INDEX(Qual!$C$8:$U$133,MATCH(AI84,Qual!$C$8:$C$133,0),IF(Tourn=\"Dbls\",7,IF(Tourn=\"2-Day\",6,IF(Tourn=\"MSC\",6,5)))),\"\")","v":""},{"$f":"IF(AJ84=\"x\",INDEX(Qual!$C$8:$U$133,MATCH(AI84,Qual!$C$8:$C$133,0),IF(Tourn=\"Dbls\",8,IF(Tourn=\"2-Day\",7,IF(Tourn=\"MSC\",8,6)))),\"\")","v":""},{"$f":"IF(AJ84=\"x\",INDEX(Qual!$C$8:$U$133,MATCH(AI84,Qual!$C$8:$C$133,0),IF(Tourn=\"Dbls\",9,IF(Tourn=\"2-Day\",8,IF(Tourn=\"MSC\",10,7)))),\"\")","v":""},null,{"$f":"IF(AP84=0,\"\",'Check-In'!$B89)","v":""},{"$f":"IF(Tourn=\"2-Day\",'Check-In'!U89,IF(Tourn=\"Dbls\", 'Check-In'!S89,'Check-In'!P89))","v":0},{"$f":"IF(AP84=\"x\",INDEX(Qual!$C$8:$U$133,MATCH(AO84,Qual!$C$8:$C$133,0),IF(Tourn=\"Dbls\",15,IF(Tourn=\"2-Day\",10,IF(Tourn=\"MSC\",12,8)))),\"\")","v":""},{"$f":"IF(AP84=\"x\",INDEX(Qual!$C$8:$U$133,MATCH(AO84,Qual!$C$8:$C$133,0),IF(Tourn=\"Dbls\",16,IF(Tourn=\"2-Day\",11,IF(Tourn=\"MSC\",14,9)))),\"\")","v":""},{"$f":"IF(AP84=\"x\",INDEX(Qual!$C$8:$U$133,MATCH(AO84,Qual!$C$8:$C$133,0),IF(Tourn=\"Dbls\",17,IF(Tourn=\"2-Day\",12,IF(Tourn=\"MSC\",16,10)))),\"\")","v":""}]
[{"$nulls":34},{"$f":"IF(AJ85=0,\"\",'Check-In'!$B90)","v":""},{"$f":"IF(Tourn=\"2-Day\",'Check-In'!T90,IF(Tourn=\"Dbls\", 'Check-In'!R90,'Check-In'!P90))","v":0},{"$f":"IF(AJ85=\"x\",INDEX(Qual!$C$8:$U$133,MATCH(AI85,Qual!$C$8:$C$133,0),IF(Tourn=\"Dbls\",7,IF(Tourn=\"2-Day\",6,IF(Tourn=\"MSC\",6,5)))),\"\")","v":""},{"$f":"IF(AJ85=\"x\",INDEX(Qual!$C$8:$U$133,MATCH(AI85,Qual!$C$8:$C$133,0),IF(Tourn=\"Dbls\",8,IF(Tourn=\"2-Day\",7,IF(Tourn=\"MSC\",8,6)))),\"\")","v":""},{"$f":"IF(AJ85=\"x\",INDEX(Qual!$C$8:$U$133,MATCH(AI85,Qual!$C$8:$C$133,0),IF(Tourn=\"Dbls\",9,IF(Tourn=\"2-Day\",8,IF(Tourn=\"MSC\",10,7)))),\"\")","v":""},null,{"$f":"IF(AP85=0,\"\",'Check-In'!$B90)","v":""},{"$f":"IF(Tourn=\"2-Day\",'Check-In'!U90,IF(Tourn=\"Dbls\", 'Check-In'!S90,'Check-In'!P90))","v":0},{"$f":"IF(AP85=\"x\",INDEX(Qual!$C$8:$U$133,MATCH(AO85,Qual!$C$8:$C$133,0),IF(Tourn=\"Dbls\",15,IF(Tourn=\"2-Day\",10,IF(Tourn=\"MSC\",12,8)))),\"\")","v":""},{"$f":"IF(AP85=\"x\",INDEX(Qual!$C$8:$U$133,MATCH(AO85,Qual!$C$8:$C$133,0),IF(Tourn=\"Dbls\",16,IF(Tourn=\"2-Day\",11,IF(Tourn=\"MSC\",14,9)))),\"\")","v":""},{"$f":"IF(AP85=\"x\",INDEX(Qual!$C$8:$U$133,MATCH(AO85,Qual!$C$8:$C$133,0),IF(Tourn=\"Dbls\",17,IF(Tourn=\"2-Day\",12,IF(Tourn=\"MSC\",16,10)))),\"\")","v":""}]
[{"$nulls":34},{"$f":"IF(AJ86=0,\"\",'Check-In'!$B91)","v":""},{"$f":"IF(Tourn=\"2-Day\",'Check-In'!T91,IF(Tourn=\"Dbls\", 'Check-In'!R91,'Check-In'!P91))","v":0},{"$f":"IF(AJ86=\"x\",INDEX(Qual!$C$8:$U$133,MATCH(AI86,Qual!$C$8:$C$133,0),IF(Tourn=\"Dbls\",7,IF(Tourn=\"2-Day\",6,IF(Tourn=\"MSC\",6,5)))),\"\")","v":""},{"$f":"IF(AJ86=\"x\",INDEX(Qual!$C$8:$U$133,MATCH(AI86,Qual!$C$8:$C$133,0),IF(Tourn=\"Dbls\",8,IF(Tourn=\"2-Day\",7,IF(Tourn=\"MSC\",8,6)))),\"\")","v":""},{"$f":"IF(AJ86=\"x\",INDEX(Qual!$C$8:$U$133,MATCH(AI86,Qual!$C$8:$C$133,0),IF(Tourn=\"Dbls\",9,IF(Tourn=\"2-Day\",8,IF(Tourn=\"MSC\",10,7)))),\"\")","v":""},null,{"$f":"IF(AP86=0,\"\",'Check-In'!$B91)","v":""},{"$f":"IF(Tourn=\"2-Day\",'Check-In'!U91,IF(Tourn=\"Dbls\", 'Check-In'!S91,'Check-In'!P91))","v":0},{"$f":"IF(AP86=\"x\",INDEX(Qual!$C$8:$U$133,MATCH(AO86,Qual!$C$8:$C$133,0),IF(Tourn=\"Dbls\",15,IF(Tourn=\"2-Day\",10,IF(Tourn=\"MSC\",12,8)))),\"\")","v":""},{"$f":"IF(AP86=\"x\",INDEX(Qual!$C$8:$U$133,MATCH(AO86,Qual!$C$8:$C$133,0),IF(Tourn=\"Dbls\",16,IF(Tourn=\"2-Day\",11,IF(Tourn=\"MSC\",14,9)))),\"\")","v":""},{"$f":"IF(AP86=\"x\",INDEX(Qual!$C$8:$U$133,MATCH(AO86,Qual!$C$8:$C$133,0),IF(Tourn=\"Dbls\",17,IF(Tourn=\"2-Day\",12,IF(Tourn=\"MSC\",16,10)))),\"\")","v":""}]
[{"$nulls":34},{"$f":"IF(AJ87=0,\"\",'Check-In'!$B92)","v":""},{"$f":"IF(Tourn=\"2-Day\",'Check-In'!T92,IF(Tourn=\"Dbls\", 'Check-In'!R92,'Check-In'!P92))","v":0},{"$f":"IF(AJ87=\"x\",INDEX(Qual!$C$8:$U$133,MATCH(AI87,Qual!$C$8:$C$133,0),IF(Tourn=\"Dbls\",7,IF(Tourn=\"2-Day\",6,IF(Tourn=\"MSC\",6,5)))),\"\")","v":""},{"$f":"IF(AJ87=\"x\",INDEX(Qual!$C$8:$U$133,MATCH(AI87,Qual!$C$8:$C$133,0),IF(Tourn=\"Dbls\",8,IF(Tourn=\"2-Day\",7,IF(Tourn=\"MSC\",8,6)))),\"\")","v":""},{"$f":"IF(AJ87=\"x\",INDEX(Qual!$C$8:$U$133,MATCH(AI87,Qual!$C$8:$C$133,0),IF(Tourn=\"Dbls\",9,IF(Tourn=\"2-Day\",8,IF(Tourn=\"MSC\",10,7)))),\"\")","v":""},null,{"$f":"IF(AP87=0,\"\",'Check-In'!$B92)","v":""},{"$f":"IF(Tourn=\"2-Day\",'Check-In'!U92,IF(Tourn=\"Dbls\", 'Check-In'!S92,'Check-In'!P92))","v":0},{"$f":"IF(AP87=\"x\",INDEX(Qual!$C$8:$U$133,MATCH(AO87,Qual!$C$8:$C$133,0),IF(Tourn=\"Dbls\",15,IF(Tourn=\"2-Day\",10,IF(Tourn=\"MSC\",12,8)))),\"\")","v":""},{"$f":"IF(AP87=\"x\",INDEX(Qual!$C$8:$U$133,MATCH(AO87,Qual!$C$8:$C$133,0),IF(Tourn=\"Dbls\",16,IF(Tourn=\"2-Day\",11,IF(Tourn=\"MSC\",14,9)))),\"\")","v":""},{"$f":"IF(AP87=\"x\",INDEX(Qual!$C$8:$U$133,MATCH(AO87,Qual!$C$8:$C$133,0),IF(Tourn=\"Dbls\",17,IF(Tourn=\"2-Day\",12,IF(Tourn=\"MSC\",16,10)))),\"\")","v":""}]
[{"$nulls":34},{"$f":"IF(AJ88=0,\"\",'Check-In'!$B93)","v":""},{"$f":"IF(Tourn=\"2-Day\",'Check-In'!T93,IF(Tourn=\"Dbls\", 'Check-In'!R93,'Check-In'!P93))","v":0},{"$f":"IF(AJ88=\"x\",INDEX(Qual!$C$8:$U$133,MATCH(AI88,Qual!$C$8:$C$133,0),IF(Tourn=\"Dbls\",7,IF(Tourn=\"2-Day\",6,IF(Tourn=\"MSC\",6,5)))),\"\")","v":""},{"$f":"IF(AJ88=\"x\",INDEX(Qual!$C$8:$U$133,MATCH(AI88,Qual!$C$8:$C$133,0),IF(Tourn=\"Dbls\",8,IF(Tourn=\"2-Day\",7,IF(Tourn=\"MSC\",8,6)))),\"\")","v":""},{"$f":"IF(AJ88=\"x\",INDEX(Qual!$C$8:$U$133,MATCH(AI88,Qual!$C$8:$C$133,0),IF(Tourn=\"Dbls\",9,IF(Tourn=\"2-Day\",8,IF(Tourn=\"MSC\",10,7)))),\"\")","v":""},null,{"$f":"IF(AP88=0,\"\",'Check-In'!$B93)","v":""},{"$f":"IF(Tourn=\"2-Day\",'Check-In'!U93,IF(Tourn=\"Dbls\", 'Check-In'!S93,'Check-In'!P93))","v":0},{"$f":"IF(AP88=\"x\",INDEX(Qual!$C$8:$U$133,MATCH(AO88,Qual!$C$8:$C$133,0),IF(Tourn=\"Dbls\",15,IF(Tourn=\"2-Day\",10,IF(Tourn=\"MSC\",12,8)))),\"\")","v":""},{"$f":"IF(AP88=\"x\",INDEX(Qual!$C$8:$U$133,MATCH(AO88,Qual!$C$8:$C$133,0),IF(Tourn=\"Dbls\",16,IF(Tourn=\"2-Day\",11,IF(Tourn=\"MSC\",14,9)))),\"\")","v":""},{"$f":"IF(AP88=\"x\",INDEX(Qual!$C$8:$U$133,MATCH(AO88,Qual!$C$8:$C$133,0),IF(Tourn=\"Dbls\",17,IF(Tourn=\"2-Day\",12,IF(Tourn=\"MSC\",16,10)))),\"\")","v":""}]
[{"$nulls":34},{"$f":"IF(AJ89=0,\"\",'Check-In'!$B94)","v":""},{"$f":"IF(Tourn=\"2-Day\",'Check-In'!T94,IF(Tourn=\"Dbls\", 'Check-In'!R94,'Check-In'!P94))","v":0},{"$f":"IF(AJ89=\"x\",INDEX(Qual!$C$8:$U$133,MATCH(AI89,Qual!$C$8:$C$133,0),IF(Tourn=\"Dbls\",7,IF(Tourn=\"2-Day\",6,IF(Tourn=\"MSC\",6,5)))),\"\")","v":""},{"$f":"IF(AJ89=\"x\",INDEX(Qual!$C$8:$U$133,MATCH(AI89,Qual!$C$8:$C$133,0),IF(Tourn=\"Dbls\",8,IF(Tourn=\"2-Day\",7,IF(Tourn=\"MSC\",8,6)))),\"\")","v":""},{"$f":"IF(AJ89=\"x\",INDEX(Qual!$C$8:$U$133,MATCH(AI89,Qual!$C$8:$C$133,0),IF(Tourn=\"Dbls\",9,IF(Tourn=\"2-Day\",8,IF(Tourn=\"MSC\",10,7)))),\"\")","v":""},null,{"$f":"IF(AP89=0,\"\",'Check-In'!$B94)","v":""},{"$f":"IF(Tourn=\"2-Day\",'Check-In'!U94,IF(Tourn=\"Dbls\", 'Check-In'!S94,'Check-In'!P94))","v":0},{"$f":"IF(AP89=\"x\",INDEX(Qual!$C$8:$U$133,MATCH(AO89,Qual!$C$8:$C$133,0),IF(Tourn=\"Dbls\",15,IF(Tourn=\"2-Day\",10,IF(Tourn=\"MSC\",12,8)))),\"\")","v":""},{"$f":"IF(AP89=\"x\",INDEX(Qual!$C$8:$U$133,MATCH(AO89,Qual!$C$8:$C$133,0),IF(Tourn=\"Dbls\",16,IF(Tourn=\"2-Day\",11,IF(Tourn=\"MSC\",14,9)))),\"\")","v":""},{"$f":"IF(AP89=\"x\",INDEX(Qual!$C$8:$U$133,MATCH(AO89,Qual!$C$8:$C$133,0),IF(Tourn=\"Dbls\",17,IF(Tourn=\"2-Day\",12,IF(Tourn=\"MSC\",16,10)))),\"\")","v":""}]
[{"$nulls":34},{"$f":"IF(AJ90=0,\"\",'Check-In'!$B95)","v":""},{"$f":"IF(Tourn=\"2-Day\",'Check-In'!T95,IF(Tourn=\"Dbls\", 'Check-In'!R95,'Check-In'!P95))","v":0},{"$f":"IF(AJ90=\"x\",INDEX(Qual!$C$8:$U$133,MATCH(AI90,Qual!$C$8:$C$133,0),IF(Tourn=\"Dbls\",7,IF(Tourn=\"2-Day\",6,IF(Tourn=\"MSC\",6,5)))),\"\")","v":""},{"$f":"IF(AJ90=\"x\",INDEX(Qual!$C$8:$U$133,MATCH(AI90,Qual!$C$8:$C$133,0),IF(Tourn=\"Dbls\",8,IF(Tourn=\"2-Day\",7,IF(Tourn=\"MSC\",8,6)))),\"\")","v":""},{"$f":"IF(AJ90=\"x\",INDEX(Qual!$C$8:$U$133,MATCH(AI90,Qual!$C$8:$C$133,0),IF(Tourn=\"Dbls\",9,IF(Tourn=\"2-Day\",8,IF(Tourn=\"MSC\",10,7)))),\"\")","v":""},null,{"$f":"IF(AP90=0,\"\",'Check-In'!$B95)","v":""},{"$f":"IF(Tourn=\"2-Day\",'Check-In'!U95,IF(Tourn=\"Dbls\", 'Check-In'!S95,'Check-In'!P95))","v":0},{"$f":"IF(AP90=\"x\",INDEX(Qual!$C$8:$U$133,MATCH(AO90,Qual!$C$8:$C$133,0),IF(Tourn=\"Dbls\",15,IF(Tourn=\"2-Day\",10,IF(Tourn=\"MSC\",12,8)))),\"\")","v":""},{"$f":"IF(AP90=\"x\",INDEX(Qual!$C$8:$U$133,MATCH(AO90,Qual!$C$8:$C$133,0),IF(Tourn=\"Dbls\",16,IF(Tourn=\"2-Day\",11,IF(Tourn=\"MSC\",14,9)))),\"\")","v":""},{"$f":"IF(AP90=\"x\",INDEX(Qual!$C$8:$U$133,MATCH(AO90,Qual!$C$8:$C$133,0),IF(Tourn=\"Dbls\",17,IF(Tourn=\"2-Day\",12,IF(Tourn=\"MSC\",16,10)))),\"\")","v":""}]
[{"$nulls":34},{"$f":"IF(AJ91=0,\"\",'Check-In'!$B96)","v":""},{"$f":"IF(Tourn=\"2-Day\",'Check-In'!T96,IF(Tourn=\"Dbls\", 'Check-In'!R96,'Check-In'!P96))","v":0},{"$f":"IF(AJ91=\"x\",INDEX(Qual!$C$8:$U$133,MATCH(AI91,Qual!$C$8:$C$133,0),IF(Tourn=\"Dbls\",7,IF(Tourn=\"2-Day\",6,IF(Tourn=\"MSC\",6,5)))),\"\")","v":""},{"$f":"IF(AJ91=\"x\",INDEX(Qual!$C$8:$U$133,MATCH(AI91,Qual!$C$8:$C$133,0),IF(Tourn=\"Dbls\",8,IF(Tourn=\"2-Day\",7,IF(Tourn=\"MSC\",8,6)))),\"\")","v":""},{"$f":"IF(AJ91=\"x\",INDEX(Qual!$C$8:$U$133,MATCH(AI91,Qual!$C$8:$C$133,0),IF(Tourn=\"Dbls\",9,IF(Tourn=\"2-Day\",8,IF(Tourn=\"MSC\",10,7)))),\"\")","v":""},null,{"$f":"IF(AP91=0,\"\",'Check-In'!$B96)","v":""},{"$f":"IF(Tourn=\"2-Day\",'Check-In'!U96,IF(Tourn=\"Dbls\", 'Check-In'!S96,'Check-In'!P96))","v":0},{"$f":"IF(AP91=\"x\",INDEX(Qual!$C$8:$U$133,MATCH(AO91,Qual!$C$8:$C$133,0),IF(Tourn=\"Dbls\",15,IF(Tourn=\"2-Day\",10,IF(Tourn=\"MSC\",12,8)))),\"\")","v":""},{"$f":"IF(AP91=\"x\",INDEX(Qual!$C$8:$U$133,MATCH(AO91,Qual!$C$8:$C$133,0),IF(Tourn=\"Dbls\",16,IF(Tourn=\"2-Day\",11,IF(Tourn=\"MSC\",14,9)))),\"\")","v":""},{"$f":"IF(AP91=\"x\",INDEX(Qual!$C$8:$U$133,MATCH(AO91,Qual!$C$8:$C$133,0),IF(Tourn=\"Dbls\",17,IF(Tourn=\"2-Day\",12,IF(Tourn=\"MSC\",16,10)))),\"\")","v":""}]
[{"$nulls":34},{"$f":"IF(AJ92=0,\"\",'Check-In'!$B97)","v":""},{"$f":"IF(Tourn=\"2-Day\",'Check-In'!T97,IF(Tourn=\"Dbls\", 'Check-In'!R97,'Check-In'!P97))","v":0},{"$f":"IF(AJ92=\"x\",INDEX(Qual!$C$8:$U$133,MATCH(AI92,Qual!$C$8:$C$133,0),IF(Tourn=\"Dbls\",7,IF(Tourn=\"2-Day\",6,IF(Tourn=\"MSC\",6,5)))),\"\")","v":""},{"$f":"IF(AJ92=\"x\",INDEX(Qual!$C$8:$U$133,MATCH(AI92,Qual!$C$8:$C$133,0),IF(Tourn=\"Dbls\",8,IF(Tourn=\"2-Day\",7,IF(Tourn=\"MSC\",8,6)))),\"\")","v":""},{"$f":"IF(AJ92=\"x\",INDEX(Qual!$C$8:$U$133,MATCH(AI92,Qual!$C$8:$C$133,0),IF(Tourn=\"Dbls\",9,IF(Tourn=\"2-Day\",8,IF(Tourn=\"MSC\",10,7)))),\"\")","v":""},null,{"$f":"IF(AP92=0,\"\",'Check-In'!$B97)","v":""},{"$f":"IF(Tourn=\"2-Day\",'Check-In'!U97,IF(Tourn=\"Dbls\", 'Check-In'!S97,'Check-In'!P97))","v":0},{"$f":"IF(AP92=\"x\",INDEX(Qual!$C$8:$U$133,MATCH(AO92,Qual!$C$8:$C$133,0),IF(Tourn=\"Dbls\",15,IF(Tourn=\"2-Day\",10,IF(Tourn=\"MSC\",12,8)))),\"\")","v":""},{"$f":"IF(AP92=\"x\",INDEX(Qual!$C$8:$U$133,MATCH(AO92,Qual!$C$8:$C$133,0),IF(Tourn=\"Dbls\",16,IF(Tourn=\"2-Day\",11,IF(Tourn=\"MSC\",14,9)))),\"\")","v":""},{"$f":"IF(AP92=\"x\",INDEX(Qual!$C$8:$U$133,MATCH(AO92,Qual!$C$8:$C$133,0),IF(Tourn=\"Dbls\",17,IF(Tourn=\"2-Day\",12,IF(Tourn=\"MSC\",16,10)))),\"\")","v":""}]
[{"$nulls":34},{"$f":"IF(AJ93=0,\"\",'Check-In'!$B98)","v":""},{"$f":"IF(Tourn=\"2-Day\",'Check-In'!T98,IF(Tourn=\"Dbls\", 'Check-In'!R98,'Check-In'!P98))","v":0},{"$f":"IF(AJ93=\"x\",INDEX(Qual!$C$8:$U$133,MATCH(AI93,Qual!$C$8:$C$133,0),IF(Tourn=\"Dbls\",7,IF(Tourn=\"2-Day\",6,IF(Tourn=\"MSC\",6,5)))),\"\")","v":""},{"$f":"IF(AJ93=\"x\",INDEX(Qual!$C$8:$U$133,MATCH(AI93,Qual!$C$8:$C$133,0),IF(Tourn=\"Dbls\",8,IF(Tourn=\"2-Day\",7,IF(Tourn=\"MSC\",8,6)))),\"\")","v":""},{"$f":"IF(AJ93=\"x\",INDEX(Qual!$C$8:$U$133,MATCH(AI93,Qual!$C$8:$C$133,0),IF(Tourn=\"Dbls\",9,IF(Tourn=\"2-Day\",8,IF(Tourn=\"MSC\",10,7)))),\"\")","v":""},null,{"$f":"IF(AP93=0,\"\",'Check-In'!$B98)","v":""},{"$f":"IF(Tourn=\"2-Day\",'Check-In'!U98,IF(Tourn=\"Dbls\", 'Check-In'!S98,'Check-In'!P98))","v":0},{"$f":"IF(AP93=\"x\",INDEX(Qual!$C$8:$U$133,MATCH(AO93,Qual!$C$8:$C$133,0),IF(Tourn=\"Dbls\",15,IF(Tourn=\"2-Day\",10,IF(Tourn=\"MSC\",12,8)))),\"\")","v":""},{"$f":"IF(AP93=\"x\",INDEX(Qual!$C$8:$U$133,MATCH(AO93,Qual!$C$8:$C$133,0),IF(Tourn=\"Dbls\",16,IF(Tourn=\"2-Day\",11,IF(Tourn=\"MSC\",14,9)))),\"\")","v":""},{"$f":"IF(AP93=\"x\",INDEX(Qual!$C$8:$U$133,MATCH(AO93,Qual!$C$8:$C$133,0),IF(Tourn=\"Dbls\",17,IF(Tourn=\"2-Day\",12,IF(Tourn=\"MSC\",16,10)))),\"\")","v":""}]
[{"$nulls":34},{"$f":"IF(AJ94=0,\"\",'Check-In'!$B99)","v":""},{"$f":"IF(Tourn=\"2-Day\",'Check-In'!T99,IF(Tourn=\"Dbls\", 'Check-In'!R99,'Check-In'!P99))","v":0},{"$f":"IF(AJ94=\"x\",INDEX(Qual!$C$8:$U$133,MATCH(AI94,Qual!$C$8:$C$133,0),IF(Tourn=\"Dbls\",7,IF(Tourn=\"2-Day\",6,IF(Tourn=\"MSC\",6,5)))),\"\")","v":""},{"$f":"IF(AJ94=\"x\",INDEX(Qual!$C$8:$U$133,MATCH(AI94,Qual!$C$8:$C$133,0),IF(Tourn=\"Dbls\",8,IF(Tourn=\"2-Day\",7,IF(Tourn=\"MSC\",8,6)))),\"\")","v":""},{"$f":"IF(AJ94=\"x\",INDEX(Qual!$C$8:$U$133,MATCH(AI94,Qual!$C$8:$C$133,0),IF(Tourn=\"Dbls\",9,IF(Tourn=\"2-Day\",8,IF(Tourn=\"MSC\",10,7)))),\"\")","v":""},null,{"$f":"IF(AP94=0,\"\",'Check-In'!$B99)","v":""},{"$f":"IF(Tourn=\"2-Day\",'Check-In'!U99,IF(Tourn=\"Dbls\", 'Check-In'!S99,'Check-In'!P99))","v":0},{"$f":"IF(AP94=\"x\",INDEX(Qual!$C$8:$U$133,MATCH(AO94,Qual!$C$8:$C$133,0),IF(Tourn=\"Dbls\",15,IF(Tourn=\"2-Day\",10,IF(Tourn=\"MSC\",12,8)))),\"\")","v":""},{"$f":"IF(AP94=\"x\",INDEX(Qual!$C$8:$U$133,MATCH(AO94,Qual!$C$8:$C$133,0),IF(Tourn=\"Dbls\",16,IF(Tourn=\"2-Day\",11,IF(Tourn=\"MSC\",14,9)))),\"\")","v":""},{"$f":"IF(AP94=\"x\",INDEX(Qual!$C$8:$U$133,MATCH(AO94,Qual!$C$8:$C$133,0),IF(Tourn=\"Dbls\",17,IF(Tourn=\"2-Day\",12,IF(Tourn=\"MSC\",16,10)))),\"\")","v":""}]
[{"$nulls":34},{"$f":"IF(AJ95=0,\"\",'Check-In'!$B100)","v":""},{"$f":"IF(Tourn=\"2-Day\",'Check-In'!T100,IF(Tourn=\"Dbls\", 'Check-In'!R100,'Check-In'!P100))","v":0},{"$f":"IF(AJ95=\"x\",INDEX(Qual!$C$8:$U$133,MATCH(AI95,Qual!$C$8:$C$133,0),IF(Tourn=\"Dbls\",7,IF(Tourn=\"2-Day\",6,IF(Tourn=\"MSC\",6,5)))),\"\")","v":""},{"$f":"IF(AJ95=\"x\",INDEX(Qual!$C$8:$U$133,MATCH(AI95,Qual!$C$8:$C$133,0),IF(Tourn=\"Dbls\",8,IF(Tourn=\"2-Day\",7,IF(Tourn=\"MSC\",8,6)))),\"\")","v":""},{"$f":"IF(AJ95=\"x\",INDEX(Qual!$C$8:$U$133,MATCH(AI95,Qual!$C$8:$C$133,0),IF(Tourn=\"Dbls\",9,IF(Tourn=\"2-Day\",8,IF(Tourn=\"MSC\",10,7)))),\"\")","v":""},null,{"$f":"IF(AP95=0,\"\",'Check-In'!$B100)","v":""},{"$f":"IF(Tourn=\"2-Day\",'Check-In'!U100,IF(Tourn=\"Dbls\", 'Check-In'!S100,'Check-In'!P100))","v":0},{"$f":"IF(AP95=\"x\",INDEX(Qual!$C$8:$U$133,MATCH(AO95,Qual!$C$8:$C$133,0),IF(Tourn=\"Dbls\",15,IF(Tourn=\"2-Day\",10,IF(Tourn=\"MSC\",12,8)))),\"\")","v":""},{"$f":"IF(AP95=\"x\",INDEX(Qual!$C$8:$U$133,MATCH(AO95,Qual!$C$8:$C$133,0),IF(Tourn=\"Dbls\",16,IF(Tourn=\"2-Day\",11,IF(Tourn=\"MSC\",14,9)))),\"\")","v":""},{"$f":"IF(AP95=\"x\",INDEX(Qual!$C$8:$U$133,MATCH(AO95,Qual!$C$8:$C$133,0),IF(Tourn=\"Dbls\",17,IF(Tourn=\"2-Day\",12,IF(Tourn=\"MSC\",16,10)))),\"\")","v":""}]
[{"$nulls":34},{"$f":"IF(AJ96=0,\"\",'Check-In'!$B101)","v":""},{"$f":"IF(Tourn=\"2-Day\",'Check-In'!T101,IF(Tourn=\"Dbls\", 'Check-In'!R101,'Check-In'!P101))","v":0},{"$f":"IF(AJ96=\"x\",INDEX(Qual!$C$8:$U$133,MATCH(AI96,Qual!$C$8:$C$133,0),IF(Tourn=\"Dbls\",7,IF(Tourn=\"2-Day\",6,IF(Tourn=\"MSC\",6,5)))),\"\")","v":""},{"$f":"IF(AJ96=\"x\",INDEX(Qual!$C$8:$U$133,MATCH(AI96,Qual!$C$8:$C$133,0),IF(Tourn=\"Dbls\",8,IF(Tourn=\"2-Day\",7,IF(Tourn=\"MSC\",8,6)))),\"\")","v":""},{"$f":"IF(AJ96=\"x\",INDEX(Qual!$C$8:$U$133,MATCH(AI96,Qual!$C$8:$C$133,0),IF(Tourn=\"Dbls\",9,IF(Tourn=\"2-Day\",8,IF(Tourn=\"MSC\",10,7)))),\"\")","v":""},null,{"$f":"IF(AP96=0,\"\",'Check-In'!$B101)","v":""},{"$f":"IF(Tourn=\"2-Day\",'Check-In'!U101,IF(Tourn=\"Dbls\", 'Check-In'!S101,'Check-In'!P101))","v":0},{"$f":"IF(AP96=\"x\",INDEX(Qual!$C$8:$U$133,MATCH(AO96,Qual!$C$8:$C$133,0),IF(Tourn=\"Dbls\",15,IF(Tourn=\"2-Day\",10,IF(Tourn=\"MSC\",12,8)))),\"\")","v":""},{"$f":"IF(AP96=\"x\",INDEX(Qual!$C$8:$U$133,MATCH(AO96,Qual!$C$8:$C$133,0),IF(Tourn=\"Dbls\",16,IF(Tourn=\"2-Day\",11,IF(Tourn=\"MSC\",14,9)))),\"\")","v":""},{"$f":"IF(AP96=\"x\",INDEX(Qual!$C$8:$U$133,MATCH(AO96,Qual!$C$8:$C$133,0),IF(Tourn=\"Dbls\",17,IF(Tourn=\"2-Day\",12,IF(Tourn=\"MSC\",16,10)))),\"\")","v":""}]
[{"$nulls":34},{"$f":"IF(AJ97=0,\"\",'Check-In'!$B102)","v":""},{"$f":"IF(Tourn=\"2-Day\",'Check-In'!T102,IF(Tourn=\"Dbls\", 'Check-In'!R102,'Check-In'!P102))","v":0},{"$f":"IF(AJ97=\"x\",INDEX(Qual!$C$8:$U$133,MATCH(AI97,Qual!$C$8:$C$133,0),IF(Tourn=\"Dbls\",7,IF(Tourn=\"2-Day\",6,IF(Tourn=\"MSC\",6,5)))),\"\")","v":""},{"$f":"IF(AJ97=\"x\",INDEX(Qual!$C$8:$U$133,MATCH(AI97,Qual!$C$8:$C$133,0),IF(Tourn=\"Dbls\",8,IF(Tourn=\"2-Day\",7,IF(Tourn=\"MSC\",8,6)))),\"\")","v":""},{"$f":"IF(AJ97=\"x\",INDEX(Qual!$C$8:$U$133,MATCH(AI97,Qual!$C$8:$C$133,0),IF(Tourn=\"Dbls\",9,IF(Tourn=\"2-Day\",8,IF(Tourn=\"MSC\",10,7)))),\"\")","v":""},null,{"$f":"IF(AP97=0,\"\",'Check-In'!$B102)","v":""},{"$f":"IF(Tourn=\"2-Day\",'Check-In'!U102,IF(Tourn=\"Dbls\", 'Check-In'!S102,'Check-In'!P102))","v":0},{"$f":"IF(AP97=\"x\",INDEX(Qual!$C$8:$U$133,MATCH(AO97,Qual!$C$8:$C$133,0),IF(Tourn=\"Dbls\",15,IF(Tourn=\"2-Day\",10,IF(Tourn=\"MSC\",12,8)))),\"\")","v":""},{"$f":"IF(AP97=\"x\",INDEX(Qual!$C$8:$U$133,MATCH(AO97,Qual!$C$8:$C$133,0),IF(Tourn=\"Dbls\",16,IF(Tourn=\"2-Day\",11,IF(Tourn=\"MSC\",14,9)))),\"\")","v":""},{"$f":"IF(AP97=\"x\",INDEX(Qual!$C$8:$U$133,MATCH(AO97,Qual!$C$8:$C$133,0),IF(Tourn=\"Dbls\",17,IF(Tourn=\"2-Day\",12,IF(Tourn=\"MSC\",16,10)))),\"\")","v":""}]
[{"$nulls":34},{"$f":"IF(AJ98=0,\"\",'Check-In'!$B103)","v":""},{"$f":"IF(Tourn=\"2-Day\",'Check-In'!T103,IF(Tourn=\"Dbls\", 'Check-In'!R103,'Check-In'!P103))","v":0},{"$f":"IF(AJ98=\"x\",INDEX(Qual!$C$8:$U$133,MATCH(AI98,Qual!$C$8:$C$133,0),IF(Tourn=\"Dbls\",7,IF(Tourn=\"2-Day\",6,IF(Tourn=\"MSC\",6,5)))),\"\")","v":""},{"$f":"IF(AJ98=\"x\",INDEX(Qual!$C$8:$U$133,MATCH(AI98,Qual!$C$8:$C$133,0),IF(Tourn=\"Dbls\",8,IF(Tourn=\"2-Day\",7,IF(Tourn=\"MSC\",8,6)))),\"\")","v":""},{"$f":"IF(AJ98=\"x\",INDEX(Qual!$C$8:$U$133,MATCH(AI98,Qual!$C$8:$C$133,0),IF(Tourn=\"Dbls\",9,IF(Tourn=\"2-Day\",8,IF(Tourn=\"MSC\",10,7)))),\"\")","v":""},null,{"$f":"IF(AP98=0,\"\",'Check-In'!$B103)","v":""},{"$f":"IF(Tourn=\"2-Day\",'Check-In'!U103,IF(Tourn=\"Dbls\", 'Check-In'!S103,'Check-In'!P103))","v":0},{"$f":"IF(AP98=\"x\",INDEX(Qual!$C$8:$U$133,MATCH(AO98,Qual!$C$8:$C$133,0),IF(Tourn=\"Dbls\",15,IF(Tourn=\"2-Day\",10,IF(Tourn=\"MSC\",12,8)))),\"\")","v":""},{"$f":"IF(AP98=\"x\",INDEX(Qual!$C$8:$U$133,MATCH(AO98,Qual!$C$8:$C$133,0),IF(Tourn=\"Dbls\",16,IF(Tourn=\"2-Day\",11,IF(Tourn=\"MSC\",14,9)))),\"\")","v":""},{"$f":"IF(AP98=\"x\",INDEX(Qual!$C$8:$U$133,MATCH(AO98,Qual!$C$8:$C$133,0),IF(Tourn=\"Dbls\",17,IF(Tourn=\"2-Day\",12,IF(Tourn=\"MSC\",16,10)))),\"\")","v":""}]
[{"$nulls":34},{"$f":"IF(AJ99=0,\"\",'Check-In'!$B104)","v":""},{"$f":"IF(Tourn=\"2-Day\",'Check-In'!T104,IF(Tourn=\"Dbls\", 'Check-In'!R104,'Check-In'!P104))","v":0},{"$f":"IF(AJ99=\"x\",INDEX(Qual!$C$8:$U$133,MATCH(AI99,Qual!$C$8:$C$133,0),IF(Tourn=\"Dbls\",7,IF(Tourn=\"2-Day\",6,IF(Tourn=\"MSC\",6,5)))),\"\")","v":""},{"$f":"IF(AJ99=\"x\",INDEX(Qual!$C$8:$U$133,MATCH(AI99,Qual!$C$8:$C$133,0),IF(Tourn=\"Dbls\",8,IF(Tourn=\"2-Day\",7,IF(Tourn=\"MSC\",8,6)))),\"\")","v":""},{"$f":"IF(AJ99=\"x\",INDEX(Qual!$C$8:$U$133,MATCH(AI99,Qual!$C$8:$C$133,0),IF(Tourn=\"Dbls\",9,IF(Tourn=\"2-Day\",8,IF(Tourn=\"MSC\",10,7)))),\"\")","v":""},null,{"$f":"IF(AP99=0,\"\",'Check-In'!$B104)","v":""},{"$f":"IF(Tourn=\"2-Day\",'Check-In'!U104,IF(Tourn=\"Dbls\", 'Check-In'!S104,'Check-In'!P104))","v":0},{"$f":"IF(AP99=\"x\",INDEX(Qual!$C$8:$U$133,MATCH(AO99,Qual!$C$8:$C$133,0),IF(Tourn=\"Dbls\",15,IF(Tourn=\"2-Day\",10,IF(Tourn=\"MSC\",12,8)))),\"\")","v":""},{"$f":"IF(AP99=\"x\",INDEX(Qual!$C$8:$U$133,MATCH(AO99,Qual!$C$8:$C$133,0),IF(Tourn=\"Dbls\",16,IF(Tourn=\"2-Day\",11,IF(Tourn=\"MSC\",14,9)))),\"\")","v":""},{"$f":"IF(AP99=\"x\",INDEX(Qual!$C$8:$U$133,MATCH(AO99,Qual!$C$8:$C$133,0),IF(Tourn=\"Dbls\",17,IF(Tourn=\"2-Day\",12,IF(Tourn=\"MSC\",16,10)))),\"\")","v":""}]
[{"$nulls":34},{"$f":"IF(AJ100=0,\"\",'Check-In'!$B105)","v":""},{"$f":"IF(Tourn=\"2-Day\",'Check-In'!T105,IF(Tourn=\"Dbls\", 'Check-In'!R105,'Check-In'!P105))","v":0},{"$f":"IF(AJ100=\"x\",INDEX(Qual!$C$8:$U$133,MATCH(AI100,Qual!$C$8:$C$133,0),IF(Tourn=\"Dbls\",7,IF(Tourn=\"2-Day\",6,IF(Tourn=\"MSC\",6,5)))),\"\")","v":""},{"$f":"IF(AJ100=\"x\",INDEX(Qual!$C$8:$U$133,MATCH(AI100,Qual!$C$8:$C$133,0),IF(Tourn=\"Dbls\",8,IF(Tourn=\"2-Day\",7,IF(Tourn=\"MSC\",8,6)))),\"\")","v":""},{"$f":"IF(AJ100=\"x\",INDEX(Qual!$C$8:$U$133,MATCH(AI100,Qual!$C$8:$C$133,0),IF(Tourn=\"Dbls\",9,IF(Tourn=\"2-Day\",8,IF(Tourn=\"MSC\",10,7)))),\"\")","v":""},null,{"$f":"IF(AP100=0,\"\",'Check-In'!$B105)","v":""},{"$f":"IF(Tourn=\"2-Day\",'Check-In'!U105,IF(Tourn=\"Dbls\", 'Check-In'!S105,'Check-In'!P105))","v":0},{"$f":"IF(AP100=\"x\",INDEX(Qual!$C$8:$U$133,MATCH(AO100,Qual!$C$8:$C$133,0),IF(Tourn=\"Dbls\",15,IF(Tourn=\"2-Day\",10,IF(Tourn=\"MSC\",12,8)))),\"\")","v":""},{"$f":"IF(AP100=\"x\",INDEX(Qual!$C$8:$U$133,MATCH(AO100,Qual!$C$8:$C$133,0),IF(Tourn=\"Dbls\",16,IF(Tourn=\"2-Day\",11,IF(Tourn=\"MSC\",14,9)))),\"\")","v":""},{"$f":"IF(AP100=\"x\",INDEX(Qual!$C$8:$U$133,MATCH(AO100,Qual!$C$8:$C$133,0),IF(Tourn=\"Dbls\",17,IF(Tourn=\"2-Day\",12,IF(Tourn=\"MSC\",16,10)))),\"\")","v":""}]
[{"$nulls":34},{"$f":"IF(AJ101=0,\"\",'Check-In'!$B106)","v":""},{"$f":"IF(Tourn=\"2-Day\",'Check-In'!T106,IF(Tourn=\"Dbls\", 'Check-In'!R106,'Check-In'!P106))","v":0},{"$f":"IF(AJ101=\"x\",INDEX(Qual!$C$8:$U$133,MATCH(AI101,Qual!$C$8:$C$133,0),IF(Tourn=\"Dbls\",7,IF(Tourn=\"2-Day\",6,IF(Tourn=\"MSC\",6,5)))),\"\")","v":""},{"$f":"IF(AJ101=\"x\",INDEX(Qual!$C$8:$U$133,MATCH(AI101,Qual!$C$8:$C$133,0),IF(Tourn=\"Dbls\",8,IF(Tourn=\"2-Day\",7,IF(Tourn=\"MSC\",8,6)))),\"\")","v":""},{"$f":"IF(AJ101=\"x\",INDEX(Qual!$C$8:$U$133,MATCH(AI101,Qual!$C$8:$C$133,0),IF(Tourn=\"Dbls\",9,IF(Tourn=\"2-Day\",8,IF(Tourn=\"MSC\",10,7)))),\"\")","v":""},null,{"$f":"IF(AP101=0,\"\",'Check-In'!$B106)","v":""},{"$f":"IF(Tourn=\"2-Day\",'Check-In'!U106,IF(Tourn=\"Dbls\", 'Check-In'!S106,'Check-In'!P106))","v":0},{"$f":"IF(AP101=\"x\",INDEX(Qual!$C$8:$U$133,MATCH(AO101,Qual!$C$8:$C$133,0),IF(Tourn=\"Dbls\",15,IF(Tourn=\"2-Day\",10,IF(Tourn=\"MSC\",12,8)))),\"\")","v":""},{"$f":"IF(AP101=\"x\",INDEX(Qual!$C$8:$U$133,MATCH(AO101,Qual!$C$8:$C$133,0),IF(Tourn=\"Dbls\",16,IF(Tourn=\"2-Day\",11,IF(Tourn=\"MSC\",14,9)))),\"\")","v":""},{"$f":"IF(AP101=\"x\",INDEX(Qual!$C$8:$U$133,MATCH(AO101,Qual!$C$8:$C$133,0),IF(Tourn=\"Dbls\",17,IF(Tourn=\"2-Day\",12,IF(Tourn=\"MSC\",16,10)))),\"\")","v":""}]
[{"$nulls":34},{"$f":"IF(AJ102=0,\"\",'Check-In'!$B107)","v":""},{"$f":"IF(Tourn=\"2-Day\",'Check-In'!T107,IF(Tourn=\"Dbls\", 'Check-In'!R107,'Check-In'!P107))","v":0},{"$f":"IF(AJ102=\"x\",INDEX(Qual!$C$8:$U$133,MATCH(AI102,Qual!$C$8:$C$133,0),IF(Tourn=\"Dbls\",7,IF(Tourn=\"2-Day\",6,IF(Tourn=\"MSC\",6,5)))),\"\")","v":""},{"$f":"IF(AJ102=\"x\",INDEX(Qual!$C$8:$U$133,MATCH(AI102,Qual!$C$8:$C$133,0),IF(Tourn=\"Dbls\",8,IF(Tourn=\"2-Day\",7,IF(Tourn=\"MSC\",8,6)))),\"\")","v":""},{"$f":"IF(AJ102=\"x\",INDEX(Qual!$C$8:$U$133,MATCH(AI102,Qual!$C$8:$C$133,0),IF(Tourn=\"Dbls\",9,IF(Tourn=\"2-Day\",8,IF(Tourn=\"MSC\",10,7)))),\"\")","v":""},null,{"$f":"IF(AP102=0,\"\",'Check-In'!$B107)","v":""},{"$f":"IF(Tourn=\"2-Day\",'Check-In'!U107,IF(Tourn=\"Dbls\", 'Check-In'!S107,'Check-In'!P107))","v":0},{"$f":"IF(AP102=\"x\",INDEX(Qual!$C$8:$U$133,MATCH(AO102,Qual!$C$8:$C$133,0),IF(Tourn=\"Dbls\",15,IF(Tourn=\"2-Day\",10,IF(Tourn=\"MSC\",12,8)))),\"\")","v":""},{"$f":"IF(AP102=\"x\",INDEX(Qual!$C$8:$U$133,MATCH(AO102,Qual!$C$8:$C$133,0),IF(Tourn=\"Dbls\",16,IF(Tourn=\"2-Day\",11,IF(Tourn=\"MSC\",14,9)))),\"\")","v":""},{"$f":"IF(AP102=\"x\",INDEX(Qual!$C$8:$U$133,MATCH(AO102,Qual!$C$8:$C$133,0),IF(Tourn=\"Dbls\",17,IF(Tourn=\"2-Day\",12,IF(Tourn=\"MSC\",16,10)))),\"\")","v":""}]
[{"$nulls":34},{"$f":"IF(AJ103=0,\"\",'Check-In'!$B108)","v":""},{"$f":"IF(Tourn=\"2-Day\",'Check-In'!T108,IF(Tourn=\"Dbls\", 'Check-In'!R108,'Check-In'!P108))","v":0},{"$f":"IF(AJ103=\"x\",INDEX(Qual!$C$8:$U$133,MATCH(AI103,Qual!$C$8:$C$133,0),IF(Tourn=\"Dbls\",7,IF(Tourn=\"2-Day\",6,IF(Tourn=\"MSC\",6,5)))),\"\")","v":""},{"$f":"IF(AJ103=\"x\",INDEX(Qual!$C$8:$U$133,MATCH(AI103,Qual!$C$8:$C$133,0),IF(Tourn=\"Dbls\",8,IF(Tourn=\"2-Day\",7,IF(Tourn=\"MSC\",8,6)))),\"\")","v":""},{"$f":"IF(AJ103=\"x\",INDEX(Qual!$C$8:$U$133,MATCH(AI103,Qual!$C$8:$C$133,0),IF(Tourn=\"Dbls\",9,IF(Tourn=\"2-Day\",8,IF(Tourn=\"MSC\",10,7)))),\"\")","v":""},null,{"$f":"IF(AP103=0,\"\",'Check-In'!$B108)","v":""},{"$f":"IF(Tourn=\"2-Day\",'Check-In'!U108,IF(Tourn=\"Dbls\", 'Check-In'!S108,'Check-In'!P108))","v":0},{"$f":"IF(AP103=\"x\",INDEX(Qual!$C$8:$U$133,MATCH(AO103,Qual!$C$8:$C$133,0),IF(Tourn=\"Dbls\",15,IF(Tourn=\"2-Day\",10,IF(Tourn=\"MSC\",12,8)))),\"\")","v":""},{"$f":"IF(AP103=\"x\",INDEX(Qual!$C$8:$U$133,MATCH(AO103,Qual!$C$8:$C$133,0),IF(Tourn=\"Dbls\",16,IF(Tourn=\"2-Day\",11,IF(Tourn=\"MSC\",14,9)))),\"\")","v":""},{"$f":"IF(AP103=\"x\",INDEX(Qual!$C$8:$U$133,MATCH(AO103,Qual!$C$8:$C$133,0),IF(Tourn=\"Dbls\",17,IF(Tourn=\"2-Day\",12,IF(Tourn=\"MSC\",16,10)))),\"\")","v":""}]
[{"$nulls":34},{"$f":"IF(AJ104=0,\"\",'Check-In'!$B109)","v":""},{"$f":"IF(Tourn=\"2-Day\",'Check-In'!T109,IF(Tourn=\"Dbls\", 'Check-In'!R109,'Check-In'!P109))","v":0},{"$f":"IF(AJ104=\"x\",INDEX(Qual!$C$8:$U$133,MATCH(AI104,Qual!$C$8:$C$133,0),IF(Tourn=\"Dbls\",7,IF(Tourn=\"2-Day\",6,IF(Tourn=\"MSC\",6,5)))),\"\")","v":""},{"$f":"IF(AJ104=\"x\",INDEX(Qual!$C$8:$U$133,MATCH(AI104,Qual!$C$8:$C$133,0),IF(Tourn=\"Dbls\",8,IF(Tourn=\"2-Day\",7,IF(Tourn=\"MSC\",8,6)))),\"\")","v":""},{"$f":"IF(AJ104=\"x\",INDEX(Qual!$C$8:$U$133,MATCH(AI104,Qual!$C$8:$C$133,0),IF(Tourn=\"Dbls\",9,IF(Tourn=\"2-Day\",8,IF(Tourn=\"MSC\",10,7)))),\"\")","v":""},null,{"$f":"IF(AP104=0,\"\",'Check-In'!$B109)","v":""},{"$f":"IF(Tourn=\"2-Day\",'Check-In'!U109,IF(Tourn=\"Dbls\", 'Check-In'!S109,'Check-In'!P109))","v":0},{"$f":"IF(AP104=\"x\",INDEX(Qual!$C$8:$U$133,MATCH(AO104,Qual!$C$8:$C$133,0),IF(Tourn=\"Dbls\",15,IF(Tourn=\"2-Day\",10,IF(Tourn=\"MSC\",12,8)))),\"\")","v":""},{"$f":"IF(AP104=\"x\",INDEX(Qual!$C$8:$U$133,MATCH(AO104,Qual!$C$8:$C$133,0),IF(Tourn=\"Dbls\",16,IF(Tourn=\"2-Day\",11,IF(Tourn=\"MSC\",14,9)))),\"\")","v":""},{"$f":"IF(AP104=\"x\",INDEX(Qual!$C$8:$U$133,MATCH(AO104,Qual!$C$8:$C$133,0),IF(Tourn=\"Dbls\",17,IF(Tourn=\"2-Day\",12,IF(Tourn=\"MSC\",16,10)))),\"\")","v":""}]
[{"$nulls":34},{"$f":"IF(AJ105=0,\"\",'Check-In'!$B110)","v":""},{"$f":"IF(Tourn=\"2-Day\",'Check-In'!T110,IF(Tourn=\"Dbls\", 'Check-In'!R110,'Check-In'!P110))","v":0},{"$f":"IF(AJ105=\"x\",INDEX(Qual!$C$8:$U$133,MATCH(AI105,Qual!$C$8:$C$133,0),IF(Tourn=\"Dbls\",7,IF(Tourn=\"2-Day\",6,IF(Tourn=\"MSC\",6,5)))),\"\")","v":""},{"$f":"IF(AJ105=\"x\",INDEX(Qual!$C$8:$U$133,MATCH(AI105,Qual!$C$8:$C$133,0),IF(Tourn=\"Dbls\",8,IF(Tourn=\"2-Day\",7,IF(Tourn=\"MSC\",8,6)))),\"\")","v":""},{"$f":"IF(AJ105=\"x\",INDEX(Qual!$C$8:$U$133,MATCH(AI105,Qual!$C$8:$C$133,0),IF(Tourn=\"Dbls\",9,IF(Tourn=\"2-Day\",8,IF(Tourn=\"MSC\",10,7)))),\"\")","v":""},null,{"$f":"IF(AP105=0,\"\",'Check-In'!$B110)","v":""},{"$f":"IF(Tourn=\"2-Day\",'Check-In'!U110,IF(Tourn=\"Dbls\", 'Check-In'!S110,'Check-In'!P110))","v":0},{"$f":"IF(AP105=\"x\",INDEX(Qual!$C$8:$U$133,MATCH(AO105,Qual!$C$8:$C$133,0),IF(Tourn=\"Dbls\",15,IF(Tourn=\"2-Day\",10,IF(Tourn=\"MSC\",12,8)))),\"\")","v":""},{"$f":"IF(AP105=\"x\",INDEX(Qual!$C$8:$U$133,MATCH(AO105,Qual!$C$8:$C$133,0),IF(Tourn=\"Dbls\",16,IF(Tourn=\"2-Day\",11,IF(Tourn=\"MSC\",14,9)))),\"\")","v":""},{"$f":"IF(AP105=\"x\",INDEX(Qual!$C$8:$U$133,MATCH(AO105,Qual!$C$8:$C$133,0),IF(Tourn=\"Dbls\",17,IF(Tourn=\"2-Day\",12,IF(Tourn=\"MSC\",16,10)))),\"\")","v":""}]
[{"$nulls":34},{"$f":"IF(AJ106=0,\"\",'Check-In'!$B111)","v":""},{"$f":"IF(Tourn=\"2-Day\",'Check-In'!T111,IF(Tourn=\"Dbls\", 'Check-In'!R111,'Check-In'!P111))","v":0},{"$f":"IF(AJ106=\"x\",INDEX(Qual!$C$8:$U$133,MATCH(AI106,Qual!$C$8:$C$133,0),IF(Tourn=\"Dbls\",7,IF(Tourn=\"2-Day\",6,IF(Tourn=\"MSC\",6,5)))),\"\")","v":""},{"$f":"IF(AJ106=\"x\",INDEX(Qual!$C$8:$U$133,MATCH(AI106,Qual!$C$8:$C$133,0),IF(Tourn=\"Dbls\",8,IF(Tourn=\"2-Day\",7,IF(Tourn=\"MSC\",8,6)))),\"\")","v":""},{"$f":"IF(AJ106=\"x\",INDEX(Qual!$C$8:$U$133,MATCH(AI106,Qual!$C$8:$C$133,0),IF(Tourn=\"Dbls\",9,IF(Tourn=\"2-Day\",8,IF(Tourn=\"MSC\",10,7)))),\"\")","v":""},null,{"$f":"IF(AP106=0,\"\",'Check-In'!$B111)","v":""},{"$f":"IF(Tourn=\"2-Day\",'Check-In'!U111,IF(Tourn=\"Dbls\", 'Check-In'!S111,'Check-In'!P111))","v":0},{"$f":"IF(AP106=\"x\",INDEX(Qual!$C$8:$U$133,MATCH(AO106,Qual!$C$8:$C$133,0),IF(Tourn=\"Dbls\",15,IF(Tourn=\"2-Day\",10,IF(Tourn=\"MSC\",12,8)))),\"\")","v":""},{"$f":"IF(AP106=\"x\",INDEX(Qual!$C$8:$U$133,MATCH(AO106,Qual!$C$8:$C$133,0),IF(Tourn=\"Dbls\",16,IF(Tourn=\"2-Day\",11,IF(Tourn=\"MSC\",14,9)))),\"\")","v":""},{"$f":"IF(AP106=\"x\",INDEX(Qual!$C$8:$U$133,MATCH(AO106,Qual!$C$8:$C$133,0),IF(Tourn=\"Dbls\",17,IF(Tourn=\"2-Day\",12,IF(Tourn=\"MSC\",16,10)))),\"\")","v":""}]
[{"$nulls":34},{"$f":"IF(AJ107=0,\"\",'Check-In'!$B112)","v":""},{"$f":"IF(Tourn=\"2-Day\",'Check-In'!T112,IF(Tourn=\"Dbls\", 'Check-In'!R112,'Check-In'!P112))","v":0},{"$f":"IF(AJ107=\"x\",INDEX(Qual!$C$8:$U$133,MATCH(AI107,Qual!$C$8:$C$133,0),IF(Tourn=\"Dbls\",7,IF(Tourn=\"2-Day\",6,IF(Tourn=\"MSC\",6,5)))),\"\")","v":""},{"$f":"IF(AJ107=\"x\",INDEX(Qual!$C$8:$U$133,MATCH(AI107,Qual!$C$8:$C$133,0),IF(Tourn=\"Dbls\",8,IF(Tourn=\"2-Day\",7,IF(Tourn=\"MSC\",8,6)))),\"\")","v":""},{"$f":"IF(AJ107=\"x\",INDEX(Qual!$C$8:$U$133,MATCH(AI107,Qual!$C$8:$C$133,0),IF(Tourn=\"Dbls\",9,IF(Tourn=\"2-Day\",8,IF(Tourn=\"MSC\",10,7)))),\"\")","v":""},null,{"$f":"IF(AP107=0,\"\",'Check-In'!$B112)","v":""},{"$f":"IF(Tourn=\"2-Day\",'Check-In'!U112,IF(Tourn=\"Dbls\", 'Check-In'!S112,'Check-In'!P112))","v":0},{"$f":"IF(AP107=\"x\",INDEX(Qual!$C$8:$U$133,MATCH(AO107,Qual!$C$8:$C$133,0),IF(Tourn=\"Dbls\",15,IF(Tourn=\"2-Day\",10,IF(Tourn=\"MSC\",12,8)))),\"\")","v":""},{"$f":"IF(AP107=\"x\",INDEX(Qual!$C$8:$U$133,MATCH(AO107,Qual!$C$8:$C$133,0),IF(Tourn=\"Dbls\",16,IF(Tourn=\"2-Day\",11,IF(Tourn=\"MSC\",14,9)))),\"\")","v":""},{"$f":"IF(AP107=\"x\",INDEX(Qual!$C$8:$U$133,MATCH(AO107,Qual!$C$8:$C$133,0),IF(Tourn=\"Dbls\",17,IF(Tourn=\"2-Day\",12,IF(Tourn=\"MSC\",16,10)))),\"\")","v":""}]
[{"$nulls":34},{"$f":"IF(AJ108=0,\"\",'Check-In'!$B113)","v":""},{"$f":"IF(Tourn=\"2-Day\",'Check-In'!T113,IF(Tourn=\"Dbls\", 'Check-In'!R113,'Check-In'!P113))","v":0},{"$f":"IF(AJ108=\"x\",INDEX(Qual!$C$8:$U$133,MATCH(AI108,Qual!$C$8:$C$133,0),IF(Tourn=\"Dbls\",7,IF(Tourn=\"2-Day\",6,IF(Tourn=\"MSC\",6,5)))),\"\")","v":""},{"$f":"IF(AJ108=\"x\",INDEX(Qual!$C$8:$U$133,MATCH(AI108,Qual!$C$8:$C$133,0),IF(Tourn=\"Dbls\",8,IF(Tourn=\"2-Day\",7,IF(Tourn=\"MSC\",8,6)))),\"\")","v":""},{"$f":"IF(AJ108=\"x\",INDEX(Qual!$C$8:$U$133,MATCH(AI108,Qual!$C$8:$C$133,0),IF(Tourn=\"Dbls\",9,IF(Tourn=\"2-Day\",8,IF(Tourn=\"MSC\",10,7)))),\"\")","v":""},null,{"$f":"IF(AP108=0,\"\",'Check-In'!$B113)","v":""},{"$f":"IF(Tourn=\"2-Day\",'Check-In'!U113,IF(Tourn=\"Dbls\", 'Check-In'!S113,'Check-In'!P113))","v":0},{"$f":"IF(AP108=\"x\",INDEX(Qual!$C$8:$U$133,MATCH(AO108,Qual!$C$8:$C$133,0),IF(Tourn=\"Dbls\",15,IF(Tourn=\"2-Day\",10,IF(Tourn=\"MSC\",12,8)))),\"\")","v":""},{"$f":"IF(AP108=\"x\",INDEX(Qual!$C$8:$U$133,MATCH(AO108,Qual!$C$8:$C$133,0),IF(Tourn=\"Dbls\",16,IF(Tourn=\"2-Day\",11,IF(Tourn=\"MSC\",14,9)))),\"\")","v":""},{"$f":"IF(AP108=\"x\",INDEX(Qual!$C$8:$U$133,MATCH(AO108,Qual!$C$8:$C$133,0),IF(Tourn=\"Dbls\",17,IF(Tourn=\"2-Day\",12,IF(Tourn=\"MSC\",16,10)))),\"\")","v":""}]
[{"$nulls":34},{"$f":"IF(AJ109=0,\"\",'Check-In'!$B114)","v":""},{"$f":"IF(Tourn=\"2-Day\",'Check-In'!T114,IF(Tourn=\"Dbls\", 'Check-In'!R114,'Check-In'!P114))","v":0},{"$f":"IF(AJ109=\"x\",INDEX(Qual!$C$8:$U$133,MATCH(AI109,Qual!$C$8:$C$133,0),IF(Tourn=\"Dbls\",7,IF(Tourn=\"2-Day\",6,IF(Tourn=\"MSC\",6,5)))),\"\")","v":""},{"$f":"IF(AJ109=\"x\",INDEX(Qual!$C$8:$U$133,MATCH(AI109,Qual!$C$8:$C$133,0),IF(Tourn=\"Dbls\",8,IF(Tourn=\"2-Day\",7,IF(Tourn=\"MSC\",8,6)))),\"\")","v":""},{"$f":"IF(AJ109=\"x\",INDEX(Qual!$C$8:$U$133,MATCH(AI109,Qual!$C$8:$C$133,0),IF(Tourn=\"Dbls\",9,IF(Tourn=\"2-Day\",8,IF(Tourn=\"MSC\",10,7)))),\"\")","v":""},null,{"$f":"IF(AP109=0,\"\",'Check-In'!$B114)","v":""},{"$f":"IF(Tourn=\"2-Day\",'Check-In'!U114,IF(Tourn=\"Dbls\", 'Check-In'!S114,'Check-In'!P114))","v":0},{"$f":"IF(AP109=\"x\",INDEX(Qual!$C$8:$U$133,MATCH(AO109,Qual!$C$8:$C$133,0),IF(Tourn=\"Dbls\",15,IF(Tourn=\"2-Day\",10,IF(Tourn=\"MSC\",12,8)))),\"\")","v":""},{"$f":"IF(AP109=\"x\",INDEX(Qual!$C$8:$U$133,MATCH(AO109,Qual!$C$8:$C$133,0),IF(Tourn=\"Dbls\",16,IF(Tourn=\"2-Day\",11,IF(Tourn=\"MSC\",14,9)))),\"\")","v":""},{"$f":"IF(AP109=\"x\",INDEX(Qual!$C$8:$U$133,MATCH(AO109,Qual!$C$8:$C$133,0),IF(Tourn=\"Dbls\",17,IF(Tourn=\"2-Day\",12,IF(Tourn=\"MSC\",16,10)))),\"\")","v":""}]
[{"$nulls":34},{"$f":"IF(AJ110=0,\"\",'Check-In'!$B115)","v":""},{"$f":"IF(Tourn=\"2-Day\",'Check-In'!T115,IF(Tourn=\"Dbls\", 'Check-In'!R115,'Check-In'!P115))","v":0},{"$f":"IF(AJ110=\"x\",INDEX(Qual!$C$8:$U$133,MATCH(AI110,Qual!$C$8:$C$133,0),IF(Tourn=\"Dbls\",7,IF(Tourn=\"2-Day\",6,IF(Tourn=\"MSC\",6,5)))),\"\")","v":""},{"$f":"IF(AJ110=\"x\",INDEX(Qual!$C$8:$U$133,MATCH(AI110,Qual!$C$8:$C$133,0),IF(Tourn=\"Dbls\",8,IF(Tourn=\"2-Day\",7,IF(Tourn=\"MSC\",8,6)))),\"\")","v":""},{"$f":"IF(AJ110=\"x\",INDEX(Qual!$C$8:$U$133,MATCH(AI110,Qual!$C$8:$C$133,0),IF(Tourn=\"Dbls\",9,IF(Tourn=\"2-Day\",8,IF(Tourn=\"MSC\",10,7)))),\"\")","v":""},null,{"$f":"IF(AP110=0,\"\",'Check-In'!$B115)","v":""},{"$f":"IF(Tourn=\"2-Day\",'Check-In'!U115,IF(Tourn=\"Dbls\", 'Check-In'!S115,'Check-In'!P115))","v":0},{"$f":"IF(AP110=\"x\",INDEX(Qual!$C$8:$U$133,MATCH(AO110,Qual!$C$8:$C$133,0),IF(Tourn=\"Dbls\",15,IF(Tourn=\"2-Day\",10,IF(Tourn=\"MSC\",12,8)))),\"\")","v":""},{"$f":"IF(AP110=\"x\",INDEX(Qual!$C$8:$U$133,MATCH(AO110,Qual!$C$8:$C$133,0),IF(Tourn=\"Dbls\",16,IF(Tourn=\"2-Day\",11,IF(Tourn=\"MSC\",14,9)))),\"\")","v":""},{"$f":"IF(AP110=\"x\",INDEX(Qual!$C$8:$U$133,MATCH(AO110,Qual!$C$8:$C$133,0),IF(Tourn=\"Dbls\",17,IF(Tourn=\"2-Day\",12,IF(Tourn=\"MSC\",16,10)))),\"\")","v":""}]
[{"$nulls":34},{"$f":"IF(AJ111=0,\"\",'Check-In'!$B116)","v":""},{"$f":"IF(Tourn=\"2-Day\",'Check-In'!T116,IF(Tourn=\"Dbls\", 'Check-In'!R116,'Check-In'!P116))","v":0},{"$f":"IF(AJ111=\"x\",INDEX(Qual!$C$8:$U$133,MATCH(AI111,Qual!$C$8:$C$133,0),IF(Tourn=\"Dbls\",7,IF(Tourn=\"2-Day\",6,IF(Tourn=\"MSC\",6,5)))),\"\")","v":""},{"$f":"IF(AJ111=\"x\",INDEX(Qual!$C$8:$U$133,MATCH(AI111,Qual!$C$8:$C$133,0),IF(Tourn=\"Dbls\",8,IF(Tourn=\"2-Day\",7,IF(Tourn=\"MSC\",8,6)))),\"\")","v":""},{"$f":"IF(AJ111=\"x\",INDEX(Qual!$C$8:$U$133,MATCH(AI111,Qual!$C$8:$C$133,0),IF(Tourn=\"Dbls\",9,IF(Tourn=\"2-Day\",8,IF(Tourn=\"MSC\",10,7)))),\"\")","v":""},null,{"$f":"IF(AP111=0,\"\",'Check-In'!$B116)","v":""},{"$f":"IF(Tourn=\"2-Day\",'Check-In'!U116,IF(Tourn=\"Dbls\", 'Check-In'!S116,'Check-In'!P116))","v":0},{"$f":"IF(AP111=\"x\",INDEX(Qual!$C$8:$U$133,MATCH(AO111,Qual!$C$8:$C$133,0),IF(Tourn=\"Dbls\",15,IF(Tourn=\"2-Day\",10,IF(Tourn=\"MSC\",12,8)))),\"\")","v":""},{"$f":"IF(AP111=\"x\",INDEX(Qual!$C$8:$U$133,MATCH(AO111,Qual!$C$8:$C$133,0),IF(Tourn=\"Dbls\",16,IF(Tourn=\"2-Day\",11,IF(Tourn=\"MSC\",14,9)))),\"\")","v":""},{"$f":"IF(AP111=\"x\",INDEX(Qual!$C$8:$U$133,MATCH(AO111,Qual!$C$8:$C$133,0),IF(Tourn=\"Dbls\",17,IF(Tourn=\"2-Day\",12,IF(Tourn=\"MSC\",16,10)))),\"\")","v":""}]
[{"$nulls":34},{"$f":"IF(AJ112=0,\"\",'Check-In'!$B117)","v":""},{"$f":"IF(Tourn=\"2-Day\",'Check-In'!T117,IF(Tourn=\"Dbls\", 'Check-In'!R117,'Check-In'!P117))","v":0},{"$f":"IF(AJ112=\"x\",INDEX(Qual!$C$8:$U$133,MATCH(AI112,Qual!$C$8:$C$133,0),IF(Tourn=\"Dbls\",7,IF(Tourn=\"2-Day\",6,IF(Tourn=\"MSC\",6,5)))),\"\")","v":""},{"$f":"IF(AJ112=\"x\",INDEX(Qual!$C$8:$U$133,MATCH(AI112,Qual!$C$8:$C$133,0),IF(Tourn=\"Dbls\",8,IF(Tourn=\"2-Day\",7,IF(Tourn=\"MSC\",8,6)))),\"\")","v":""},{"$f":"IF(AJ112=\"x\",INDEX(Qual!$C$8:$U$133,MATCH(AI112,Qual!$C$8:$C$133,0),IF(Tourn=\"Dbls\",9,IF(Tourn=\"2-Day\",8,IF(Tourn=\"MSC\",10,7)))),\"\")","v":""},null,{"$f":"IF(AP112=0,\"\",'Check-In'!$B117)","v":""},{"$f":"IF(Tourn=\"2-Day\",'Check-In'!U117,IF(Tourn=\"Dbls\", 'Check-In'!S117,'Check-In'!P117))","v":0},{"$f":"IF(AP112=\"x\",INDEX(Qual!$C$8:$U$133,MATCH(AO112,Qual!$C$8:$C$133,0),IF(Tourn=\"Dbls\",15,IF(Tourn=\"2-Day\",10,IF(Tourn=\"MSC\",12,8)))),\"\")","v":""},{"$f":"IF(AP112=\"x\",INDEX(Qual!$C$8:$U$133,MATCH(AO112,Qual!$C$8:$C$133,0),IF(Tourn=\"Dbls\",16,IF(Tourn=\"2-Day\",11,IF(Tourn=\"MSC\",14,9)))),\"\")","v":""},{"$f":"IF(AP112=\"x\",INDEX(Qual!$C$8:$U$133,MATCH(AO112,Qual!$C$8:$C$133,0),IF(Tourn=\"Dbls\",17,IF(Tourn=\"2-Day\",12,IF(Tourn=\"MSC\",16,10)))),\"\")","v":""}]
[{"$nulls":34},{"$f":"IF(AJ113=0,\"\",'Check-In'!$B118)","v":""},{"$f":"IF(Tourn=\"2-Day\",'Check-In'!T118,IF(Tourn=\"Dbls\", 'Check-In'!R118,'Check-In'!P118))","v":0},{"$f":"IF(AJ113=\"x\",INDEX(Qual!$C$8:$U$133,MATCH(AI113,Qual!$C$8:$C$133,0),IF(Tourn=\"Dbls\",7,IF(Tourn=\"2-Day\",6,IF(Tourn=\"MSC\",6,5)))),\"\")","v":""},{"$f":"IF(AJ113=\"x\",INDEX(Qual!$C$8:$U$133,MATCH(AI113,Qual!$C$8:$C$133,0),IF(Tourn=\"Dbls\",8,IF(Tourn=\"2-Day\",7,IF(Tourn=\"MSC\",8,6)))),\"\")","v":""},{"$f":"IF(AJ113=\"x\",INDEX(Qual!$C$8:$U$133,MATCH(AI113,Qual!$C$8:$C$133,0),IF(Tourn=\"Dbls\",9,IF(Tourn=\"2-Day\",8,IF(Tourn=\"MSC\",10,7)))),\"\")","v":""},null,{"$f":"IF(AP113=0,\"\",'Check-In'!$B118)","v":""},{"$f":"IF(Tourn=\"2-Day\",'Check-In'!U118,IF(Tourn=\"Dbls\", 'Check-In'!S118,'Check-In'!P118))","v":0},{"$f":"IF(AP113=\"x\",INDEX(Qual!$C$8:$U$133,MATCH(AO113,Qual!$C$8:$C$133,0),IF(Tourn=\"Dbls\",15,IF(Tourn=\"2-Day\",10,IF(Tourn=\"MSC\",12,8)))),\"\")","v":""},{"$f":"IF(AP113=\"x\",INDEX(Qual!$C$8:$U$133,MATCH(AO113,Qual!$C$8:$C$133,0),IF(Tourn=\"Dbls\",16,IF(Tourn=\"2-Day\",11,IF(Tourn=\"MSC\",14,9)))),\"\")","v":""},{"$f":"IF(AP113=\"x\",INDEX(Qual!$C$8:$U$133,MATCH(AO113,Qual!$C$8:$C$133,0),IF(Tourn=\"Dbls\",17,IF(Tourn=\"2-Day\",12,IF(Tourn=\"MSC\",16,10)))),\"\")","v":""}]
[{"$nulls":34},{"$f":"IF(AJ114=0,\"\",'Check-In'!$B119)","v":""},{"$f":"IF(Tourn=\"2-Day\",'Check-In'!T119,IF(Tourn=\"Dbls\", 'Check-In'!R119,'Check-In'!P119))","v":0},{"$f":"IF(AJ114=\"x\",INDEX(Qual!$C$8:$U$133,MATCH(AI114,Qual!$C$8:$C$133,0),IF(Tourn=\"Dbls\",7,IF(Tourn=\"2-Day\",6,IF(Tourn=\"MSC\",6,5)))),\"\")","v":""},{"$f":"IF(AJ114=\"x\",INDEX(Qual!$C$8:$U$133,MATCH(AI114,Qual!$C$8:$C$133,0),IF(Tourn=\"Dbls\",8,IF(Tourn=\"2-Day\",7,IF(Tourn=\"MSC\",8,6)))),\"\")","v":""},{"$f":"IF(AJ114=\"x\",INDEX(Qual!$C$8:$U$133,MATCH(AI114,Qual!$C$8:$C$133,0),IF(Tourn=\"Dbls\",9,IF(Tourn=\"2-Day\",8,IF(Tourn=\"MSC\",10,7)))),\"\")","v":""},null,{"$f":"IF(AP114=0,\"\",'Check-In'!$B119)","v":""},{"$f":"IF(Tourn=\"2-Day\",'Check-In'!U119,IF(Tourn=\"Dbls\", 'Check-In'!S119,'Check-In'!P119))","v":0},{"$f":"IF(AP114=\"x\",INDEX(Qual!$C$8:$U$133,MATCH(AO114,Qual!$C$8:$C$133,0),IF(Tourn=\"Dbls\",15,IF(Tourn=\"2-Day\",10,IF(Tourn=\"MSC\",12,8)))),\"\")","v":""},{"$f":"IF(AP114=\"x\",INDEX(Qual!$C$8:$U$133,MATCH(AO114,Qual!$C$8:$C$133,0),IF(Tourn=\"Dbls\",16,IF(Tourn=\"2-Day\",11,IF(Tourn=\"MSC\",14,9)))),\"\")","v":""},{"$f":"IF(AP114=\"x\",INDEX(Qual!$C$8:$U$133,MATCH(AO114,Qual!$C$8:$C$133,0),IF(Tourn=\"Dbls\",17,IF(Tourn=\"2-Day\",12,IF(Tourn=\"MSC\",16,10)))),\"\")","v":""}]
[{"$nulls":34},{"$f":"IF(AJ115=0,\"\",'Check-In'!$B120)","v":""},{"$f":"IF(Tourn=\"2-Day\",'Check-In'!T120,IF(Tourn=\"Dbls\", 'Check-In'!R120,'Check-In'!P120))","v":0},{"$f":"IF(AJ115=\"x\",INDEX(Qual!$C$8:$U$133,MATCH(AI115,Qual!$C$8:$C$133,0),IF(Tourn=\"Dbls\",7,IF(Tourn=\"2-Day\",6,IF(Tourn=\"MSC\",6,5)))),\"\")","v":""},{"$f":"IF(AJ115=\"x\",INDEX(Qual!$C$8:$U$133,MATCH(AI115,Qual!$C$8:$C$133,0),IF(Tourn=\"Dbls\",8,IF(Tourn=\"2-Day\",7,IF(Tourn=\"MSC\",8,6)))),\"\")","v":""},{"$f":"IF(AJ115=\"x\",INDEX(Qual!$C$8:$U$133,MATCH(AI115,Qual!$C$8:$C$133,0),IF(Tourn=\"Dbls\",9,IF(Tourn=\"2-Day\",8,IF(Tourn=\"MSC\",10,7)))),\"\")","v":""},null,{"$f":"IF(AP115=0,\"\",'Check-In'!$B120)","v":""},{"$f":"IF(Tourn=\"2-Day\",'Check-In'!U120,IF(Tourn=\"Dbls\", 'Check-In'!S120,'Check-In'!P120))","v":0},{"$f":"IF(AP115=\"x\",INDEX(Qual!$C$8:$U$133,MATCH(AO115,Qual!$C$8:$C$133,0),IF(Tourn=\"Dbls\",15,IF(Tourn=\"2-Day\",10,IF(Tourn=\"MSC\",12,8)))),\"\")","v":""},{"$f":"IF(AP115=\"x\",INDEX(Qual!$C$8:$U$133,MATCH(AO115,Qual!$C$8:$C$133,0),IF(Tourn=\"Dbls\",16,IF(Tourn=\"2-Day\",11,IF(Tourn=\"MSC\",14,9)))),\"\")","v":""},{"$f":"IF(AP115=\"x\",INDEX(Qual!$C$8:$U$133,MATCH(AO115,Qual!$C$8:$C$133,0),IF(Tourn=\"Dbls\",17,IF(Tourn=\"2-Day\",12,IF(Tourn=\"MSC\",16,10)))),\"\")","v":""}]
[{"$nulls":34},{"$f":"IF(AJ116=0,\"\",'Check-In'!$B121)","v":""},{"$f":"IF(Tourn=\"2-Day\",'Check-In'!T121,IF(Tourn=\"Dbls\", 'Check-In'!R121,'Check-In'!P121))","v":0},{"$f":"IF(AJ116=\"x\",INDEX(Qual!$C$8:$U$133,MATCH(AI116,Qual!$C$8:$C$133,0),IF(Tourn=\"Dbls\",7,IF(Tourn=\"2-Day\",6,IF(Tourn=\"MSC\",6,5)))),\"\")","v":""},{"$f":"IF(AJ116=\"x\",INDEX(Qual!$C$8:$U$133,MATCH(AI116,Qual!$C$8:$C$133,0),IF(Tourn=\"Dbls\",8,IF(Tourn=\"2-Day\",7,IF(Tourn=\"MSC\",8,6)))),\"\")","v":""},{"$f":"IF(AJ116=\"x\",INDEX(Qual!$C$8:$U$133,MATCH(AI116,Qual!$C$8:$C$133,0),IF(Tourn=\"Dbls\",9,IF(Tourn=\"2-Day\",8,IF(Tourn=\"MSC\",10,7)))),\"\")","v":""},null,{"$f":"IF(AP116=0,\"\",'Check-In'!$B121)","v":""},{"$f":"IF(Tourn=\"2-Day\",'Check-In'!U121,IF(Tourn=\"Dbls\", 'Check-In'!S121,'Check-In'!P121))","v":0},{"$f":"IF(AP116=\"x\",INDEX(Qual!$C$8:$U$133,MATCH(AO116,Qual!$C$8:$C$133,0),IF(Tourn=\"Dbls\",15,IF(Tourn=\"2-Day\",10,IF(Tourn=\"MSC\",12,8)))),\"\")","v":""},{"$f":"IF(AP116=\"x\",INDEX(Qual!$C$8:$U$133,MATCH(AO116,Qual!$C$8:$C$133,0),IF(Tourn=\"Dbls\",16,IF(Tourn=\"2-Day\",11,IF(Tourn=\"MSC\",14,9)))),\"\")","v":""},{"$f":"IF(AP116=\"x\",INDEX(Qual!$C$8:$U$133,MATCH(AO116,Qual!$C$8:$C$133,0),IF(Tourn=\"Dbls\",17,IF(Tourn=\"2-Day\",12,IF(Tourn=\"MSC\",16,10)))),\"\")","v":""}]
[{"$nulls":34},{"$f":"IF(AJ117=0,\"\",'Check-In'!$B122)","v":""},{"$f":"IF(Tourn=\"2-Day\",'Check-In'!T122,IF(Tourn=\"Dbls\", 'Check-In'!R122,'Check-In'!P122))","v":0},{"$f":"IF(AJ117=\"x\",INDEX(Qual!$C$8:$U$133,MATCH(AI117,Qual!$C$8:$C$133,0),IF(Tourn=\"Dbls\",7,IF(Tourn=\"2-Day\",6,IF(Tourn=\"MSC\",6,5)))),\"\")","v":""},{"$f":"IF(AJ117=\"x\",INDEX(Qual!$C$8:$U$133,MATCH(AI117,Qual!$C$8:$C$133,0),IF(Tourn=\"Dbls\",8,IF(Tourn=\"2-Day\",7,IF(Tourn=\"MSC\",8,6)))),\"\")","v":""},{"$f":"IF(AJ117=\"x\",INDEX(Qual!$C$8:$U$133,MATCH(AI117,Qual!$C$8:$C$133,0),IF(Tourn=\"Dbls\",9,IF(Tourn=\"2-Day\",8,IF(Tourn=\"MSC\",10,7)))),\"\")","v":""},null,{"$f":"IF(AP117=0,\"\",'Check-In'!$B122)","v":""},{"$f":"IF(Tourn=\"2-Day\",'Check-In'!U122,IF(Tourn=\"Dbls\", 'Check-In'!S122,'Check-In'!P122))","v":0},{"$f":"IF(AP117=\"x\",INDEX(Qual!$C$8:$U$133,MATCH(AO117,Qual!$C$8:$C$133,0),IF(Tourn=\"Dbls\",15,IF(Tourn=\"2-Day\",10,IF(Tourn=\"MSC\",12,8)))),\"\")","v":""},{"$f":"IF(AP117=\"x\",INDEX(Qual!$C$8:$U$133,MATCH(AO117,Qual!$C$8:$C$133,0),IF(Tourn=\"Dbls\",16,IF(Tourn=\"2-Day\",11,IF(Tourn=\"MSC\",14,9)))),\"\")","v":""},{"$f":"IF(AP117=\"x\",INDEX(Qual!$C$8:$U$133,MATCH(AO117,Qual!$C$8:$C$133,0),IF(Tourn=\"Dbls\",17,IF(Tourn=\"2-Day\",12,IF(Tourn=\"MSC\",16,10)))),\"\")","v":""}]
[{"$nulls":34},{"$f":"IF(AJ118=0,\"\",'Check-In'!$B123)","v":""},{"$f":"IF(Tourn=\"2-Day\",'Check-In'!T123,IF(Tourn=\"Dbls\", 'Check-In'!R123,'Check-In'!P123))","v":0},{"$f":"IF(AJ118=\"x\",INDEX(Qual!$C$8:$U$133,MATCH(AI118,Qual!$C$8:$C$133,0),IF(Tourn=\"Dbls\",7,IF(Tourn=\"2-Day\",6,IF(Tourn=\"MSC\",6,5)))),\"\")","v":""},{"$f":"IF(AJ118=\"x\",INDEX(Qual!$C$8:$U$133,MATCH(AI118,Qual!$C$8:$C$133,0),IF(Tourn=\"Dbls\",8,IF(Tourn=\"2-Day\",7,IF(Tourn=\"MSC\",8,6)))),\"\")","v":""},{"$f":"IF(AJ118=\"x\",INDEX(Qual!$C$8:$U$133,MATCH(AI118,Qual!$C$8:$C$133,0),IF(Tourn=\"Dbls\",9,IF(Tourn=\"2-Day\",8,IF(Tourn=\"MSC\",10,7)))),\"\")","v":""},null,{"$f":"IF(AP118=0,\"\",'Check-In'!$B123)","v":""},{"$f":"IF(Tourn=\"2-Day\",'Check-In'!U123,IF(Tourn=\"Dbls\", 'Check-In'!S123,'Check-In'!P123))","v":0},{"$f":"IF(AP118=\"x\",INDEX(Qual!$C$8:$U$133,MATCH(AO118,Qual!$C$8:$C$133,0),IF(Tourn=\"Dbls\",15,IF(Tourn=\"2-Day\",10,IF(Tourn=\"MSC\",12,8)))),\"\")","v":""},{"$f":"IF(AP118=\"x\",INDEX(Qual!$C$8:$U$133,MATCH(AO118,Qual!$C$8:$C$133,0),IF(Tourn=\"Dbls\",16,IF(Tourn=\"2-Day\",11,IF(Tourn=\"MSC\",14,9)))),\"\")","v":""},{"$f":"IF(AP118=\"x\",INDEX(Qual!$C$8:$U$133,MATCH(AO118,Qual!$C$8:$C$133,0),IF(Tourn=\"Dbls\",17,IF(Tourn=\"2-Day\",12,IF(Tourn=\"MSC\",16,10)))),\"\")","v":""}]
[{"$nulls":34},{"$f":"IF(AJ119=0,\"\",'Check-In'!$B124)","v":""},{"$f":"IF(Tourn=\"2-Day\",'Check-In'!T124,IF(Tourn=\"Dbls\", 'Check-In'!R124,'Check-In'!P124))","v":0},{"$f":"IF(AJ119=\"x\",INDEX(Qual!$C$8:$U$133,MATCH(AI119,Qual!$C$8:$C$133,0),IF(Tourn=\"Dbls\",7,IF(Tourn=\"2-Day\",6,IF(Tourn=\"MSC\",6,5)))),\"\")","v":""},{"$f":"IF(AJ119=\"x\",INDEX(Qual!$C$8:$U$133,MATCH(AI119,Qual!$C$8:$C$133,0),IF(Tourn=\"Dbls\",8,IF(Tourn=\"2-Day\",7,IF(Tourn=\"MSC\",8,6)))),\"\")","v":""},{"$f":"IF(AJ119=\"x\",INDEX(Qual!$C$8:$U$133,MATCH(AI119,Qual!$C$8:$C$133,0),IF(Tourn=\"Dbls\",9,IF(Tourn=\"2-Day\",8,IF(Tourn=\"MSC\",10,7)))),\"\")","v":""},null,{"$f":"IF(AP119=0,\"\",'Check-In'!$B124)","v":""},{"$f":"IF(Tourn=\"2-Day\",'Check-In'!U124,IF(Tourn=\"Dbls\", 'Check-In'!S124,'Check-In'!P124))","v":0},{"$f":"IF(AP119=\"x\",INDEX(Qual!$C$8:$U$133,MATCH(AO119,Qual!$C$8:$C$133,0),IF(Tourn=\"Dbls\",15,IF(Tourn=\"2-Day\",10,IF(Tourn=\"MSC\",12,8)))),\"\")","v":""},{"$f":"IF(AP119=\"x\",INDEX(Qual!$C$8:$U$133,MATCH(AO119,Qual!$C$8:$C$133,0),IF(Tourn=\"Dbls\",16,IF(Tourn=\"2-Day\",11,IF(Tourn=\"MSC\",14,9)))),\"\")","v":""},{"$f":"IF(AP119=\"x\",INDEX(Qual!$C$8:$U$133,MATCH(AO119,Qual!$C$8:$C$133,0),IF(Tourn=\"Dbls\",17,IF(Tourn=\"2-Day\",12,IF(Tourn=\"MSC\",16,10)))),\"\")","v":""}]
[{"$nulls":34},{"$f":"IF(AJ120=0,\"\",'Check-In'!$B125)","v":""},{"$f":"IF(Tourn=\"2-Day\",'Check-In'!T125,IF(Tourn=\"Dbls\", 'Check-In'!R125,'Check-In'!P125))","v":0},{"$f":"IF(AJ120=\"x\",INDEX(Qual!$C$8:$U$133,MATCH(AI120,Qual!$C$8:$C$133,0),IF(Tourn=\"Dbls\",7,IF(Tourn=\"2-Day\",6,IF(Tourn=\"MSC\",6,5)))),\"\")","v":""},{"$f":"IF(AJ120=\"x\",INDEX(Qual!$C$8:$U$133,MATCH(AI120,Qual!$C$8:$C$133,0),IF(Tourn=\"Dbls\",8,IF(Tourn=\"2-Day\",7,IF(Tourn=\"MSC\",8,6)))),\"\")","v":""},{"$f":"IF(AJ120=\"x\",INDEX(Qual!$C$8:$U$133,MATCH(AI120,Qual!$C$8:$C$133,0),IF(Tourn=\"Dbls\",9,IF(Tourn=\"2-Day\",8,IF(Tourn=\"MSC\",10,7)))),\"\")","v":""},null,{"$f":"IF(AP120=0,\"\",'Check-In'!$B125)","v":""},{"$f":"IF(Tourn=\"2-Day\",'Check-In'!U125,IF(Tourn=\"Dbls\", 'Check-In'!S125,'Check-In'!P125))","v":0},{"$f":"IF(AP120=\"x\",INDEX(Qual!$C$8:$U$133,MATCH(AO120,Qual!$C$8:$C$133,0),IF(Tourn=\"Dbls\",15,IF(Tourn=\"2-Day\",10,IF(Tourn=\"MSC\",12,8)))),\"\")","v":""},{"$f":"IF(AP120=\"x\",INDEX(Qual!$C$8:$U$133,MATCH(AO120,Qual!$C$8:$C$133,0),IF(Tourn=\"Dbls\",16,IF(Tourn=\"2-Day\",11,IF(Tourn=\"MSC\",14,9)))),\"\")","v":""},{"$f":"IF(AP120=\"x\",INDEX(Qual!$C$8:$U$133,MATCH(AO120,Qual!$C$8:$C$133,0),IF(Tourn=\"Dbls\",17,IF(Tourn=\"2-Day\",12,IF(Tourn=\"MSC\",16,10)))),\"\")","v":""}]
[{"$nulls":34},{"$f":"IF(AJ121=0,\"\",'Check-In'!$B126)","v":""},{"$f":"IF(Tourn=\"2-Day\",'Check-In'!T126,IF(Tourn=\"Dbls\", 'Check-In'!R126,'Check-In'!P126))","v":0},{"$f":"IF(AJ121=\"x\",INDEX(Qual!$C$8:$U$133,MATCH(AI121,Qual!$C$8:$C$133,0),IF(Tourn=\"Dbls\",7,IF(Tourn=\"2-Day\",6,IF(Tourn=\"MSC\",6,5)))),\"\")","v":""},{"$f":"IF(AJ121=\"x\",INDEX(Qual!$C$8:$U$133,MATCH(AI121,Qual!$C$8:$C$133,0),IF(Tourn=\"Dbls\",8,IF(Tourn=\"2-Day\",7,IF(Tourn=\"MSC\",8,6)))),\"\")","v":""},{"$f":"IF(AJ121=\"x\",INDEX(Qual!$C$8:$U$133,MATCH(AI121,Qual!$C$8:$C$133,0),IF(Tourn=\"Dbls\",9,IF(Tourn=\"2-Day\",8,IF(Tourn=\"MSC\",10,7)))),\"\")","v":""},null,{"$f":"IF(AP121=0,\"\",'Check-In'!$B126)","v":""},{"$f":"IF(Tourn=\"2-Day\",'Check-In'!U126,IF(Tourn=\"Dbls\", 'Check-In'!S126,'Check-In'!P126))","v":0},{"$f":"IF(AP121=\"x\",INDEX(Qual!$C$8:$U$133,MATCH(AO121,Qual!$C$8:$C$133,0),IF(Tourn=\"Dbls\",15,IF(Tourn=\"2-Day\",10,IF(Tourn=\"MSC\",12,8)))),\"\")","v":""},{"$f":"IF(AP121=\"x\",INDEX(Qual!$C$8:$U$133,MATCH(AO121,Qual!$C$8:$C$133,0),IF(Tourn=\"Dbls\",16,IF(Tourn=\"2-Day\",11,IF(Tourn=\"MSC\",14,9)))),\"\")","v":""},{"$f":"IF(AP121=\"x\",INDEX(Qual!$C$8:$U$133,MATCH(AO121,Qual!$C$8:$C$133,0),IF(Tourn=\"Dbls\",17,IF(Tourn=\"2-Day\",12,IF(Tourn=\"MSC\",16,10)))),\"\")","v":""}]
[{"$nulls":34},{"$f":"IF(AJ122=0,\"\",'Check-In'!$B127)","v":""},{"$f":"IF(Tourn=\"2-Day\",'Check-In'!T127,IF(Tourn=\"Dbls\", 'Check-In'!R127,'Check-In'!P127))","v":0},{"$f":"IF(AJ122=\"x\",INDEX(Qual!$C$8:$U$133,MATCH(AI122,Qual!$C$8:$C$133,0),IF(Tourn=\"Dbls\",7,IF(Tourn=\"2-Day\",6,IF(Tourn=\"MSC\",6,5)))),\"\")","v":""},{"$f":"IF(AJ122=\"x\",INDEX(Qual!$C$8:$U$133,MATCH(AI122,Qual!$C$8:$C$133,0),IF(Tourn=\"Dbls\",8,IF(Tourn=\"2-Day\",7,IF(Tourn=\"MSC\",8,6)))),\"\")","v":""},{"$f":"IF(AJ122=\"x\",INDEX(Qual!$C$8:$U$133,MATCH(AI122,Qual!$C$8:$C$133,0),IF(Tourn=\"Dbls\",9,IF(Tourn=\"2-Day\",8,IF(Tourn=\"MSC\",10,7)))),\"\")","v":""},null,{"$f":"IF(AP122=0,\"\",'Check-In'!$B127)","v":""},{"$f":"IF(Tourn=\"2-Day\",'Check-In'!U127,IF(Tourn=\"Dbls\", 'Check-In'!S127,'Check-In'!P127))","v":0},{"$f":"IF(AP122=\"x\",INDEX(Qual!$C$8:$U$133,MATCH(AO122,Qual!$C$8:$C$133,0),IF(Tourn=\"Dbls\",15,IF(Tourn=\"2-Day\",10,IF(Tourn=\"MSC\",12,8)))),\"\")","v":""},{"$f":"IF(AP122=\"x\",INDEX(Qual!$C$8:$U$133,MATCH(AO122,Qual!$C$8:$C$133,0),IF(Tourn=\"Dbls\",16,IF(Tourn=\"2-Day\",11,IF(Tourn=\"MSC\",14,9)))),\"\")","v":""},{"$f":"IF(AP122=\"x\",INDEX(Qual!$C$8:$U$133,MATCH(AO122,Qual!$C$8:$C$133,0),IF(Tourn=\"Dbls\",17,IF(Tourn=\"2-Day\",12,IF(Tourn=\"MSC\",16,10)))),\"\")","v":""}]
[{"$nulls":34},{"$f":"IF(AJ123=0,\"\",'Check-In'!$B128)","v":""},{"$f":"IF(Tourn=\"2-Day\",'Check-In'!T128,IF(Tourn=\"Dbls\", 'Check-In'!R128,'Check-In'!P128))","v":0},{"$f":"IF(AJ123=\"x\",INDEX(Qual!$C$8:$U$133,MATCH(AI123,Qual!$C$8:$C$133,0),IF(Tourn=\"Dbls\",7,IF(Tourn=\"2-Day\",6,IF(Tourn=\"MSC\",6,5)))),\"\")","v":""},{"$f":"IF(AJ123=\"x\",INDEX(Qual!$C$8:$U$133,MATCH(AI123,Qual!$C$8:$C$133,0),IF(Tourn=\"Dbls\",8,IF(Tourn=\"2-Day\",7,IF(Tourn=\"MSC\",8,6)))),\"\")","v":""},{"$f":"IF(AJ123=\"x\",INDEX(Qual!$C$8:$U$133,MATCH(AI123,Qual!$C$8:$C$133,0),IF(Tourn=\"Dbls\",9,IF(Tourn=\"2-Day\",8,IF(Tourn=\"MSC\",10,7)))),\"\")","v":""},null,{"$f":"IF(AP123=0,\"\",'Check-In'!$B128)","v":""},{"$f":"IF(Tourn=\"2-Day\",'Check-In'!U128,IF(Tourn=\"Dbls\", 'Check-In'!S128,'Check-In'!P128))","v":0},{"$f":"IF(AP123=\"x\",INDEX(Qual!$C$8:$U$133,MATCH(AO123,Qual!$C$8:$C$133,0),IF(Tourn=\"Dbls\",15,IF(Tourn=\"2-Day\",10,IF(Tourn=\"MSC\",12,8)))),\"\")","v":""},{"$f":"IF(AP123=\"x\",INDEX(Qual!$C$8:$U$133,MATCH(AO123,Qual!$C$8:$C$133,0),IF(Tourn=\"Dbls\",16,IF(Tourn=\"2-Day\",11,IF(Tourn=\"MSC\",14,9)))),\"\")","v":""},{"$f":"IF(AP123=\"x\",INDEX(Qual!$C$8:$U$133,MATCH(AO123,Qual!$C$8:$C$133,0),IF(Tourn=\"Dbls\",17,IF(Tourn=\"2-Day\",12,IF(Tourn=\"MSC\",16,10)))),\"\")","v":""}]
[{"$nulls":34},{"$f":"IF(AJ124=0,\"\",'Check-In'!$B129)","v":""},{"$f":"IF(Tourn=\"2-Day\",'Check-In'!T129,IF(Tourn=\"Dbls\", 'Check-In'!R129,'Check-In'!P129))","v":0},{"$f":"IF(AJ124=\"x\",INDEX(Qual!$C$8:$U$133,MATCH(AI124,Qual!$C$8:$C$133,0),IF(Tourn=\"Dbls\",7,IF(Tourn=\"2-Day\",6,IF(Tourn=\"MSC\",6,5)))),\"\")","v":""},{"$f":"IF(AJ124=\"x\",INDEX(Qual!$C$8:$U$133,MATCH(AI124,Qual!$C$8:$C$133,0),IF(Tourn=\"Dbls\",8,IF(Tourn=\"2-Day\",7,IF(Tourn=\"MSC\",8,6)))),\"\")","v":""},{"$f":"IF(AJ124=\"x\",INDEX(Qual!$C$8:$U$133,MATCH(AI124,Qual!$C$8:$C$133,0),IF(Tourn=\"Dbls\",9,IF(Tourn=\"2-Day\",8,IF(Tourn=\"MSC\",10,7)))),\"\")","v":""},null,{"$f":"IF(AP124=0,\"\",'Check-In'!$B129)","v":""},{"$f":"IF(Tourn=\"2-Day\",'Check-In'!U129,IF(Tourn=\"Dbls\", 'Check-In'!S129,'Check-In'!P129))","v":0},{"$f":"IF(AP124=\"x\",INDEX(Qual!$C$8:$U$133,MATCH(AO124,Qual!$C$8:$C$133,0),IF(Tourn=\"Dbls\",15,IF(Tourn=\"2-Day\",10,IF(Tourn=\"MSC\",12,8)))),\"\")","v":""},{"$f":"IF(AP124=\"x\",INDEX(Qual!$C$8:$U$133,MATCH(AO124,Qual!$C$8:$C$133,0),IF(Tourn=\"Dbls\",16,IF(Tourn=\"2-Day\",11,IF(Tourn=\"MSC\",14,9)))),\"\")","v":""},{"$f":"IF(AP124=\"x\",INDEX(Qual!$C$8:$U$133,MATCH(AO124,Qual!$C$8:$C$133,0),IF(Tourn=\"Dbls\",17,IF(Tourn=\"2-Day\",12,IF(Tourn=\"MSC\",16,10)))),\"\")","v":""}]
[{"$nulls":34},{"$f":"IF(AJ125=0,\"\",'Check-In'!$B130)","v":""},{"$f":"IF(Tourn=\"2-Day\",'Check-In'!T130,IF(Tourn=\"Dbls\", 'Check-In'!R130,'Check-In'!P130))","v":0},{"$f":"IF(AJ125=\"x\",INDEX(Qual!$C$8:$U$133,MATCH(AI125,Qual!$C$8:$C$133,0),IF(Tourn=\"Dbls\",7,IF(Tourn=\"2-Day\",6,IF(Tourn=\"MSC\",6,5)))),\"\")","v":""},{"$f":"IF(AJ125=\"x\",INDEX(Qual!$C$8:$U$133,MATCH(AI125,Qual!$C$8:$C$133,0),IF(Tourn=\"Dbls\",8,IF(Tourn=\"2-Day\",7,IF(Tourn=\"MSC\",8,6)))),\"\")","v":""},{"$f":"IF(AJ125=\"x\",INDEX(Qual!$C$8:$U$133,MATCH(AI125,Qual!$C$8:$C$133,0),IF(Tourn=\"Dbls\",9,IF(Tourn=\"2-Day\",8,IF(Tourn=\"MSC\",10,7)))),\"\")","v":""},null,{"$f":"IF(AP125=0,\"\",'Check-In'!$B130)","v":""},{"$f":"IF(Tourn=\"2-Day\",'Check-In'!U130,IF(Tourn=\"Dbls\", 'Check-In'!S130,'Check-In'!P130))","v":0},{"$f":"IF(AP125=\"x\",INDEX(Qual!$C$8:$U$133,MATCH(AO125,Qual!$C$8:$C$133,0),IF(Tourn=\"Dbls\",15,IF(Tourn=\"2-Day\",10,IF(Tourn=\"MSC\",12,8)))),\"\")","v":""},{"$f":"IF(AP125=\"x\",INDEX(Qual!$C$8:$U$133,MATCH(AO125,Qual!$C$8:$C$133,0),IF(Tourn=\"Dbls\",16,IF(Tourn=\"2-Day\",11,IF(Tourn=\"MSC\",14,9)))),\"\")","v":""},{"$f":"IF(AP125=\"x\",INDEX(Qual!$C$8:$U$133,MATCH(AO125,Qual!$C$8:$C$133,0),IF(Tourn=\"Dbls\",17,IF(Tourn=\"2-Day\",12,IF(Tourn=\"MSC\",16,10)))),\"\")","v":""}]
[{"$nulls":34},{"$f":"IF(AJ126=0,\"\",'Check-In'!$B131)","v":""},{"$f":"IF(Tourn=\"2-Day\",'Check-In'!T131,IF(Tourn=\"Dbls\", 'Check-In'!R131,'Check-In'!P131))","v":0},{"$f":"IF(AJ126=\"x\",INDEX(Qual!$C$8:$U$133,MATCH(AI126,Qual!$C$8:$C$133,0),IF(Tourn=\"Dbls\",7,IF(Tourn=\"2-Day\",6,IF(Tourn=\"MSC\",6,5)))),\"\")","v":""},{"$f":"IF(AJ126=\"x\",INDEX(Qual!$C$8:$U$133,MATCH(AI126,Qual!$C$8:$C$133,0),IF(Tourn=\"Dbls\",8,IF(Tourn=\"2-Day\",7,IF(Tourn=\"MSC\",8,6)))),\"\")","v":""},{"$f":"IF(AJ126=\"x\",INDEX(Qual!$C$8:$U$133,MATCH(AI126,Qual!$C$8:$C$133,0),IF(Tourn=\"Dbls\",9,IF(Tourn=\"2-Day\",8,IF(Tourn=\"MSC\",10,7)))),\"\")","v":""},null,{"$f":"IF(AP126=0,\"\",'Check-In'!$B131)","v":""},{"$f":"IF(Tourn=\"2-Day\",'Check-In'!U131,IF(Tourn=\"Dbls\", 'Check-In'!S131,'Check-In'!P131))","v":0},{"$f":"IF(AP126=\"x\",INDEX(Qual!$C$8:$U$133,MATCH(AO126,Qual!$C$8:$C$133,0),IF(Tourn=\"Dbls\",15,IF(Tourn=\"2-Day\",10,IF(Tourn=\"MSC\",12,8)))),\"\")","v":""},{"$f":"IF(AP126=\"x\",INDEX(Qual!$C$8:$U$133,MATCH(AO126,Qual!$C$8:$C$133,0),IF(Tourn=\"Dbls\",16,IF(Tourn=\"2-Day\",11,IF(Tourn=\"MSC\",14,9)))),\"\")","v":""},{"$f":"IF(AP126=\"x\",INDEX(Qual!$C$8:$U$133,MATCH(AO126,Qual!$C$8:$C$133,0),IF(Tourn=\"Dbls\",17,IF(Tourn=\"2-Day\",12,IF(Tourn=\"MSC\",16,10)))),\"\")","v":""}]
[{"$nulls":34},{"$f":"IF(AJ127=0,\"\",'Check-In'!$B132)","v":""},{"$f":"IF(Tourn=\"2-Day\",'Check-In'!T132,IF(Tourn=\"Dbls\", 'Check-In'!R132,'Check-In'!P132))","v":0},{"$f":"IF(AJ127=\"x\",INDEX(Qual!$C$8:$U$133,MATCH(AI127,Qual!$C$8:$C$133,0),IF(Tourn=\"Dbls\",7,IF(Tourn=\"2-Day\",6,IF(Tourn=\"MSC\",6,5)))),\"\")","v":""},{"$f":"IF(AJ127=\"x\",INDEX(Qual!$C$8:$U$133,MATCH(AI127,Qual!$C$8:$C$133,0),IF(Tourn=\"Dbls\",8,IF(Tourn=\"2-Day\",7,IF(Tourn=\"MSC\",8,6)))),\"\")","v":""},{"$f":"IF(AJ127=\"x\",INDEX(Qual!$C$8:$U$133,MATCH(AI127,Qual!$C$8:$C$133,0),IF(Tourn=\"Dbls\",9,IF(Tourn=\"2-Day\",8,IF(Tourn=\"MSC\",10,7)))),\"\")","v":""},null,{"$f":"IF(AP127=0,\"\",'Check-In'!$B132)","v":""},{"$f":"IF(Tourn=\"2-Day\",'Check-In'!U132,IF(Tourn=\"Dbls\", 'Check-In'!S132,'Check-In'!P132))","v":0},{"$f":"IF(AP127=\"x\",INDEX(Qual!$C$8:$U$133,MATCH(AO127,Qual!$C$8:$C$133,0),IF(Tourn=\"Dbls\",15,IF(Tourn=\"2-Day\",10,IF(Tourn=\"MSC\",12,8)))),\"\")","v":""},{"$f":"IF(AP127=\"x\",INDEX(Qual!$C$8:$U$133,MATCH(AO127,Qual!$C$8:$C$133,0),IF(Tourn=\"Dbls\",16,IF(Tourn=\"2-Day\",11,IF(Tourn=\"MSC\",14,9)))),\"\")","v":""},{"$f":"IF(AP127=\"x\",INDEX(Qual!$C$8:$U$133,MATCH(AO127,Qual!$C$8:$C$133,0),IF(Tourn=\"Dbls\",17,IF(Tourn=\"2-Day\",12,IF(Tourn=\"MSC\",16,10)))),\"\")","v":""}]

{"sheet":"B12","index":4,"n_rows":52,"n_cols":37,"rows_kept":52,"hidden":true,"merged":[[0,0,0,22],[1,0,1,22],[2,0,2,22],[6,1,6,3],[6,4,6,6],[6,7,6,9],[6,10,6,12],[6,13,6,15],[6,16,6,18],[6,19,6,21],[6,22,6,24],[9,4,10,6],[10,7,14,9],[13,13,23,15],[15,4,16,6],[21,4,22,6],[22,7,26,9],[27,4,28,6],[31,22,31,24],[32,22,32,24],[35,10,37,12],[37,13,39,15],[39,16,47,18],[45,10,47,12],[45,19,50,21],[47,13,49,15]]}
[{"$f":"'Check-In'!B1","v":"Midwest Senior Classic"}]
[{"$f":"'Check-In'!B2","v":"2022-04-24"}]
[{"$f":"'Check-In'!B3","v":"Cedarvale"}]
[]
[{"$nulls":10},"Lanes  ",1,"-",{"$f":"L5+11","v":12}]
[]
[null,"MATCH SET #1",null,null,"MATCH SET #2",null,null,"MATCH SET #3",null,null,"MATCH SET #4",null,null,"MATCH SET #5",null,null,"MATCH SET #6",null,null,"MATCH SET #7",null,null,"MATCH SET #8",{"$nulls":6},1,2,3,4,5,6,7,8]
[{"$nulls":5},"Ln.","Score",{"$nulls":20},1,{"$f":"SUM(AD8:AK8)","v":3},{"$f":"COUNTIF($C$11:$C$58,$AB8)","v":0},{"$f":"COUNTIF($F$9:$F$53,$AB8)","v":0},{"$f":"COUNTIF($I$9:$I$53,$AB8)","v":1},{"$f":"COUNTIF($L$9:$L$56,$AB8)","v":1},{"$f":"COUNTIF($O$9:$O$59,$AB8)","v":1},{"$f":"COUNTIF($R$9:$R$58,$AB8)","v":0},{"$f":"COUNTIF($U$9:$U$58,$AB8)","v":0},{"$f":"COUNTIF($X$9:$X$58,$AB8)","v":0}]
[{"$nulls":3},1,{"$f":"INDEX(Qual!$A$8:$C$39,MATCH(D9,Qual!$A$8:$A$39,0),2)","v":1},{"$f":"$L$5+8","v":9},null,null,"Ln.","Score",{"$nulls":17},3,4,1,1,1,0,0,0,1,0]
["Seed","M1","Ln.","Score","M5",null,null,{"$f":"IF(G9=\"\",\"\",IF(G9>G12,E9,E12))","v":""},{"$f":"L5+6","v":7},{"$nulls":18},5,4,1,1,1,0,1,0,0,0]
[8,{"$f":"INDEX(Qual!$A$8:$C$39,MATCH(A11,Qual!$A$8:$A$39,0),2)","v":27},{"$f":"L5+2","v":3},{"$nulls":4},"M9",{"$nulls":19},7,4,0,0,1,1,0,1,0,1]
[9,{"$f":"INDEX(Qual!$A$8:$C$39,MATCH(A12,Qual!$A$8:$A$39,0),2)","v":23},{"$f":"C11+1","v":4},null,{"$f":"IF(D11=\"\",\"\",IF(D11>D12,B11,B12))","v":""},{"$f":"F9+1","v":10},{"$nulls":8},"Ln.","Score",{"$nulls":11},9,4,1,1,1,0,1,0,0,0]
[{"$nulls":13},{"$f":"IF(J10=\"\",\"\",IF(J10>J16,H10,H16))","v":""},{"$f":"L5+8","v":9},{"$nulls":12},11,4,1,1,1,0,0,0,0,1]
[null,"M2",{"$nulls":3},"Ln.","Score",{"$nulls":6},"M19",{"$nulls":13},13,0,0,0,0,0,0,0,0,0]
[5,{"$f":"INDEX(Qual!$A$8:$C$39,MATCH(A15,Qual!$A$8:$A$39,0),2)","v":26},{"$f":"L5+4","v":5},null,{"$f":"IF(D15=\"\",\"\",IF(D15>D16,B15,B16))","v":""},{"$f":"$L$5+10","v":11},{"$nulls":21},15,0,0,0,0,0,0,0,0,0]
[12,{"$f":"INDEX(Qual!$A$8:$C$39,MATCH(A16,Qual!$A$8:$A$39,0),2)","v":46},{"$f":"C15+1","v":6},null,"M6",null,null,{"$f":"IF(G15=\"\",\"\",IF(G15>G18,E15,E18))","v":""},{"$f":"I10+1","v":8},{"$nulls":18},17,0,0,0,0,0,0,0,0,0]
[{"$nulls":27},19,0,0,0,0,0,0,0,0,0]
[{"$nulls":3},4,{"$f":"INDEX(Qual!$A$8:$C$39,MATCH(D18,Qual!$A$8:$A$39,0),2)","v":51},{"$f":"F15+1","v":12},{"$nulls":21},21,0,0,0,0,0,0,0,0,0]
[{"$nulls":23},"Ln.","Score",null,null,23,0,0,0,0,0,0,0,0,0]
[{"$nulls":5},"Ln.","Score",{"$nulls":15},{"$f":"IF(P13=\"\",\"\",IF(P13>P25,N13,N25))","v":""},{"$f":"L5+10","v":11},{"$nulls":3},25,0,0,0,0,0,0,0,0,0]
[{"$nulls":3},3,{"$f":"IF(D21=\"\",\"\",IF(D21>D22,B21,B22))","v":"M3"},{"$f":"$L$5+2","v":3},null,null,"Ln.","Score",{"$nulls":12},"M22",{"$f":"L5+6","v":7},{"$nulls":3},27,0,0,0,0,0,0,0,0,0]
["Seed","M3","Ln.","Score","M7",null,null,{"$f":"IF(G21=\"\",\"\",IF(G21>G24,E21,E24))","v":""},{"$f":"L5+0","v":1},{"$nulls":18},29,0,0,0,0,0,0,0,0,0]
[6,{"$f":"INDEX(Qual!$A$8:$C$39,MATCH(A23,Qual!$A$8:$A$39,0),2)","v":16},{"$f":"L5+8","v":9},{"$nulls":4},"M10",{"$nulls":19},31,0,0,0,0,0,0,0,0,0]
[11,{"$f":"INDEX(Qual!$A$8:$C$39,MATCH(A24,Qual!$A$8:$A$39,0),2)","v":2},{"$f":"C23+1","v":10},null,{"$f":"IF(D23=\"\",\"\",IF(D23>D24,B23,B24))","v":""},{"$f":"F21+1","v":4},{"$nulls":23},{"$f":"SUM(AD8:AD23)","v":4},{"$f":"SUM(AE8:AE23)","v":4},6,2,3,1,1,2]
[{"$nulls":13},{"$f":"IF(J22=\"\",\"\",IF(J22>J28,H22,H28))","v":""},{"$f":"O13+1","v":10}]
[null,"M4",{"$nulls":3},"Ln.","Score"]
[7,{"$f":"INDEX(Qual!$A$8:$C$39,MATCH(A27,Qual!$A$8:$A$39,0),2)","v":53},{"$f":"L5+10","v":11},null,{"$f":"IF(D27=\"\",\"\",IF(D27>D28,B27,B28))","v":""},{"$f":"$L$5+4","v":5}]
[10,{"$f":"INDEX(Qual!$A$8:$C$39,MATCH(A28,Qual!$A$8:$A$39,0),2)","v":12},{"$f":"C27+1","v":12},null,"M8",null,null,{"$f":"IF(G27=\"\",\"\",IF(G27>G30,E27,E30))","v":""},{"$f":"I22+1","v":2}]
[]
[{"$nulls":3},2,{"$f":"INDEX(Qual!$A$8:$C$39,MATCH(D30,Qual!$A$8:$A$39,0),2)","v":42},{"$f":"F27+1","v":6}]
[]
[{"$nulls":22},"TOURNAMENT CHAMPION"]
[{"$nulls":22},{"$f":"IF(Y20>Y48,W20,IF(Y21>Y49,W20,W48))","v":""}]
[{"$nulls":7},"L11","Ln.","Score",null,"Ln.","Score"]
[{"$nulls":6},"(Loser M3)",{"$f":"IF(D23=\"\",\"\",IF(D23<D24,B23,B24))","v":""},{"$f":"$L$5+2","v":3},null,{"$f":"IF(J35=\"\",\"\",IF(J35>J36,H35,H36))","v":""},{"$f":"L5+6","v":7}]
[{"$nulls":6},"(Loser M6)",{"$f":"IF(G15=\"\",\"\",IF(G15<G18,E15,E18))","v":""},{"$f":"I35+1","v":4},null,"L15",{"$nulls":3},"Ln.","Score"]
[{"$nulls":13},{"$f":"IF(M35=\"\",\"\",IF(M35>M39,K35,K39))","v":""},{"$f":"L5+0","v":1}]
[{"$nulls":7},"L12","Ln.","Score",{"$nulls":3},"L17",{"$nulls":3},"Ln.","Score"]
[{"$nulls":6},"(Loser M4)",{"$f":"IF(D27=\"\",\"\",IF(D27<D28,B27,B28))","v":""},{"$f":"$L$5+4","v":5},null,{"$f":"IF(J39=\"\",\"\",IF(J39>J40,H39,H40))","v":""},{"$f":"L35+1","v":8},{"$nulls":4},{"$f":"IF(P37=\"\",\"\",IF(P37>P41,N37,N41))","v":""},{"$f":"L5+6","v":7}]
[{"$nulls":6},"(Loser M5)",{"$f":"IF(G9=\"\",\"\",IF(G9<G12,E9,E12))","v":""},{"$f":"I39+1","v":6},{"$nulls":7},"L20"]
[{"$nulls":12},"(Loser M10)",{"$f":"IF(J22=\"\",\"\",IF(J22<J28,H22,H28))","v":""},{"$f":"O37+1","v":2}]
[{"$nulls":22},""]
[]
[{"$nulls":7},"L13","Ln.","Score",null,"Ln.","Score",{"$nulls":7},"Ln.","Score"]
[{"$nulls":6},"(Loser M1)",{"$f":"IF(D11=\"\",\"\",IF(D11<D12,B11,B12))","v":""},{"$f":"$L$5+10","v":11},null,{"$f":"IF(J45=\"\",\"\",IF(J45>J46,H45,H46))","v":""},{"$f":"L5+0","v":1},{"$nulls":7},{"$f":"IF(S39=\"\",\"\",IF(S39>S49,Q39,Q49))","v":""},{"$f":"L5+2","v":3}]
[{"$nulls":6},"(Loser M8)",{"$f":"IF(G27=\"\",\"\",IF(G27<G30,E27,E30))","v":""},{"$f":"I45+1","v":12},null,"L16",{"$nulls":3},"Ln.","Score",{"$nulls":3},"L41"]
[{"$nulls":13},{"$f":"IF(M45=\"\",\"\",IF(M45>M49,K45,K49))","v":""},{"$f":"L5+4","v":5},{"$nulls":8},"Ln.","Score"]
[{"$nulls":7},"L14","Ln.","Score",{"$nulls":3},"L18",{"$nulls":8},{"$f":"IF(V45=\"\",\"\",IF(V45>V52,T45,#REF!))","v":""},{"$f":"X20+1","v":12}]
[{"$nulls":6},"(Loser M2)",{"$f":"IF(D15=\"\",\"\",IF(D15<D16,B15,B16))","v":""},{"$f":"$L$5+8","v":9},null,{"$f":"IF(J49=\"\",\"\",IF(J49>J50,H49,H50))","v":""},{"$f":"L45+1","v":2},{"$nulls":4},{"$f":"IF(P47=\"\",\"\",IF(P47>P51,N47,N51))","v":""},{"$f":"R39+1","v":8},{"$nulls":5},{"$f":"X21+1","v":8}]
[{"$nulls":6},"(Loser M7)",{"$f":"IF(G21=\"\",\"\",IF(G21<G24,E21,E24))","v":""},{"$f":"I49+1","v":10}]
[{"$nulls":12},"(Loser M9)",{"$f":"IF(J10=\"\",\"\",IF(J10<J16,H10,H16))","v":""},{"$f":"O47+1","v":6}]
[{"$nulls":18},"(Loser M19)",{"$f":"IF(P13=\"\",\"\",IF(P13<P25,N13,N25))","v":""},{"$f":"U45+1","v":4}]

{"sheet":"B16","index":5,"n_rows":57,"n_cols":37,"rows_kept":57,"hidden":true,"merged":[[0,0,0,24],[1,0,1,24],[2,0,2,24],[6,1,6,3],[6,4,6,6],[6,7,6,9],[6,10,6,12],[6,13,6,15],[6,16,6,18],[6,19,6,21],[6,22,6,24],[9,4,10,6],[11,10,15,12],[15,4,16,6],[15,16,25,18],[21,4,22,6],[23,10,27,12],[27,4,28,6],[33,22,33,24],[34,22,34,24],[35,7,36,9],[36,10,40,12],[39,13,43,15],[41,7,42,9],[42,16,52,18],[47,7,48,9],[48,10,52,12],[48,19,55,21],[51,13,55,15],[53,7,54,9]]}
[{"$f":"'Check-In'!B1","v":"Midwest Senior Classic"}]
[{"$f":"'Check-In'!B2","v":"2022-04-24"}]
[{"$f":"'Check-In'!B3","v":"Cedarvale"}]
[]
[{"$nulls":10},"Lanes  ",1,"-",{"$f":"$L$5+15","v":16}]
[]
[null,"MATCH SET #1",null,null,"MATCH SET #2",null,null,"MATCH SET #3",null,null,"MATCH SET #4",null,null,"MATCH SET #5",null,null,"MATCH SET #6",null,null,"MATCH SET #7",null,null,"MATCH SET #8",{"$nulls":6},1,2,3,4,5,6,7,8]
["Seed","M1","Ln.","Score",null,"Ln.","Score",{"$nulls":20},1,{"$f":"SUM(AD8:AK8)","v":4},{"$f":"COUNTIF($C$9:$C$56,$AB8)","v":1},{"$f":"COUNTIF($F$9:$F$56,$AB8)","v":1},{"$f":"COUNTIF($I$10:$I$56,$AB8)","v":1},{"$f":"COUNTIF($L$10:$L$56,$AB8)","v":0},{"$f":"COUNTIF($O$9:$O$56,$AB8)","v":1},{"$f":"COUNTIF($R$9:$R$56,$AB8)","v":0},{"$f":"COUNTIF($U$9:$U$56,$AB8)","v":0},{"$f":"COUNTIF($X$9:$X$56,$AB8)","v":0}]
[1,{"$f":"INDEX(Qual!$A$8:$C$39,MATCH(A9,Qual!$A$8:$A$39,0),2)","v":1},{"$f":"$L$5+14","v":15},null,{"$f":"IF(D9=\"\",\"\",IF(D9>D10,B9,B10))","v":""},{"$f":"$L$5+8","v":9},{"$nulls":21},3,4,1,1,0,1,0,0,1,0]
[16,{"$f":"INDEX(Qual!$A$8:$C$39,MATCH(A10,Qual!$A$8:$A$39,0),2)","v":3},{"$f":"C9+1","v":16},null,"M13",{"$nulls":6},"Ln.","Score",{"$nulls":14},5,4,1,1,1,0,0,1,0,0]
[null,"M2",{"$nulls":8},{"$f":"IF(G9=\"\",\"\",IF(G9>G12,E9,E12))","v":""},{"$f":"$L$5+2","v":3},{"$nulls":15},7,4,1,1,0,1,0,0,0,1]
[8,{"$f":"INDEX(Qual!$A$8:$C$39,MATCH(A12,Qual!$A$8:$A$39,0),2)","v":27},{"$f":"$L$5+6","v":7},null,{"$f":"IF(D12=\"\",\"\",IF(D12>D13,B12,B13))","v":""},{"$f":"F9+1","v":10},{"$nulls":4},"M21",{"$nulls":16},9,4,1,1,1,0,1,0,0,0]
[9,{"$f":"INDEX(Qual!$A$8:$C$39,MATCH(A13,Qual!$A$8:$A$39,0),2)","v":23},{"$f":"C12+1","v":8},{"$nulls":24},11,4,1,1,0,1,0,0,0,1]
[null,"M3",{"$nulls":3},"Ln.","Score",{"$nulls":10},"Ln.","Score",{"$nulls":8},13,4,1,1,1,0,0,1,0,0]
[5,{"$f":"INDEX(Qual!$A$8:$C$39,MATCH(A15,Qual!$A$8:$A$39,0),2)","v":26},{"$f":"$L$5+10","v":11},null,{"$f":"IF(D15=\"\",\"\",IF(D15>D16,B15,B16))","v":""},{"$f":"$L$5+12","v":13},{"$nulls":10},{"$f":"IF(M11=\"\",\"\",IF(M11>M17,K11,K17))","v":""},{"$f":"$L$5+4","v":5},{"$nulls":9},15,3,1,1,0,1,0,0,0,0]
[12,{"$f":"INDEX(Qual!$A$8:$C$39,MATCH(A16,Qual!$A$8:$A$39,0),2)","v":46},{"$f":"C15+1","v":12},null,"M14",{"$nulls":11},"M27",{"$nulls":10},17,0,0,0,0,0,0,0,0,0]
[null,"M4",{"$nulls":8},{"$f":"IF(G15=\"\",\"\",IF(G15>G18,E15,E18))","v":""},{"$f":"L11+1","v":4},{"$nulls":15},19,0,0,0,0,0,0,0,0,0]
[4,{"$f":"INDEX(Qual!$A$8:$C$39,MATCH(A18,Qual!$A$8:$A$39,0),2)","v":51},{"$f":"$L$5+4","v":5},null,{"$f":"IF(D18=\"\",\"\",IF(D18>D19,B18,B19))","v":""},{"$f":"F15+1","v":14},{"$nulls":21},21,0,0,0,0,0,0,0,0,0]
[13,{"$f":"INDEX(Qual!$A$8:$C$39,MATCH(A19,Qual!$A$8:$A$39,0),2)","v":8},{"$f":"C18+1","v":6},{"$nulls":20},"Ln.","Score",null,null,23,0,0,0,0,0,0,0,0,0]
[null,"M5",{"$nulls":3},"Ln.","Score",{"$nulls":15},{"$f":"IF(S15=\"\",\"\",IF(S15>S27,Q15,Q27))","v":""},{"$f":"$L$5+10","v":11},{"$nulls":3},25,0,0,0,0,0,0,0,0,0]
[3,{"$f":"INDEX(Qual!$A$8:$C$39,MATCH(A21,Qual!$A$8:$A$39,0),2)","v":31},{"$f":"$L$5+12","v":13},null,{"$f":"IF(D21=\"\",\"\",IF(D21>D22,B21,B22))","v":""},{"$f":"$L$5+10","v":11},{"$nulls":17},{"$f":"$L$5+6","v":7},{"$nulls":3},27,0,0,0,0,0,0,0,0,0]
[14,{"$f":"INDEX(Qual!$A$8:$C$39,MATCH(A22,Qual!$A$8:$A$39,0),2)","v":13},{"$f":"C21+1","v":14},null,"M15",{"$nulls":6},"Ln.","Score",{"$nulls":14},29,0,0,0,0,0,0,0,0,0]
[null,"M6",{"$nulls":8},{"$f":"IF(G21=\"\",\"\",IF(G21>G24,E21,E24))","v":""},{"$f":"$L$5+6","v":7},{"$nulls":15},31,0,0,0,0,0,0,0,0,0]
[6,{"$f":"INDEX(Qual!$A$8:$C$39,MATCH(A24,Qual!$A$8:$A$39,0),2)","v":16},{"$f":"$L$5+2","v":3},null,{"$f":"IF(D24=\"\",\"\",IF(D24>D25,B24,B25))","v":""},{"$f":"F21+1","v":12},{"$nulls":4},"M22",{"$nulls":18},{"$f":"SUM(AD8:AD23)","v":8},{"$f":"SUM(AE8:AE23)","v":8},4,4,2,2,1,2]
[11,{"$f":"INDEX(Qual!$A$8:$C$39,MATCH(A25,Qual!$A$8:$A$39,0),2)","v":2},{"$f":"C24+1","v":4}]
[null,"M7",{"$nulls":3},"Ln.","Score"]
[7,{"$f":"INDEX(Qual!$A$8:$C$39,MATCH(A27,Qual!$A$8:$A$39,0),2)","v":53},{"$f":"$L$5+8","v":9},null,{"$f":"IF(D27=\"\",\"\",IF(D27>D28,B27,B28))","v":""},{"$f":"$L$5+14","v":15},{"$nulls":10},{"$f":"IF(M23=\"\",\"\",IF(M23>M29,K23,K29))","v":""},{"$f":"R15+1","v":6}]
[10,{"$f":"INDEX(Qual!$A$8:$C$39,MATCH(A28,Qual!$A$8:$A$39,0),2)","v":12},{"$f":"C27+1","v":10},null,"M16"]
[null,"M8",{"$nulls":8},{"$f":"IF(G27=\"\",\"\",IF(G27>G30,E27,E30))","v":""},{"$f":"L23+1","v":8}]
[2,{"$f":"INDEX(Qual!$A$8:$C$39,MATCH(A30,Qual!$A$8:$A$39,0),2)","v":42},{"$f":"$L$5+0","v":1},null,{"$f":"IF(D30=\"\",\"\",IF(D30>D31,B30,B31))","v":""},{"$f":"F27+1","v":16}]
[15,{"$f":"INDEX(Qual!$A$8:$C$39,MATCH(A31,Qual!$A$8:$A$39,0),2)","v":39},{"$f":"C30+1","v":2}]
[]
[]
[{"$nulls":4},"L9","Ln.","Score",null,"Ln.","Score",{"$nulls":12},"TOURNAMENT CHAMPION"]
[{"$nulls":3},"(Loser M1)",{"$f":"IF(D9=\"\",\"\",IF(D9<D10,B9,B10))","v":""},{"$f":"$L$5+4","v":5},null,{"$f":"IF(G35=\"\",\"\",IF(G35>G36,E35,E36))","v":""},{"$f":"$L$5+12","v":13},null,null,"Ln.","Score",{"$nulls":9},{"$f":"IF(Y20>Y52,W20,IF(Y21>Y53,W20,W52))","v":""}]
[{"$nulls":3},"(Loser M2)",{"$f":"IF(D12=\"\",\"\",IF(D12<D13,B12,B13))","v":""},{"$f":"F35+1","v":6},null,"L17",null,null,{"$f":"IF(J35=\"\",\"\",IF(J35>J38,H35,H38))","v":""},{"$f":"$L$5+10","v":11}]
[{"$nulls":10},"L23"]
[{"$nulls":6},"(Loser M16)",{"$f":"IF(G27=\"\",\"\",IF(G27<G30,E27,E30))","v":""},{"$f":"I35+1","v":14},{"$nulls":5},"Ln.","Score",{"$nulls":7}," "]
[{"$nulls":13},{"$f":"IF(M36=\"\",\"\",IF(M36>M42,K36,K42))","v":""},{"$f":"$L$5+0","v":1},{"$nulls":8}," "]
[{"$nulls":4},"L10","Ln.","Score",null,"Ln.","Score",{"$nulls":3},"L25",{"$nulls":8}," "," "]
[{"$nulls":3},"(Loser M3)",{"$f":"IF(D15=\"\",\"\",IF(D15<D16,B15,B16))","v":""},{"$f":"$L$5+6","v":7},null,{"$f":"IF(G41=\"\",\"\",IF(G41>G42,E41,E42))","v":""},{"$f":"$L$5+8","v":9},{"$nulls":8},"Ln.","Score",{"$nulls":3}," "," "]
[{"$nulls":3},"(Loser M4)",{"$f":"IF(D18=\"\",\"\",IF(D18<D19,B18,B19))","v":""},{"$f":"F41+1","v":8},null,"L18",null,null,{"$f":"IF(J41=\"\",\"\",IF(J41>J44,H41,H44))","v":""},{"$f":"L36+1","v":12},{"$nulls":4},{"$f":"IF(P39=\"\",\"\",IF(P39>P45,N39,N45))","v":""},{"$f":"$L$5+12","v":13},null,""]
[{"$nulls":16},"L28"]
[{"$nulls":6},"(Loser M15)",{"$f":"IF(G21=\"\",\"\",IF(G21<G24,E21,E24))","v":""},{"$f":"I41+1","v":10}]
[{"$nulls":12},"(Loser M22)",{"$f":"IF(M23=\"\",\"\",IF(M23<M29,K23,K29))","v":""},{"$f":"O39+1","v":2}]
[{"$nulls":4},"L11","Ln.","Score",null,"Ln.","Score"]
[{"$nulls":3},"(Loser M5)",{"$f":"IF(D21=\"\",\"\",IF(D21<D22,B21,B22))","v":""},{"$f":"$L$5+0","v":1},null,{"$f":"IF(G47=\"\",\"\",IF(G47>G48,E47,E48))","v":""},{"$f":"$L$5+4","v":5},null,null,"Ln.","Score",{"$nulls":7},"Ln.","Score"," "]
[{"$nulls":3},"(Loser M6)",{"$f":"IF(D24=\"\",\"\",IF(D24<D25,B24,B25))","v":""},{"$f":"F47+1","v":2},null,"L19",null,null,{"$f":"IF(J47=\"\",\"\",IF(J47>J50,H47,H50))","v":""},{"$f":"$L$5+14","v":15},{"$nulls":7},{"$f":"IF(S42=\"\",\"\",IF(S42>S54,Q42,Q54))","v":""},{"$f":"$L$5+2","v":3}]
[{"$nulls":10},"L24",{"$nulls":8},"L29"]
[{"$nulls":6},"(Loser M14)",{"$f":"IF(G15=\"\",\"\",IF(G15<G18,E15,E18))","v":""},{"$f":"I47+1","v":6},{"$nulls":5},"Ln.","Score"]
[{"$nulls":13},{"$f":"IF(M48=\"\",\"\",IF(M48>M54,K48,K54))","v":""},{"$f":"$L$5+8","v":9},{"$nulls":8},"Ln.","Score"]
[{"$nulls":4},"L12","Ln.","Score",null,"Ln.","Score",{"$nulls":3},"L26",{"$nulls":8},{"$f":"IF(V48=\"\",\"\",IF(V48>V57,T48,T57))","v":""},{"$f":"X20+1","v":12}]
[{"$nulls":3},"(Loser M7)",{"$f":"IF(D27=\"\",\"\",IF(D27<D28,B27,B28))","v":""},{"$f":"$L$5+2","v":3},null,{"$f":"IF(G53=\"\",\"\",IF(G53>G54,E53,E54))","v":""},{"$f":"$L$5+0","v":1},{"$nulls":14},{"$f":"X21+1","v":8}]
[{"$nulls":3},"(Loser M8)",{"$f":"IF(D30=\"\",\"\",IF(D30<D31,B30,B31))","v":""},{"$f":"F53+1","v":4},null,"L20",null,null,{"$f":"IF(J53=\"\",\"\",IF(J53>J56,H53,H56))","v":""},{"$f":"L48+1","v":16},{"$nulls":4},{"$f":"IF(P51=\"\",\"\",IF(P51>P57,N51,N57))","v":""},{"$f":"R42+1","v":14}]
[{"$nulls":16}," "]
[{"$nulls":6},"(Loser M13)",{"$f":"IF(G9=\"\",\"\",IF(G9<G12,E9,E12))","v":""},{"$f":"I53+1","v":2}]
[{"$nulls":12},"(Loser M21)",{"$f":"IF(M11=\"\",\"\",IF(M11<M17,K11,K17))","v":""},{"$f":"O51+1","v":10},{"$nulls":3},"(Loser M27)",{"$f":"IF(S15=\"\",\"\",IF(S15<S27,Q15,Q27))","v":""},{"$f":"U48+1","v":4}]

{"sheet":"B24","index":6,"n_rows":102,"n_cols":45,"rows_kept":102,"hidden":true,"merged":[[0,0,0,22],[1,0,1,22],[2,0,2,22],[6,1,6,3],[6,4,6,6],[6,7,6,9],[6,10,6,12],[6,13,6,15],[6,16,6,18],[6,19,6,21],[6,22,6,24],[6,25,6,27],[6,28,6,30],[9,4,10,6],[10,7,14,9],[13,13,23,15],[15,4,16,6],[20,19,42,21],[21,4,22,6],[22,7,26,9],[27,4,28,6],[33,4,34,6],[34,7,38,9],[37,13,47,15],[39,4,40,6],[45,4,46,6],[46,7,50,9],[51,4,52,6],[52,28,52,30],[53,28,53,30],[59,10,61,12],[61,13,63,15],[63,16,71,18],[69,10,71,12],[69,19,74,21],[71,13,73,15],[72,22,90,24],[79,10,81,12],[81,13,83,15],[82,25,93,27],[83,16,91,18],[89,10,91,12],[89,19,94,21],[91,13,93,15]]}
[{"$f":"'Check-In'!B1","v":"Midwest Senior Classic"}]
[{"$f":"'Check-In'!B2","v":"2022-04-24"}]
[{"$f":"'Check-In'!B3","v":"Cedarvale"}]
[]
[{"$nulls":10},"Lanes  ",9,"-",{"$f":"L5+23","v":32}]
[]
[null,"MATCH SET #1",null,null,"MATCH SET #2",null,null,"MATCH SET #3",null,null,"MATCH SET #4",null,null,"MATCH SET #5",null,null,"MATCH SET #6",null,null,"MATCH SET #7",null,null,"MATCH SET #8",null,null,"MATCH SET #9",null,null,"MATCH SET #10",{"$nulls":6},1,2,3,4,5,6,7,8,9,10]
["Seed","M1","Ln.","Score",null,"Ln.","Score",{"$nulls":26},1,{"$f":"SUM(AJ8:AS8)","v":0},{"$f":"COUNTIF($C$9:$C$106,$AH8)","v":0},{"$f":"COUNTIF($F$9:$F$100,$AH8)","v":0},{"$f":"COUNTIF($I$9:$I$98,$AH8)","v":0},{"$f":"COUNTIF($L$9:$L$104,$AH8)","v":0},{"$f":"COUNTIF($O$9:$O$107,$AH8)","v":0},{"$f":"COUNTIF($R$9:$R$106,$AH8)","v":0},{"$f":"COUNTIF($U$9:$U$106,$AH8)","v":0},{"$f":"COUNTIF($X$9:$X$106,$AH8)","v":0},{"$f":"COUNTIF($AA$9:$AA$106,$AH8)","v":0},{"$f":"COUNTIF($AD$9:$AD$106,$AH8)","v":0}]
[16,{"$f":"INDEX(Qual!$A$8:$C$39,MATCH(A9,Qual!$A$8:$A$39,0),2)","v":3},{"$f":"L5+14","v":23},null,{"$f":"IF(D9=\"\",\"\",IF(D9>D10,B9,B10))","v":""},{"$f":"$L$5+4","v":13},null,null,"Ln.","Score",{"$nulls":23},3,{"$f":"SUM(AJ9:AS9)","v":0},0,0,{"$f":"COUNTIF($I$9:$I$98,$AH9)","v":0},0,0,0,0,0,0,0]
[17,{"$f":"INDEX(Qual!$A$8:$C$39,MATCH(A10,Qual!$A$8:$A$39,0),2)","v":29},{"$f":"C9+1","v":24},null,"M9",null,null,{"$f":"IF(G9=\"\",\"\",IF(G9>G12,E9,E12))","v":""},{"$f":"L5+12","v":21},{"$nulls":24},5,0,0,0,0,0,0,0,0,0,0,0]
[{"$nulls":7},"M29",{"$nulls":25},7,0,0,0,0,0,0,0,0,0,0,0]
[{"$nulls":3},1,{"$f":"INDEX(Qual!$A$8:$C$39,MATCH(D12,Qual!$A$8:$A$39,0),2)","v":1},{"$f":"F9+1","v":14},{"$nulls":8},"Ln.","Score",{"$nulls":17},9,3,1,0,1,1,0,0,0,0,0,0]
[{"$nulls":13},{"$f":"IF(J10=\"\",\"\",IF(J10>J16,H10,H16))","v":""},{"$f":"L5+16","v":25},{"$nulls":18},11,3,1,1,1,0,0,0,0,0,0,0]
[null,"M2",{"$nulls":3},"Ln.","Score",{"$nulls":6},"M37",{"$nulls":19},13,2,0,1,1,0,0,0,0,0,0,0]
[9,{"$f":"INDEX(Qual!$A$8:$C$39,MATCH(A15,Qual!$A$8:$A$39,0),2)","v":23},{"$f":"L5+8","v":17},null,{"$f":"IF(D15=\"\",\"\",IF(D15>D16,B15,B16))","v":""},{"$f":"$L$5+2","v":11},{"$nulls":27},15,3,1,0,1,1,0,0,0,0,0,0]
[24,{"$f":"INDEX(Qual!$A$8:$C$39,MATCH(A16,Qual!$A$8:$A$39,0),2)","v":15},{"$f":"C15+1","v":18},null,"M10",null,null,{"$f":"IF(G15=\"\",\"\",IF(G15>G18,E15,E18))","v":""},{"$f":"I10+1","v":22},{"$nulls":24},17,4,1,1,1,0,1,0,0,0,0,0]
[{"$nulls":33},19,4,0,1,1,0,1,0,1,0,0,0]
[{"$nulls":3},8,{"$f":"INDEX(Qual!$A$8:$C$39,MATCH(D18,Qual!$A$8:$A$39,0),2)","v":27},{"$f":"F15+1","v":12},{"$nulls":27},21,5,1,0,1,1,0,1,0,0,1,0]
[{"$nulls":20},"Ln.","Score",{"$nulls":11},23,4,1,1,1,0,1,0,0,0,0,0]
[null,"M3",{"$nulls":3},"Ln.","Score",{"$nulls":12},{"$f":"IF(P13=\"\",\"\",IF(P13>P25,N13,N25))","v":""},{"$f":"L5+22","v":31},{"$nulls":12},25,5,0,1,1,0,1,0,1,0,0,1]
[13,{"$f":"INDEX(Qual!$A$8:$C$39,MATCH(A21,Qual!$A$8:$A$39,0),2)","v":8},{"$f":"L5+12","v":21},null,{"$f":"IF(D21=\"\",\"\",IF(D21>D22,B21,B22))","v":""},{"$f":"$L$5+10","v":19},null,null,"Ln.","Score",{"$nulls":9},"M43",{"$nulls":13},27,5,1,0,1,1,0,1,0,0,0,1]
[20,{"$f":"INDEX(Qual!$A$8:$C$39,MATCH(A22,Qual!$A$8:$A$39,0),2)","v":35},{"$f":"C21+1","v":22},null,"M11",null,null,{"$f":"IF(G21=\"\",\"\",IF(G21>G24,E21,E24))","v":""},{"$f":"L5+8","v":17},{"$nulls":24},29,5,1,1,1,0,1,0,0,1,0,0]
[{"$nulls":7},"M30",{"$nulls":25},31,4,0,1,1,0,1,0,1,0,0,0]
[{"$nulls":3},4,{"$f":"INDEX(Qual!$A$8:$C$39,MATCH(D24,Qual!$A$8:$A$39,0),2)","v":51},{"$f":"F21+1","v":20},{"$nulls":29},{"$f":"SUM(AJ8:AJ23)","v":8},{"$f":"SUM(AK8:AK23)","v":8},12,4,6,2,3,1,1,2]
[{"$nulls":13},{"$f":"IF(J22=\"\",\"\",IF(J22>J28,H22,H28))","v":""},{"$f":"O13+1","v":26}]
[null,"M4",{"$nulls":3},"Ln.","Score"]
[12,{"$f":"INDEX(Qual!$A$8:$C$39,MATCH(A27,Qual!$A$8:$A$39,0),2)","v":46},{"$f":"L5+6","v":15},null,{"$f":"IF(D27=\"\",\"\",IF(D27>D28,B27,B28))","v":""},{"$f":"$L$5+14","v":23}]
[21,{"$f":"INDEX(Qual!$A$8:$C$39,MATCH(A28,Qual!$A$8:$A$39,0),2)","v":49},{"$f":"C27+1","v":16},null,"M12",null,null,{"$f":"IF(G27=\"\",\"\",IF(G27>G30,E27,E30))","v":""},{"$f":"I22+1","v":18}]
[]
[{"$nulls":3},5,{"$f":"INDEX(Qual!$A$8:$C$39,MATCH(D30,Qual!$A$8:$A$39,0),2)","v":26},{"$f":"F27+1","v":24}]
[{"$nulls":29},"Ln.","Score"]
[null,"M5",{"$nulls":3},"Ln.","Score",{"$nulls":21},{"$f":"IF(V20=\"\",\"\",IF(V20>V44,T20,T44))","v":""},{"$f":"L5+16","v":25}]
[15,{"$f":"INDEX(Qual!$A$8:$C$39,MATCH(A33,Qual!$A$8:$A$39,0),2)","v":39},{"$f":"L5+2","v":11},null,{"$f":"IF(D33=\"\",\"\",IF(D33>D34,B33,B34))","v":""},{"$f":"$L$5+20","v":29},null,null,"Ln.","Score",{"$nulls":19},{"$f":"L5+18","v":27}]
[18,{"$f":"INDEX(Qual!$A$8:$C$39,MATCH(A34,Qual!$A$8:$A$39,0),2)","v":10},{"$f":"C33+1","v":12},null,"M13",null,null,{"$f":"IF(G33=\"\",\"\",IF(G33>G36,E33,E36))","v":""},{"$f":"L5+10","v":19}]
[{"$nulls":7},"M31"]
[{"$nulls":3},2,{"$f":"INDEX(Qual!$A$8:$C$39,MATCH(D36,Qual!$A$8:$A$39,0),2)","v":42},{"$f":"F33+1","v":30},{"$nulls":8},"Ln.","Score"]
[{"$nulls":13},{"$f":"IF(J34=\"\",\"\",IF(J34>J40,H34,H40))","v":""},{"$f":"L5+14","v":23}]
[null,"M6",{"$nulls":3},"Ln.","Score",{"$nulls":6},"M38"]
[10,{"$f":"INDEX(Qual!$A$8:$C$39,MATCH(A39,Qual!$A$8:$A$39,0),2)","v":12},{"$f":"L5+0","v":9},null,{"$f":"IF(D39=\"\",\"\",IF(D39>D40,B39,B40))","v":""},{"$f":"$L$5+22","v":31}]
[23,{"$f":"INDEX(Qual!$A$8:$C$39,MATCH(A40,Qual!$A$8:$A$39,0),2)","v":54},{"$f":"C39+1","v":10},null,"M14",null,null,{"$f":"IF(G39=\"\",\"\",IF(G39>G42,E39,E42))","v":""},{"$f":"I34+1","v":20}]
[]
[{"$nulls":3},7,{"$f":"INDEX(Qual!$A$8:$C$39,MATCH(D42,Qual!$A$8:$A$39,0),2)","v":53},{"$f":"F39+1","v":32}]
[]
[null,"M7",{"$nulls":3},"Ln.","Score",{"$nulls":12},{"$f":"IF(P37=\"\",\"\",IF(P37>P49,N37,N49))","v":""},{"$f":"U20+1","v":32}]
[14,{"$f":"INDEX(Qual!$A$8:$C$39,MATCH(A45,Qual!$A$8:$A$39,0),2)","v":13},{"$f":"L5+20","v":29},null,{"$f":"IF(D45=\"\",\"\",IF(D45>D46,B45,B46))","v":""},{"$f":"$L$5+16","v":25},null,null,"Ln.","Score"]
[19,{"$f":"INDEX(Qual!$A$8:$C$39,MATCH(A46,Qual!$A$8:$A$39,0),2)","v":40},{"$f":"C45+1","v":30},null,"M15",null,null,{"$f":"IF(G45=\"\",\"\",IF(G45>G48,E45,E48))","v":""},{"$f":"L5+14","v":23}]
[{"$nulls":7},"M32"]
[{"$nulls":3},3,{"$f":"INDEX(Qual!$A$8:$C$39,MATCH(D48,Qual!$A$8:$A$39,0),2)","v":31},{"$f":"F45+1","v":26}]
[{"$nulls":13},{"$f":"IF(J46=\"\",\"\",IF(J46>J52,H46,H52))","v":""},{"$f":"O37+1","v":24}]
[null,"M8",{"$nulls":3},"Ln.","Score"]
[11,{"$f":"INDEX(Qual!$A$8:$C$39,MATCH(A51,Qual!$A$8:$A$39,0),2)","v":2},{"$f":"L5+18","v":27},null,{"$f":"IF(D51=\"\",\"\",IF(D51>D52,B51,B52))","v":""},{"$f":"$L$5+8","v":17}]
[22,{"$f":"INDEX(Qual!$A$8:$C$39,MATCH(A52,Qual!$A$8:$A$39,0),2)","v":19},{"$f":"C51+1","v":28},null,"M16",null,null,{"$f":"IF(G51=\"\",\"\",IF(G51>G54,E51,E54))","v":""},{"$f":"I46+1","v":24}]
[{"$nulls":28},"TOURNAMENT CHAMPION"]
[{"$nulls":3},6,{"$f":"INDEX(Qual!$A$8:$C$39,MATCH(D54,Qual!$A$8:$A$39,0),2)","v":16},{"$f":"F51+1","v":18},{"$nulls":22},{"$f":"IF(AE32>AH95,AC32,IF(AE33>AH96,AC32,AF95))","v":0}]
[{"$nulls":6}," "]
[]
[]
[{"$nulls":7},"L17","Ln.","Score",null,"Ln.","Score"]
[{"$nulls":6},"(Loser M13)",{"$f":"IF(G33=\"\",\"\",IF(G33<G36,E33,E36))","v":""},{"$f":"$L$5+2","v":11},null,{"$f":"IF(J59=\"\",\"\",IF(J59>J60,H59,H60))","v":""},{"$f":"L5+18","v":27}]
[{"$nulls":6},"(Loser M1)",{"$f":"IF(D9=\"\",\"\",IF(D9<D10,B9,B10))","v":""},{"$f":"I59+1","v":12},null,"L25",{"$nulls":3},"Ln.","Score"]
[{"$nulls":13},{"$f":"IF(M59=\"\",\"\",IF(M59>M63,K59,K63))","v":""},{"$f":"L5+8","v":17}]
[{"$nulls":7},"L18","Ln.","Score",{"$nulls":3},"L33",{"$nulls":3},"Ln.","Score",{"$nulls":10}," "]
[{"$nulls":6},"(Loser M14)",{"$f":"IF(G39=\"\",\"\",IF(G39<G42,E39,E42))","v":""},{"$f":"$L$5+0","v":9},null,{"$f":"IF(J63=\"\",\"\",IF(J63>J64,H63,H64))","v":""},{"$f":"L59+1","v":28},{"$nulls":4},{"$f":"IF(P61=\"\",\"\",IF(P61>P65,N61,N65))","v":""},{"$f":"L5+12","v":21},{"$nulls":11}," "]
[{"$nulls":6},"(Loser M2)",{"$f":"IF(D15=\"\",\"\",IF(D15<D16,B15,B16))","v":""},{"$f":"I63+1","v":10},{"$nulls":7},"L39",{"$nulls":11}," "," "]
[{"$nulls":12},"(Loser M29)",{"$f":"IF(J10=\"\",\"\",IF(J10<J16,H10,H16))","v":""},{"$f":"O61+1","v":18},{"$nulls":13}," "," "]
[{"$nulls":22},""]
[]
[{"$nulls":7},"L19","Ln.","Score",null,"Ln.","Score",{"$nulls":7},"Ln.","Score"]
[{"$nulls":6},"(Loser M15)",{"$f":"IF(G45=\"\",\"\",IF(G45<G48,E45,E48))","v":""},{"$f":"$L$5+6","v":15},null,{"$f":"IF(J69=\"\",\"\",IF(J69>J70,H69,H70))","v":""},{"$f":"L5+0","v":9},{"$nulls":7},{"$f":"IF(S63=\"\",\"\",IF(S63>S73,Q63,Q73))","v":""},{"$f":"L5+16","v":25}]
[{"$nulls":6},"(Loser M3)",{"$f":"IF(D21=\"\",\"\",IF(D21<D22,B21,B22))","v":""},{"$f":"I69+1","v":16},null,"L26",{"$nulls":3},"Ln.","Score",{"$nulls":3},"L41"]
[{"$nulls":13},{"$f":"IF(M69=\"\",\"\",IF(M69>M73,K69,K73))","v":""},{"$f":"L5+10","v":19},{"$nulls":8},"Ln.","Score",{"$nulls":3}," "]
[{"$nulls":7},"L20","Ln.","Score",{"$nulls":3},"L34",{"$nulls":8},{"$f":"IF(V69=\"\",\"\",IF(V69>V76,T69,T96))","v":""},{"$f":"L5+20","v":29}]
[{"$nulls":6},"(Loser M16)",{"$f":"IF(G51=\"\",\"\",IF(G51<G54,E51,E54))","v":""},{"$f":"$L$5+4","v":13},null,{"$f":"IF(J73=\"\",\"\",IF(J73>J74,H73,H74))","v":""},{"$f":"L69+1","v":10},{"$nulls":4},{"$f":"IF(P71=\"\",\"\",IF(P71>P75,N71,N75))","v":""},{"$f":"R63+1","v":22},{"$nulls":4},"L44"]
[{"$nulls":6},"(Loser M4)",{"$f":"IF(D27=\"\",\"\",IF(D27<D28,B27,B28))","v":""},{"$f":"I73+1","v":14}]
[{"$nulls":12},"(Loser M30)",{"$f":"IF(J22=\"\",\"\",IF(J22<J28,H22,H28))","v":""},{"$f":"O71+1","v":20}]
[{"$nulls":18},"(Loser M38)",{"$f":"IF(P13=\"\",\"\",IF(P13<P25,N13,N25))","v":""},{"$f":"U69+1","v":26}]
[]
[{"$nulls":7},"L21","Ln.","Score",null,"Ln.","Score"]
[{"$nulls":6},"(Loser M9)",{"$f":"IF(G9=\"\",\"\",IF(G9<G12,E9,E12))","v":""},{"$f":"$L$5+16","v":25},null,{"$f":"IF(J79=\"\",\"\",IF(J79>J80,H79,H80))","v":""},{"$f":"L5+12","v":21},{"$nulls":7}," "]
[{"$nulls":6},"(Loser M5)",{"$f":"IF(D33=\"\",\"\",IF(D33<D34,B33,B34))","v":""},{"$f":"I79+1","v":26},null,"L27",{"$nulls":3},"Ln.","Score"]
[{"$nulls":13},{"$f":"IF(M79=\"\",\"\",IF(M79>M83,K79,K83))","v":""},{"$f":"L5+22","v":31},{"$nulls":11},"Ln.","Score"]
[{"$nulls":7},"L22","Ln.","Score",{"$nulls":3},"L35",{"$nulls":3},"Ln.","Score",{"$nulls":6},{"$f":"IF(Y72=\"\",\"\",IF(Y72>Y81,W72,W81))","v":""},{"$f":"L5+12","v":21}]
[{"$nulls":6},"(Loser M10)",{"$f":"IF(G15=\"\",\"\",IF(G15<G18,E15,E18))","v":""},{"$f":"$L$5+20","v":29},null,{"$f":"IF(J83=\"\",\"\",IF(J83>J84,H83,H84))","v":""},{"$f":"L79+1","v":22},{"$nulls":4},{"$f":"IF(P81=\"\",\"\",IF(P81>P85,N81,N85))","v":""},{"$f":"L5+18","v":27},{"$nulls":7},"L45"]
[{"$nulls":6},"(Loser M6)",{"$f":"IF(D39=\"\",\"\",IF(D39<D40,B39,B40))","v":""},{"$f":"I83+1","v":30},{"$nulls":7},"L40"]
[{"$nulls":12},"(Loser M31)",{"$f":"IF(J34=\"\",\"\",IF(J34<J40,H34,H40))","v":""},{"$f":"O81+1","v":32}]
[]
[{"$nulls":29},"Ln.","Score"]
[{"$nulls":7},"L23","Ln.","Score",null,"Ln.","Score",{"$nulls":7},"Ln.","Score",{"$nulls":6},{"$f":"IF(AB82=\"\",\"\",IF(AB82>AB95,Z82,Z95))","v":""},{"$f":"AD32+1","v":26}]
[{"$nulls":6},"(Loser M11)",{"$f":"IF(G21=\"\",\"\",IF(G21<G24,E21,E24))","v":""},{"$f":"$L$5+22","v":31},null,{"$f":"IF(J89=\"\",\"\",IF(J89>J90,H89,H90))","v":""},{"$f":"L5+6","v":15},{"$nulls":7},{"$f":"IF(S83=\"\",\"\",IF(S83>S93,Q83,Q93))","v":""},{"$f":"L5+10","v":19},{"$nulls":8},{"$f":"AD33+1","v":28}]
[{"$nulls":6},"(Loser M7)",{"$f":"IF(D45=\"\",\"\",IF(D45<D46,B45,B46))","v":""},{"$f":"I89+1","v":32},null,"L28",{"$nulls":3},"Ln.","Score",{"$nulls":3},"L42"]
[{"$nulls":13},{"$f":"IF(M89=\"\",\"\",IF(M89>M93,K89,K93))","v":""},{"$f":"L5+20","v":29}]
[{"$nulls":7},"L24","Ln.","Score",{"$nulls":3},"L36",{"$nulls":8},{"$f":"IF(V89=\"\",\"\",IF(V89>V96,T89,T96))","v":""},{"$f":"X72+1","v":30}]
[{"$nulls":6},"(Loser M12)",{"$f":"IF(G27=\"\",\"\",IF(G27<G30,E27,E30))","v":""},{"$f":"$L$5+18","v":27},null,{"$f":"IF(J93=\"\",\"\",IF(J93>J94,H93,H94))","v":""},{"$f":"L89+1","v":16},{"$nulls":4},{"$f":"IF(P91=\"\",\"\",IF(P91>P95,N91,N95))","v":""},{"$f":"R83+1","v":28}]
[{"$nulls":6},"(Loser M8)",{"$f":"IF(D51=\"\",\"\",IF(D51<D52,B51,B52))","v":""},{"$f":"I93+1","v":28}]
[{"$nulls":12},"(Loser M32)",{"$f":"IF(J46=\"\",\"\",IF(J46<J52,H46,H52))","v":""},{"$f":"O91+1","v":30},{"$nulls":9},"(Loser M43)",{"$f":"IF(V20=\"\",\"\",IF(V20<V44,T20,T44))","v":""},{"$f":"AA82+1","v":22}]
[{"$nulls":18},"(Loser M37)",{"$f":"IF(P37=\"\",\"\",IF(P37<P49,N37,N49))","v":""},{"$f":"U89+1","v":20}]
[]
[]
[]
[]
[]
[{"$nulls":26}," "," "]

{"sheet":"B32","index":7,"n_rows":105,"n_cols":45,"rows_kept":105,"hidden":true,"merged":[[0,0,0,30],[1,0,1,30],[2,0,2,30],[6,1,6,3],[6,4,6,6],[6,7,6,9],[6,10,6,12],[6,13,6,15],[6,16,6,18],[6,19,6,21],[6,22,6,24],[6,25,6,27],[6,28,6,30],[9,4,10,6],[10,10,14,12],[13,16,23,18],[15,4,16,6],[20,22,42,24],[21,4,22,6],[22,10,26,12],[27,4,28,6],[33,4,34,6],[34,10,38,12],[37,16,47,18],[39,4,40,6],[45,4,46,6],[46,10,50,12],[51,4,52,6],[52,28,52,30],[53,28,53,30],[59,7,60,9],[60,10,64,12],[63,13,67,15],[65,7,66,9],[66,16,76,18],[71,7,72,9],[72,10,76,12],[72,19,79,21],[75,13,79,15],[76,22,98,24],[77,7,78,9],[83,7,84,9],[84,10,88,12],[87,13,91,15],[88,25,100,27],[89,7,90,9],[90,16,100,18],[95,7,96,9],[96,10,100,12],[96,19,103,21],[99,13,103,15],[101,7,102,9]]}
[{"$f":"'Check-In'!B1","v":"Midwest Senior Classic"}]
[{"$f":"'Check-In'!B2","v":"2022-04-24"}]
[{"$f":"'Check-In'!B3","v":"Cedarvale"}]
[]
[{"$nulls":10},"Lanes  ",1,"-",32]
[]
[null,"MATCH SET #1",null,null,"MATCH SET #2",null,null,"MATCH SET #3",null,null,"MATCH SET #4",null,null,"MATCH SET #5",null,null,"MATCH SET #6",null,null,"MATCH SET #7",null,null,"MATCH SET #8",null,null,"MATCH SET #9",null,null,"MATCH SET #10",{"$nulls":6},1,2,3,4,5,6,7,8,9,10]
["Seed","M1","Ln.","Score",null,"Ln.","Score",{"$nulls":26},1,{"$f":"SUM(AJ8:AS8)","v":3},{"$f":"COUNTIF($C$9:$C$106,$AH8)","v":1},{"$f":"COUNTIF($F$9:$F$106,$AH8)","v":1},{"$f":"COUNTIF($I$9:$I$106,$AH8)","v":0},{"$f":"COUNTIF($L$9:$L$106,$AH8)","v":1},{"$f":"COUNTIF($O$9:$O$106,$AH8)","v":0},{"$f":"COUNTIF($R$9:$R$106,$AH8)","v":0},{"$f":"COUNTIF($U$9:$U$106,$AH8)","v":0},{"$f":"COUNTIF($X$9:$X$106,$AH8)","v":0},{"$f":"COUNTIF($AA$9:$AA$106,$AH8)","v":0},{"$f":"COUNTIF($AD$9:$AD$106,$AH8)","v":0}]
[1,{"$f":"INDEX(Qual!$A$8:$C$39,MATCH(A9,Qual!$A$8:$A$39,0),3)","v":"OULMAN, DAVE"},{"$f":"L5+26","v":27},null,{"$f":"IF(D9=\"\",\"\",IF(D9>D10,B9,B10))","v":""},{"$f":"$L$5+2","v":3},{"$nulls":5},"Ln.","Score",{"$nulls":20},3,{"$f":"SUM(AJ9:AS9)","v":4},1,1,1,0,1,0,0,0,0,0]
[32,{"$f":"INDEX(Qual!$A$8:$C$39,MATCH(A10,Qual!$A$8:$A$39,0),3)","v":"WENZEL, JEFF"},{"$f":"L5+27","v":28},null,"M25",{"$nulls":5},{"$f":"IF(G9=\"\",\"\",IF(G9>G12,E9,E12))","v":""},{"$f":"L5+24","v":25},{"$nulls":21},5,3,1,1,0,1,0,0,0,0,0,0]
[null,"M2",{"$nulls":8},"M41",{"$nulls":22},7,3,1,1,1,0,0,0,0,0,0,0]
[16,{"$f":"INDEX(Qual!$A$8:$C$39,MATCH(A12,Qual!$A$8:$A$39,0),3)","v":"PESCH, JOHN"},{"$f":"L5+20","v":21},null,{"$f":"IF(D12=\"\",\"\",IF(D12>D13,B12,B13))","v":""},{"$f":"F9+1","v":4},{"$nulls":11},"Ln.","Score",{"$nulls":14},9,3,1,1,0,1,0,0,0,0,0,0]
[17,{"$f":"INDEX(Qual!$A$8:$C$39,MATCH(A13,Qual!$A$8:$A$39,0),3)","v":"BORDSON, DAVE"},{"$f":"L5+21","v":22},{"$nulls":13},{"$f":"IF(M10=\"\",\"\",IF(M10>M16,K10,K16))","v":""},{"$f":"L5+16","v":17},{"$nulls":15},11,5,1,1,1,0,1,1,0,0,0,0]
[null,"M3",{"$nulls":3},"Ln.","Score",{"$nulls":9},"M53",{"$nulls":16},13,3,1,1,0,1,0,0,0,0,0,0]
[9,{"$f":"INDEX(Qual!$A$8:$C$39,MATCH(A15,Qual!$A$8:$A$39,0),3)","v":"GREEN, GARY"},{"$f":"L5+16","v":17},null,{"$f":"IF(D15=\"\",\"\",IF(D15>D16,B15,B16))","v":""},{"$f":"$L$5+10","v":11},{"$nulls":27},15,4,1,1,1,0,0,0,0,1,0,0]
[24,{"$f":"INDEX(Qual!$A$8:$C$39,MATCH(A16,Qual!$A$8:$A$39,0),3)","v":"REYNOLDS, TIM"},{"$f":"C15+1","v":18},null,"M26",{"$nulls":5},{"$f":"IF(G15=\"\",\"\",IF(G15>G18,E15,E18))","v":""},{"$f":"L10+1","v":26},{"$nulls":21},17,4,1,1,0,1,0,1,0,0,0,0]
[null,"M4",{"$nulls":31},19,4,1,1,1,0,1,0,0,0,0,0]
[8,{"$f":"INDEX(Qual!$A$8:$C$39,MATCH(A18,Qual!$A$8:$A$39,0),3)","v":"JONES, TOM"},{"$f":"L5+4","v":5},null,{"$f":"IF(D18=\"\",\"\",IF(D18>D19,B18,B19))","v":""},{"$f":"F15+1","v":12},{"$nulls":27},21,4,1,1,0,1,0,0,0,1,0,0]
[25,{"$f":"INDEX(Qual!$A$8:$C$39,MATCH(A19,Qual!$A$8:$A$39,0),3)","v":"RACETTE, TIM"},{"$f":"C18+1","v":6},{"$nulls":20},"Ln.","Score",{"$nulls":8},23,5,1,1,1,0,0,1,0,0,1,0]
[null,"M5",{"$nulls":3},"Ln.","Score",{"$nulls":15},{"$f":"IF(S13=\"\",\"\",IF(S13>S25,Q13,Q25))","v":""},{"$f":"L5+14","v":15},{"$nulls":9},25,5,1,1,0,1,0,0,1,0,0,1]
[12,{"$f":"INDEX(Qual!$A$8:$C$39,MATCH(A21,Qual!$A$8:$A$39,0),3)","v":"BIRKEDAHL, LARRY"},{"$f":"L5+22","v":23},null,{"$f":"IF(D21=\"\",\"\",IF(D21>D22,B21,B22))","v":""},{"$f":"$L$5+18","v":19},{"$nulls":5},"Ln.","Score",{"$nulls":9},"M59",{"$nulls":10},27,5,1,1,1,0,1,0,0,0,0,1]
[21,{"$f":"INDEX(Qual!$A$8:$C$39,MATCH(A22,Qual!$A$8:$A$39,0),3)","v":"MICEK, BOB"},{"$f":"C21+1","v":24},null,"M27",{"$nulls":5},{"$f":"IF(G21=\"\",\"\",IF(G21>G24,E21,E24))","v":""},{"$f":"L5+20","v":21},{"$nulls":21},29,4,1,1,0,1,0,1,0,0,0,0]
[null,"M6",{"$nulls":8},"M42",{"$nulls":22},31,4,1,1,1,0,0,0,1,0,0,0]
[5,{"$f":"INDEX(Qual!$A$8:$C$39,MATCH(A24,Qual!$A$8:$A$39,0),3)","v":"HOMMES, JOHN"},{"$f":"L5+6","v":7},null,{"$f":"IF(D24=\"\",\"\",IF(D24>D25,B24,B25))","v":""},{"$f":"F21+1","v":20},{"$nulls":29},{"$f":"SUM(AJ8:AJ23)","v":16},{"$f":"SUM(AK8:AK23)","v":16},8,8,4,4,2,2,1,2]
[28,{"$f":"INDEX(Qual!$A$8:$C$39,MATCH(A25,Qual!$A$8:$A$39,0),3)","v":"HAUGAN, ERIC"},{"$f":"C24+1","v":8},{"$nulls":13},{"$f":"IF(M22=\"\",\"\",IF(M22>M28,K22,K28))","v":""},{"$f":"R13+1","v":18}]
[null,"M7",{"$nulls":3},"Ln.","Score"]
[13,{"$f":"INDEX(Qual!$A$8:$C$39,MATCH(A27,Qual!$A$8:$A$39,0),3)","v":"MCKINNEY, TERRY"},{"$f":"L5+30","v":31},null,{"$f":"IF(D27=\"\",\"\",IF(D27>D28,B27,B28))","v":""},{"$f":"$L$5+26","v":27}]
[20,{"$f":"INDEX(Qual!$A$8:$C$39,MATCH(A28,Qual!$A$8:$A$39,0),3)","v":"STOEBNER, JOHN"},{"$f":"C27+1","v":32},null,"M28",{"$nulls":5},{"$f":"IF(G27=\"\",\"\",IF(G27>G30,E27,E30))","v":""},{"$f":"L22+1","v":22}]
[null,"M8"]
[4,{"$f":"INDEX(Qual!$A$8:$C$39,MATCH(A30,Qual!$A$8:$A$39,0),3)","v":"SAVOY, TODD"},{"$f":"L5+0","v":1},null,{"$f":"IF(D30=\"\",\"\",IF(D30>D31,B30,B31))","v":""},{"$f":"F27+1","v":28}]
[29,{"$f":"INDEX(Qual!$A$8:$C$39,MATCH(A31,Qual!$A$8:$A$39,0),3)","v":"WINTER, JIM"},{"$f":"C30+1","v":2},{"$nulls":26},"Ln.","Score"]
["Seed","M9",{"$nulls":3},"Ln.","Score",{"$nulls":21},{"$f":"IF(Y20=\"\",\"\",IF(Y20>Y44,W20,W44))","v":""},{"$f":"L5+24","v":25}]
[3,{"$f":"INDEX(Qual!$A$8:$C$39,MATCH(A33,Qual!$A$8:$A$39,0),3)","v":"JENSEN, WAYNE"},{"$f":"L5+14","v":15},null,{"$f":"IF(D33=\"\",\"\",IF(D33>D34,B33,B34))","v":""},{"$f":"$L$5+22","v":23},{"$nulls":5},"Ln.","Score",{"$nulls":16},{"$f":"L5+26","v":27}]
[30,{"$f":"INDEX(Qual!$A$8:$C$39,MATCH(A34,Qual!$A$8:$A$39,0),3)","v":"WIRZ, MIKE"},{"$f":"C33+1","v":16},null,"M29",{"$nulls":5},{"$f":"IF(G33=\"\",\"\",IF(G33>G36,E33,E36))","v":""},{"$f":"L5+16","v":17}]
[null,"M10",{"$nulls":8},"M43"]
[14,{"$f":"INDEX(Qual!$A$8:$C$39,MATCH(A36,Qual!$A$8:$A$39,0),3)","v":"VANSLEET, TODD"},{"$f":"L5+8","v":9},null,{"$f":"IF(D36=\"\",\"\",IF(D36>D37,B36,B37))","v":""},{"$f":"F33+1","v":24},{"$nulls":11},"Ln.","Score"]
[19,{"$f":"INDEX(Qual!$A$8:$C$39,MATCH(A37,Qual!$A$8:$A$39,0),3)","v":"PETERSON, ED"},{"$f":"C36+1","v":10},{"$nulls":13},{"$f":"IF(M34=\"\",\"\",IF(M34>M40,K34,K40))","v":""},{"$f":"L5+10","v":11}]
[null,"M11",{"$nulls":3},"Ln.","Score",{"$nulls":9},"M54"]
[11,{"$f":"INDEX(Qual!$A$8:$C$39,MATCH(A39,Qual!$A$8:$A$39,0),3)","v":"DAVIS, SCOTT"},{"$f":"L5+28","v":29},null,{"$f":"IF(D39=\"\",\"\",IF(D39>D40,B39,B40))","v":""},{"$f":"$L$5+28","v":29}]
[22,{"$f":"INDEX(Qual!$A$8:$C$39,MATCH(A40,Qual!$A$8:$A$39,0),3)","v":"IRVIN, BRAD"},{"$f":"C39+1","v":30},null,"M30",{"$nulls":5},{"$f":"IF(G39=\"\",\"\",IF(G39>G42,E39,E42))","v":""},{"$f":"L34+1","v":18}]
[null,"M12"]
[6,{"$f":"INDEX(Qual!$A$8:$C$39,MATCH(A42,Qual!$A$8:$A$39,0),3)","v":"LANGER, DAVE"},{"$f":"L5+24","v":25},null,{"$f":"IF(D42=\"\",\"\",IF(D42>D43,B42,B43))","v":""},{"$f":"F39+1","v":30}]
[27,{"$f":"INDEX(Qual!$A$8:$C$39,MATCH(A43,Qual!$A$8:$A$39,0),3)","v":"URBI, GORDON"},{"$f":"C42+1","v":26}]
[null,"M13",{"$nulls":3},"Ln.","Score",{"$nulls":15},{"$f":"IF(S37=\"\",\"\",IF(S37>S49,Q37,Q49))","v":""},{"$f":"X20+1","v":16}]
[7,{"$f":"INDEX(Qual!$A$8:$C$39,MATCH(A45,Qual!$A$8:$A$39,0),3)","v":"DOWNER, ROB"},{"$f":"L5+10","v":11},null,{"$f":"IF(D45=\"\",\"\",IF(D45>D46,B45,B46))","v":""},{"$f":"$L$5+14","v":15},{"$nulls":5},"Ln.","Score"]
[26,{"$f":"INDEX(Qual!$A$8:$C$39,MATCH(A46,Qual!$A$8:$A$39,0),3)","v":"HANKE, KURT"},{"$f":"C45+1","v":12},null,"M31",{"$nulls":5},{"$f":"IF(G45=\"\",\"\",IF(G45>G48,E45,E48))","v":""},{"$f":"L5+12","v":13}]
[null,"M14",{"$nulls":8},"M44"]
[10,{"$f":"INDEX(Qual!$A$8:$C$39,MATCH(A48,Qual!$A$8:$A$39,0),3)","v":"HAVLISH, TOM"},{"$f":"L5+18","v":19},null,{"$f":"IF(D48=\"\",\"\",IF(D48>D49,B48,B49))","v":""},{"$f":"F45+1","v":16}]
[23,{"$f":"INDEX(Qual!$A$8:$C$39,MATCH(A49,Qual!$A$8:$A$39,0),3)","v":"BOHN, STEVE"},{"$f":"C48+1","v":20},{"$nulls":13},{"$f":"IF(M46=\"\",\"\",IF(M46>M52,K46,K52))","v":""},{"$f":"R37+1","v":12}]
[null,"M15",{"$nulls":3},"Ln.","Score"]
[15,{"$f":"INDEX(Qual!$A$8:$C$39,MATCH(A51,Qual!$A$8:$A$39,0),3)","v":"JONES, DAVE"},{"$f":"L5+12","v":13},null,{"$f":"IF(D51=\"\",\"\",IF(D51>D52,B51,B52))","v":""},{"$f":"$L$5+6","v":7}]
[18,{"$f":"INDEX(Qual!$A$8:$C$39,MATCH(A52,Qual!$A$8:$A$39,0),3)","v":"WRIGHT, DANA"},{"$f":"C51+1","v":14},null,"M32",{"$nulls":5},{"$f":"IF(G51=\"\",\"\",IF(G51>G54,E51,E54))","v":""},{"$f":"L46+1","v":14}]
[null,"M16",{"$nulls":26},"TOURNAMENT CHAMPION"]
[2,{"$f":"INDEX(Qual!$A$8:$C$39,MATCH(A54,Qual!$A$8:$A$39,0),3)","v":"CAUGHEY, STEVE"},{"$f":"L5+2","v":3},null,{"$f":"IF(D54=\"\",\"\",IF(D54>D55,B54,B55))","v":""},{"$f":"F51+1","v":8},{"$nulls":22},{"$f":"IF(AE32>AE95,AC32,IF(AE33>AE96,AC32,AC95))","v":""}]
[31,{"$f":"INDEX(Qual!$A$8:$C$39,MATCH(A55,Qual!$A$8:$A$39,0),3)","v":"SCHOSSOW, FRED"},{"$f":"C54+1","v":4}]
[]
[]
[{"$nulls":4},"L17","Ln.","Score",null,"Ln.","Score"]
[{"$nulls":3},"(Loser M1)",{"$f":"IF(D9=\"\",\"\",IF(D9<D10,B9,B10))","v":""},{"$f":"$L$5","v":1},null,{"$f":"IF(G59=\"\",\"\",IF(G59>G60,E59,E60))","v":""},{"$f":"L5+30","v":31},null,null,"Ln.","Score"]
[{"$nulls":3},"(Loser M2)",{"$f":"IF(D12=\"\",\"\",IF(D12<D13,B12,B13))","v":""},{"$f":"F59+1","v":2},null,"L33",null,null,{"$f":"IF(J59=\"\",\"\",IF(J59>J62,H59,H62))","v":""},{"$f":"L5+4","v":5}]
[{"$nulls":10},"L45"]
[{"$nulls":6},"(Loser M29)",{"$f":"IF(G33=\"\",\"\",IF(G33<G36,E33,E36))","v":""},{"$f":"I59+1","v":32},{"$nulls":5},"Ln.","Score",{"$nulls":7}," "]
[{"$nulls":13},{"$f":"IF(M60=\"\",\"\",IF(M60>M66,K60,K66))","v":""},{"$f":"L5+26","v":27},{"$nulls":8}," "]
[{"$nulls":4},"L18","Ln.","Score",null,"Ln.","Score",{"$nulls":3},"L49",{"$nulls":8}," "," "]
[{"$nulls":3},"(Loser M3)",{"$f":"IF(D15=\"\",\"\",IF(D15<D16,B15,B16))","v":""},{"$f":"$L$5+8","v":9},null,{"$f":"IF(G65=\"\",\"\",IF(G65>G66,E65,E66))","v":""},{"$f":"L5+26","v":27},{"$nulls":8},"Ln.","Score",{"$nulls":3}," "," "]
[{"$nulls":3},"(Loser M4)",{"$f":"IF(D18=\"\",\"\",IF(D18<D19,B18,B19))","v":""},{"$f":"F65+1","v":10},null,"L34",null,null,{"$f":"IF(J65=\"\",\"\",IF(J65>J68,H65,H68))","v":""},{"$f":"L60+1","v":6},{"$nulls":4},{"$f":"IF(P63=\"\",\"\",IF(P63>P69,N63,N69))","v":""},{"$f":"L5+28","v":29},null,""]
[{"$nulls":16},"L55"]
[{"$nulls":6},"(Loser M30)",{"$f":"IF(G39=\"\",\"\",IF(G39<G42,E39,E42))","v":""},{"$f":"I65+1","v":28}]
[{"$nulls":12},"(Loser M41)",{"$f":"IF(M10=\"\",\"\",IF(M10<M16,K10,K16))","v":""},{"$f":"O63+1","v":28}]
[{"$nulls":4},"L19","Ln.","Score",null,"Ln.","Score"]
[{"$nulls":3},"(Loser M5)",{"$f":"IF(D21=\"\",\"\",IF(D21<D22,B21,B22))","v":""},{"$f":"$L$5+16","v":17},null,{"$f":"IF(G71=\"\",\"\",IF(G71>G72,E71,E72))","v":""},{"$f":"L5+22","v":23},null,null,"Ln.","Score",{"$nulls":7},"Ln.","Score"," "]
[{"$nulls":3},"(Loser M6)",{"$f":"IF(D24=\"\",\"\",IF(D24<D25,B24,B25))","v":""},{"$f":"F71+1","v":18},null,"L35",null,null,{"$f":"IF(J71=\"\",\"\",IF(J71>J74,H71,H74))","v":""},{"$f":"L5","v":1},{"$nulls":7},{"$f":"IF(S66=\"\",\"\",IF(S66>S78,Q66,Q78))","v":""},{"$f":"L5+30","v":31}]
[{"$nulls":10},"L46",{"$nulls":8},"L57"]
[{"$nulls":6},"(Loser M31)",{"$f":"IF(G45=\"\",\"\",IF(G45<G48,E45,E48))","v":""},{"$f":"I71+1","v":24},{"$nulls":5},"Ln.","Score"]
[{"$nulls":13},{"$f":"IF(M72=\"\",\"\",IF(M72>M78,K72,K78))","v":""},{"$f":"L5+2","v":3},{"$nulls":8},"Ln.","Score"]
[{"$nulls":4},"L20","Ln.","Score",null,"Ln.","Score",{"$nulls":3},"L50",{"$nulls":8},{"$f":"IF(V72=\"\",\"\",IF(V72>V81,T72,T81))","v":""},{"$f":"L5+20","v":21}]
[{"$nulls":3},"(Loser M7)",{"$f":"IF(D27=\"\",\"\",IF(D27<D28,B27,B28))","v":""},{"$f":"$L$5+24","v":25},null,{"$f":"IF(G77=\"\",\"\",IF(G77>G78,E77,E78))","v":""},{"$f":"L5+18","v":19},{"$nulls":13},"L60"]
[{"$nulls":3},"(Loser M8)",{"$f":"IF(D30=\"\",\"\",IF(D30<D31,B30,B31))","v":""},{"$f":"F77+1","v":26},null,"L36",null,null,{"$f":"IF(J77=\"\",\"\",IF(J77>J80,H77,H80))","v":""},{"$f":"L72+1","v":2},{"$nulls":4},{"$f":"IF(P75=\"\",\"\",IF(P75>P81,N75,N81))","v":""},{"$f":"R66+1","v":30}]
[{"$nulls":16}," "]
[{"$nulls":6},"(Loser M32)",{"$f":"IF(G51=\"\",\"\",IF(G51<G54,E51,E54))","v":""},{"$f":"I77+1","v":20}]
[{"$nulls":12},"(Loser M42)",{"$f":"IF(M22=\"\",\"\",IF(M22<M28,K22,K28))","v":""},{"$f":"O75+1","v":4},{"$nulls":3},"(Loser L54)",{"$f":"IF(S37=\"\",\"\",IF(S37<S49,Q37,Q49))","v":""},{"$f":"U72+1","v":32}]
[{"$nulls":4},"L21","Ln.","Score",null,"Ln.","Score"]
[{"$nulls":3},"(Loser M9)",{"$f":"IF(D33=\"\",\"\",IF(D33<D34,B33,B34))","v":""},{"$f":"$L$5+30","v":31},null,{"$f":"IF(G83=\"\",\"\",IF(G83>G84,E83,E84))","v":""},{"$f":"L5+14","v":15},null,null,"Ln.","Score"]
[{"$nulls":3},"(Loser M10)",{"$f":"IF(D36=\"\",\"\",IF(D36<D37,B36,B37))","v":""},{"$f":"F83+1","v":32},null,"L37",null,null,{"$f":"IF(J83=\"\",\"\",IF(J83>J86,H83,H86))","v":""},{"$f":"L5+28","v":29}]
[{"$nulls":10},"L47"]
[{"$nulls":6},"(Loser M25)",{"$f":"IF(G9=\"\",\"\",IF(G9<G12,E9,E12))","v":""},{"$f":"I83+1","v":16},{"$nulls":5},"Ln.","Score"]
[{"$nulls":13},{"$f":"IF(M84=\"\",\"\",IF(M84>M90,K84,K90))","v":""},{"$f":"L5+10","v":11}]
[{"$nulls":4},"L22","Ln.","Score",null,"Ln.","Score",{"$nulls":3},"L51",{"$nulls":11},{"$f":"IF(Y76=\"\",\"\",IF(Y76>Y100,W76,W100))","v":""},{"$f":"L5+22","v":23}]
[{"$nulls":3},"(Loser M11)",{"$f":"IF(D39=\"\",\"\",IF(D39<D40,B39,B40))","v":""},{"$f":"$L$5+20","v":21},null,{"$f":"IF(G89=\"\",\"\",IF(G89>G90,E89,E90))","v":""},{"$f":"L5+10","v":11},{"$nulls":8},"Ln.","Score",{"$nulls":6},"L61"]
[{"$nulls":3},"(Loser M12)",{"$f":"IF(D42=\"\",\"\",IF(D42<D43,B42,B43))","v":""},{"$f":"F89+1","v":22},null,"L38",null,null,{"$f":"IF(J89=\"\",\"\",IF(J89>J92,H89,H92))","v":""},{"$f":"L84+1","v":30},{"$nulls":4},{"$f":"IF(P87=\"\",\"\",IF(P87>P93,N87,N93))","v":""},{"$f":"L5+22","v":23},null,""]
[{"$nulls":16},"L56"]
[{"$nulls":6},"(Loser M26)",{"$f":"IF(G15=\"\",\"\",IF(G15<G18,E15,E18))","v":""},{"$f":"I89+1","v":12}]
[{"$nulls":12},"(Loser M43)",{"$f":"IF(M34=\"\",\"\",IF(M34<M40,K34,K40))","v":""},{"$f":"O87+1","v":12}]
[{"$nulls":4},"L23","Ln.","Score",null,"Ln.","Score"]
[{"$nulls":3},"(Loser M13)",{"$f":"IF(D45=\"\",\"\",IF(D45<D46,B45,B46))","v":""},{"$f":"$L$5+12","v":13},null,{"$f":"IF(G95=\"\",\"\",IF(G95>G96,E95,E96))","v":""},{"$f":"L5+6","v":7},null,null,"Ln.","Score",{"$nulls":7},"Ln.","Score",{"$nulls":6},{"$f":"IF(AB88=\"\",\"\",IF(AB88>AB102,Z88,Z102))","v":""},{"$f":"AD32+1","v":26}]
[{"$nulls":3},"(Loser M14)",{"$f":"IF(D48=\"\",\"\",IF(D48<D49,B48,B49))","v":""},{"$f":"F95+1","v":14},null,"L39",null,null,{"$f":"IF(J95=\"\",\"\",IF(J95>J98,H95,H98))","v":""},{"$f":"L5+8","v":9},{"$nulls":7},{"$f":"IF(S90=\"\",\"\",IF(S90>S102,Q90,Q102))","v":""},{"$f":"L5+24","v":25},{"$nulls":8},{"$f":"AD33+1","v":28}]
[{"$nulls":10},"L48",{"$nulls":8},"L58"]
[{"$nulls":6},"(Loser M27)",{"$f":"IF(G21=\"\",\"\",IF(G21<G24,E21,E24))","v":""},{"$f":"I95+1","v":8},{"$nulls":5},"Ln.","Score"]
[{"$nulls":13},{"$f":"IF(M96=\"\",\"\",IF(M96>M102,K96,K102))","v":""},{"$f":"L5+18","v":19}]
[{"$nulls":4},"L24","Ln.","Score",null,"Ln.","Score",{"$nulls":3},"L52",{"$nulls":8},{"$f":"IF(V96=\"\",\"\",IF(V96>V105,T96,T105))","v":""},{"$f":"X76+1","v":22}]
[{"$nulls":3},"(Loser M15)",{"$f":"IF(D51=\"\",\"\",IF(D51<D52,B51,B52))","v":""},{"$f":"$L$5+4","v":5},null,{"$f":"IF(G101=\"\",\"\",IF(G101>G102,E101,E102))","v":""},{"$f":"L5+2","v":3}]
[{"$nulls":3},"(Loser M16)",{"$f":"IF(D54=\"\",\"\",IF(D54<D55,B54,B55))","v":""},{"$f":"F101+1","v":6},null,"L40",null,null,{"$f":"IF(J101=\"\",\"\",IF(J101>J104,H101,H104))","v":""},{"$f":"L96+1","v":10},{"$nulls":4},{"$f":"IF(P99=\"\",\"\",IF(P99>P105,N99,N105))","v":""},{"$f":"R90+1","v":24},{"$nulls":6},"(Loser L59)",{"$f":"IF(Y20=\"\",\"\",IF(Y20<Y44,W20,W44))","v":""}]
[{"$nulls":16}," "]
[{"$nulls":6},"(Loser M28)",{"$f":"IF(G27=\"\",\"\",IF(G27<G30,E27,E30))","v":""},{"$f":"I101+1","v":4}]
[{"$nulls":12},"(Loser M44)",{"$f":"IF(M46=\"\",\"\",IF(M46<M52,K46,K52))","v":""},{"$f":"O99+1","v":20},{"$nulls":3},"(Loser L53)",{"$f":"IF(S13=\"\",\"\",IF(S13<S25,Q13,Q25))","v":""},{"$f":"U96+1","v":26}]

{"sheet":"2GMP","index":8,"n_rows":84,"n_cols":158,"rows_kept":84,"hidden":true,"merged":[[6,83,6,95],[6,96,6,98],[6,99,6,101],[6,102,6,104],[6,105,6,107],[7,83,7,95],[7,96,7,98],[7,99,7,101],[7,102,7,104],[7,105,7,107],[8,83,8,95],[8,96,8,98],[8,99,8,101],[8,102,8,104],[8,105,8,107],[9,83,9,95],[9,96,9,98],[9,99,9,101],[9,102,9,104],[9,105,9,107],[10,83,10,95],[10,96,10,98],[10,99,10,101],[10,102,10,104],[10,105,10,107],[11,83,11,95],[11,96,11,98],[11,99,11,101],[11,102,11,104],[11,105,11,107],[12,45,12,47],[12,48,12,50],[12,72,12,74],[12,75,12,77],[12,83,12,95],[12,96,12,98],[12,99,12,101],[12,102,12,104],[12,105,12,107],[13,45,13,47],[13,48,13,50],[13,72,13,74],[13,75,13,77],[13,83,13,95],[13,96,13,98],[13,99,13,101],[13,102,13,104],[13,105,13,107],[14,2,14,14],[14,15,14,17],[14,18,14,20],[14,21,14,23],[14,24,14,26],[14,29,14,41],[14,42,14,44],[14,45,14,47],[14,48,14,50],[14,51,14,53],[14,56,14,68],[14,69,14,71],[14,72,14,74],[14,75,14,77],[14,78,14,80],[14,83,14,95],[14,96,14,98],[14,99,14,101],[14,102,14,104],[14,105,14,107],[15,2,15,14],[15,15,15,17],[15,18,15,20],[15,21,15,23],[15,24,15,26],[15,29,15,41],[15,42,15,44],[15,45,15,47],[15,48,15,50],[15,51,15,53],[15,56,15,68],[15,69,15,71],[15,72,15,74],[15,75,15,77],[15,78,15,80],[15,83,15,95],[15,96,15,98],[15,99,15,101],[15,102,15,104],[15,105,15,107],[16,2,16,14],[16,15,16,17],[16,18,16,20],[16,21,16,23],[16,24,16,26],[16,29,16,41],[16,42,16,44],[16,45,16,47],[16,48,16,50],[16,51,16,53],[16,56,16,68],[16,69,16,71],[16,72,16,74],[16,75,16,77],[16,78,16,80],[16,83,16,95],[16,96,16,98],[16,99,16,101],[16,102,16,104],[16,105,16,107],[17,2,17,14],[17,15,17,17],[17,18,17,20],[17,21,17,23],[17,24,17,26],[17,29,17,41],[17,42,17,44],[17,45,17,47],[17,48,17,50],[17,51,17,53],[17,56,17,68],[17,69,17,71],[17,72,17,74],[17,75,17,77],[17,78,17,80],[17,83,17,95],[17,96,17,98],[17,99,17,101],[17,102,17,104],[17,105,17,107],[21,48,21,50],[21,56,21,68],[21,69,21,71],[21,72,21,74],[21,75,21,77],[21,83,21,95],[21,96,21,98],[21,99,21,101],[21,102,21,104],[21,105,21,107],[22,72,22,74],[22,75,22,77],[22,83,22,95],[22,96,22,98],[22,99,22,101],[22,102,22,104],[22,105,22,107],[23,83,23,95],[23,96,23,98],[23,99,23,101],[23,102,23,104],[23,105,23,107],[24,83,24,95],[24,96,24,98],[24,99,24,101],[24,102,24,104],[24,105,24,107],[25,2,25,14],[25,15,25,17],[25,24,25,26],[25,29,25,41],[25,42,25,44],[25,83,25,95],[25,96,25,98],[25,99,25,101],[25,102,25,104],[25,105,25,107],[26,72,26,74],[26,75,26,77],[26,83,26,95],[26,96,26,98],[26,99,26,101],[26,102,26,104],[26,105,26,107],[27,45,27,47],[27,48,27,50],[27,72,27,74],[27,75,27,77],[27,83,27,95],[27,96,27,98],[27,99,27,101],[27,102,27,104],[27,105,27,107],[28,72,28,74],[28,75,28,77],[28,83,28,95],[28,96,28,98],[28,99,28,101],[28,102,28,104],[28,105,28,107],[29,2,29,14],[29,15,29,17],[29,24,29,26],[29,29,29,41],[29,42,29,44],[29,51,29,53],[29,56,29,68],[29,69,29,71],[29,83,29,95],[29,96,29,98],[29,99,29,101],[29,102,29,104],[29,105,29,107],[30,2,30,14],[30,15,30,17],[30,18,30,20],[30,21,30,23],[30,24,30,26],[30,29,30,41],[30,42,30,44],[30,45,30,47],[30,48,30,50],[30,51,30,53],[30,56,30,68],[30,83,30,95],[30,96,30,98],[30,99,30,101],[30,102,30,104],[30,105,30,107],[31,2,31,14],[31,15,31,17],[31,18,31,20],[31,21,31,23],[31,24,31,26],[31,29,31,41],[31,51,31,53],[31,56,31,68],[31,69,31,71],[31,72,31,74],[31,75,31,77],[31,78,31,80],[31,83,31,95],[31,96,31,98],[31,99,31,101],[31,102,31,104],[31,105,31,107],[32,2,32,14],[32,15,32,17],[32,45,32,47],[32,48,32,50],[32,51,32,53],[32,56,32,68],[32,69,32,71],[32,72,32,74],[32,83,32,95],[32,96,32,98],[32,99,32,101],[32,102,32,104],[32,105,32,107],[33,2,33,14],[33,15,33,17],[33,18,33,20],[33,21,33,23],[33,24,33,26],[33,29,33,41],[33,42,33,44],[33,45,33,47],[33,48,33,50],[33,51,33,53],[33,56,33,68],[33,69,33,71],[33,72,33,74],[33,75,33,77],[33,78,33,80],[33,83,33,95],[33,96,33,98],[33,99,33,101],[33,102,33,104],[33,105,33,107],[37,56,37,68],[37,69,37,71],[37,72,37,74],[37,75,37,77],[37,78,37,80],[37,83,37,95],[37,96,37,98],[37,99,37,101],[37,102,37,104],[37,105,37,107],[38,56,38,68],[38,69,38,71],[38,72,38,74],[38,75,38,77],[38,78,38,80],[38,83,38,95],[38,96,38,98],[38,99,38,101],[38,102,38,104],[38,105,38,107],[39,2,39,14],[39,15,39,17],[39,18,39,20],[39,21,39,23],[39,24,39,26],[39,29,39,41],[39,42,39,44],[39,51,39,53],[39,56,39,68],[39,69,39,71],[39,72,39,74],[39,75,39,77],[39,78,39,80],[39,83,39,95],[39,96,39,98],[39,99,39,101],[39,102,39,104],[39,105,39,107],[40,2,40,14],[40,15,40,17],[40,18,40,20],[40,21,40,23],[40,24,40,26],[40,56,40,68],[40,69,40,71],[40,72,40,74],[40,75,40,77],[40,78,40,80],[40,83,40,95],[40,96,40,98],[40,99,40,101],[40,102,40,104],[40,105,40,107],[41,2,41,14],[41,15,41,17],[41,24,41,26],[41,29,41,41],[41,42,41,44],[41,51,41,53],[41,56,41,68],[41,69,41,71],[41,72,41,74],[41,75,41,77],[41,78,41,80],[41,83,41,95],[41,96,41,98],[41,99,41,101],[41,102,41,104],[41,105,41,107],[42,42,42,44],[42,45,42,47],[42,51,42,53],[42,56,42,68],[42,69,42,71],[42,72,42,74],[42,75,42,77],[42,78,42,80],[42,83,42,95],[42,96,42,98],[42,99,42,101],[42,102,42,104],[42,105,42,107],[43,2,43,14],[43,15,43,17],[43,18,43,20],[43,21,43,23],[43,24,43,26],[43,29,43,41],[43,42,43,44],[43,45,43,47],[43,48,43,50],[43,51,43,53],[43,56,43,68],[43,69,43,71],[43,72,43,74],[43,75,43,77],[43,78,43,80],[43,83,43,95],[43,96,43,98],[43,99,43,101],[43,102,43,104],[43,105,43,107],[44,2,44,14],[44,15,44,17],[44,18,44,20],[44,21,44,23],[44,24,44,26],[44,29,44,41],[44,42,44,44],[44,45,44,47],[44,48,44,50],[44,51,44,53],[44,56,44,68],[44,69,44,71],[44,72,44,74],[44,75,44,77],[44,78,44,80],[44,83,44,95],[44,96,44,98],[44,99,44,101],[44,102,44,104],[44,105,44,107],[45,2,45,14],[45,15,45,17],[45,18,45,20],[45,21,45,23],[45,24,45,26],[45,29,45,41],[45,42,45,44],[45,45,45,47],[45,48,45,50],[45,51,45,53],[45,56,45,68],[45,69,45,71],[45,72,45,74],[45,75,45,77],[45,78,45,80],[45,83,45,95],[45,96,45,98],[45,99,45,101],[45,102,45,104],[45,105,45,107],[46,2,46,14],[46,15,46,17],[46,18,46,20],[46,21,46,23],[46,24,46,26],[46,29,46,41],[46,42,46,44],[46,45,46,47],[46,48,46,50],[46,51,46,53],[46,56,46,68],[46,69,46,71],[46,72,46,74],[46,75,46,77],[46,78,46,80],[46,83,46,95],[46,96,46,98],[46,99,46,101],[46,102,46,104],[46,105,46,107],[47,2,47,14],[47,15,47,17],[47,18,47,20],[47,21,47,23],[47,24,47,26],[47,29,47,41],[47,42,47,44],[47,45,47,47],[47,48,47,50],[47,51,47,53],[47,56,47,68],[47,69,47,71],[47,72,47,74],[47,75,47,77],[47,78,47,80],[47,83,47,95],[47,96,47,98],[47,99,47,101],[47,102,47,104],[47,105,47,107],[48,2,48,14],[48,15,48,17],[48,18,48,20],[48,21,48,23],[48,24,48,26],[48,29,48,41],[48,42,48,44],[48,45,48,47],[48,48,48,50],[48,51,48,53],[48,56,48,68],[48,69,48,71],[48,72,48,74],[48,75,48,77],[48,78,48,80],[48,83,48,95],[48,96,48,98],[48,99,48,101],[48,102,48,104],[48,105,48,107],[49,2,49,14],[49,15,49,17],[49,18,49,20],[49,21,49,23],[49,24,49,26],[49,29,49,41],[49,42,49,44],[49,45,49,47],[49,48,49,50],[49,51,49,53],[49,56,49,68],[49,69,49,71],[49,72,49,74],[49,75,49,77],[49,78,49,80],[49,83,49,95],[49,96,49,98],[49,99,49,101],[49,102,49,104],[49,105,49,107],[52,86,53,89],[52,90,53,93],[52,94,53,97],[52,98,53,101],[52,102,53,105],[52,110,53,113],[52,114,53,117],[52,118,53,125],[52,126,53,129],[52,130,53,132],[53,15,53,17],[53,18,53,20],[53,21,53,23],[53,24,53,26],[53,27,53,29],[53,30,53,32],[53,33,53,35],[53,36,53,38],[53,39,53,41],[53,42,53,44],[53,45,53,47],[53,48,53,50],[53,51,53,53],[53,54,53,55],[53,56,53,58],[53,59,53,61],[53,62,53,64],[53,65,53,67],[53,68,53,70],[53,71,53,73],[53,74,53,76],[53,77,53,79],[53,80,53,82],[53,83,53,85],[53,107,53,109],[54,2,54,14],[54,15,54,17],[54,18,54,20],[54,21,54,23],[54,24,54,26],[54,27,54,29],[54,30,54,32],[54,33,54,35],[54,36,54,38],[54,39,54,41],[54,42,54,44],[54,45,54,47],[54,48,54,50],[54,51,54,53],[54,54,54,55],[54,56,54,58],[54,59,54,61],[54,62,54,64],[54,65,54,67],[54,68,54,70],[54,71,54,73],[54,74,54,76],[54,77,54,79],[54,80,54,82],[54,83,54,85],[54,86,54,89],[54,90,54,93],[54,94,54,97],[54,98,54,101],[54,102,54,105],[54,107,54,109],[54,110,54,113],[54,114,54,117],[54,118,54,125],[54,126,54,129],[54,130,54,132],[55,2,55,14],[55,15,55,17],[55,18,55,20],[55,21,55,23],[55,24,55,26],[55,27,55,29],[55,30,55,32],[55,33,55,35],[55,36,55,38],[55,39,55,41],[55,42,55,44],[55,45,55,47],[55,48,55,50],[55,51,55,53],[55,54,55,55],[55,56,55,58],[55,59,55,61],[55,62,55,64],[55,65,55,67],[55,68,55,70],[55,71,55,73],[55,74,55,76],[55,77,55,79],[55,80,55,82],[55,83,55,85],[55,86,55,89],[55,90,55,93],[55,94,55,97],[55,98,55,101],[55,102,55,105],[55,107,55,109],[55,110,55,113],[55,114,55,117],[55,118,55,125],[55,126,55,129],[55,130,55,132],[56,2,56,14],[56,15,56,17],[56,18,56,20],[56,21,56,23],[56,24,56,26],[56,27,56,29],[56,30,56,32],[56,33,56,35],[56,36,56,38],[56,39,56,41],[56,42,56,44],[56,45,56,47],[56,48,56,50],[56,51,56,53],[56,54,56,55],[56,56,56,58],[56,59,56,61],[56,62,56,64],[56,65,56,67],[56,68,56,70],[56,71,56,73],[56,74,56,76],[56,77,56,79],[56,80,56,82],[56,83,56,85],[56,86,56,89],[56,90,56,93],[56,94,56,97],[56,98,56,101],[56,102,56,105],[56,107,56,109],[56,110,56,113],[56,114,56,117],[56,118,56,125],[56,126,56,129],[56,130,56,132],[57,2,57,14],[57,15,57,17],[57,18,57,20],[57,21,57,23],[57,24,57,26],[57,27,57,29],[57,30,57,32],[57,33,57,35],[57,36,57,38],[57,39,57,41],[57,42,57,44],[57,45,57,47],[57,48,57,50],[57,51,57,53],[57,54,57,55],[57,56,57,58],[57,59,57,61],[57,62,57,64],[57,65,57,67],[57,68,57,70],[57,71,57,73],[57,74,57,76],[57,77,57,79],[57,80,57,82],[57,83,57,85],[57,86,57,89],[57,90,57,93],[57,94,57,97],[57,98,57,101],[57,102,57,105],[57,107,57,109],[57,110,57,113],[57,114,57,117],[57,118,57,125],[57,126,57,129],[57,130,57,132],[58,2,58,14],[58,15,58,17],[58,18,58,20],[58,21,58,23],[58,24,58,26],[58,27,58,29],[58,30,58,32],[58,33,58,35],[58,36,58,38],[58,39,58,41],[58,42,58,44],[58,45,58,47],[58,48,58,50],[58,51,58,53],[58,54,58,55],[58,56,58,58],[58,59,58,61],[58,62,58,64],[58,65,58,67],[58,68,58,70],[58,71,58,73],[58,74,58,76],[58,77,58,79],[58,80,58,82],[58,83,58,85],[58,86,58,89],[58,90,58,93],[58,94,58,97],[58,98,58,101],[58,102,58,105],[58,107,58,109],[58,110,58,113],[58,114,58,117],[58,118,58,125],[58,126,58,129],[58,130,58,132],[59,2,59,14],[59,15,59,17],[59,18,59,20],[59,21,59,23],[59,24,59,26],[59,27,59,29],[59,30,59,32],[59,33,59,35],[59,36,59,38],[59,39,59,41],[59,42,59,44],[59,45,59,47],[59,48,59,50],[59,51,59,53],[59,54,59,55],[59,56,59,58],[59,59,59,61],[59,62,59,64],[59,65,59,67],[59,68,59,70],[59,71,59,73],[59,74,59,76],[59,77,59,79],[59,80,59,82],[59,83,59,85],[59,86,59,89],[59,90,59,93],[59,94,59,97],[59,98,59,101],[59,102,59,105],[59,107,59,109],[59,110,59,113],[59,114,59,117],[59,118,59,125],[59,126,59,129],[59,130,59,132],[60,2,60,14],[60,15,60,17],[60,18,60,20],[60,21,60,23],[60,24,60,26],[60,27,60,29],[60,30,60,32],[60,33,60,35],[60,36,60,38],[60,39,60,41],[60,42,60,44],[60,45,60,47],[60,48,60,50],[60,51,60,53],[60,54,60,55],[60,56,60,58],[60,59,60,61],[60,62,60,64],[60,65,60,67],[60,68,60,70],[60,71,60,73],[60,74,60,76],[60,77,60,79],[60,80,60,82],[60,83,60,85],[60,86,60,89],[60,90,60,93],[60,94,60,97],[60,98,60,101],[60,102,60,105],[60,107,60,109],[60,110,60,113],[60,114,60,117],[60,118,60,125],[60,126,60,129],[60,130,60,132],[61,2,61,14],[61,15,61,17],[61,18,61,20],[61,21,61,23],[61,24,61,26],[61,27,61,29],[61,30,61,32],[61,33,61,35],[61,36,61,38],[61,39,61,41],[61,42,61,44],[61,45,61,47],[61,48,61,50],[61,51,61,53],[61,54,61,55],[61,56,61,58],[61,59,61,61],[61,62,61,64],[61,65,61,67],[61,68,61,70],[61,71,61,73],[61,74,61,76],[61,77,61,79],[61,80,61,82],[61,83,61,85],[61,86,61,89],[61,90,61,93],[61,94,61,97],[61,98,61,101],[61,102,61,105],[61,107,61,109],[61,110,61,113],[61,114,61,117],[61,118,61,125],[61,126,61,129],[61,130,61,132],[62,2,62,14],[62,15,62,17],[62,18,62,20],[62,21,62,23],[62,24,62,26],[62,27,62,29],[62,30,62,32],[62,33,62,35],[62,36,62,38],[62,39,62,41],[62,42,62,44],[62,45,62,47],[62,48,62,50],[62,51,62,53],[62,54,62,55],[62,56,62,58],[62,59,62,61],[62,62,62,64],[62,65,62,67],[62,68,62,70],[62,71,62,73],[62,74,62,76],[62,77,62,79],[62,80,62,82],[62,83,62,85],[62,86,62,89],[62,90,62,93],[62,94,62,97],[62,98,62,101],[62,102,62,105],[62,107,62,109],[62,110,62,113],[62,114,62,117],[62,118,62,125],[62,126,62,129],[62,130,62,132],[63,2,63,14],[63,15,63,17],[63,18,63,20],[63,21,63,23],[63,24,63,26],[63,27,63,29],[63,30,63,32],[63,33,63,35],[63,36,63,38],[63,39,63,41],[63,42,63,44],[63,45,63,47],[63,48,63,50],[63,51,63,53],[63,54,63,55],[63,56,63,58],[63,59,63,61],[63,62,63,64],[63,65,63,67],[63,68,63,70],[63,71,63,73],[63,74,63,76],[63,77,63,79],[63,80,63,82],[63,83,63,85],[63,86,63,89],[63,90,63,93],[63,94,63,97],[63,98,63,101],[63,102,63,105],[63,107,63,109],[63,110,63,113],[63,114,63,117],[63,118,63,125],[63,126,63,129],[63,130,63,132],[64,2,64,14],[64,15,64,17],[64,18,64,20],[64,21,64,23],[64,24,64,26],[64,27,64,29],[64,30,64,32],[64,33,64,35],[64,36,64,38],[64,39,64,41],[64,42,64,44],[64,45,64,47],[64,48,64,50],[64,51,64,53],[64,54,64,55],[64,56,64,58],[64,59,64,61],[64,62,64,64],[64,65,64,67],[64,68,64,70],[64,71,64,73],[64,74,64,76],[64,77,64,79],[64,80,64,82],[64,83,64,85],[64,86,64,89],[64,90,64,93],[64,94,64,97],[64,98,64,101],[64,102,64,105],[64,107,64,109],[64,110,64,113],[64,114,64,117],[64,118,64,125],[64,126,64,129],[64,130,64,132],[65,2,65,14],[65,15,65,17],[65,18,65,20],[65,21,65,23],[65,24,65,26],[65,27,65,29],[65,30,65,32],[65,33,65,35],[65,36,65,38],[65,39,65,41],[65,42,65,44],[65,45,65,47],[65,48,65,50],[65,51,65,53],[65,54,65,55],[65,56,65,58],[65,59,65,61],[65,62,65,64],[65,65,65,67],[65,68,65,70],[65,71,65,73],[65,74,65,76],[65,77,65,79],[65,80,65,82],[65,83,65,85],[65,86,65,89],[65,90,65,93],[65,94,65,97],[65,98,65,101],[65,102,65,105],[65,107,65,109],[65,110,65,113],[65,114,65,117],[65,118,65,125],[65,126,65,129],[65,130,65,132],[66,15,66,17],[66,21,66,23],[66,27,66,29],[66,33,66,35],[66,39,66,41],[66,45,66,47],[66,51,66,53],[66,56,66,58],[66,62,66,64],[66,68,66,70],[66,74,66,76],[66,80,66,82],[70,2,70,14],[70,15,70,17],[70,18,70,20],[70,21,70,23],[71,2,71,14],[71,15,71,17],[71,18,71,20],[71,21,71,23],[74,11,74,23],[74,24,74,26],[74,27,74,29],[74,30,74,32],[75,11,75,23],[75,24,75,26],[75,27,75,29],[75,30,75,32],[78,21,78,33],[78,34,78,36],[78,37,78,39],[78,40,78,42],[79,21,79,33],[79,34,79,36],[79,37,79,39],[79,40,79,42],[82,30,82,42],[82,43,82,45],[82,46,82,48],[82,49,82,51],[83,30,83,42],[83,43,83,45],[83,46,83,48],[83,49,83,51]],"merged_total":1295,"flags":["merged_cut"]}
[{"$f":"'Check-In'!$B$1","v":"Midwest Senior Classic"}]
[{"$f":"'Check-In'!$B$2","v":"2022-04-24"}]
[{"$f":"'Check-In'!$B$3","v":"Cedarvale"}]
[{"$nulls":111},"Starting Lane",null,null,1]
[]
[null,null,"Match 1",{"$nulls":12},"G1",null,null,"G2",null,null,"Tot",null,null,"B",{"$nulls":4},"Match 2",{"$nulls":12},"G1",null,null,"G2",null,null,"Tot",null,null,"B",{"$nulls":4},"Match 3",{"$nulls":12},"G1",null,null,"G2",null,null,"Tot",null,null,"B",{"$nulls":4},"Match 4",{"$nulls":12},"G1",null,null,"G2",null,null,"Tot",null,null,"B",{"$nulls":5},"Bowler","G1","G2","G3","G4","G5","G6","G7","G8","G9","G10","G11","G12",{"$nulls":4},"M1","B","M2","B","M3","B","M4","B","M5","B","M6","B","M7","B","M8","B","M9","B","M10","B","M11","B","M12","B","Qual","MP","B","GT","+ / -"]
[null,1,{"$f":"INDEX($DV$7:$DX$18,MATCH(B7,$DW$7:$DW$18,0),3)","v":"OULMAN, DAVE"},{"$nulls":18},{"$f":"P7+S7","v":0},null,null,{"$f":"IF(P7=\"\",\"\",IF(P7>P8,15,IF(P7=P8,7.5,0))+IF(S7>S8,15,IF(S7=S8,7.5,0))+IF(V7>V8,20,IF(V7=V8,10,0)))","v":""},{"$nulls":3},{"$f":"IF(Payout2>=12,IF(Tourn=\"TC\",6,4),6)","v":4},{"$f":"INDEX($DV$7:$DX$18,MATCH(AC7,$DW$7:$DW$18,0),3)","v":"SAVOY, TODD"},{"$nulls":18},{"$f":"AQ7+AT7","v":0},null,null,{"$f":"IF(AQ7=\"\",\"\",IF(AQ7>AQ8,15,IF(AQ7=AQ8,7.5,0))+IF(AT7>AT8,15,IF(AT7=AT8,7.5,0))+IF(AW7>AW8,20,IF(AW7=AW8,7.5,0)))","v":""},{"$nulls":3},{"$f":"IF(Payout2>=12,IF(Tourn=\"TC\",5,9),5)","v":9},{"$f":"INDEX($DV$7:$DX$18,MATCH(BD7,$DW$7:$DW$18,0),3)","v":"GREEN, GARY"},{"$nulls":18},{"$f":"BR7+BU7","v":0},null,null,{"$f":"IF(BR7=\"\",\"\",IF(BR7>BR8,15,IF(BR7=BR8,7.5,0))+IF(BU7>BU8,15,IF(BU7=BU8,7.5,0))+IF(BX7>BX8,20,IF(BX7=BX8,7.5,0)))","v":""},{"$nulls":3},{"$f":"IF(Payout2>=12,IF(Tourn=\"TC\",3,7),3)","v":7},{"$f":"INDEX($DV$7:$DX$18,MATCH(CE7,$DW$7:$DW$18,0),3)","v":"DOWNER, ROB"},{"$nulls":18},{"$f":"CS7+CV7","v":0},null,null,{"$f":"IF(CS7=\"\",\"\",IF(CS7>CS8,15,IF(CS7=CS8,7.5,0))+IF(CV7>CV8,15,IF(CV7=CV8,7.5,0))+IF(CY7>CY8,20,IF(CY7=CY8,7.5,0)))","v":""},{"$nulls":5},1,{"$f":"IF(ISNA(MATCH($DH7,$B$7:$B$18,0)),\"\",$DK$4-1+MATCH($DH7,$B$7:$B$18,0))","v":1},{"$f":"IF(ISNA(MATCH($DH7,$AC$7:$AC$18,0)),\"\",$DK$4-1+MATCH($DH7,$AC$7:$AC$18,0))","v":9},{"$f":"IF(ISNA(MATCH($DH7,$BD$7:$BD$18,0)),\"\",$DK$4-1+MATCH($DH7,$BD$7:$BD$18,0))","v":3},{"$f":"IF(ISNA(MATCH($DH7,$CE$7:$CE$18,0)),\"\",$DK$4-1+MATCH($DH7,$CE$7:$CE$18,0))","v":11},{"$f":"IF(ISNA(MATCH($DH7,$B$23:$B$34,0)),\"\",$DK$4-1+MATCH($DH7,$B$23:$B$34,0))","v":5},{"$f":"IF(ISNA(MATCH($DH7,$AC$23:$AC$34,0)),\"\",$DK$4-1+MATCH($DH7,$AC$23:$AC$34,0))","v":4},{"$f":"IF(ISNA(MATCH($DH7,$BD$23:$BD$34,0)),\"\",$DK$4-1+MATCH($DH7,$BD$23:$BD$34,0))","v":7},{"$f":"IF(Payout2>=12,IF(ISNA(MATCH($DH7,$CE$23:$CE$34,0)),\"\",$DK$4-1+MATCH($DH7,$CE$23:$CE$34,0)),\"P\")","v":12},{"$f":"IF(ISNA(MATCH($DH7,$B$39:$B$50,0)),\"\",$DK$4-1+MATCH($DH7,$B$39:$B$50,0))","v":2},{"$f":"IF(ISNA(MATCH($DH7,$AC$39:$AC$50,0)),\"\",$DK$4-1+MATCH($DH7,$AC$39:$AC$50,0))","v":6},{"$f":"IF(ISNA(MATCH($DH7,$BD$39:$BD$50,0)),\"\",$DK$4-1+MATCH($DH7,$BD$39:$BD$50,0))","v":10},{"$f":"IF(Payout2>=12,\"P\",IF(ISNA(MATCH($DH7,$CE$39:$CE$50,0)),\"\",$DK$4-1+MATCH($DH7,$CE$39:$CE$50,0)))","v":"P"},null,1,1,{"$f":"IF(MPNo<>\"\", IF(MPNo<DV7,\"\",Qual!$C8),IF(MPNo<DV7,\"\",Qual!$C8))","v":"OULMAN, DAVE"},{"$f":"INDEX($C$7:$AA$18,MATCH($DX7,$C$7:$C$18,0),20)","v":0},{"$f":"INDEX($C$7:$AA$18,MATCH($DX7,$C$7:$C$18,0),23)","v":""},{"$f":"INDEX($AC$7:$BB$18,MATCH(DX7,$AD$7:$AD$18,0),21)","v":0},{"$f":"INDEX($AC$7:$BB$18,MATCH(DX7,$AD$7:$AD$18,0),24)","v":""},{"$f":"INDEX($BD$7:$CC$18,MATCH(DX7,$BE$7:$BE$18,0),21)","v":0},{"$f":"INDEX($BD$7:$CC$18,MATCH(DX7,$BE$7:$BE$18,0),24)","v":""},{"$f":"INDEX($CE$7:$DD$18,MATCH(DX7,$CF$7:$CF$18,0),21)","v":0},{"$f":"INDEX($CE$7:$DD$18,MATCH(DX7,$CF$7:$CF$18,0),24)","v":""},{"$f":"INDEX($C$23:$AA$34,MATCH(DX7,$C$23:$C$34,0),20)","v":0},{"$f":"INDEX($C$23:$AA$34,MATCH(DX7,$C$23:$C$34,0),23)","v":""},{"$f":"INDEX($AC$23:$BB$34,MATCH(DX7,$AD$23:$AD$34,0),21)","v":0},{"$f":"INDEX($AC$23:$BB$34,MATCH(DX7,$AD$23:$AD$34,0),24)","v":""},{"$f":"INDEX($BD$23:$CC$34,MATCH(DX7,$BE$23:$BE$34,0),21)","v":0},{"$f":"INDEX($BD$23:$CC$34,MATCH(DX7,$BE$23:$BE$34,0),24)","v":""},{"$f":"INDEX($CE$23:$DD$34,MATCH(DX7,$CF$23:$CF$34,0),21)","v":0},{"$f":"INDEX($CE$23:$DD$34,MATCH(DX7,$CF$23:$CF$34,0),24)","v":""},{"$f":"IF(ISNA(INDEX($C$39:$AA$50,MATCH(DX7,$C$39:$C$50,0),20)),0,INDEX($C$39:$AA$50,MATCH(DX7,$C$39:$C$50,0),20))","v":0},{"$f":"IF(ISNA(INDEX($C$39:$AA$50,MATCH(DX7,$C$39:$C$50,0),23)),\"\",INDEX($C$39:$AA$50,MATCH(DX7,$C$39:$C$50,0),23))","v":""},{"$f":"IF(ISNA(INDEX($AC$39:$BB$50,MATCH(DX7,$AD$39:$AD$50,0),21)),0,INDEX($AC$39:$BB$50,MATCH(DX7,$AD$39:$AD$50,0),21))","v":0},{"$f":"IF(ISNA(INDEX($AC$39:$BB$50,MATCH(DX7,$AD$39:$AD$50,0),24)),\"\",INDEX($AC$39:$BB$50,MATCH(DX7,$AD$39:$AD$50,0),24))","v":""},{"$f":"IF(ISNA(INDEX($BD$39:$CC$50,MATCH(DX7,$BE$39:$BE$50,0),21)),0,INDEX($BD$39:$CC$50,MATCH(DX7,$BE$39:$BE$50,0),21))","v":0},{"$f":"IF(ISNA(INDEX($BD$39:$CC$50,MATCH(DX7,$BE$39:$BE$50,0),24)),\"\",INDEX($BD$39:$CC$50,MATCH(DX7,$BE$39:$BE$50,0),24))","v":""},{"$f":"IF(ISNA(INDEX($CE$39:$DD$50,MATCH(DX7,$CF$39:$CF$50,0),21)),0,INDEX($CE$39:$DD$50,MATCH(DX7,$CF$39:$CF$50,0),21))","v":0},{"$f":"IF(ISNA(INDEX($CE$39:$DD$50,MATCH(DX7,$CF$39:$CF$50,0),24)),\"\",INDEX($CE$39:$DD$50,MATCH(DX7,$CF$39:$CF$50,0),24))","v":""},{"$f":"IF(Master!$C$4=\"Y\",INDEX(Qual!$C$8:$V$19,MATCH(DX7,Qual!$C$8:$C$19,0),20),0)","v":0},{"$f":"DY7+EA7+EC7+EE7+EG7+EI7+EK7+EM7+EO7+EQ7+ES7+EU7","v":0},{"$f":"IF(DZ7=\"\",0,DZ7)+IF(EB7=\"\",0,EB7)+IF(ED7=\"\",0,ED7)+IF(EF7=\"\",0,EF7)+IF(EH7=\"\",0,EH7)+IF(EJ7=\"\",0,EJ7)+IF(EL7=\"\",0,EL7)+IF(EN7=\"\",0,EN7)+IF(EP7=\"\",0,EP7)+IF(ER7=\"\",0,ER7)+IF(ET7=\"\",0,ET7)+IF(EV7=\"\",0,EV7)","v":0},{"$f":"EW7+EX7+EY7","v":0},{"$f":"EZ7-IF($GW$22=\"Y\",($FB$7+Qual!$K$4),$FB$7)*200","v":0},{"$f":"COUNT(P7,AQ7,BR7,CS7,P23,AQ23,BR23,CS23,P39,AQ39,BR39,CS39)*2+IF(Master!$C$4=\"y\",COUNT(Qual!$F$8:$U$8),0)","v":0}]
[null,2,"CAUGHEY, STEVE",{"$nulls":18},{"$f":"P8+S8","v":0},null,null,{"$f":"IF(P7=\"\",\"\",IF(P7<P8,15,IF(P7=P8,7.5,0))+IF(S7<S8,15,IF(S7=S8,7.5,0))+IF(V7<V8,20,IF(V7=V8,10,0)))","v":""},{"$nulls":3},{"$f":"IF(Payout2>=12,IF(Tourn=\"TC\",8,5),8)","v":5},{"$f":"INDEX($DV$7:$DX$18,MATCH(AC8,$DW$7:$DW$18,0),3)","v":"HOMMES, JOHN"},{"$nulls":18},{"$f":"AQ8+AT8","v":0},null,null,{"$f":"IF(AQ7=\"\",\"\",IF(AQ7<AQ8,15,IF(AQ7=AQ8,7.5,0))+IF(AT7<AT8,15,IF(AT7=AT8,7.5,0))+IF(AW7<AW8,20,IF(AW7=AW8,7.5,0)))","v":""},{"$nulls":3},{"$f":"IF(Payout2>=12,IF(Tourn=\"TC\",4,3),4)","v":3},{"$f":"INDEX($DV$7:$DX$18,MATCH(BD8,$DW$7:$DW$18,0),3)","v":"JENSEN, WAYNE"},{"$nulls":18},{"$f":"BR8+BU8","v":0},null,null,{"$f":"IF(BR7=\"\",\"\",IF(BR7<BR8,15,IF(BR7=BR8,7.5,0))+IF(BU7<BU8,15,IF(BU7=BU8,7.5,0))+IF(BX7<BX8,20,IF(BX7=BX8,7.5,0)))","v":""},{"$nulls":3},{"$f":"IF(Payout2>=12,IF(Tourn=\"TC\",6,12),6)","v":12},"BIRKEDAHL, LARRY",{"$nulls":18},{"$f":"CS8+CV8","v":0},null,null,{"$f":"IF(CS7=\"\",\"\",IF(CS7<CS8,15,IF(CS7=CS8,7.5,0))+IF(CV7<CV8,15,IF(CV7=CV8,7.5,0))+IF(CY7<CY8,20,IF(CY7=CY8,7.5,0)))","v":""},{"$nulls":5},2,2,4,10,6,11,8,5,9,3,7,12,"P",null,2,2,{"$f":"IF(MPNo<>\"\", IF(MPNo<DV8,\"\",Qual!$C9),IF(MPNo<DV8,\"\",Qual!$C9))","v":"CAUGHEY, STEVE"},0,"",0,"",0,"",0,"",0,"",0,"",0,"",0,"",0,"",0,"",0,"",0,"",{"$f":"IF(Master!$C$4=\"Y\",INDEX(Qual!$C$8:$V$19,MATCH(DX8,Qual!$C$8:$C$19,0),20),0)","v":0},0,0,0,{"$f":"EZ8-IF($GW$22=\"Y\",($FB$7+Qual!$K$4),$FB$7)*200","v":0}]
[null,3,"JENSEN, WAYNE",{"$nulls":18},0,null,null,{"$f":"IF(P9=\"\",\"\",IF(P9>P10,15,IF(P9=P10,7.5,0))+IF(S9>S10,15,IF(S9=S10,7.5,0))+IF(V9>V10,20,IF(V9=V10,7.5,0)))","v":""},{"$nulls":3},{"$f":"IF(Payout2>=12,IF(Tourn=\"TC\",5,6),5)","v":6},"LANGER, DAVE",{"$nulls":18},0,null,null,{"$f":"IF(AQ9=\"\",\"\",IF(AQ9>AQ10,15,IF(AQ9=AQ10,7.5,0))+IF(AT9>AT10,15,IF(AT9=AT10,7.5,0))+IF(AW9>AW10,20,IF(AW9=AW10,7.5,0)))","v":""},{"$nulls":3},{"$f":"IF(Payout2>=12,IF(Tourn=\"TC\",1,1),1)","v":1},"OULMAN, DAVE",{"$nulls":18},0,null,null,{"$f":"IF(BR9=\"\",\"\",IF(BR9>BR10,15,IF(BR9=BR10,7.5,0))+IF(BU9>BU10,15,IF(BU9=BU10,7.5,0))+IF(BX9>BX10,20,IF(BX9=BX10,7.5,0)))","v":""},{"$nulls":3},{"$f":"IF(Payout2>=12,IF(Tourn=\"TC\",7,5),7)","v":5},"HOMMES, JOHN",{"$nulls":18},0,null,null,{"$f":"IF(CS9=\"\",\"\",IF(CS9>CS10,15,IF(CS9=CS10,7.5,0))+IF(CV9>CV10,15,IF(CV9=CV10,7.5,0))+IF(CY9>CY10,20,IF(CY9=CY10,7.5,0)))","v":""},{"$nulls":5},3,3,6,2,12,8,5,11,10,7,1,4,"P",null,3,3,{"$f":"IF(MPNo<>\"\", IF(MPNo<DV9,\"\",Qual!$C10),IF(MPNo<DV9,\"\",Qual!$C10))","v":"JENSEN, WAYNE"},0,"",0,"",0,"",0,"",0,"",0,"",0,"",0,"",0,"",0,"",0,"",0,"",{"$f":"IF(Master!$C$4=\"Y\",INDEX(Qual!$C$8:$V$19,MATCH(DX9,Qual!$C$8:$C$19,0),20),0)","v":0},0,0,0,{"$f":"EZ9-IF($GW$22=\"Y\",($FB$7+Qual!$K$4),$FB$7)*200","v":0}]
[null,4,"SAVOY, TODD",{"$nulls":18},0,null,null,{"$f":"IF(P9=\"\",\"\",IF(P9<P10,15,IF(P9=P10,7.5,0))+IF(S9<S10,15,IF(S9=S10,7.5,0))+IF(V9<V10,20,IF(V9=V10,7.5,0)))","v":""},{"$nulls":3},{"$f":"IF(Payout2>=12,IF(Tourn=\"TC\",7,2),7)","v":2},"CAUGHEY, STEVE",{"$nulls":18},0,null,null,{"$f":"IF(AQ9=\"\",\"\",IF(AQ9<AQ10,15,IF(AQ9=AQ10,7.5,0))+IF(AT9<AT10,15,IF(AT9=AT10,7.5,0))+IF(AW9<AW10,20,IF(AW9=AW10,7.5,0)))","v":""},{"$nulls":3},{"$f":"IF(Payout2>=12,IF(Tourn=\"TC\",8,10),8)","v":10},"HAVLISH, TOM",{"$nulls":18},0,null,null,{"$f":"IF(BR9=\"\",\"\",IF(BR9<BR10,15,IF(BR9=BR10,7.5,0))+IF(BU9<BU10,15,IF(BU9=BU10,7.5,0))+IF(BX9<BX10,20,IF(BX9=BX10,7.5,0)))","v":""},{"$nulls":3},{"$f":"IF(Payout2>=12,IF(Tourn=\"TC\",2,8),2)","v":8},"JONES, TOM",{"$nulls":18},0,null,null,{"$f":"IF(CS9=\"\",\"\",IF(CS9<CS10,15,IF(CS9=CS10,7.5,0))+IF(CV9<CV10,15,IF(CV9=CV10,7.5,0))+IF(CY9<CY10,20,IF(CY9=CY10,7.5,0)))","v":""},{"$nulls":5},4,4,1,6,8,12,10,3,7,9,5,2,"P",null,4,4,{"$f":"IF(MPNo<>\"\", IF(MPNo<DV10,\"\",Qual!$C11),IF(MPNo<DV10,\"\",Qual!$C11))","v":"SAVOY, TODD"},0,"",0,"",0,"",0,"",0,"",0,"",0,"",0,"",0,"",0,"",0,"",0,"",{"$f":"IF(Master!$C$4=\"Y\",INDEX(Qual!$C$8:$V$19,MATCH(DX10,Qual!$C$8:$C$19,0),20),0)","v":0},0,0,0,{"$f":"EZ10-IF($GW$22=\"Y\",($FB$7+Qual!$K$4),$FB$7)*200","v":0}]
[null,5,"HOMMES, JOHN",{"$nulls":18},0,null,null,{"$f":"IF(P11=\"\",\"\",IF(P11>P12,15,IF(P11=P12,7.5,0))+IF(S11>S12,15,IF(S11=S12,7.5,0))+IF(V11>V12,20,IF(V11=V12,7.5,0)))","v":""},{"$nulls":3},{"$f":"IF(Payout2>=12,IF(Tourn=\"TC\",2,12),2)","v":12},"BIRKEDAHL, LARRY",{"$nulls":18},0,null,null,{"$f":"IF(AQ11=\"\",\"\",IF(AQ11>AQ12,15,IF(AQ11=AQ12,7.5,0))+IF(AT11>AT12,15,IF(AT11=AT12,7.5,0))+IF(AW11>AW12,20,IF(AW11=AW12,7.5,0)))","v":""},{"$nulls":3},{"$f":"IF(Payout2>=12,IF(Tourn=\"TC\",7,11),7)","v":11},"DAVIS, SCOTT",{"$nulls":18},0,null,null,{"$f":"IF(BR11=\"\",\"\",IF(BR11>BR12,15,IF(BR11=BR12,7.5,0))+IF(BU11>BU12,15,IF(BU11=BU12,7.5,0))+IF(BX11>BX12,20,IF(BX11=BX12,7.5,0)))","v":""},{"$nulls":3},{"$f":"IF(Payout2>=12,IF(Tourn=\"TC\",1,9),1)","v":9},"GREEN, GARY",{"$nulls":18},0,null,null,{"$f":"IF(CS11=\"\",\"\",IF(CS11>CS12,15,IF(CS11=CS12,7.5,0))+IF(CV11>CV12,15,IF(CV11=CV12,7.5,0))+IF(CY11>CY12,20,IF(CY11=CY12,7.5,0)))","v":""},{"$nulls":5},5,5,2,7,3,6,12,1,4,8,9,11,"P",null,5,5,{"$f":"IF(MPNo<>\"\", IF(MPNo<DV11,\"\",Qual!$C12),IF(MPNo<DV11,\"\",Qual!$C12))","v":"HOMMES, JOHN"},0,"",0,"",0,"",0,"",0,"",0,"",0,"",0,"",0,"",0,"",0,"",0,"",{"$f":"IF(Master!$C$4=\"Y\",INDEX(Qual!$C$8:$V$19,MATCH(DX11,Qual!$C$8:$C$19,0),20),0)","v":0},0,0,0,{"$f":"EZ11-IF($GW$22=\"Y\",($FB$7+Qual!$K$4),$FB$7)*200","v":0}]
[null,6,"LANGER, DAVE",{"$nulls":18},0,null,null,{"$f":"IF(P11=\"\",\"\",IF(P11<P12,15,IF(P11=P12,7.5,0))+IF(S11<S12,15,IF(S11=S12,7.5,0))+IF(V11<V12,20,IF(V11=V12,7.5,0)))","v":""},{"$nulls":3},{"$f":"IF(Payout2>=12,IF(Tourn=\"TC\",4,3),4)","v":3},"JENSEN, WAYNE",{"$nulls":18},0,null,null,{"$f":"IF(AQ11=\"\",\"\",IF(AQ11<AQ12,15,IF(AQ11=AQ12,7.5,0))+IF(AT11<AT12,15,IF(AT11=AT12,7.5,0))+IF(AW11<AW12,20,IF(AW11=AW12,7.5,0)))","v":""},{"$nulls":3},{"$f":"IF(Payout2>=12,IF(Tourn=\"TC\",3,4),3)","v":4},"SAVOY, TODD",{"$nulls":18},0,null,null,{"$f":"IF(BR11=\"\",\"\",IF(BR11<BR12,15,IF(BR11=BR12,7.5,0))+IF(BU11<BU12,15,IF(BU11=BU12,7.5,0))+IF(BX11<BX12,20,IF(BX11=BX12,7.5,0)))","v":""},{"$nulls":3},{"$f":"IF(Payout2>=12,IF(Tourn=\"TC\",5,2),5)","v":2},"CAUGHEY, STEVE",{"$nulls":18},0,null,null,{"$f":"IF(CS11=\"\",\"\",IF(CS11<CS12,15,IF(CS11=CS12,7.5,0))+IF(CV11<CV12,15,IF(CV11=CV12,7.5,0))+IF(CY11<CY12,20,IF(CY11=CY12,7.5,0)))","v":""},{"$nulls":5},6,6,3,11,10,7,2,9,8,1,12,5,"P",null,6,6,{"$f":"IF(MPNo<>\"\", IF(MPNo<DV12,\"\",Qual!$C13),IF(MPNo<DV12,\"\",Qual!$C13))","v":"LANGER, DAVE"},0,"",0,"",0,"",0,"",0,"",0,"",0,"",0,"",0,"",0,"",0,"",0,"",{"$f":"IF(Master!$C$4=\"Y\",INDEX(Qual!$C$8:$V$19,MATCH(DX12,Qual!$C$8:$C$19,0),20),0)","v":0},0,0,0,{"$f":"EZ12-IF($GW$22=\"Y\",($FB$7+Qual!$K$4),$FB$7)*200","v":0}]
[null,7,"DOWNER, ROB",{"$nulls":18},0,null,null,{"$f":"IF(P13=\"\",\"\",IF(P13>P14,15,IF(P13=P14,7.5,0))+IF(S13>S14,15,IF(S13=S14,7.5,0))+IF(V13>V14,20,IF(V13=V14,7.5,0)))","v":""},{"$nulls":3},{"$f":"IF(Payout2>=12,IF(Tourn=\"TC\",1,9),1)","v":9},"GREEN, GARY",{"$nulls":18},0,null,null,{"$f":"IF(AQ13=\"\",\"\",IF(AQ13>AQ14,15,IF(AQ13=AQ14,7.5,0))+IF(AT13>AT14,15,IF(AT13=AT14,7.5,0))+IF(AW13>AW14,20,IF(AW13=AW14,7.5,0)))","v":""},{"$nulls":3},{"$f":"IF(Payout2>=12,IF(Tourn=\"TC\",2,5),2)","v":5},"HOMMES, JOHN",{"$nulls":18},0,null,null,{"$f":"IF(BR13=\"\",\"\",IF(BR13>BR14,15,IF(BR13=BR14,7.5,0))+IF(BU13>BU14,15,IF(BU13=BU14,7.5,0))+IF(BX13>BX14,20,IF(BX13=BX14,7.5,0)))","v":""},{"$nulls":3},{"$f":"IF(Payout2>=12,IF(Tourn=\"TC\",8,10),8)","v":10},"HAVLISH, TOM",{"$nulls":18},0,null,null,{"$f":"IF(CS13=\"\",\"\",IF(CS13>CS14,15,IF(CS13=CS14,7.5,0))+IF(CV13>CV14,15,IF(CV13=CV14,7.5,0))+IF(CY13>CY14,20,IF(CY13=CY14,7.5,0)))","v":""},{"$nulls":5},7,7,10,12,1,4,9,2,5,11,8,3,"P",null,7,7,{"$f":"IF(MPNo<>\"\", IF(MPNo<DV13,\"\",Qual!$C14),IF(MPNo<DV13,\"\",Qual!$C14))","v":"DOWNER, ROB"},0,"",0,"",0,"",0,"",0,"",0,"",0,"",0,"",0,"",0,"",0,"",0,"",{"$f":"IF(Master!$C$4=\"Y\",INDEX(Qual!$C$8:$V$19,MATCH(DX13,Qual!$C$8:$C$19,0),20),0)","v":0},0,0,0,{"$f":"EZ13-IF($GW$22=\"Y\",($FB$7+Qual!$K$4),$FB$7)*200","v":0}]
[null,8,"JONES, TOM",{"$nulls":18},0,null,null,{"$f":"IF(P13=\"\",\"\",IF(P13<P14,15,IF(P13=P14,7.5,0))+IF(S13<S14,15,IF(S13=S14,7.5,0))+IF(V13<V14,20,IF(V13=V14,7.5,0)))","v":""},{"$nulls":3},{"$f":"IF(Payout2>=12,IF(Tourn=\"TC\",3,11),3)","v":11},"DAVIS, SCOTT",{"$nulls":18},0,null,null,{"$f":"IF(AQ13=\"\",\"\",IF(AQ13<AQ14,15,IF(AQ13=AQ14,7.5,0))+IF(AT13<AT14,15,IF(AT13=AT14,7.5,0))+IF(AW13<AW14,20,IF(AW13=AW14,7.5,0)))","v":""},{"$nulls":3},{"$f":"IF(Payout2>=12,IF(Tourn=\"TC\",6,12),6)","v":12},"BIRKEDAHL, LARRY",{"$nulls":18},0,null,null,{"$f":"IF(BR13=\"\",\"\",IF(BR13<BR14,15,IF(BR13=BR14,7.5,0))+IF(BU13<BU14,15,IF(BU13=BU14,7.5,0))+IF(BX13<BX14,20,IF(BX13=BX14,7.5,0)))","v":""},{"$nulls":3},{"$f":"IF(Payout2>=12,IF(Tourn=\"TC\",4,4),4)","v":4},"SAVOY, TODD",{"$nulls":18},0,null,null,{"$f":"IF(CS13=\"\",\"\",IF(CS13<CS14,15,IF(CS13=CS14,7.5,0))+IF(CV13<CV14,15,IF(CV13=CV14,7.5,0))+IF(CY13<CY14,20,IF(CY13=CY14,7.5,0)))","v":""},{"$nulls":5},8,8,12,9,4,2,6,10,11,5,3,1,"P",null,8,8,{"$f":"IF(MPNo<>\"\", IF(MPNo<DV14,\"\",Qual!$C15),IF(MPNo<DV14,\"\",Qual!$C15))","v":"JONES, TOM"},0,"",0,"",0,"",0,"",0,"",0,"",0,"",0,"",0,"",0,"",0,"",0,"",{"$f":"IF(Master!$C$4=\"Y\",INDEX(Qual!$C$8:$V$19,MATCH(DX14,Qual!$C$8:$C$19,0),20),0)","v":0},0,0,0,{"$f":"EZ14-IF($GW$22=\"Y\",($FB$7+Qual!$K$4),$FB$7)*200","v":0}]
[null,{"$f":"IF(Payout2>=12,IF(Tourn=\"TC\",\"\",9),\"\")","v":9},"GREEN, GARY",{"$nulls":18},0,null,null,{"$f":"IF(P15=\"\",\"\",IF(P15>P16,15,IF(P15=P16,7.5,0))+IF(S15>S16,15,IF(S15=S16,7.5,0))+IF(V15>V16,20,IF(V15=V16,7.5,0)))","v":""},{"$nulls":3},{"$f":"IF(Payout2>=12,IF(Tourn=\"TC\",\"\",1),\"\")","v":1},"OULMAN, DAVE",{"$nulls":18},0,null,null,{"$f":"IF(AQ15=\"\",\"\",IF(AQ15>AQ16,15,IF(AQ15=AQ16,7.5,0))+IF(AT15>AT16,15,IF(AT15=AT16,7.5,0))+IF(AW15>AW16,20,IF(AW15=AW16,7.5,0)))","v":""},{"$nulls":3},{"$f":"IF(Payout2>=12,IF(Tourn=\"TC\",\"\",8),\"\")","v":8},"JONES, TOM",{"$nulls":18},0,null,null,{"$f":"IF(BR15=\"\",\"\",IF(BR15>BR16,15,IF(BR15=BR16,7.5,0))+IF(BU15>BU16,15,IF(BU15=BU16,7.5,0))+IF(BX15>BX16,20,IF(BX15=BX16,7.5,0)))","v":""},{"$nulls":3},{"$f":"IF(Payout2>=12,IF(Tourn=\"TC\",\"\",11),\"\")","v":11},"DAVIS, SCOTT",{"$nulls":18},0,null,null,{"$f":"IF(CS15=\"\",\"\",IF(CS15>CS16,15,IF(CS15=CS16,7.5,0))+IF(CV15>CV16,15,IF(CV15=CV16,7.5,0))+IF(CY15>CY16,20,IF(CY15=CY16,7.5,0)))","v":""},{"$nulls":5},9,9,7,1,5,3,11,8,2,10,4,6,"P",null,9,9,{"$f":"IF(MPNo<>\"\", IF(MPNo<DV15,\"\",Qual!$C16),IF(MPNo<DV15,\"\",Qual!$C16))","v":"GREEN, GARY"},0,"",0,"",0,"",0,"",0,"",0,"",0,"",0,"",0,"",0,"",0,"",0,"",{"$f":"IF(Master!$C$4=\"Y\",INDEX(Qual!$C$8:$V$19,MATCH(DX15,Qual!$C$8:$C$19,0),20),0)","v":0},0,0,0,{"$f":"EZ15-IF($GW$22=\"Y\",($FB$7+Qual!$K$4),$FB$7)*200","v":0}]
[null,{"$f":"IF(Payout2>=12,IF(Tourn=\"TC\",\"\",10),\"\")","v":10},"HAVLISH, TOM",{"$nulls":18},0,null,null,{"$f":"IF(P15=\"\",\"\",IF(P15<P16,15,IF(P15=P16,7.5,0))+IF(S15<S16,15,IF(S15=S16,7.5,0))+IF(V15<V16,20,IF(V15=V16,7.5,0)))","v":""},{"$nulls":3},{"$f":"IF(Payout2>=12,IF(Tourn=\"TC\",\"\",7),\"\")","v":7},"DOWNER, ROB",{"$nulls":18},0,null,null,{"$f":"IF(AQ15=\"\",\"\",IF(AQ15<AQ16,15,IF(AQ15=AQ16,7.5,0))+IF(AT15<AT16,15,IF(AT15=AT16,7.5,0))+IF(AW15<AW16,20,IF(AW15=AW16,7.5,0)))","v":""},{"$nulls":3},{"$f":"IF(Payout2>=12,IF(Tourn=\"TC\",\"\",2),\"\")","v":2},"CAUGHEY, STEVE",{"$nulls":18},0,null,null,{"$f":"IF(BR15=\"\",\"\",IF(BR15<BR16,15,IF(BR15=BR16,7.5,0))+IF(BU15<BU16,15,IF(BU15=BU16,7.5,0))+IF(BX15<BX16,20,IF(BX15=BX16,7.5,0)))","v":""},{"$nulls":3},{"$f":"IF(Payout2>=12,IF(Tourn=\"TC\",\"\",6),\"\")","v":6},"LANGER, DAVE",{"$nulls":18},0,null,null,{"$f":"IF(CS15=\"\",\"\",IF(CS15<CS16,15,IF(CS15=CS16,7.5,0))+IF(CV15<CV16,15,IF(CV15=CV16,7.5,0))+IF(CY15<CY16,20,IF(CY15=CY16,7.5,0)))","v":""},{"$nulls":5},10,10,11,4,7,9,1,6,3,12,2,8,"P",null,10,10,{"$f":"IF(MPNo<>\"\", IF(MPNo<DV16,\"\",Qual!$C17),IF(MPNo<DV16,\"\",Qual!$C17))","v":"HAVLISH, TOM"},0,"",0,"",0,"",0,"",0,"",0,"",0,"",0,"",0,"",0,"",0,"",0,"",{"$f":"IF(Master!$C$4=\"Y\",INDEX(Qual!$C$8:$V$19,MATCH(DX16,Qual!$C$8:$C$19,0),20),0)","v":0},0,0,0,{"$f":"EZ16-IF($GW$22=\"Y\",($FB$7+Qual!$K$4),$FB$7)*200","v":0}]
[null,{"$f":"IF(Payout2>=12,IF(Tourn=\"TC\",\"\",11),\"\")","v":11},"DAVIS, SCOTT",{"$nulls":18},0,null,null,{"$f":"IF(P17=\"\",\"\",IF(P17>P18,15,IF(P17=P18,7.5,0))+IF(S17>S18,15,IF(S17=S18,7.5,0))+IF(V17>V18,20,IF(V17=V18,7.5,0)))","v":""},{"$nulls":3},{"$f":"IF(Payout2>=12,IF(Tourn=\"TC\",\"\",10),\"\")","v":10},"HAVLISH, TOM",{"$nulls":18},0,null,null,{"$f":"IF(AQ17=\"\",\"\",IF(AQ17>AQ18,15,IF(AQ17=AQ18,7.5,0))+IF(AT17>AT18,15,IF(AT17=AT18,7.5,0))+IF(AW17>AW18,20,IF(AW17=AW18,7.5,0)))","v":""},{"$nulls":3},{"$f":"IF(Payout2>=12,IF(Tourn=\"TC\",\"\",6),\"\")","v":6},"LANGER, DAVE",{"$nulls":18},0,null,null,{"$f":"IF(BR17=\"\",\"\",IF(BR17>BR18,15,IF(BR17=BR18,7.5,0))+IF(BU17>BU18,15,IF(BU17=BU18,7.5,0))+IF(BX17>BX18,20,IF(BX17=BX18,7.5,0)))","v":""},{"$nulls":3},{"$f":"IF(Payout2>=12,IF(Tourn=\"TC\",\"\",1),\"\")","v":1},"OULMAN, DAVE",{"$nulls":18},0,null,null,{"$f":"IF(CS17=\"\",\"\",IF(CS17>CS18,15,IF(CS17=CS18,7.5,0))+IF(CV17>CV18,15,IF(CV17=CV18,7.5,0))+IF(CY17>CY18,20,IF(CY17=CY18,7.5,0)))","v":""},{"$nulls":5},11,11,8,5,9,1,3,12,6,4,10,7,"P",null,11,11,{"$f":"IF(MPNo<>\"\", IF(MPNo<DV17,\"\",Qual!$C18),IF(MPNo<DV17,\"\",Qual!$C18))","v":"DAVIS, SCOTT"},0,"",0,"",0,"",0,"",0,"",0,"",0,"",0,"",0,"",0,"",0,"",0,"",{"$f":"IF(Master!$C$4=\"Y\",INDEX(Qual!$C$8:$V$19,MATCH(DX17,Qual!$C$8:$C$19,0),20),0)","v":0},0,0,0,{"$f":"EZ17-IF($GW$22=\"Y\",($FB$7+Qual!$K$4),$FB$7)*200","v":0}]
[null,{"$f":"IF(Payout2>=12,IF(Tourn=\"TC\",\"\",12),\"\")","v":12},"BIRKEDAHL, LARRY",{"$nulls":18},{"$f":"P18+S18","v":0},null,null,{"$f":"IF(P17=\"\",\"\",IF(P17<P18,15,IF(P17=P18,7.5,0))+IF(S17<S18,15,IF(S17=S18,7.5,0))+IF(V17<V18,20,IF(V17=V18,7.5,0)))","v":""},{"$nulls":3},{"$f":"IF(Payout2>=12,IF(Tourn=\"TC\",\"\",8),\"\")","v":8},"JONES, TOM",{"$nulls":18},{"$f":"AQ18+AT18","v":0},null,null,{"$f":"IF(AQ17=\"\",\"\",IF(AQ17<AQ18,15,IF(AQ17=AQ18,7.5,0))+IF(AT17<AT18,15,IF(AT17=AT18,7.5,0))+IF(AW17<AW18,20,IF(AW17=AW18,7.5,0)))","v":""},{"$nulls":3},{"$f":"IF(Payout2>=12,IF(Tourn=\"TC\",\"\",7),\"\")","v":7},"DOWNER, ROB",{"$nulls":18},{"$f":"BR18+BU18","v":0},null,null,{"$f":"IF(BR17=\"\",\"\",IF(BR17<BR18,15,IF(BR17=BR18,7.5,0))+IF(BU17<BU18,15,IF(BU17=BU18,7.5,0))+IF(BX17<BX18,20,IF(BX17=BX18,7.5,0)))","v":""},{"$nulls":3},{"$f":"IF(Payout2>=12,IF(Tourn=\"TC\",\"\",3),\"\")","v":3},"JENSEN, WAYNE",{"$nulls":18},{"$f":"CS18+CV18","v":0},null,null,{"$f":"IF(CS17=\"\",\"\",IF(CS17<CS18,15,IF(CS17=CS18,7.5,0))+IF(CV17<CV18,15,IF(CV17=CV18,7.5,0))+IF(CY17<CY18,20,IF(CY17=CY18,7.5,0)))","v":""},{"$nulls":5},12,12,5,8,2,10,7,4,1,6,11,9,{"$f":"IF(Payout2>=12,\"P\",IF(ISNA(MATCH($DH31,$CE$39:$CE$50,0)),\"\",$DK$4-1+MATCH($DH31,$CE$39:$CE$50,0)))","v":"P"},null,12,12,{"$f":"IF(MPNo<>\"\", IF(MPNo<DV18,\"\",Qual!$C19),IF(MPNo<DV18,\"\",Qual!$C19))","v":"BIRKEDAHL, LARRY"},0,"",0,"",0,"",0,"",0,"",0,"",0,"",0,"",0,"",0,"",0,"",0,"",{"$f":"IF(Master!$C$4=\"Y\",INDEX(Qual!$C$8:$V$19,MATCH(DX18,Qual!$C$8:$C$19,0),20),0)","v":0},0,0,0,{"$f":"EZ18-IF($GW$22=\"Y\",($FB$7+Qual!$K$4),$FB$7)*200","v":0}]
[]
[]
[]
[null,null,"Match 5",{"$nulls":12},"G1",null,null,"G2",null,null,"Tot",null,null,"B",{"$nulls":4},"Match 6",{"$nulls":12},"G1",null,null,"G2",null,null,"Tot",null,null,"B",{"$nulls":4},"Match 7",{"$nulls":12},"G1",null,null,"G2",null,null,"Tot",null,null,"B",{"$nulls":4},"Match 8",{"$nulls":12},"G1",null,null,"G2",null,null,"Tot",null,null,"B",{"$nulls":22},"M1","B","M2","B","M3","B","M4","B","M5","B","M6","B","M7","B","M8","B","M9","B","M10","B","M11","B","M12","B","Qual","MP","B","GT","+ / -"]
[null,{"$f":"IF(Payout2>=12,IF(Tourn=\"TC\",7,11),7)","v":11},{"$f":"INDEX($DV$7:$DX$18,MATCH(B23,$DW$7:$DW$18,0),3)","v":"DAVIS, SCOTT"},{"$nulls":18},{"$f":"P23+S23","v":0},null,null,{"$f":"IF(P23=\"\",\"\",IF(P23>P24,15,IF(P23=P24,7.5,0))+IF(S23>S24,15,IF(S23=S24,7.5,0))+IF(V23>V24,20,IF(V23=V24,7.5,0)))","v":""},{"$nulls":3},{"$f":"IF(Payout2>=12,IF(Tourn=\"TC\",2,10),2)","v":10},{"$f":"INDEX($DV$7:$DX$18,MATCH(AC23,$DW$7:$DW$18,0),3)","v":"HAVLISH, TOM"},{"$nulls":18},{"$f":"AQ23+AT23","v":0},null,null,{"$f":"IF(AQ23=\"\",\"\",IF(AQ23>AQ24,15,IF(AQ23=AQ24,7.5,0))+IF(AT23>AT24,15,IF(AT23=AT24,7.5,0))+IF(AW23>AW24,20,IF(AW23=AW24,7.5,0)))","v":""},{"$nulls":3},{"$f":"IF(Payout2>=12,IF(Tourn=\"TC\",4,5),4)","v":5},{"$f":"INDEX($DV$7:$DX$18,MATCH(BD23,$DW$7:$DW$18,0),3)","v":"HOMMES, JOHN"},{"$nulls":18},{"$f":"BR23+BU23","v":0},null,null,{"$f":"IF(BR23=\"\",\"\",IF(BR23>BR24,15,IF(BR23=BR24,7.5,0))+IF(BU23>BU24,15,IF(BU23=BU24,7.5,0))+IF(BX23>BX24,20,IF(BX23=BX24,7.5,0)))","v":""},{"$nulls":3},{"$f":"IF(Payout2>=12,IF(Tourn=\"TC\",5,12),5)","v":12},{"$f":"IF(Master!$C$1=\"TC\",INDEX($DV$7:$DX$18,MATCH(CE23,$DV$7:$DV$18,0),3),INDEX($DV$7:$DX$18,MATCH(CE23,$DW$7:$DW$18,0),3))","v":"BIRKEDAHL, LARRY"},{"$nulls":18},{"$f":"CS23+CV23","v":0},null,null,{"$f":"IF(CS23=\"\",\"\",IF(CS23>CS24,15,IF(CS23=CS24,7.5,0))+IF(CV23>CV24,15,IF(CV23=CV24,7.5,0))+IF(CY23>CY24,20,IF(CY23=CY24,7.5,0)))","v":""},{"$nulls":19},1,null,{"$f":"IF(MPNo<>\"\", IF(MPNo<DV23,\"\",Qual!$C8),IF(MPNo<DV23,\"\",Qual!$C8))","v":"OULMAN, DAVE"},{"$f":"INDEX($C$7:$AA$18,MATCH($DX23,$C$7:$C$18,0),20)","v":0},{"$f":"INDEX($C$7:$AA$18,MATCH($DX23,$C$7:$C$18,0),23)","v":""},{"$f":"INDEX($AC$7:$BB$18,MATCH(DX23,$AD$7:$AD$18,0),21)","v":0},{"$f":"INDEX($AC$7:$BB$18,MATCH(DX23,$AD$7:$AD$18,0),24)","v":""},{"$f":"INDEX($BD$7:$CC$18,MATCH(DX23,$BE$7:$BE$18,0),21)","v":0},{"$f":"INDEX($BD$7:$CC$18,MATCH(DX23,$BE$7:$BE$18,0),24)","v":""},{"$f":"INDEX($CE$7:$DD$18,MATCH(DX23,$CF$7:$CF$18,0),21)","v":0},{"$f":"INDEX($CE$7:$DD$18,MATCH(DX23,$CF$7:$CF$18,0),24)","v":""},{"$f":"INDEX($C$23:$AA$34,MATCH(DX23,$C$23:$C$34,0),20)","v":0},{"$f":"INDEX($C$23:$AA$34,MATCH(DX23,$C$23:$C$34,0),23)","v":""},{"$f":"INDEX($AC$23:$BB$34,MATCH(DX23,$AD$23:$AD$34,0),21)","v":0},{"$f":"INDEX($AC$23:$BB$34,MATCH(DX23,$AD$23:$AD$34,0),24)","v":""},{"$f":"INDEX($BD$23:$CC$34,MATCH(DX23,$BE$23:$BE$34,0),21)","v":0},{"$f":"INDEX($BD$23:$CC$34,MATCH(DX23,$BE$23:$BE$34,0),24)","v":""},{"$f":"INDEX($CE$23:$DD$34,MATCH(DX23,$CF$23:$CF$34,0),21)","v":0},{"$f":"INDEX($CE$23:$DD$34,MATCH(DX23,$CF$23:$CF$34,0),24)","v":""},{"$f":"IF(ISNA(INDEX($C$39:$AA$50,MATCH(DX23,$C$39:$C$50,0),20)),0,INDEX($C$39:$AA$50,MATCH(DX23,$C$39:$C$50,0),20))","v":0},{"$f":"IF(ISNA(INDEX($C$39:$AA$50,MATCH(DX23,$C$39:$C$50,0),23)),\"\",INDEX($C$39:$AA$50,MATCH(DX23,$C$39:$C$50,0),23))","v":""},{"$f":"IF(ISNA(INDEX($AC$39:$BB$50,MATCH(DX23,$AD$39:$AD$50,0),21)),0,INDEX($AC$39:$BB$50,MATCH(DX23,$AD$39:$AD$50,0),21))","v":0},{"$f":"IF(ISNA(INDEX($AC$39:$BB$50,MATCH(DX23,$AD$39:$AD$50,0),24)),\"\",INDEX($AC$39:$BB$50,MATCH(DX23,$AD$39:$AD$50,0),24))","v":""},{"$f":"IF(ISNA(INDEX($BD$39:$CC$50,MATCH(DX23,$BE$39:$BE$50,0),21)),0,INDEX($BD$39:$CC$50,MATCH(DX23,$BE$39:$BE$50,0),21))","v":0},{"$f":"IF(ISNA(INDEX($BD$39:$CC$50,MATCH(DX23,$BE$39:$BE$50,0),24)),\"\",INDEX($BD$39:$CC$50,MATCH(DX23,$BE$39:$BE$50,0),24))","v":""},{"$f":"IF(ISNA(INDEX($CE$39:$DD$50,MATCH(DX23,$CF$39:$CF$50,0),21)),0,INDEX($CE$39:$DD$50,MATCH(DX23,$CF$39:$CF$50,0),21))","v":0},{"$f":"IF(ISNA(INDEX($CE$39:$DD$50,MATCH(DX23,$CF$39:$CF$50,0),24)),\"\",INDEX($CE$39:$DD$50,MATCH(DX23,$CF$39:$CF$50,0),24))","v":""},{"$f":"IF(Master!$C$4=\"Y\",INDEX(Qual!$C$8:$V$19,MATCH(DX23,Qual!$C$8:$C$19,0),20),0)","v":0},{"$f":"DY23+EA23+EC23+EE23+EG23+EI23+EK23+EM23+EO23+EQ23+ES23+EU23","v":0},{"$f":"IF(DZ23=\"\",0,DZ23)+IF(EB23=\"\",0,EB23)+IF(ED23=\"\",0,ED23)+IF(EF23=\"\",0,EF23)+IF(EH23=\"\",0,EH23)+IF(EJ23=\"\",0,EJ23)+IF(EL23=\"\",0,EL23)+IF(EN23=\"\",0,EN23)+IF(EP23=\"\",0,EP23)+IF(ER23=\"\",0,ER23)+IF(ET23=\"\",0,ET23)+IF(EV23=\"\",0,EV23)","v":0},{"$f":"EW23+EX23+EY23","v":0},{"$f":"EZ23-IF($GW$22=\"Y\",($FB$7+Qual!$K$4),$FB$7)*200","v":0},{"$f":"FB7","v":0}]
[null,{"$f":"IF(Payout2>=12,IF(Tourn=\"TC\",1,8),1)","v":8},"JONES, TOM",{"$nulls":18},{"$f":"P24+S24","v":0},null,null,{"$f":"IF(P23=\"\",\"\",IF(P23<P24,15,IF(P23=P24,7.5,0))+IF(S23<S24,15,IF(S23=S24,7.5,0))+IF(V23<V24,20,IF(V23=V24,7.5,0)))","v":""},{"$nulls":3},{"$f":"IF(Payout2>=12,IF(Tourn=\"TC\",3,6), 3)","v":6},"LANGER, DAVE",{"$nulls":18},{"$f":"AQ24+AT24","v":0},null,null,{"$f":"IF(AQ23=\"\",\"\",IF(AQ23<AQ24,15,IF(AQ23=AQ24,7.5,0))+IF(AT23<AT24,15,IF(AT23=AT24,7.5,0))+IF(AW23<AW24,20,IF(AW23=AW24,7.5,0)))","v":""},{"$nulls":3},{"$f":"IF(Payout2>=12,IF(Tourn=\"TC\",7,7),7)","v":7},"DOWNER, ROB",{"$nulls":18},{"$f":"BR24+BU24","v":0},null,null,{"$f":"IF(BR23=\"\",\"\",IF(BR23<BR24,15,IF(BR23=BR24,7.5,0))+IF(BU23<BU24,15,IF(BU23=BU24,7.5,0))+IF(BX23<BX24,20,IF(BX23=BX24,7.5,0)))","v":""},{"$nulls":3},{"$f":"IF(Payout2>=12,IF(Tourn=\"TC\",6,9),6)","v":9},{"$f":"IF(Master!$C$1=\"TC\",INDEX($DV$7:$DX$18,MATCH(CE24,$DV$7:$DV$18,0),3),INDEX($DV$7:$DX$18,MATCH(CE24,$DW$7:$DW$18,0),3))","v":"GREEN, GARY"},{"$nulls":18},{"$f":"CS24+CV24","v":0},null,null,{"$f":"IF(CS23=\"\",\"\",IF(CS23<CS24,15,IF(CS23=CS24,7.5,0))+IF(CV23<CV24,15,IF(CV23=CV24,7.5,0))+IF(CY23<CY24,20,IF(CY23=CY24,7.5,0)))","v":""},{"$nulls":19},2,null,{"$f":"IF(MPNo<>\"\", IF(MPNo<DV24,\"\",Qual!$C9),IF(MPNo<DV24,\"\",Qual!$C9))","v":"CAUGHEY, STEVE"},0,"",0,"",0,"",0,"",0,"",0,"",0,"",0,"",0,"",0,"",0,"",0,"",{"$f":"IF(Master!$C$4=\"Y\",INDEX(Qual!$C$8:$V$19,MATCH(DX24,Qual!$C$8:$C$19,0),20),0)","v":0},0,0,0,{"$f":"EZ24-IF($GW$22=\"Y\",($FB$7+Qual!$K$4),$FB$7)*200","v":0}]
[null,{"$f":"IF(Payout2>=12,IF(Tourn=\"TC\",4,9),4)","v":9},"GREEN, GARY",{"$nulls":18},0,null,null,{"$f":"IF(P25=\"\",\"\",IF(P25>P26,15,IF(P25=P26,7.5,0))+IF(S25>S26,15,IF(S25=S26,7.5,0))+IF(V25>V26,20,IF(V25=V26,7.5,0)))","v":""},{"$nulls":3},{"$f":"IF(Payout2>=12,IF(Tourn=\"TC\",8,11), 8)","v":11},"DAVIS, SCOTT",{"$nulls":18},0,null,null,{"$f":"IF(AQ25=\"\",\"\",IF(AQ25>AQ26,15,IF(AQ25=AQ26,7.5,0))+IF(AT25>AT26,15,IF(AT25=AT26,7.5,0))+IF(AW25>AW26,20,IF(AW25=AW26,7.5,0)))","v":""},{"$nulls":3},{"$f":"IF(Payout2>=12,IF(Tourn=\"TC\",6,4),6)","v":4},"SAVOY, TODD",{"$nulls":18},0,null,null,{"$f":"IF(BR25=\"\",\"\",IF(BR25>BR26,15,IF(BR25=BR26,7.5,0))+IF(BU25>BU26,15,IF(BU25=BU26,7.5,0))+IF(BX25>BX26,20,IF(BX25=BX26,7.5,0)))","v":""},{"$nulls":3},{"$f":"IF(Payout2>=12,IF(Tourn=\"TC\",1,10),1)","v":10},{"$f":"IF(Master!$C$1=\"TC\",INDEX($DV$7:$DX$18,MATCH(CE25,$DV$7:$DV$18,0),3),INDEX($DV$7:$DX$18,MATCH(CE25,$DW$7:$DW$18,0),3))","v":"HAVLISH, TOM"},{"$nulls":18},0,null,null,{"$f":"IF(CS25=\"\",\"\",IF(CS25>CS26,15,IF(CS25=CS26,7.5,0))+IF(CV25>CV26,15,IF(CV25=CV26,7.5,0))+IF(CY25>CY26,20,IF(CY25=CY26,7.5,0)))","v":""},{"$nulls":19},3,null,{"$f":"IF(MPNo<>\"\", IF(MPNo<DV25,\"\",Qual!$C10),IF(MPNo<DV25,\"\",Qual!$C10))","v":"JENSEN, WAYNE"},0,"",0,"",0,"",0,"",0,"",0,"",0,"",0,"",0,"",0,"",0,"",0,"",{"$f":"IF(Master!$C$4=\"Y\",INDEX(Qual!$C$8:$V$19,MATCH(DX25,Qual!$C$8:$C$19,0),20),0)","v":0},0,0,0,{"$f":"EZ25-IF($GW$22=\"Y\",($FB$7+Qual!$K$4),$FB$7)*200","v":0}]
[null,{"$f":"IF(Payout2>=12,IF(Tourn=\"TC\",6,7),6)","v":7},"DOWNER, ROB",{"$nulls":18},0,null,null,{"$f":"IF(P25=\"\",\"\",IF(P25<P26,15,IF(P25=P26,7.5,0))+IF(S25<S26,15,IF(S25=S26,7.5,0))+IF(V25<V26,20,IF(V25=V26,7.5,0)))","v":""},{"$nulls":3},{"$f":"IF(Payout2>=12,IF(Tourn=\"TC\",5,1), 5)","v":1},"OULMAN, DAVE",{"$nulls":18},0,null,null,{"$f":"IF(AQ25=\"\",\"\",IF(AQ25<AQ26,15,IF(AQ25=AQ26,7.5,0))+IF(AT25<AT26,15,IF(AT25=AT26,7.5,0))+IF(AW25<AW26,20,IF(AW25=AW26,7.5,0)))","v":""},{"$nulls":3},{"$f":"IF(Payout2>=12,IF(Tourn=\"TC\",1,12),1)","v":12},"BIRKEDAHL, LARRY",{"$nulls":18},0,null,null,{"$f":"IF(BR25=\"\",\"\",IF(BR25<BR26,15,IF(BR25=BR26,7.5,0))+IF(BU25<BU26,15,IF(BU25=BU26,7.5,0))+IF(BX25<BX26,20,IF(BX25=BX26,7.5,0)))","v":""},{"$nulls":3},{"$f":"IF(Payout2>=12,IF(Tourn=\"TC\",2,5),2)","v":5},{"$f":"IF(Master!$C$1=\"TC\",INDEX($DV$7:$DX$18,MATCH(CE26,$DV$7:$DV$18,0),3),INDEX($DV$7:$DX$18,MATCH(CE26,$DW$7:$DW$18,0),3))","v":"HOMMES, JOHN"},{"$nulls":18},0,null,null,{"$f":"IF(CS25=\"\",\"\",IF(CS25<CS26,15,IF(CS25=CS26,7.5,0))+IF(CV25<CV26,15,IF(CV25=CV26,7.5,0))+IF(CY25<CY26,20,IF(CY25=CY26,7.5,0)))","v":""},{"$nulls":19},4,null,{"$f":"IF(MPNo<>\"\", IF(MPNo<DV26,\"\",Qual!$C11),IF(MPNo<DV26,\"\",Qual!$C11))","v":"SAVOY, TODD"},0,"",0,"",0,"",0,"",0,"",0,"",0,"",0,"",0,"",0,"",0,"",0,"",{"$f":"IF(Master!$C$4=\"Y\",INDEX(Qual!$C$8:$V$19,MATCH(DX26,Qual!$C$8:$C$19,0),20),0)","v":0},0,0,0,{"$f":"EZ26-IF($GW$22=\"Y\",($FB$7+Qual!$K$4),$FB$7)*200","v":0}]
[null,{"$f":"IF(Payout2>=12,IF(Tourn=\"TC\",3,1),3)","v":1},"OULMAN, DAVE",{"$nulls":18},0,null,null,{"$f":"IF(P27=\"\",\"\",IF(P27>P28,15,IF(P27=P28,7.5,0))+IF(S27>S28,15,IF(S27=S28,7.5,0))+IF(V27>V28,20,IF(V27=V28,7.5,0)))","v":""},{"$nulls":3},{"$f":"IF(Payout2>=12,IF(Tourn=\"TC\",4,3),4)","v":3},"JENSEN, WAYNE",{"$nulls":18},0,null,null,{"$f":"IF(AQ27=\"\",\"\",IF(AQ27>AQ28,15,IF(AQ27=AQ28,7.5,0))+IF(AT27>AT28,15,IF(AT27=AT28,7.5,0))+IF(AW27>AW28,20,IF(AW27=AW28,7.5,0)))","v":""},{"$nulls":3},{"$f":"IF(Payout2>=12,IF(Tourn=\"TC\",8,2),8)","v":2},"CAUGHEY, STEVE",{"$nulls":18},0,null,null,{"$f":"IF(BR27=\"\",\"\",IF(BR27>BR28,15,IF(BR27=BR28,7.5,0))+IF(BU27>BU28,15,IF(BU27=BU28,7.5,0))+IF(BX27>BX28,20,IF(BX27=BX28,7.5,0)))","v":""},{"$nulls":3},{"$f":"IF(Payout2>=12,IF(Tourn=\"TC\",3,7),3)","v":7},{"$f":"IF(Master!$C$1=\"TC\",INDEX($DV$7:$DX$18,MATCH(CE27,$DV$7:$DV$18,0),3),INDEX($DV$7:$DX$18,MATCH(CE27,$DW$7:$DW$18,0),3))","v":"DOWNER, ROB"},{"$nulls":18},0,null,null,{"$f":"IF(CS27=\"\",\"\",IF(CS27>CS28,15,IF(CS27=CS28,7.5,0))+IF(CV27>CV28,15,IF(CV27=CV28,7.5,0))+IF(CY27>CY28,20,IF(CY27=CY28,7.5,0)))","v":""},{"$nulls":19},5,null,{"$f":"IF(MPNo<>\"\", IF(MPNo<DV27,\"\",Qual!$C12),IF(MPNo<DV27,\"\",Qual!$C12))","v":"HOMMES, JOHN"},0,"",0,"",0,"",0,"",0,"",0,"",0,"",0,"",0,"",0,"",0,"",0,"",{"$f":"IF(Master!$C$4=\"Y\",INDEX(Qual!$C$8:$V$19,MATCH(DX27,Qual!$C$8:$C$19,0),20),0)","v":0},0,0,0,{"$f":"EZ27-IF($GW$22=\"Y\",($FB$7+Qual!$K$4),$FB$7)*200","v":0}]
[null,{"$f":"IF(Payout2>=12,IF(Tourn=\"TC\",8,5),8)","v":5},"HOMMES, JOHN",{"$nulls":18},0,null,null,{"$f":"IF(P27=\"\",\"\",IF(P27<P28,15,IF(P27=P28,7.5,0))+IF(S27<S28,15,IF(S27=S28,7.5,0))+IF(V27<V28,20,IF(V27=V28,7.5,0)))","v":""},{"$nulls":3},{"$f":"IF(Payout2>=12,IF(Tourn=\"TC\",1,8),1)","v":8},"JONES, TOM",{"$nulls":18},0,null,null,{"$f":"IF(AQ27=\"\",\"\",IF(AQ27<AQ28,15,IF(AQ27=AQ28,7.5,0))+IF(AT27<AT28,15,IF(AT27=AT28,7.5,0))+IF(AW27<AW28,20,IF(AW27=AW28,7.5,0)))","v":""},{"$nulls":3},{"$f":"IF(Payout2>=12,IF(Tourn=\"TC\",2,10),2)","v":10},"HAVLISH, TOM",{"$nulls":18},0,null,null,{"$f":"IF(BR27=\"\",\"\",IF(BR27<BR28,15,IF(BR27=BR28,7.5,0))+IF(BU27<BU28,15,IF(BU27=BU28,7.5,0))+IF(BX27<BX28,20,IF(BX27=BX28,7.5,0)))","v":""},{"$nulls":3},{"$f":"IF(Payout2>=12,IF(Tourn=\"TC\",4,11),4)","v":11},{"$f":"IF(Master!$C$1=\"TC\",INDEX($DV$7:$DX$18,MATCH(CE28,$DV$7:$DV$18,0),3),INDEX($DV$7:$DX$18,MATCH(CE28,$DW$7:$DW$18,0),3))","v":"DAVIS, SCOTT"},{"$nulls":18},0,null,null,{"$f":"IF(CS27=\"\",\"\",IF(CS27<CS28,15,IF(CS27=CS28,7.5,0))+IF(CV27<CV28,15,IF(CV27=CV28,7.5,0))+IF(CY27<CY28,20,IF(CY27=CY28,7.5,0)))","v":""},{"$nulls":19},6,null,{"$f":"IF(MPNo<>\"\", IF(MPNo<DV28,\"\",Qual!$C13),IF(MPNo<DV28,\"\",Qual!$C13))","v":"LANGER, DAVE"},0,"",0,"",0,"",0,"",0,"",0,"",0,"",0,"",0,"",0,"",0,"",0,"",{"$f":"IF(Master!$C$4=\"Y\",INDEX(Qual!$C$8:$V$19,MATCH(DX28,Qual!$C$8:$C$19,0),20),0)","v":0},0,0,0,{"$f":"EZ28-IF($GW$22=\"Y\",($FB$7+Qual!$K$4),$FB$7)*200","v":0}]
[null,{"$f":"IF(Payout2>=12,IF(Tourn=\"TC\",5,6),5)","v":6},"LANGER, DAVE",{"$nulls":18},0,null,null,{"$f":"IF(P29=\"\",\"\",IF(P29>P30,15,IF(P29=P30,7.5,0))+IF(S29>S30,15,IF(S29=S30,7.5,0))+IF(V29>V30,20,IF(V29=V30,7.5,0)))","v":""},{"$nulls":3},{"$f":"IF(Payout2>=12,IF(Tourn=\"TC\",6,12),6)","v":12},"BIRKEDAHL, LARRY",{"$nulls":18},0,null,null,{"$f":"IF(AQ29=\"\",\"\",IF(AQ29>AQ30,15,IF(AQ29=AQ30,7.5,0))+IF(AT29>AT30,15,IF(AT29=AT30,7.5,0))+IF(AW29>AW30,20,IF(AW29=AW30,7.5,0)))","v":""},{"$nulls":3},{"$f":"IF(Payout2>=12,IF(Tourn=\"TC\",3,1),3)","v":1},"OULMAN, DAVE",{"$nulls":18},0,null,null,{"$f":"IF(BR29=\"\",\"\",IF(BR29>BR30,15,IF(BR29=BR30,7.5,0))+IF(BU29>BU30,15,IF(BU29=BU30,7.5,0))+IF(BX29>BX30,20,IF(BX29=BX30,7.5,0)))","v":""},{"$nulls":3},{"$f":"IF(Payout2>=12,IF(Tourn=\"TC\",7,4),7)","v":4},{"$f":"IF(Master!$C$1=\"TC\",INDEX($DV$7:$DX$18,MATCH(CE29,$DV$7:$DV$18,0),3),INDEX($DV$7:$DX$18,MATCH(CE29,$DW$7:$DW$18,0),3))","v":"SAVOY, TODD"},{"$nulls":18},0,null,null,{"$f":"IF(CS29=\"\",\"\",IF(CS29>CS30,15,IF(CS29=CS30,7.5,0))+IF(CV29>CV30,15,IF(CV29=CV30,7.5,0))+IF(CY29>CY30,20,IF(CY29=CY30,7.5,0)))","v":""},{"$nulls":19},7,null,{"$f":"IF(MPNo<>\"\", IF(MPNo<DV29,\"\",Qual!$C14),IF(MPNo<DV29,\"\",Qual!$C14))","v":"DOWNER, ROB"},0,"",0,"",0,"",0,"",0,"",0,"",0,"",0,"",0,"",0,"",0,"",0,"",{"$f":"IF(Master!$C$4=\"Y\",INDEX(Qual!$C$8:$V$19,MATCH(DX29,Qual!$C$8:$C$19,0),20),0)","v":0},0,0,0,{"$f":"EZ29-IF($GW$22=\"Y\",($FB$7+Qual!$K$4),$FB$7)*200","v":0}]
[null,{"$f":"IF(Payout2>=12,IF(Tourn=\"TC\",2,3),2)","v":3},"JENSEN, WAYNE",{"$nulls":18},0,null,null,{"$f":"IF(P29=\"\",\"\",IF(P29<P30,15,IF(P29=P30,7.5,0))+IF(S29<S30,15,IF(S29=S30,7.5,0))+IF(V29<V30,20,IF(V29=V30,7.5,0)))","v":""},{"$nulls":3},{"$f":"IF(Payout2>=12,IF(Tourn=\"TC\",7,2),7)","v":2},"CAUGHEY, STEVE",{"$nulls":18},0,null,null,{"$f":"IF(AQ29=\"\",\"\",IF(AQ29<AQ30,15,IF(AQ29=AQ30,7.5,0))+IF(AT29<AT30,15,IF(AT29=AT30,7.5,0))+IF(AW29<AW30,20,IF(AW29=AW30,7.5,0)))","v":""},{"$nulls":3},{"$f":"IF(Payout2>=12,IF(Tourn=\"TC\",5,9),5)","v":9},"GREEN, GARY",{"$nulls":18},0,null,null,{"$f":"IF(BR29=\"\",\"\",IF(BR29<BR30,15,IF(BR29=BR30,7.5,0))+IF(BU29<BU30,15,IF(BU29=BU30,7.5,0))+IF(BX29<BX30,20,IF(BX29=BX30,7.5,0)))","v":""},{"$nulls":3},{"$f":"IF(Payout2>=12,IF(Tourn=\"TC\",8,6),8)","v":6},{"$f":"IF(Master!$C$1=\"TC\",INDEX($DV$7:$DX$18,MATCH(CE30,$DV$7:$DV$18,0),3),INDEX($DV$7:$DX$18,MATCH(CE30,$DW$7:$DW$18,0),3))","v":"LANGER, DAVE"},{"$nulls":18},0,null,null,{"$f":"IF(CS29=\"\",\"\",IF(CS29<CS30,15,IF(CS29=CS30,7.5,0))+IF(CV29<CV30,15,IF(CV29=CV30,7.5,0))+IF(CY29<CY30,20,IF(CY29=CY30,7.5,0)))","v":""},{"$nulls":19},8,null,{"$f":"IF(MPNo<>\"\", IF(MPNo<DV30,\"\",Qual!$C15),IF(MPNo<DV30,\"\",Qual!$C15))","v":"JONES, TOM"},0,"",0,"",0,"",0,"",0,"",0,"",0,"",0,"",0,"",0,"",0,"",0,"",{"$f":"IF(Master!$C$4=\"Y\",INDEX(Qual!$C$8:$V$19,MATCH(DX30,Qual!$C$8:$C$19,0),20),0)","v":0},0,0,0,{"$f":"EZ30-IF($GW$22=\"Y\",($FB$7+Qual!$K$4),$FB$7)*200","v":0}]
[null,{"$f":"IF(Payout2>=12,IF(Tourn=\"TC\",\"\",10),\"\")","v":10},"HAVLISH, TOM",{"$nulls":18},0,null,null,{"$f":"IF(P31=\"\",\"\",IF(P31>P32,15,IF(P31=P32,7.5,0))+IF(S31>S32,15,IF(S31=S32,7.5,0))+IF(V31>V32,20,IF(V31=V32,7.5,0)))","v":""},{"$nulls":3},{"$f":"IF(Payout2>=12,IF(Tourn=\"TC\",\"\",7),\"\")","v":7},"DOWNER, ROB",{"$nulls":18},0,null,null,{"$f":"IF(AQ31=\"\",\"\",IF(AQ31>AQ32,15,IF(AQ31=AQ32,7.5,0))+IF(AT31>AT32,15,IF(AT31=AT32,7.5,0))+IF(AW31>AW32,20,IF(AW31=AW32,7.5,0)))","v":""},{"$nulls":3},{"$f":"IF(Payout2>=12,IF(Tourn=\"TC\",\"\",6),\"\")","v":6},"LANGER, DAVE",{"$nulls":18},0,null,null,{"$f":"IF(BR31=\"\",\"\",IF(BR31>BR32,15,IF(BR31=BR32,7.5,0))+IF(BU31>BU32,15,IF(BU31=BU32,7.5,0))+IF(BX31>BX32,20,IF(BX31=BX32,7.5,0)))","v":""},{"$nulls":3},{"$f":"IF(Payout2>=12,IF(Tourn=\"TC\",\"\",2),\"\")","v":2},{"$f":"INDEX($DV$7:$DX$18,MATCH(CE31,$DW$7:$DW$18,0),3)","v":"CAUGHEY, STEVE"},{"$nulls":18},0,null,null,{"$f":"IF(CS31=\"\",\"\",IF(CS31>CS32,15,IF(CS31=CS32,7.5,0))+IF(CV31>CV32,15,IF(CV31=CV32,7.5,0))+IF(CY31>CY32,20,IF(CY31=CY32,7.5,0)))","v":""},{"$nulls":19},9,null,{"$f":"IF(MPNo<>\"\", IF(MPNo<DV31,\"\",Qual!$C16),IF(MPNo<DV31,\"\",Qual!$C16))","v":"GREEN, GARY"},0,"",0,"",0,"",0,"",0,"",0,"",0,"",0,"",0,"",0,"",0,"",0,"",{"$f":"IF(Master!$C$4=\"Y\",INDEX(Qual!$C$8:$V$19,MATCH(DX31,Qual!$C$8:$C$19,0),20),0)","v":0},0,0,0,{"$f":"EZ31-IF($GW$22=\"Y\",($FB$7+Qual!$K$4),$FB$7)*200","v":0}]
[null,{"$f":"IF(Payout2>=12,IF(Tourn=\"TC\",\"\",12),\"\")","v":12},"BIRKEDAHL, LARRY",{"$nulls":18},0,null,null,{"$f":"IF(P31=\"\",\"\",IF(P31<P32,15,IF(P31=P32,7.5,0))+IF(S31<S32,15,IF(S31=S32,7.5,0))+IF(V31<V32,20,IF(V31=V32,7.5,0)))","v":""},{"$nulls":3},{"$f":"IF(Payout2>=12,IF(Tourn=\"TC\",\"\",4),\"\")","v":4},"SAVOY, TODD",{"$nulls":18},0,null,null,{"$f":"IF(AQ31=\"\",\"\",IF(AQ31<AQ32,15,IF(AQ31=AQ32,7.5,0))+IF(AT31<AT32,15,IF(AT31=AT32,7.5,0))+IF(AW31<AW32,20,IF(AW31=AW32,7.5,0)))","v":""},{"$nulls":3},{"$f":"IF(Payout2>=12,IF(Tourn=\"TC\",\"\",8),\"\")","v":8},"JONES, TOM",{"$nulls":18},0,null,null,{"$f":"IF(BR31=\"\",\"\",IF(BR31<BR32,15,IF(BR31=BR32,7.5,0))+IF(BU31<BU32,15,IF(BU31=BU32,7.5,0))+IF(BX31<BX32,20,IF(BX31=BX32,7.5,0)))","v":""},{"$nulls":3},{"$f":"IF(Payout2>=12,IF(Tourn=\"TC\",\"\",3),\"\")","v":3},{"$f":"INDEX($DV$7:$DX$18,MATCH(CE32,$DW$7:$DW$18,0),3)","v":"JENSEN, WAYNE"},{"$nulls":18},0,null,null,{"$f":"IF(CS31=\"\",\"\",IF(CS31<CS32,15,IF(CS31=CS32,7.5,0))+IF(CV31<CV32,15,IF(CV31=CV32,7.5,0))+IF(CY31<CY32,20,IF(CY31=CY32,7.5,0)))","v":""},{"$nulls":19},10,null,{"$f":"IF(MPNo<>\"\", IF(MPNo<DV32,\"\",Qual!$C17),IF(MPNo<DV32,\"\",Qual!$C17))","v":"HAVLISH, TOM"},0,"",0,"",0,"",0,"",0,"",0,"",0,"",0,"",0,"",0,"",0,"",0,"",{"$f":"IF(Master!$C$4=\"Y\",INDEX(Qual!$C$8:$V$19,MATCH(DX32,Qual!$C$8:$C$19,0),20),0)","v":0},0,0,0,{"$f":"EZ32-IF($GW$22=\"Y\",($FB$7+Qual!$K$4),$FB$7)*200","v":0}]
[null,{"$f":"IF(Payout2>=12,IF(Tourn=\"TC\",\"\",2),\"\")","v":2},"CAUGHEY, STEVE",{"$nulls":18},0,null,null,{"$f":"IF(P33=\"\",\"\",IF(P33>P34,15,IF(P33=P34,7.5,0))+IF(S33>S34,15,IF(S33=S34,7.5,0))+IF(V33>V34,20,IF(V33=V34,7.5,0)))","v":""},{"$nulls":3},{"$f":"IF(Payout2>=12,IF(Tourn=\"TC\",\"\",9),\"\")","v":9},"GREEN, GARY",{"$nulls":18},0,null,null,{"$f":"IF(AQ33=\"\",\"\",IF(AQ33>AQ34,15,IF(AQ33=AQ34,7.5,0))+IF(AT33>AT34,15,IF(AT33=AT34,7.5,0))+IF(AW33>AW34,20,IF(AW33=AW34,7.5,0)))","v":""},{"$nulls":3},{"$f":"IF(Payout2>=12,IF(Tourn=\"TC\",\"\",3),\"\")","v":3},"JENSEN, WAYNE",{"$nulls":18},0,null,null,{"$f":"IF(BR33=\"\",\"\",IF(BR33>BR34,15,IF(BR33=BR34,7.5,0))+IF(BU33>BU34,15,IF(BU33=BU34,7.5,0))+IF(BX33>BX34,20,IF(BX33=BX34,7.5,0)))","v":""},{"$nulls":3},{"$f":"IF(Payout2>=12,IF(Tourn=\"TC\",\"\",8),\"\")","v":8},{"$f":"INDEX($DV$7:$DX$18,MATCH(CE33,$DW$7:$DW$18,0),3)","v":"JONES, TOM"},{"$nulls":18},0,null,null,{"$f":"IF(CS33=\"\",\"\",IF(CS33>CS34,15,IF(CS33=CS34,7.5,0))+IF(CV33>CV34,15,IF(CV33=CV34,7.5,0))+IF(CY33>CY34,20,IF(CY33=CY34,7.5,0)))","v":""},{"$nulls":19},11,null,{"$f":"IF(MPNo<>\"\", IF(MPNo<DV33,\"\",Qual!$C18),IF(MPNo<DV33,\"\",Qual!$C18))","v":"DAVIS, SCOTT"},0,"",0,"",0,"",0,"",0,"",0,"",0,"",0,"",0,"",0,"",0,"",0,"",{"$f":"IF(Master!$C$4=\"Y\",INDEX(Qual!$C$8:$V$19,MATCH(DX33,Qual!$C$8:$C$19,0),20),0)","v":0},0,0,0,{"$f":"EZ33-IF($GW$22=\"Y\",($FB$7+Qual!$K$4),$FB$7)*200","v":0}]
[null,{"$f":"IF(Payout2>=12,IF(Tourn=\"TC\",\"\",4),\"\")","v":4},"SAVOY, TODD",{"$nulls":18},0,null,null,{"$f":"IF(P33=\"\",\"\",IF(P33<P34,15,IF(P33=P34,7.5,0))+IF(S33<S34,15,IF(S33=S34,7.5,0))+IF(V33<V34,20,IF(V33=V34,7.5,0)))","v":""},{"$nulls":3},{"$f":"IF(Payout2>=12,IF(Tourn=\"TC\",\"\",5),\"\")","v":5},"HOMMES, JOHN",{"$nulls":18},0,null,null,{"$f":"IF(AQ33=\"\",\"\",IF(AQ33<AQ34,15,IF(AQ33=AQ34,7.5,0))+IF(AT33<AT34,15,IF(AT33=AT34,7.5,0))+IF(AW33<AW34,20,IF(AW33=AW34,7.5,0)))","v":""},{"$nulls":3},{"$f":"IF(Payout2>=12,IF(Tourn=\"TC\",\"\",11),\"\")","v":11},"DAVIS, SCOTT",{"$nulls":18},0,null,null,{"$f":"IF(BR33=\"\",\"\",IF(BR33<BR34,15,IF(BR33=BR34,7.5,0))+IF(BU33<BU34,15,IF(BU33=BU34,7.5,0))+IF(BX33<BX34,20,IF(BX33=BX34,7.5,0)))","v":""},{"$nulls":3},{"$f":"IF(Payout2>=12,IF(Tourn=\"TC\",\"\",1),\"\")","v":1},{"$f":"INDEX($DV$7:$DX$18,MATCH(CE34,$DW$7:$DW$18,0),3)","v":"OULMAN, DAVE"},{"$nulls":18},0,null,null,{"$f":"IF(CS33=\"\",\"\",IF(CS33<CS34,15,IF(CS33=CS34,7.5,0))+IF(CV33<CV34,15,IF(CV33=CV34,7.5,0))+IF(CY33<CY34,20,IF(CY33=CY34,7.5,0)))","v":""},{"$nulls":19},12,null,{"$f":"IF(MPNo<>\"\", IF(MPNo<DV34,\"\",Qual!$C19),IF(MPNo<DV34,\"\",Qual!$C19))","v":"BIRKEDAHL, LARRY"},0,"",0,"",0,"",0,"",0,"",0,"",0,"",0,"",0,"",0,"",0,"",0,"",{"$f":"IF(Master!$C$4=\"Y\",INDEX(Qual!$C$8:$V$19,MATCH(DX34,Qual!$C$8:$C$19,0),20),0)","v":0},0,0,0,{"$f":"EZ34-IF($GW$22=\"Y\",($FB$7+Qual!$K$4),$FB$7)*200","v":0}]
[]
[]
[]
[null,null,"Match 9",{"$nulls":12},"G1",null,null,"G2",null,null,"Tot",null,null,"B",{"$nulls":4},"Match 10",{"$nulls":12},"G1",null,null,"G2",null,null,"Tot",null,null,"B",{"$nulls":4},"Match 11",{"$nulls":12},"G1",null,null,"G2",null,null,"Tot",null,null,"B",{"$nulls":4},"Match 12",{"$nulls":12},"G1",null,null,"G2",null,null,"Tot",null,null,"B"]
[null,{"$f":"IF(Payout2>=12,IF(Tourn=\"TC\",\"\",6),\"\")","v":6},{"$f":"INDEX($DV$7:$DX$18,MATCH(B39,$DW$7:$DW$18,0),3)","v":"LANGER, DAVE"},{"$nulls":18},{"$f":"P39+S39","v":0},null,null,{"$f":"IF(P39=\"\",\"\",IF(P39>P40,15,IF(P39=P40,7.5,0))+IF(S39>S40,15,IF(S39=S40,7.5,0))+IF(V39>V40,20,IF(V39=V40,7.5,0)))","v":""},{"$nulls":3},{"$f":"IF(Payout2>=12,IF(Tourn=\"TC\",\"\",3),\"\")","v":3},{"$f":"INDEX($DV$7:$DX$18,MATCH(AC39,$DW$7:$DW$18,0),3)","v":"JENSEN, WAYNE"},{"$nulls":18},{"$f":"AQ39+AT39","v":0},null,null,{"$f":"IF(AQ39=\"\",\"\",IF(AQ39>AQ40,15,IF(AQ39=AQ40,7.5,0))+IF(AT39>AT40,15,IF(AT39=AT40,7.5,0))+IF(AW39>AW40,20,IF(AW39=AW40,7.5,0)))","v":""},{"$nulls":3},{"$f":"IF(Payout2>=12,IF(Tourn=\"TC\",\"\",8),\"\")","v":8},{"$f":"INDEX($DV$7:$DX$18,MATCH(BD39,$DW$7:$DW$18,0),3)","v":"JONES, TOM"},{"$nulls":18},{"$f":"BR39+BU39","v":0},null,null,{"$f":"IF(BR39=\"\",\"\",IF(BR39>BR40,15,IF(BR39=BR40,7.5,0))+IF(BU39>BU40,15,IF(BU39=BU40,7.5,0))+IF(BX39>BX40,20,IF(BX39=BX40,7.5,0)))","v":""},{"$nulls":3},{"$f":"IF(Payout2>=12,IF(Tourn=\"TC\",\"\",9),\"\")","v":9},{"$f":"INDEX($DV$7:$DX$18,MATCH(CE39,$DV$7:$DV$18,0),3)","v":"GREEN, GARY"},{"$nulls":18},{"$f":"CS39+CV39","v":0},null,null,{"$f":"IF(CS39=\"\",\"\",IF(CS39>CS40,15,IF(CS39=CS40,7.5,0))+IF(CV39>CV40,15,IF(CV39=CV40,7.5,0))+IF(CY39>CY40,20,IF(CY39=CY40,7.5,0)))","v":""}]
[null,{"$f":"IF(Payout2>=12,IF(Tourn=\"TC\",\"\",1),\"\")","v":1},"OULMAN, DAVE",{"$nulls":18},{"$f":"P40+S40","v":0},null,null,{"$f":"IF(P39=\"\",\"\",IF(P39<P40,15,IF(P39=P40,7.5,0))+IF(S39<S40,15,IF(S39=S40,7.5,0))+IF(V39<V40,20,IF(V39=V40,7.5,0)))","v":""},{"$nulls":3},{"$f":"IF(Payout2>=12,IF(Tourn=\"TC\",\"\",10),\"\")","v":10},"HAVLISH, TOM",{"$nulls":18},{"$f":"AQ40+AT40","v":0},null,null,{"$f":"IF(AQ39=\"\",\"\",IF(AQ39<AQ40,15,IF(AQ39=AQ40,7.5,0))+IF(AT39<AT40,15,IF(AT39=AT40,7.5,0))+IF(AW39<AW40,20,IF(AW39=AW40,7.5,0)))","v":""},{"$nulls":3},{"$f":"IF(Payout2>=12,IF(Tourn=\"TC\",\"\",4),\"\")","v":4},"SAVOY, TODD",{"$nulls":18},{"$f":"BR40+BU40","v":0},null,null,{"$f":"IF(BR39=\"\",\"\",IF(BR39<BR40,15,IF(BR39=BR40,7.5,0))+IF(BU39<BU40,15,IF(BU39=BU40,7.5,0))+IF(BX39<BX40,20,IF(BX39=BX40,7.5,0)))","v":""},{"$nulls":3},{"$f":"IF(Payout2>=12,IF(Tourn=\"TC\",\"\",10),\"\")","v":10},"HAVLISH, TOM",{"$nulls":18},{"$f":"CS40+CV40","v":0},null,null,{"$f":"IF(CS39=\"\",\"\",IF(CS39<CS40,15,IF(CS39=CS40,7.5,0))+IF(CV39<CV40,15,IF(CV39=CV40,7.5,0))+IF(CY39<CY40,20,IF(CY39=CY40,7.5,0)))","v":""}]
[null,{"$f":"IF(Payout2>=12,IF(Tourn=\"TC\",\"\",2),\"\")","v":2},"CAUGHEY, STEVE",{"$nulls":18},0,null,null,{"$f":"IF(P41=\"\",\"\",IF(P41>P42,15,IF(P41=P42,7.5,0))+IF(S41>S42,15,IF(S41=S42,7.5,0))+IF(V41>V42,20,IF(V41=V42,7.5,0)))","v":""},{"$nulls":3},{"$f":"IF(Payout2>=12,IF(Tourn=\"TC\",\"\",8),\"\")","v":8},"JONES, TOM",{"$nulls":18},0,null,null,{"$f":"IF(AQ41=\"\",\"\",IF(AQ41>AQ42,15,IF(AQ41=AQ42,7.5,0))+IF(AT41>AT42,15,IF(AT41=AT42,7.5,0))+IF(AW41>AW42,20,IF(AW41=AW42,7.5,0)))","v":""},{"$nulls":3},{"$f":"IF(Payout2>=12,IF(Tourn=\"TC\",\"\",7),\"\")","v":7},"DOWNER, ROB",{"$nulls":18},0,null,null,{"$f":"IF(BR41=\"\",\"\",IF(BR41>BR42,15,IF(BR41=BR42,7.5,0))+IF(BU41>BU42,15,IF(BU41=BU42,7.5,0))+IF(BX41>BX42,20,IF(BX41=BX42,7.5,0)))","v":""},{"$nulls":3},{"$f":"IF(Payout2>=12,IF(Tourn=\"TC\",\"\",5),\"\")","v":5},"HOMMES, JOHN",{"$nulls":18},0,null,null,{"$f":"IF(CS41=\"\",\"\",IF(CS41>CS42,15,IF(CS41=CS42,7.5,0))+IF(CV41>CV42,15,IF(CV41=CV42,7.5,0))+IF(CY41>CY42,20,IF(CY41=CY42,7.5,0)))","v":""}]
[null,{"$f":"IF(Payout2>=12,IF(Tourn=\"TC\",\"\",11),\"\")","v":11},"DAVIS, SCOTT",{"$nulls":18},0,null,null,{"$f":"IF(P41=\"\",\"\",IF(P41<P42,15,IF(P41=P42,7.5,0))+IF(S41<S42,15,IF(S41=S42,7.5,0))+IF(V41<V42,20,IF(V41=V42,7.5,0)))","v":""},{"$nulls":3},{"$f":"IF(Payout2>=12,IF(Tourn=\"TC\",\"\",9),\"\")","v":9},"GREEN, GARY",{"$nulls":18},0,null,null,{"$f":"IF(AQ41=\"\",\"\",IF(AQ41<AQ42,15,IF(AQ41=AQ42,7.5,0))+IF(AT41<AT42,15,IF(AT41=AT42,7.5,0))+IF(AW41<AW42,20,IF(AW41=AW42,7.5,0)))","v":""},{"$nulls":3},{"$f":"IF(Payout2>=12,IF(Tourn=\"TC\",\"\",3),\"\")","v":3},"JENSEN, WAYNE",{"$nulls":18},0,null,null,{"$f":"IF(BR41=\"\",\"\",IF(BR41<BR42,15,IF(BR41=BR42,7.5,0))+IF(BU41<BU42,15,IF(BU41=BU42,7.5,0))+IF(BX41<BX42,20,IF(BX41=BX42,7.5,0)))","v":""},{"$nulls":3},{"$f":"IF(Payout2>=12,IF(Tourn=\"TC\",\"\",6),\"\")","v":6},"LANGER, DAVE",{"$nulls":18},0,null,null,{"$f":"IF(CS41=\"\",\"\",IF(CS41<CS42,15,IF(CS41=CS42,7.5,0))+IF(CV41<CV42,15,IF(CV41=CV42,7.5,0))+IF(CY41<CY42,20,IF(CY41=CY42,7.5,0)))","v":""}]
[null,{"$f":"IF(Payout2>=12,IF(Tourn=\"TC\",\"\",8),\"\")","v":8},"JONES, TOM",{"$nulls":18},0,null,null,{"$f":"IF(P43=\"\",\"\",IF(P43>P44,15,IF(P43=P44,7.5,0))+IF(S43>S44,15,IF(S43=S44,7.5,0))+IF(V43>V44,20,IF(V43=V44,7.5,0)))","v":""},{"$nulls":3},{"$f":"IF(Payout2>=12,IF(Tourn=\"TC\",\"\",4),\"\")","v":4},"SAVOY, TODD",{"$nulls":18},0,null,null,{"$f":"IF(AQ43=\"\",\"\",IF(AQ43>AQ44,15,IF(AQ43=AQ44,7.5,0))+IF(AT43>AT44,15,IF(AT43=AT44,7.5,0))+IF(AW43>AW44,20,IF(AW43=AW44,7.5,0)))","v":""},{"$nulls":3},{"$f":"IF(Payout2>=12,IF(Tourn=\"TC\",\"\",6),\"\")","v":6},"LANGER, DAVE",{"$nulls":18},0,null,null,{"$f":"IF(BR43=\"\",\"\",IF(BR43>BR44,15,IF(BR43=BR44,7.5,0))+IF(BU43>BU44,15,IF(BU43=BU44,7.5,0))+IF(BX43>BX44,20,IF(BX43=BX44,7.5,0)))","v":""},{"$nulls":3},{"$f":"IF(Payout2>=12,IF(Tourn=\"TC\",\"\",1),\"\")","v":1},{"$f":"INDEX($DV$7:$DX$18,MATCH(CE43,$DV$7:$DV$18,0),3)","v":"OULMAN, DAVE"},{"$nulls":18},0,null,null,{"$f":"IF(CS43=\"\",\"\",IF(CS43>CS44,15,IF(CS43=CS44,7.5,0))+IF(CV43>CV44,15,IF(CV43=CV44,7.5,0))+IF(CY43>CY44,20,IF(CY43=CY44,7.5,0)))","v":""}]
[null,{"$f":"IF(Payout2>=12,IF(Tourn=\"TC\",\"\",12),\"\")","v":12},"BIRKEDAHL, LARRY",{"$nulls":18},0,null,null,{"$f":"IF(P43=\"\",\"\",IF(P43<P44,15,IF(P43=P44,7.5,0))+IF(S43<S44,15,IF(S43=S44,7.5,0))+IF(V43<V44,20,IF(V43=V44,7.5,0)))","v":""},{"$nulls":3},{"$f":"IF(Payout2>=12,IF(Tourn=\"TC\",\"\",1),\"\")","v":1},"OULMAN, DAVE",{"$nulls":18},0,null,null,{"$f":"IF(AQ43=\"\",\"\",IF(AQ43<AQ44,15,IF(AQ43=AQ44,7.5,0))+IF(AT43<AT44,15,IF(AT43=AT44,7.5,0))+IF(AW43<AW44,20,IF(AW43=AW44,7.5,0)))","v":""},{"$nulls":3},{"$f":"IF(Payout2>=12,IF(Tourn=\"TC\",\"\",9),\"\")","v":9},"GREEN, GARY",{"$nulls":18},0,null,null,{"$f":"IF(BR43=\"\",\"\",IF(BR43<BR44,15,IF(BR43=BR44,7.5,0))+IF(BU43<BU44,15,IF(BU43=BU44,7.5,0))+IF(BX43<BX44,20,IF(BX43=BX44,7.5,0)))","v":""},{"$nulls":3},{"$f":"IF(Payout2>=12,IF(Tourn=\"TC\",\"\",2),\"\")","v":2},{"$f":"INDEX($DV$7:$DX$18,MATCH(CE44,$DV$7:$DV$18,0),3)","v":"CAUGHEY, STEVE"},{"$nulls":18},0,null,null,{"$f":"IF(CS43=\"\",\"\",IF(CS43<CS44,15,IF(CS43=CS44,7.5,0))+IF(CV43<CV44,15,IF(CV43=CV44,7.5,0))+IF(CY43<CY44,20,IF(CY43=CY44,7.5,0)))","v":""}]
[null,{"$f":"IF(Payout2>=12,IF(Tourn=\"TC\",\"\",3),\"\")","v":3},"JENSEN, WAYNE",{"$nulls":18},0,null,null,{"$f":"IF(P45=\"\",\"\",IF(P45>P46,15,IF(P45=P46,7.5,0))+IF(S45>S46,15,IF(S45=S46,7.5,0))+IF(V45>V46,20,IF(V45=V46,7.5,0)))","v":""},{"$nulls":3},{"$f":"IF(Payout2>=12,IF(Tourn=\"TC\",\"\",2),\"\")","v":2},"CAUGHEY, STEVE",{"$nulls":18},0,null,null,{"$f":"IF(AQ45=\"\",\"\",IF(AQ45>AQ46,15,IF(AQ45=AQ46,7.5,0))+IF(AT45>AT46,15,IF(AT45=AT46,7.5,0))+IF(AW45>AW46,20,IF(AW45=AW46,7.5,0)))","v":""},{"$nulls":3},{"$f":"IF(Payout2>=12,IF(Tourn=\"TC\",\"\",11),\"\")","v":11},"DAVIS, SCOTT",{"$nulls":18},0,null,null,{"$f":"IF(BR45=\"\",\"\",IF(BR45>BR46,15,IF(BR45=BR46,7.5,0))+IF(BU45>BU46,15,IF(BU45=BU46,7.5,0))+IF(BX45>BX46,20,IF(BX45=BX46,7.5,0)))","v":""},{"$nulls":3},{"$f":"IF(Payout2>=12,IF(Tourn=\"TC\",\"\",3),\"\")","v":3},"JENSEN, WAYNE",{"$nulls":18},0,null,null,{"$f":"IF(CS45=\"\",\"\",IF(CS45>CS46,15,IF(CS45=CS46,7.5,0))+IF(CV45>CV46,15,IF(CV45=CV46,7.5,0))+IF(CY45>CY46,20,IF(CY45=CY46,7.5,0)))","v":""}]
[null,{"$f":"IF(Payout2>=12,IF(Tourn=\"TC\",\"\",5),\"\")","v":5},"HOMMES, JOHN",{"$nulls":18},0,null,null,{"$f":"IF(P45=\"\",\"\",IF(P45<P46,15,IF(P45=P46,7.5,0))+IF(S45<S46,15,IF(S45=S46,7.5,0))+IF(V45<V46,20,IF(V45=V46,7.5,0)))","v":""},{"$nulls":3},{"$f":"IF(Payout2>=12,IF(Tourn=\"TC\",\"\",7),\"\")","v":7},"DOWNER, ROB",{"$nulls":18},0,null,null,{"$f":"IF(AQ45=\"\",\"\",IF(AQ45<AQ46,15,IF(AQ45=AQ46,7.5,0))+IF(AT45<AT46,15,IF(AT45=AT46,7.5,0))+IF(AW45<AW46,20,IF(AW45=AW46,7.5,0)))","v":""},{"$nulls":3},{"$f":"IF(Payout2>=12,IF(Tourn=\"TC\",\"\",10),\"\")","v":10},"HAVLISH, TOM",{"$nulls":18},0,null,null,{"$f":"IF(BR45=\"\",\"\",IF(BR45<BR46,15,IF(BR45=BR46,7.5,0))+IF(BU45<BU46,15,IF(BU45=BU46,7.5,0))+IF(BX45<BX46,20,IF(BX45=BX46,7.5,0)))","v":""},{"$nulls":3},{"$f":"IF(Payout2>=12,IF(Tourn=\"TC\",\"\",4),\"\")","v":4},"SAVOY, TODD",{"$nulls":18},0,null,null,{"$f":"IF(CS45=\"\",\"\",IF(CS45<CS46,15,IF(CS45=CS46,7.5,0))+IF(CV45<CV46,15,IF(CV45=CV46,7.5,0))+IF(CY45<CY46,20,IF(CY45=CY46,7.5,0)))","v":""}]
[null,{"$f":"IF(Payout2>=12,IF(Tourn=\"TC\",\"\",4),\"\")","v":4},"SAVOY, TODD",{"$nulls":18},0,null,null,{"$f":"IF(P47=\"\",\"\",IF(P47>P48,15,IF(P47=P48,7.5,0))+IF(S47>S48,15,IF(S47=S48,7.5,0))+IF(V47>V48,20,IF(V47=V48,7.5,0)))","v":""},{"$nulls":3},{"$f":"IF(Payout2>=12,IF(Tourn=\"TC\",\"\",5),\"\")","v":5},"HOMMES, JOHN",{"$nulls":18},0,null,null,{"$f":"IF(AQ47=\"\",\"\",IF(AQ47>AQ48,15,IF(AQ47=AQ48,7.5,0))+IF(AT47>AT48,15,IF(AT47=AT48,7.5,0))+IF(AW47>AW48,20,IF(AW47=AW48,7.5,0)))","v":""},{"$nulls":3},{"$f":"IF(Payout2>=12,IF(Tourn=\"TC\",\"\",12),\"\")","v":12},"BIRKEDAHL, LARRY",{"$nulls":18},0,null,null,{"$f":"IF(BR47=\"\",\"\",IF(BR47>BR48,15,IF(BR47=BR48,7.5,0))+IF(BU47>BU48,15,IF(BU47=BU48,7.5,0))+IF(BX47>BX48,20,IF(BX47=BX48,7.5,0)))","v":""},{"$nulls":3},{"$f":"IF(Payout2>=12,IF(Tourn=\"TC\",\"\",7),\"\")","v":7},"DOWNER, ROB",{"$nulls":18},0,null,null,{"$f":"IF(CS47=\"\",\"\",IF(CS47>CS48,15,IF(CS47=CS48,7.5,0))+IF(CV47>CV48,15,IF(CV47=CV48,7.5,0))+IF(CY47>CY48,20,IF(CY47=CY48,7.5,0)))","v":""}]
[null,{"$f":"IF(Payout2>=12,IF(Tourn=\"TC\",\"\",9),\"\")","v":9},"GREEN, GARY",{"$nulls":18},0,null,null,{"$f":"IF(P47=\"\",\"\",IF(P47<P48,15,IF(P47=P48,7.5,0))+IF(S47<S48,15,IF(S47=S48,7.5,0))+IF(V47<V48,20,IF(V47=V48,7.5,0)))","v":""},{"$nulls":3},{"$f":"IF(Payout2>=12,IF(Tourn=\"TC\",\"\",11),\"\")","v":11},"DAVIS, SCOTT",{"$nulls":18},0,null,null,{"$f":"IF(AQ47=\"\",\"\",IF(AQ47<AQ48,15,IF(AQ47=AQ48,7.5,0))+IF(AT47<AT48,15,IF(AT47=AT48,7.5,0))+IF(AW47<AW48,20,IF(AW47=AW48,7.5,0)))","v":""},{"$nulls":3},{"$f":"IF(Payout2>=12,IF(Tourn=\"TC\",\"\",1),\"\")","v":1},"OULMAN, DAVE",{"$nulls":18},0,null,null,{"$f":"IF(BR47=\"\",\"\",IF(BR47<BR48,15,IF(BR47=BR48,7.5,0))+IF(BU47<BU48,15,IF(BU47=BU48,7.5,0))+IF(BX47<BX48,20,IF(BX47=BX48,7.5,0)))","v":""},{"$nulls":3},{"$f":"IF(Payout2>=12,IF(Tourn=\"TC\",\"\",8),\"\")","v":8},"JONES, TOM",{"$nulls":18},0,null,null,{"$f":"IF(CS47=\"\",\"\",IF(CS47<CS48,15,IF(CS47=CS48,7.5,0))+IF(CV47<CV48,15,IF(CV47=CV48,7.5,0))+IF(CY47<CY48,20,IF(CY47=CY48,7.5,0)))","v":""}]
[null,{"$f":"IF(Payout2>=12,IF(Tourn=\"TC\",\"\",7),\"\")","v":7},"DOWNER, ROB",{"$nulls":18},0,null,null,{"$f":"IF(P49=\"\",\"\",IF(P49>P50,15,IF(P49=P50,7.5,0))+IF(S49>S50,15,IF(S49=S50,7.5,0))+IF(V49>V50,20,IF(V49=V50,7.5,0)))","v":""},{"$nulls":3},{"$f":"IF(Payout2>=12,IF(Tourn=\"TC\",\"\",12),\"\")","v":12},"BIRKEDAHL, LARRY",{"$nulls":18},0,null,null,{"$f":"IF(AQ49=\"\",\"\",IF(AQ49>AQ50,15,IF(AQ49=AQ50,7.5,0))+IF(AT49>AT50,15,IF(AT49=AT50,7.5,0))+IF(AW49>AW50,20,IF(AW49=AW50,7.5,0)))","v":""},{"$nulls":3},{"$f":"IF(Payout2>=12,IF(Tourn=\"TC\",\"\",5),\"\")","v":5},"HOMMES, JOHN",{"$nulls":18},0,null,null,{"$f":"IF(BR49=\"\",\"\",IF(BR49>BR50,15,IF(BR49=BR50,7.5,0))+IF(BU49>BU50,15,IF(BU49=BU50,7.5,0))+IF(BX49>BX50,20,IF(BX49=BX50,7.5,0)))","v":""},{"$nulls":3},{"$f":"IF(Payout2>=12,IF(Tourn=\"TC\",\"\",11),\"\")","v":11},"DAVIS, SCOTT",{"$nulls":18},0,null,null,{"$f":"IF(CS49=\"\",\"\",IF(CS49>CS50,15,IF(CS49=CS50,7.5,0))+IF(CV49>CV50,15,IF(CV49=CV50,7.5,0))+IF(CY49>CY50,20,IF(CY49=CY50,7.5,0)))","v":""}]
[null,{"$f":"IF(Payout2>=12,IF(Tourn=\"TC\",\"\",10),\"\")","v":10},"HAVLISH, TOM",{"$nulls":18},0,null,null,{"$f":"IF(P49=\"\",\"\",IF(P49<P50,15,IF(P49=P50,7.5,0))+IF(S49<S50,15,IF(S49=S50,7.5,0))+IF(V49<V50,20,IF(V49=V50,7.5,0)))","v":""},{"$nulls":3},{"$f":"IF(Payout2>=12,IF(Tourn=\"TC\",\"\",6),\"\")","v":6},"LANGER, DAVE",{"$nulls":18},0,null,null,{"$f":"IF(AQ49=\"\",\"\",IF(AQ49<AQ50,15,IF(AQ49=AQ50,7.5,0))+IF(AT49<AT50,15,IF(AT49=AT50,7.5,0))+IF(AW49<AW50,20,IF(AW49=AW50,7.5,0)))","v":""},{"$nulls":3},{"$f":"IF(Payout2>=12,IF(Tourn=\"TC\",\"\",2),\"\")","v":2},"CAUGHEY, STEVE",{"$nulls":18},0,null,null,{"$f":"IF(BR49=\"\",\"\",IF(BR49<BR50,15,IF(BR49=BR50,7.5,0))+IF(BU49<BU50,15,IF(BU49=BU50,7.5,0))+IF(BX49<BX50,20,IF(BX49=BX50,7.5,0)))","v":""},{"$nulls":3},{"$f":"IF(Payout2>=12,IF(Tourn=\"TC\",\"\",12),\"\")","v":12},"BIRKEDAHL, LARRY",{"$nulls":18},0,null,null,{"$f":"IF(CS49=\"\",\"\",IF(CS49<CS50,15,IF(CS49=CS50,7.5,0))+IF(CV49<CV50,15,IF(CV49=CV50,7.5,0))+IF(CY49<CY50,20,IF(CY49=CY50,7.5,0)))","v":""}]
[]
[]
[{"$nulls":86},"Qual Total",{"$nulls":3},"MP Act Pins",{"$nulls":3},"MP B Pins",{"$nulls":3},"Total Pins",{"$nulls":3},"+ / -"]
[{"$nulls":15},"M1",null,null,"B",null,null,"M2",null,null,"B",null,null,"M3",null,null,"B",null,null,"M4",null,null,"B",null,null,"M5",null,null,"B",null,null,"M6",null,null,"B",null,null,"M7",null,null,"B",null,"M8",null,null,"B",null,null,"M9",null,null,"B",null,null,"M10",null,null,"B",null,null,"M11",null,null,"B",null,null,"M12",null,null,"B"]
[null,1,{"$f":"IF(Payout2>=12,IF($CS$39=\"\",DX7,DX23),IF($CS$23=\"\",DX7,DX23))","v":"OULMAN, DAVE"},{"$nulls":12},{"$f":"IF(Payout2>=12,IF($CS$23=\"\",DY7,DY23),IF($CS$39=\"\",DY7,DY23))","v":0},null,null,{"$f":"IF(Payout2>=12,IF($CS$39=\"\",DZ7,DZ23),IF($CS$23=\"\",DZ7,DZ23))","v":""},null,null,{"$f":"IF(Payout2>=12,IF($CS$39=\"\",EA7,EA23),IF($CS$23=\"\",EA7,EA23))","v":0},null,null,{"$f":"IF(Payout2>=12,IF($CS$39=\"\",EB7,EB23),IF($CS$23=\"\",EB7,EB23))","v":""},null,null,{"$f":"IF(Payout2>=12,IF($CS$39=\"\",EC7,EC23),IF($CS$23=\"\",EC7,EC23))","v":0},null,null,{"$f":"IF(Payout2>=12,IF($CS$39=\"\",ED7,ED23),IF($CS$23=\"\",ED7,ED23))","v":""},null,null,{"$f":"IF(Payout2>=12,IF($CS$39=\"\",EE7,EE23),IF($CS$23=\"\",EE7,EE23))","v":0},null,null,{"$f":"IF(Payout2>=12,IF($CS$39=\"\",EF7,EF23),IF($CS$23=\"\",EF7,EF23))","v":""},null,null,{"$f":"IF(Payout2>=12,IF($CS$39=\"\",EG7,EG23),IF($CS$23=\"\",EG7,EG23))","v":0},null,null,{"$f":"IF(Payout2>=12,IF($CS$39=\"\",EH7,EH23),IF($CS$23=\"\",EH7,EH23))","v":""},null,null,{"$f":"IF(Payout2>=12,IF($CS$39=\"\",EI7,EI23),IF($CS$23=\"\",EI7,EI23))","v":0},null,null,{"$f":"IF(Payout2>=12,IF($CS$39=\"\",EJ7,EJ23),IF($CS$23=\"\",EJ7,EJ23))","v":""},null,null,{"$f":"IF(Payout2>=12,IF($CS$39=\"\",EK7,EK23),IF($CS$23=\"\",EK7,EK23))","v":0},null,null,{"$f":"IF(Payout2>=12,IF($CS$39=\"\",EL7,EL23),IF($CS$23=\"\",EL7,EL23))","v":""},null,{"$f":"IF(Payout2>=12,IF($CS$39=\"\",EM7,EM23),IF($CS$23=\"\",EM7,EM23))","v":0},null,null,{"$f":"IF(Payout2>=12,IF($CS$39=\"\",EN7,EN23),IF($CS$23=\"\",EN7,EN23))","v":""},null,null,{"$f":"IF(Payout2>=12,IF($CS$39=\"\",EO7,EO23),IF($CS$23=\"\",EO7,EO23))","v":0},null,null,{"$f":"IF(Payout2>=12,IF($CS$39=\"\",EP7,EP23),IF($CS$23=\"\",EP7,EP23))","v":""},null,null,{"$f":"IF(Payout2>=12,IF($CS$39=\"\",EQ7,EQ23),IF($CS$23=\"\",EQ7,EQ23))","v":0},null,null,{"$f":"IF(Payout2>=12,IF($CS$39=\"\",ER7,ER23),IF($CS$23=\"\",ER7,ER23))","v":""},null,null,{"$f":"IF(Payout2>=12,IF($CS$39=\"\",ES7,ES23),IF($CS$23=\"\",ES7,ES23))","v":0},null,null,{"$f":"IF(Payout2>=12,IF($CS$39=\"\",ET7,ET23),IF($CS$23=\"\",ET7,ET23))","v":""},null,null,{"$f":"IF(Payout2>=12,IF($CS$39=\"\",EU7,EU23),IF($CS$23=\"\",EU7,EU23))","v":0},null,null,{"$f":"IF(Payout2>=12,IF($CS$39=\"\",EV7,EV23),IF($CS$23=\"\",EV7,EV23))","v":""},null,null,{"$f":"IF(Master!$C$4=\"Y\",INDEX(Qual!$C$8:$V$21,MATCH(C55,Qual!$C$8:$C$21,0),20),0)","v":0},{"$nulls":3},{"$f":"IF(Payout2>=12,IF($CS$39=\"\",EX7,EX23),IF($CS$23=\"\",EX7,EX23))","v":0},{"$nulls":3},{"$f":"IF(Payout2>=12,IF($CS$39=\"\",EY7,EY23),IF($CS$23=\"\",EY7,EY23))","v":{"v":0,"d":"0.0"}},{"$nulls":3},{"$f":"IF(Payout2>=12,IF($CS$39=\"\",EZ7,EZ23),IF($CS$23=\"\",EZ7,EZ23))","v":0},{"$nulls":3},{"$f":"IF(Payout2>=12,IF($CS$39=\"\",FA7,FA23),IF($CS$23=\"\",FA7,FA23))","v":{"v":0,"d":"0.0"}}]
[null,2,"CAUGHEY, STEVE",{"$nulls":12},{"$f":"IF(Payout2>=12,IF($CS$39=\"\",DY8,DY24),IF($CS$23=\"\",DY8,DY24))","v":0},null,null,"",null,null,0,null,null,"",null,null,0,null,null,"",null,null,0,null,null,"",null,null,0,null,null,"",null,null,0,null,null,"",null,null,0,null,null,"",null,0,null,null,"",null,null,0,null,null,"",null,null,0,null,null,"",null,null,0,null,null,"",null,null,0,null,null,"",null,null,{"$f":"IF(Master!$C$4=\"Y\",INDEX(Qual!$C$8:$V$21,MATCH(C56,Qual!$C$8:$C$21,0),20),0)","v":0},{"$nulls":3},0,{"$nulls":3},{"v":0,"d":"0.0"},{"$nulls":3},0,{"$nulls":3},{"v":0,"d":"0.0"}]
[null,3,"JENSEN, WAYNE",{"$nulls":12},0,null,null,"",null,null,0,null,null,"",null,null,0,null,null,"",null,null,0,null,null,"",null,null,0,null,null,"",null,null,0,null,null,"",null,null,0,null,null,"",null,0,null,null,"",null,null,0,null,null,"",null,null,0,null,null,"",null,null,0,null,null,"",null,null,0,null,null,"",null,null,{"$f":"IF(Master!$C$4=\"Y\",INDEX(Qual!$C$8:$V$21,MATCH(C57,Qual!$C$8:$C$21,0),20),0)","v":0},{"$nulls":3},0,{"$nulls":3},{"v":0,"d":"0.0"},{"$nulls":3},0,{"$nulls":3},{"v":0,"d":"0.0"}]
[null,4,"SAVOY, TODD",{"$nulls":12},0,null,null,"",null,null,0,null,null,"",null,null,0,null,null,"",null,null,0,null,null,"",null,null,0,null,null,"",null,null,0,null,null,"",null,null,0,null,null,"",null,0,null,null,"",null,null,0,null,null,"",null,null,0,null,null,"",null,null,0,null,null,"",null,null,0,null,null,"",null,null,{"$f":"IF(Master!$C$4=\"Y\",INDEX(Qual!$C$8:$V$21,MATCH(C58,Qual!$C$8:$C$21,0),20),0)","v":0},{"$nulls":3},0,{"$nulls":3},{"v":0,"d":"0.0"},{"$nulls":3},0,{"$nulls":3},{"v":0,"d":"0.0"}]
[null,5,"HOMMES, JOHN",{"$nulls":12},0,null,null,"",null,null,0,null,null,"",null,null,0,null,null,"",null,null,0,null,null,"",null,null,0,null,null,"",null,null,0,null,null,"",null,null,0,null,null,"",null,0,null,null,"",null,null,0,null,null,"",null,null,0,null,null,"",null,null,0,null,null,"",null,null,0,null,null,"",null,null,{"$f":"IF(Master!$C$4=\"Y\",INDEX(Qual!$C$8:$V$21,MATCH(C59,Qual!$C$8:$C$21,0),20),0)","v":0},{"$nulls":3},0,{"$nulls":3},{"v":0,"d":"0.0"},{"$nulls":3},0,{"$nulls":3},{"v":0,"d":"0.0"}]
[null,6,"LANGER, DAVE",{"$nulls":12},0,null,null,"",null,null,0,null,null,"",null,null,0,null,null,"",null,null,0,null,null,"",null,null,0,null,null,"",null,null,0,null,null,"",null,null,0,null,null,"",null,0,null,null,"",null,null,0,null,null,"",null,null,0,null,null,"",null,null,0,null,null,"",null,null,0,null,null,"",null,null,{"$f":"IF(Master!$C$4=\"Y\",INDEX(Qual!$C$8:$V$21,MATCH(C60,Qual!$C$8:$C$21,0),20),0)","v":0},{"$nulls":3},0,{"$nulls":3},{"v":0,"d":"0.0"},{"$nulls":3},0,{"$nulls":3},{"v":0,"d":"0.0"}]
[null,7,"DOWNER, ROB",{"$nulls":12},0,null,null,"",null,null,0,null,null,"",null,null,0,null,null,"",null,null,0,null,null,"",null,null,0,null,null,"",null,null,0,null,null,"",null,null,0,null,null,"",null,0,null,null,"",null,null,0,null,null,"",null,null,0,null,null,"",null,null,0,null,null,"",null,null,0,null,null,"",null,null,{"$f":"IF(Master!$C$4=\"Y\",INDEX(Qual!$C$8:$V$21,MATCH(C61,Qual!$C$8:$C$21,0),20),0)","v":0},{"$nulls":3},0,{"$nulls":3},{"v":0,"d":"0.0"},{"$nulls":3},0,{"$nulls":3},{"v":0,"d":"0.0"}]
[null,8,"JONES, TOM",{"$nulls":12},0,null,null,"",null,null,0,null,null,"",null,null,0,null,null,"",null,null,0,null,null,"",null,null,0,null,null,"",null,null,0,null,null,"",null,null,0,null,null,"",null,0,null,null,"",null,null,0,null,null,"",null,null,0,null,null,"",null,null,0,null,null,"",null,null,0,null,null,"",null,null,{"$f":"IF(Master!$C$4=\"Y\",INDEX(Qual!$C$8:$V$21,MATCH(C62,Qual!$C$8:$C$21,0),20),0)","v":0},{"$nulls":3},0,{"$nulls":3},{"v":0,"d":"0.0"},{"$nulls":3},0,{"$nulls":3},{"v":0,"d":"0.0"}]
[null,9,"GREEN, GARY",{"$nulls":12},{"$f":"IF(Payout2>=12,IF($CS$39=\"\",DY15,DY31),IF($CS$23=\"\",DY15,DY31))","v":0},null,null,{"$f":"IF(Payout2>=12,IF($CS$39=\"\",DZ15,DZ31),IF($CS$23=\"\",DZ15,DZ31))","v":""},null,null,{"$f":"IF(Payout2>=12,IF($CS$39=\"\",EA15,EA31),IF($CS$23=\"\",EA15,EA31))","v":0},null,null,{"$f":"IF(Payout2>=12,IF($CS$39=\"\",EB15,EB31),IF($CS$23=\"\",EB15,EB31))","v":""},null,null,{"$f":"IF(Payout2>=12,IF($CS$39=\"\",EC15,EC31),IF($CS$23=\"\",EC15,EC31))","v":0},null,null,{"$f":"IF(Payout2>=12,IF($CS$39=\"\",ED15,ED31),IF($CS$23=\"\",ED15,ED31))","v":""},null,null,{"$f":"IF(Payout2>=12,IF($CS$39=\"\",EE15,EE31),IF($CS$23=\"\",EE15,EE31))","v":0},null,null,{"$f":"IF(Payout2>=12,IF($CS$39=\"\",EF15,EF31),IF($CS$23=\"\",EF15,EF31))","v":""},null,null,{"$f":"IF(Payout2>=12,IF($CS$39=\"\",EG15,EG31),IF($CS$23=\"\",EG15,EG31))","v":0},null,null,{"$f":"IF(Payout2>=12,IF($CS$39=\"\",EH15,EH31),IF($CS$23=\"\",EH15,EH31))","v":""},null,null,{"$f":"IF(Payout2>=12,IF($CS$39=\"\",EI15,EI31),IF($CS$23=\"\",EI15,EI31))","v":0},null,null,{"$f":"IF(Payout2>=12,IF($CS$39=\"\",EJ15,EJ31),IF($CS$23=\"\",EJ15,EJ31))","v":""},null,null,{"$f":"IF(Payout2>=12,IF($CS$39=\"\",EK15,EK31),IF($CS$23=\"\",EK15,EK31))","v":0},null,null,{"$f":"IF(Payout2>=12,IF($CS$39=\"\",EL15,EL31),IF($CS$23=\"\",EL15,EL31))","v":""},null,{"$f":"IF(Payout2>=12,IF($CS$39=\"\",EM15,EM31),IF($CS$23=\"\",EM15,EM31))","v":0},null,null,{"$f":"IF(Payout2>=12,IF($CS$39=\"\",EN15,EN31),IF($CS$23=\"\",EN15,EN31))","v":""},null,null,{"$f":"IF(Payout2>=12,IF($CS$39=\"\",EO15,EO31),IF($CS$23=\"\",EO15,EO31))","v":0},null,null,{"$f":"IF(Payout2>=12,IF($CS$39=\"\",EP15,EP31),IF($CS$23=\"\",EP15,EP31))","v":""},null,null,{"$f":"IF(Payout2>=12,IF($CS$39=\"\",EQ15,EQ31),IF($CS$23=\"\",EQ15,EQ31))","v":0},null,null,{"$f":"IF(Payout2>=12,IF($CS$39=\"\",ER15,ER31),IF($CS$23=\"\",ER15,ER31))","v":""},null,null,{"$f":"IF(Payout2>=12,IF($CS$39=\"\",ES15,ES31),IF($CS$23=\"\",ES15,ES31))","v":0},null,null,{"$f":"IF(Payout2>=12,IF($CS$39=\"\",ET15,ET31),IF($CS$23=\"\",ET15,ET31))","v":""},null,null,{"$f":"IF(Payout2>=12,IF($CS$39=\"\",EU15,EU31),IF($CS$23=\"\",EU15,EU31))","v":0},null,null,{"$f":"IF(Payout2>=12,IF($CS$39=\"\",EV15,EV31),IF($CS$23=\"\",EV15,EV31))","v":""},null,null,{"$f":"IF(Master!$C$4=\"Y\",INDEX(Qual!$C$8:$V$21,MATCH(C63,Qual!$C$8:$C$21,0),20),0)","v":0},{"$nulls":3},{"$f":"IF(Payout2>=12,IF($CS$39=\"\",EX15,EX31),IF($CS$23=\"\",EX15,EX31))","v":0},{"$nulls":3},{"$f":"IF(Payout2>=12,IF($CS$39=\"\",EY15,EY31),IF($CS$23=\"\",EY15,EY31))","v":{"v":0,"d":"0.0"}},{"$nulls":3},{"$f":"IF(Payout2>=12,IF($CS$39=\"\",EZ15,EZ31),IF($CS$23=\"\",EZ15,EZ31))","v":0},{"$nulls":3},{"$f":"IF(Payout2>=12,IF($CS$39=\"\",FA15,FA31),IF($CS$23=\"\",FA15,FA31))","v":{"v":0,"d":"0.0"}}]
[null,10,"HAVLISH, TOM",{"$nulls":12},0,null,null,"",null,null,0,null,null,"",null,null,0,null,null,"",null,null,0,null,null,"",null,null,0,null,null,"",null,null,0,null,null,"",null,null,0,null,null,"",null,0,null,null,"",null,null,0,null,null,"",null,null,0,null,null,"",null,null,0,null,null,"",null,null,0,null,null,"",null,null,{"$f":"IF(Master!$C$4=\"Y\",INDEX(Qual!$C$8:$V$21,MATCH(C64,Qual!$C$8:$C$21,0),20),0)","v":0},{"$nulls":3},0,{"$nulls":3},{"v":0,"d":"0.0"},{"$nulls":3},0,{"$nulls":3},{"v":0,"d":"0.0"}]
[null,11,"DAVIS, SCOTT",{"$nulls":12},0,null,null,"",null,null,0,null,null,"",null,null,0,null,null,"",null,null,0,null,null,"",null,null,0,null,null,"",null,null,0,null,null,"",null,null,0,null,null,"",null,0,null,null,"",null,null,0,null,null,"",null,null,0,null,null,"",null,null,0,null,null,"",null,null,0,null,null,"",null,null,{"$f":"IF(Master!$C$4=\"Y\",INDEX(Qual!$C$8:$V$21,MATCH(C65,Qual!$C$8:$C$21,0),20),0)","v":0},{"$nulls":3},0,{"$nulls":3},{"v":0,"d":"0.0"},{"$nulls":3},0,{"$nulls":3},{"v":0,"d":"0.0"}]
[null,12,"BIRKEDAHL, LARRY",{"$nulls":12},{"$f":"IF(Payout2>=12,IF($CS$39=\"\",DY18,DY34),IF($CS$23=\"\",DY18,DY34))","v":0},null,null,{"$f":"IF(Payout2>=12,IF($CS$39=\"\",DZ18,DZ34),IF($CS$23=\"\",DZ18,DZ34))","v":""},null,null,{"$f":"IF(Payout2>=12,IF($CS$39=\"\",EA18,EA34),IF($CS$23=\"\",EA18,EA34))","v":0},null,null,{"$f":"IF(Payout2>=12,IF($CS$39=\"\",EB18,EB34),IF($CS$23=\"\",EB18,EB34))","v":""},null,null,{"$f":"IF(Payout2>=12,IF($CS$39=\"\",EC18,EC34),IF($CS$23=\"\",EC18,EC34))","v":0},null,null,{"$f":"IF(Payout2>=12,IF($CS$39=\"\",ED18,ED34),IF($CS$23=\"\",ED18,ED34))","v":""},null,null,{"$f":"IF(Payout2>=12,IF($CS$39=\"\",EE18,EE34),IF($CS$23=\"\",EE18,EE34))","v":0},null,null,{"$f":"IF(Payout2>=12,IF($CS$39=\"\",EF18,EF34),IF($CS$23=\"\",EF18,EF34))","v":""},null,null,{"$f":"IF(Payout2>=12,IF($CS$39=\"\",EG18,EG34),IF($CS$23=\"\",EG18,EG34))","v":0},null,null,{"$f":"IF(Payout2>=12,IF($CS$39=\"\",EH18,EH34),IF($CS$23=\"\",EH18,EH34))","v":""},null,null,{"$f":"IF(Payout2>=12,IF($CS$39=\"\",EI18,EI34),IF($CS$23=\"\",EI18,EI34))","v":0},null,null,{"$f":"IF(Payout2>=12,IF($CS$39=\"\",EJ18,EJ34),IF($CS$23=\"\",EJ18,EJ34))","v":""},null,null,{"$f":"IF(Payout2>=12,IF($CS$39=\"\",EK18,EK34),IF($CS$23=\"\",EK18,EK34))","v":0},null,null,{"$f":"IF(Payout2>=12,IF($CS$39=\"\",EL18,EL34),IF($CS$23=\"\",EL18,EL34))","v":""},null,{"$f":"IF(Payout2>=12,IF($CS$39=\"\",EM18,EM34),IF($CS$23=\"\",EM18,EM34))","v":0},null,null,{"$f":"IF(Payout2>=12,IF($CS$39=\"\",EN18,EN34),IF($CS$23=\"\",EN18,EN34))","v":""},null,null,{"$f":"IF(Payout2>=12,IF($CS$39=\"\",EO18,EO34),IF($CS$23=\"\",EO18,EO34))","v":0},null,null,{"$f":"IF(Payout2>=12,IF($CS$39=\"\",EP18,EP34),IF($CS$23=\"\",EP18,EP34))","v":""},null,null,{"$f":"IF(Payout2>=12,IF($CS$39=\"\",EQ18,EQ34),IF($CS$23=\"\",EQ18,EQ34))","v":0},null,null,{"$f":"IF(Payout2>=12,IF($CS$39=\"\",ER18,ER34),IF($CS$23=\"\",ER18,ER34))","v":""},null,null,{"$f":"IF(Payout2>=12,IF($CS$39=\"\",ES18,ES34),IF($CS$23=\"\",ES18,ES34))","v":0},null,null,{"$f":"IF(Payout2>=12,IF($CS$39=\"\",ET18,ET34),IF($CS$23=\"\",ET18,ET34))","v":""},null,null,{"$f":"IF(Payout2>=12,IF($CS$39=\"\",EU18,EU34),IF($CS$23=\"\",EU18,EU34))","v":0},null,null,{"$f":"IF(Payout2>=12,IF($CS$39=\"\",EV18,EV34),IF($CS$23=\"\",EV18,EV34))","v":""},null,null,{"$f":"IF(Master!$C$4=\"Y\",INDEX(Qual!$C$8:$V$21,MATCH(C66,Qual!$C$8:$C$21,0),20),0)","v":0},{"$nulls":3},{"$f":"IF(Payout2>=12,IF($CS$39=\"\",EX18,EX34),IF($CS$23=\"\",EX18,EX34))","v":0},{"$nulls":3},{"$f":"IF(Payout2>=12,IF($CS$39=\"\",EY18,EY34),IF($CS$23=\"\",EY18,EY34))","v":{"v":0,"d":"0.0"}},{"$nulls":3},{"$f":"IF(Payout2>=12,IF($CS$39=\"\",EZ18,EZ34),IF($CS$23=\"\",EZ18,EZ34))","v":0},{"$nulls":3},{"$f":"IF(Payout2>=12,IF($CS$39=\"\",FA18,FA34),IF($CS$23=\"\",FA18,FA34))","v":{"v":0,"d":"0.0"}}]
[{"$nulls":14},"Average ",{"$f":"IF(Master!$C$1=\"TC\",AVERAGE(P55:R62),AVERAGE(P55:R66))","v":0},{"$nulls":5},{"$f":"IF(Master!$C$1=\"TC\",AVERAGE(V55:X62),AVERAGE(V55:X66))","v":0},{"$nulls":5},{"$f":"IF(Master!$C$1=\"TC\",AVERAGE(AB55:AD62),AVERAGE(AB55:AD66))","v":0},{"$nulls":5},{"$f":"IF(Master!$C$1=\"TC\",AVERAGE(AH55:AJ62),AVERAGE(AH55:AJ66))","v":0},{"$nulls":5},{"$f":"IF(Master!$C$1=\"TC\",AVERAGE(AN55:AP62),AVERAGE(AN55:AP66))","v":0},{"$nulls":5},{"$f":"IF(Master!$C$1=\"TC\",AVERAGE(AT55:AV62),AVERAGE(AT55:AV66))","v":0},{"$nulls":5},{"$f":"IF(Master!$C$1=\"TC\",AVERAGE(AZ55:BB62),AVERAGE(AZ55:BB66))","v":0},{"$nulls":4},{"$f":"IF(Master!$C$1=\"TC\",AVERAGE(BE55:BG62),AVERAGE(BE55:BG66))","v":0},{"$nulls":5},{"$f":"AVERAGE(BK55:BM66)","v":0},{"$nulls":5},{"$f":"AVERAGE(BQ55:BS66)","v":0},{"$nulls":5},{"$f":"AVERAGE(BW55:BY66)","v":0},{"$nulls":5},{"$f":"AVERAGE(CC55:CE66)","v":0}]
[]
[null,"Stepladder Finals"]
[null,"Match 1"]
[null,null,{"$f":"IF(Payout2>=12,IF(Master!B1=\"TC\",C57,C59),C57)","v":"HOMMES, JOHN"},{"$nulls":18},{"$f":"P71+S71","v":0}]
[null,null,{"$f":"IF(Payout2>=12,IF(Master!B1=\"TC\",C56,C58),C56)","v":"SAVOY, TODD"},{"$nulls":18},{"$f":"P72+S72","v":0}]
[]
[{"$nulls":11},"Match 2"]
[{"$nulls":11},{"$f":"IF(Payout2>=12,IF(Master!B1=\"TC\",C55,C57),C55)","v":"JENSEN, WAYNE"},{"$nulls":18},{"$f":"Y75+AB75","v":0}]
[{"$nulls":11},{"$f":"IF(S72=\"\",\"\",IF(V71>V72,C71,C72))","v":""},{"$nulls":18},{"$f":"Y76+AB76","v":0}]
[]
[{"$nulls":21},"Match 3"]
[{"$nulls":21},{"$f":"IF(Payout2>=12,IF(Master!B1=\"TC\",\"\",C56),\"\")","v":"CAUGHEY, STEVE"},{"$nulls":18},{"$f":"AI79+AL79","v":0}]
[{"$nulls":21},{"$f":"IF(AB76=\"\",\"\",IF(Master!B1=\"TC\",\"\",IF(AE75>AE76,L75,L76)))","v":""},{"$nulls":18},{"$f":"AI80+AL80","v":0}]
[]
[null,null,{"$f":"IF(AI80=\"\",\"\",IF(AI79<AI80,V79,V80))","v":""},{"$f":"IF(AI79=\"\",\"\",IF(AI79>AI80,CONCATENATE(LEFT(V79,(FIND(\",\",V79,1)-1)),\" def. \",LEFT(V80,(FIND(\",\",V80,1)-1)),\" \",AI79,\"-\",AI80),CONCATENATE(LEFT(V80,(FIND(\",\",V80,1)-1)),\" def. \",LEFT(V79,(FIND(\",\",V79,1)-1)),\" \",AI80,\"-\",AI79)))","v":""},{"$nulls":26},"Match 4"]
[null,null,{"$f":"IF(Y76=\"\",\"\",IF(Y75<Y76,L75,L76))","v":""},{"$f":"IF(AR83=\"\",\"\",IF(AR83>AR84,CONCATENATE(LEFT(AE83,(FIND(\",\",AE83,1)-1)),\" def. \",LEFT(AE84,(FIND(\",\",AE84,1)-1)),\" \",AR83,\"-\",AR84),CONCATENATE(LEFT(AE84,(FIND(\",\",AE84,1)-1)),\" def. \",LEFT(AE83,(FIND(\",\",AE83,1)-1)),\" \",AR84,\"-\",AR83)))","v":""},{"$nulls":26},{"$f":"IF(Payout2>=12,IF(Master!B1=\"TC\",\"\",C55),\"\")","v":"OULMAN, DAVE"},{"$nulls":18},{"$f":"AR83+AU83","v":0}]
[null,null,{"$f":"IF(P72=\"\",\"\",IF(P71<P72,C71,C72))","v":""},{"$nulls":27},{"$f":"IF(AI80=\"\",\"\",IF(Master!B1=\"TC\",\"\",IF(AO79>AO80,V79,V80)))","v":""},{"$nulls":18},{"$f":"AR84+AU84","v":0}]

{"sheet":"2D1GMP","index":9,"n_rows":85,"n_cols":143,"rows_kept":85,"hidden":true,"merged":[[0,0,0,80],[1,0,1,80],[2,0,2,80],[3,99,3,102],[5,2,5,14],[5,18,5,19],[5,22,5,34],[5,38,5,39],[5,42,5,54],[5,58,5,59],[5,62,5,74],[5,78,5,79],[6,2,6,14],[6,15,6,17],[6,18,6,19],[6,22,6,34],[6,35,6,37],[6,38,6,39],[6,42,6,54],[6,55,6,57],[6,58,6,59],[6,62,6,74],[6,75,6,77],[6,78,6,79],[7,2,7,14],[7,15,7,17],[7,18,7,19],[7,22,7,34],[7,35,7,37],[7,38,7,39],[7,42,7,54],[7,55,7,57],[7,58,7,59],[7,62,7,74],[7,75,7,77],[7,78,7,79],[8,2,8,14],[8,15,8,17],[8,18,8,19],[8,22,8,34],[8,35,8,37],[8,38,8,39],[8,42,8,54],[8,55,8,57],[8,58,8,59],[8,62,8,74],[8,75,8,77],[8,78,8,79],[9,2,9,14],[9,15,9,17],[9,18,9,19],[9,22,9,34],[9,35,9,37],[9,38,9,39],[9,42,9,54],[9,55,9,57],[9,58,9,59],[9,62,9,74],[9,75,9,77],[9,78,9,79],[10,2,10,14],[10,15,10,17],[10,18,10,19],[10,22,10,34],[10,35,10,37],[10,38,10,39],[10,42,10,54],[10,55,10,57],[10,58,10,59],[10,62,10,74],[10,75,10,77],[10,78,10,79],[11,2,11,14],[11,15,11,17],[11,18,11,19],[11,22,11,34],[11,35,11,37],[11,38,11,39],[11,42,11,54],[11,55,11,57],[11,58,11,59],[11,62,11,74],[11,75,11,77],[11,78,11,79],[12,2,12,14],[12,15,12,17],[12,18,12,19],[12,22,12,34],[12,35,12,37],[12,38,12,39],[12,42,12,54],[12,55,12,57],[12,58,12,59],[12,62,12,74],[12,75,12,77],[12,78,12,79],[13,2,13,14],[13,15,13,17],[13,18,13,19],[13,22,13,34],[13,35,13,37],[13,38,13,39],[13,42,13,54],[13,55,13,57],[13,58,13,59],[13,62,13,74],[13,75,13,77],[13,78,13,79],[14,2,14,14],[14,15,14,17],[14,18,14,19],[14,22,14,34],[14,35,14,37],[14,38,14,39],[14,42,14,54],[14,55,14,57],[14,58,14,59],[14,62,14,74],[14,75,14,77],[14,78,14,79],[15,2,15,14],[15,15,15,17],[15,18,15,19],[15,22,15,34],[15,35,15,37],[15,38,15,39],[15,42,15,54],[15,55,15,57],[15,58,15,59],[15,62,15,74],[15,75,15,77],[15,78,15,79],[16,2,16,14],[16,15,16,17],[16,18,16,19],[16,22,16,34],[16,35,16,37],[16,38,16,39],[16,42,16,54],[16,55,16,57],[16,58,16,59],[16,62,16,74],[16,75,16,77],[16,78,16,79],[17,2,17,14],[17,15,17,17],[17,18,17,19],[17,22,17,34],[17,35,17,37],[17,38,17,39],[17,42,17,54],[17,55,17,57],[17,58,17,59],[17,62,17,74],[17,75,17,77],[17,78,17,79],[21,2,21,14],[21,18,21,19],[21,22,21,34],[21,38,21,39],[21,42,21,54],[21,58,21,59],[21,62,21,74],[21,78,21,79],[22,2,22,14],[22,15,22,17],[22,18,22,19],[22,22,22,34],[22,35,22,37],[22,38,22,39],[22,42,22,54],[22,55,22,57],[22,58,22,59],[22,62,22,74],[22,75,22,77],[22,78,22,79],[23,2,23,14],[23,15,23,17],[23,18,23,19],[23,22,23,34],[23,35,23,37],[23,38,23,39],[23,42,23,54],[23,55,23,57],[23,58,23,59],[23,62,23,74],[23,75,23,77],[23,78,23,79],[24,2,24,14],[24,15,24,17],[24,18,24,19],[24,22,24,34],[24,35,24,37],[24,38,24,39],[24,42,24,54],[24,55,24,57],[24,58,24,59],[24,62,24,74],[24,75,24,77],[24,78,24,79],[25,2,25,14],[25,15,25,17],[25,18,25,19],[25,22,25,34],[25,35,25,37],[25,38,25,39],[25,42,25,54],[25,55,25,57],[25,58,25,59],[25,62,25,74],[25,75,25,77],[25,78,25,79],[26,2,26,14],[26,15,26,17],[26,18,26,19],[26,22,26,34],[26,35,26,37],[26,38,26,39],[26,42,26,54],[26,55,26,57],[26,58,26,59],[26,62,26,74],[26,75,26,77],[26,78,26,79],[27,2,27,14],[27,15,27,17],[27,18,27,19],[27,22,27,34],[27,35,27,37],[27,38,27,39],[27,42,27,54],[27,55,27,57],[27,58,27,59],[27,62,27,74],[27,75,27,77],[27,78,27,79],[28,2,28,14],[28,15,28,17],[28,18,28,19],[28,22,28,34],[28,35,28,37],[28,38,28,39],[28,42,28,54],[28,55,28,57],[28,58,28,59],[28,62,28,74],[28,75,28,77],[28,78,28,79],[29,2,29,14],[29,15,29,17],[29,18,29,19],[29,22,29,34],[29,35,29,37],[29,38,29,39],[29,42,29,54],[29,55,29,57],[29,58,29,59],[29,62,29,74],[29,75,29,77],[29,78,29,79],[30,2,30,14],[30,15,30,17],[30,18,30,19],[30,22,30,34],[30,35,30,37],[30,38,30,39],[30,42,30,54],[30,55,30,57],[30,58,30,59],[30,62,30,74],[30,75,30,77],[30,78,30,79],[31,2,31,14],[31,15,31,17],[31,18,31,19],[31,22,31,34],[31,35,31,37],[31,38,31,39],[31,42,31,54],[31,55,31,57],[31,58,31,59],[31,62,31,74],[31,75,31,77],[31,78,31,79],[32,2,32,14],[32,15,32,17],[32,18,32,19],[32,22,32,34],[32,35,32,37],[32,38,32,39],[32,42,32,54],[32,55,32,57],[32,58,32,59],[32,62,32,74],[32,75,32,77],[32,78,32,79],[33,2,33,14],[33,15,33,17],[33,18,33,19],[33,22,33,34],[33,35,33,37],[33,38,33,39],[33,42,33,54],[33,55,33,57],[33,58,33,59],[33,62,33,74],[33,75,33,77],[33,78,33,79],[35,63,35,65],[37,2,37,14],[37,18,37,19],[37,22,37,34],[37,38,37,39],[37,42,37,54],[37,58,37,59],[37,62,37,74],[37,78,37,79],[38,2,38,14],[38,15,38,17],[38,18,38,19],[38,22,38,34],[38,35,38,37],[38,38,38,39],[38,42,38,54],[38,55,38,57],[38,58,38,59],[38,62,38,74],[38,75,38,77],[38,78,38,79],[39,2,39,14],[39,15,39,17],[39,18,39,19],[39,22,39,34],[39,35,39,37],[39,38,39,39],[39,42,39,54],[39,55,39,57],[39,58,39,59],[39,62,39,74],[39,75,39,77],[39,78,39,79],[40,2,40,14],[40,15,40,17],[40,18,40,19],[40,22,40,34],[40,35,40,37],[40,38,40,39],[40,42,40,54],[40,55,40,57],[40,58,40,59],[40,62,40,74],[40,75,40,77],[40,78,40,79],[41,2,41,14],[41,15,41,17],[41,18,41,19],[41,22,41,34],[41,35,41,37],[41,38,41,39],[41,42,41,54],[41,55,41,57],[41,58,41,59],[41,62,41,74],[41,75,41,77],[41,78,41,79],[42,2,42,14],[42,15,42,17],[42,18,42,19],[42,22,42,34],[42,35,42,37],[42,38,42,39],[42,42,42,54],[42,55,42,57],[42,58,42,59],[42,62,42,74],[42,75,42,77],[42,78,42,79],[43,2,43,14],[43,15,43,17],[43,18,43,19],[43,22,43,34],[43,35,43,37],[43,38,43,39],[43,42,43,54],[43,55,43,57],[43,58,43,59],[43,62,43,74],[43,75,43,77],[43,78,43,79],[44,2,44,14],[44,15,44,17],[44,18,44,19],[44,22,44,34],[44,35,44,37],[44,38,44,39],[44,42,44,54],[44,55,44,57],[44,58,44,59],[44,62,44,74],[44,75,44,77],[44,78,44,79],[45,2,45,14],[45,15,45,17],[45,18,45,19],[45,22,45,34],[45,35,45,37],[45,38,45,39],[45,42,45,54],[45,55,45,57],[45,58,45,59],[45,62,45,74],[45,75,45,77],[45,78,45,79],[46,2,46,14],[46,15,46,17],[46,18,46,19],[46,22,46,34],[46,35,46,37],[46,38,46,39],[46,42,46,54],[46,55,46,57],[46,58,46,59],[46,62,46,74],[46,75,46,77],[46,78,46,79],[47,2,47,14],[47,15,47,17],[47,18,47,19],[47,22,47,34],[47,35,47,37],[47,38,47,39],[47,42,47,54],[47,55,47,57],[47,58,47,59],[47,62,47,74],[47,75,47,77],[47,78,47,79],[48,2,48,14],[48,15,48,17],[48,18,48,19],[48,22,48,34],[48,35,48,37],[48,38,48,39],[48,42,48,54],[48,55,48,57],[48,58,48,59],[48,62,48,74],[48,75,48,77],[48,78,48,79],[49,2,49,14],[49,15,49,17],[49,18,49,19],[49,22,49,34],[49,35,49,37],[49,38,49,39],[49,42,49,54],[49,55,49,57],[49,58,49,59],[49,62,49,74],[49,75,49,77],[49,78,49,79],[53,75,54,78],[53,79,54,82],[53,83,54,86],[53,87,54,90],[53,91,54,94],[54,15,54,17],[54,18,54,19],[54,20,54,22],[54,23,54,24],[54,25,54,27],[54,28,54,29],[54,30,54,32],[54,33,54,34],[54,35,54,37],[54,38,54,39],[54,40,54,42],[54,43,54,44],[54,45,54,47],[54,48,54,49],[54,50,54,52],[54,53,54,54],[54,55,54,57],[54,58,54,59],[54,60,54,62],[54,63,54,64],[54,65,54,67],[54,68,54,69],[54,70,54,72],[54,73,54,74],[55,2,55,14],[55,15,55,17],[55,18,55,19],[55,20,55,22],[55,23,55,24],[55,25,55,27],[55,28,55,29],[55,30,55,32],[55,33,55,34],[55,35,55,37],[55,38,55,39],[55,40,55,42],[55,43,55,44],[55,45,55,47],[55,48,55,49],[55,50,55,52],[55,53,55,54],[55,55,55,57],[55,58,55,59],[55,60,55,62],[55,63,55,64],[55,65,55,67],[55,68,55,69],[55,70,55,72],[55,73,55,74],[55,75,55,78],[55,79,55,82],[55,83,55,86],[55,87,55,90],[55,91,55,94],[56,2,56,14],[56,15,56,17],[56,18,56,19],[56,20,56,22],[56,23,56,24],[56,25,56,27],[56,28,56,29],[56,30,56,32],[56,33,56,34],[56,35,56,37],[56,38,56,39],[56,40,56,42],[56,43,56,44],[56,45,56,47],[56,48,56,49],[56,50,56,52],[56,53,56,54],[56,55,56,57],[56,58,56,59],[56,60,56,62],[56,63,56,64],[56,65,56,67],[56,68,56,69],[56,70,56,72],[56,73,56,74],[56,75,56,78],[56,79,56,82],[56,83,56,86],[56,87,56,90],[56,91,56,94],[57,2,57,14],[57,15,57,17],[57,18,57,19],[57,20,57,22],[57,23,57,24],[57,25,57,27],[57,28,57,29],[57,30,57,32],[57,33,57,34],[57,35,57,37],[57,38,57,39],[57,40,57,42],[57,43,57,44],[57,45,57,47],[57,48,57,49],[57,50,57,52],[57,53,57,54],[57,55,57,57],[57,58,57,59],[57,60,57,62],[57,63,57,64],[57,65,57,67],[57,68,57,69],[57,70,57,72],[57,73,57,74],[57,75,57,78],[57,79,57,82],[57,83,57,86],[57,87,57,90],[57,91,57,94],[58,2,58,14],[58,15,58,17],[58,18,58,19],[58,20,58,22],[58,23,58,24],[58,25,58,27],[58,28,58,29],[58,30,58,32],[58,33,58,34],[58,35,58,37],[58,38,58,39],[58,40,58,42],[58,43,58,44],[58,45,58,47],[58,48,58,49],[58,50,58,52],[58,53,58,54],[58,55,58,57],[58,58,58,59],[58,60,58,62],[58,63,58,64],[58,65,58,67],[58,68,58,69],[58,70,58,72],[58,73,58,74],[58,75,58,78],[58,79,58,82],[58,83,58,86],[58,87,58,90],[58,91,58,94],[59,2,59,14],[59,15,59,17],[59,18,59,19],[59,20,59,22],[59,23,59,24],[59,25,59,27],[59,28,59,29],[59,30,59,32],[59,33,59,34],[59,35,59,37],[59,38,59,39],[59,40,59,42],[59,43,59,44],[59,45,59,47],[59,48,59,49],[59,50,59,52],[59,53,59,54],[59,55,59,57],[59,58,59,59],[59,60,59,62],[59,63,59,64],[59,65,59,67],[59,68,59,69],[59,70,59,72],[59,73,59,74],[59,75,59,78],[59,79,59,82],[59,83,59,86],[59,87,59,90],[59,91,59,94],[60,2,60,14],[60,15,60,17],[60,18,60,19],[60,20,60,22],[60,23,60,24],[60,25,60,27],[60,28,60,29],[60,30,60,32],[60,33,60,34],[60,35,60,37],[60,38,60,39],[60,40,60,42],[60,43,60,44],[60,45,60,47],[60,48,60,49],[60,50,60,52],[60,53,60,54],[60,55,60,57],[60,58,60,59],[60,60,60,62],[60,63,60,64],[60,65,60,67],[60,68,60,69],[60,70,60,72],[60,73,60,74],[60,75,60,78],[60,79,60,82],[60,83,60,86],[60,87,60,90],[60,91,60,94],[61,2,61,14],[61,15,61,17],[61,18,61,19],[61,20,61,22],[61,23,61,24],[61,25,61,27],[61,28,61,29],[61,30,61,32],[61,33,61,34],[61,35,61,37],[61,38,61,39],[61,40,61,42],[61,43,61,44],[61,45,61,47],[61,48,61,49],[61,50,61,52],[61,53,61,54],[61,55,61,57],[61,58,61,59],[61,60,61,62],[61,63,61,64],[61,65,61,67],[61,68,61,69],[61,70,61,72],[61,73,61,74],[61,75,61,78],[61,79,61,82],[61,83,61,86],[61,87,61,90],[61,91,61,94],[62,2,62,14],[62,15,62,17],[62,18,62,19],[62,20,62,22],[62,23,62,24],[62,25,62,27],[62,28,62,29],[62,30,62,32],[62,33,62,34],[62,35,62,37],[62,38,62,39],[62,40,62,42],[62,43,62,44],[62,45,62,47],[62,48,62,49],[62,50,62,52],[62,53,62,54],[62,55,62,57],[62,58,62,59],[62,60,62,62],[62,63,62,64],[62,65,62,67],[62,68,62,69],[62,70,62,72],[62,73,62,74],[62,75,62,78],[62,79,62,82],[62,83,62,86],[62,87,62,90],[62,91,62,94],[63,2,63,14],[63,15,63,17],[63,18,63,19],[63,20,63,22],[63,23,63,24],[63,25,63,27],[63,28,63,29],[63,30,63,32],[63,33,63,34],[63,35,63,37],[63,38,63,39],[63,40,63,42],[63,43,63,44],[63,45,63,47],[63,48,63,49],[63,50,63,52],[63,53,63,54],[63,55,63,57],[63,58,63,59],[63,60,63,62],[63,63,63,64],[63,65,63,67],[63,68,63,69],[63,70,63,72],[63,73,63,74],[63,75,63,78],[63,79,63,82],[63,83,63,86],[63,87,63,90],[63,91,63,94],[64,2,64,14],[64,15,64,17],[64,18,64,19],[64,20,64,22],[64,23,64,24],[64,25,64,27],[64,28,64,29],[64,30,64,32],[64,33,64,34],[64,35,64,37],[64,38,64,39],[64,40,64,42],[64,43,64,44],[64,45,64,47],[64,48,64,49],[64,50,64,52],[64,53,64,54],[64,55,64,57],[64,58,64,59],[64,60,64,62],[64,63,64,64],[64,65,64,67],[64,68,64,69],[64,70,64,72],[64,73,64,74],[64,75,64,78],[64,79,64,82],[64,83,64,86],[64,87,64,90],[64,91,64,94],[65,2,65,14],[65,15,65,17],[65,18,65,19],[65,20,65,22],[65,23,65,24],[65,25,65,27],[65,28,65,29],[65,30,65,32],[65,33,65,34],[65,35,65,37],[65,38,65,39],[65,40,65,42],[65,43,65,44],[65,45,65,47],[65,48,65,49],[65,50,65,52],[65,53,65,54],[65,55,65,57],[65,58,65,59],[65,60,65,62],[65,63,65,64],[65,65,65,67],[65,68,65,69],[65,70,65,72],[65,73,65,74],[65,75,65,78],[65,79,65,82],[65,83,65,86],[65,87,65,90],[65,91,65,94],[66,2,66,14],[66,15,66,17],[66,18,66,19],[66,20,66,22],[66,23,66,24],[66,25,66,27],[66,28,66,29],[66,30,66,32],[66,33,66,34],[66,35,66,37],[66,38,66,39],[66,40,66,42],[66,43,66,44],[66,45,66,47],[66,48,66,49],[66,50,66,52],[66,53,66,54],[66,55,66,57],[66,58,66,59],[66,60,66,62],[66,63,66,64],[66,65,66,67],[66,68,66,69],[66,70,66,72],[66,73,66,74],[66,75,66,78],[66,79,66,82],[66,83,66,86],[66,87,66,90],[66,91,66,94],[67,15,67,17],[67,20,67,22],[67,25,67,27],[67,30,67,32],[67,35,67,37],[67,40,67,42],[67,45,67,47],[67,50,67,52],[67,55,67,57],[67,60,67,62],[67,65,67,67],[67,70,67,72],[71,2,71,14],[71,15,71,17],[72,2,72,14],[72,15,72,17],[75,11,75,23],[75,24,75,26],[76,11,76,23],[76,24,76,26],[79,21,79,33],[79,34,79,36],[80,21,80,33],[80,34,80,36],[83,30,83,42],[83,43,83,45],[84,30,84,42],[84,43,84,45]]}
[{"$f":"'Check-In'!$B$1","v":"Midwest Senior Classic"}]
[{"$f":"'Check-In'!$B$2","v":"2022-04-24"}]
[{"$f":"'Check-In'!$B$3","v":"Cedarvale"}]
[{"$nulls":99},"Starting Lane",{"$nulls":3},1]
[]
[null,null,"Game 1",{"$nulls":15},"B",{"$nulls":3},"Game 2",{"$nulls":15},"B",{"$nulls":3},"Game 3",{"$nulls":15},"B",{"$nulls":3},"Game 4",{"$nulls":15},"B",{"$nulls":17},"Bowler","G1","G2","G3","G4","G5","G6","G7","G8","G9","G10","G11","G12",{"$nulls":4},"G1","B","G2","B","G3","B","G4","B","G5","B","G6","B","G7","B","G8","B","G9","B","G10","B","G11","B","G12","B","Qual","MP","B","GT","+ / -"]
[null,1,{"$f":"INDEX($DG$7:$DI$18,MATCH(B7,$DH$7:$DH$18,0),3)","v":"JONES, TOM"},{"$nulls":15},{"$f":"IF(P7=\"\",\"\",IF(P7>P8,30,IF(P7=P8,15,0)))","v":""},null,null,{"$f":"IF(Payout2<>\"\",IF(Payout2>=12,4,IF(Payout2>=10,7,6)),IF(Payout>=12,4,IF(Payout>=10,7,6)))","v":4},{"$f":"INDEX($DG$7:$DI$18,MATCH(V7,$DH$7:$DH$18,0),3)","v":"HOMMES, JOHN"},{"$nulls":15},{"$f":"IF(AJ7=\"\",\"\",IF(AJ7>AJ8,30,IF(AJ7=AJ8,15,0)))","v":""},null,null,{"$f":"IF(Payout2<>\"\",IF(Payout2>=12,9,IF(Payout2>=10,4,5)),IF(Payout>=12,9,IF(Payout>=10,4,5)))","v":9},{"$f":"INDEX($DG$7:$DI$18,MATCH(AP7,$DH$7:$DH$18,0),3)","v":"HAVLISH, TOM"},{"$nulls":15},{"$f":"IF(BD7=\"\",\"\",IF(BD7>BD8,30,IF(BD7=BD8,15,0)))","v":""},null,null,{"$f":"IF(Payout2<>\"\",IF(Payout2>=12,7,IF(Payout2>=10,9,3)),IF(Payout>=12,7,IF(Payout>=10,9,3)))","v":7},{"$f":"INDEX($DG$7:$DI$18,MATCH(BJ7,$DH$7:$DH$18,0),3)","v":"CAUGHEY, STEVE"},{"$nulls":15},{"$f":"IF(BX7=\"\",\"\",IF(BX7>BX8,30,IF(BX7=BX8,15,0)))","v":""},{"$nulls":17},1,{"$f":"IF(ISNA(MATCH($CS7,$B$7:$B$18,0)),\"\",$CZ$4-1+MATCH($CS7,$B$7:$B$18,0))","v":1},{"$f":"IF(ISNA(MATCH($CS7,$V$7:$V$18,0)),\"\",$CZ$4-1+MATCH($CS7,$V$7:$V$18,0))","v":9},{"$f":"IF(ISNA(MATCH($CS7,$AP$7:$AP$18,0)),\"\",$CZ$4-1+MATCH($CS7,$AP$7:$AP$18,0))","v":3},{"$f":"IF(ISNA(MATCH($CS7,$BJ$7:$BJ$18,0)),\"\",$CZ$4-1+MATCH($CS7,$BJ$7:$BJ$18,0))","v":11},{"$f":"IF(ISNA(MATCH($CS7,$B$23:$B$34,0)),\"\",$CZ$4-1+MATCH($CS7,$B$23:$B$34,0))","v":5},{"$f":"IF(ISNA(MATCH($CS7,$V$23:$V$34,0)),\"\",$CZ$4-1+MATCH($CS7,$V$23:$V$34,0))","v":4},{"$f":"IF(ISNA(MATCH($CS7,$AP$23:$AP$34,0)),\"\",$CZ$4-1+MATCH($CS7,$AP$23:$AP$34,0))","v":7},{"$f":"IF(Payout>=12,IF(ISNA(MATCH($CS7,$BJ$23:$BJ$34,0)),\"\",$CZ$4-1+MATCH($CS7,$BJ$23:$BJ$34,0)),IF(Payout>=10,IF(ISNA(MATCH($CS7,$BJ$23:$BJ$34,0)),\"\",$CZ$4-1+MATCH($CS7,$BJ$23:$BJ$34,0)),\"P\"))","v":12},{"$f":"IF(ISNA(MATCH($CS7,$B$39:$B$50,0)),\"\",$CZ$4-1+MATCH($CS7,$B$39:$B$50,0))","v":2},{"$f":"IF(Payout>=12,IF(ISNA(MATCH($CS7,$V$39:$V$50,0)),\"\",$CZ$4-1+MATCH($CS7,$V$39:$V$50,0)),IF(Payout>=10,\"P\",IF(ISNA(MATCH($CS7,$V$39:$V$50,0)),\"\",$CZ$4-1+MATCH($CS7,$V$39:$V$50,0))))","v":6},{"$f":"IF(ISNA(MATCH($CS7,$AP$39:$AP$50,0)),\"\",$CZ$4-1+MATCH($CS7,$AP$39:$AP$50,0))","v":10},{"$f":"IF(Payout>=12,\"P\",IF(ISNA(MATCH($CS7,$BJ$39:$BJ$50,0)),\"\",$CZ$4-1+MATCH($CS7,$BJ$39:$BJ$50,0)))","v":"P"},null,1,8,{"$f":"IF(MPNo<>\"\", IF(MPNo<DG7,\"\",Qual!$C8),IF(MPNo<DG7,\"\",Qual!$C8))","v":"OULMAN, DAVE"},{"$f":"INDEX($B$7:$T$18,MATCH(DI7,$C$7:$C$18,0),15)","v":0},{"$f":"INDEX($B$7:$T$18,MATCH(DI7,$C$7:$C$18,0),18)","v":""},{"$f":"INDEX($V$7:$AN$18,MATCH(DI7,$W$7:$W$18,0),15)","v":0},{"$f":"INDEX($V$7:$AN$18,MATCH(DI7,$W$7:$W$18,0),18)","v":""},{"$f":"INDEX($AP$7:$BH$18,MATCH(DI7,$AQ$7:$AQ$18,0),15)","v":0},{"$f":"INDEX($AP$7:$BH$18,MATCH(DI7,$AQ$7:$AQ$18,0),18)","v":""},{"$f":"INDEX($BJ$7:$CB$18,MATCH(DI7,$BK$7:$BK$18,0),15)","v":0},{"$f":"INDEX($BJ$7:$CB$18,MATCH(DI7,$BK$7:$BK$18,0),18)","v":""},{"$f":"INDEX($B$23:$T$34,MATCH(DI7,$C$23:$C$34,0),15)","v":0},{"$f":"INDEX($B$23:$T$34,MATCH(DI7,$C$23:$C$34,0),18)","v":""},{"$f":"INDEX($V$23:$AN$34,MATCH(DI7,$W$23:$W$34,0),15)","v":0},{"$f":"INDEX($V$23:$AN$34,MATCH(DI7,$W$23:$W$34,0),18)","v":""},{"$f":"INDEX($AP$23:$BH$34,MATCH(DI7,$AQ$23:$AQ$34,0),15)","v":0},{"$f":"INDEX($AP$23:$BH$34,MATCH(DI7,$AQ$23:$AQ$34,0),18)","v":""},{"$f":"INDEX($BJ$23:$CB$34,MATCH(DI7,$BK$23:$BK$34,0),15)","v":0},{"$f":"INDEX($BJ$23:$CB$34,MATCH(DI7,$BK$23:$BK$34,0),18)","v":""},{"$f":"IF(ISNA(INDEX($B$39:$T$50,MATCH(DI7,$C$39:$C$50,0),15)),0,INDEX($B$39:$T$50,MATCH(DI7,$C$39:$C$50,0),15))","v":0},{"$f":"IF(ISNA(INDEX($B$39:$T$50,MATCH(DI7,$C$39:$C$50,0),18)),\"\",INDEX($B$39:$T$50,MATCH(DI7,$C$39:$C$50,0),18))","v":""},{"$f":"IF(ISNA(INDEX($V$39:$AN$50,MATCH(DI7,$W$39:$W$50,0),15)),0,INDEX($V$39:$AN$50,MATCH(DI7,$W$39:$W$50,0),15))","v":0},{"$f":"IF(ISNA(INDEX($V$39:$AN$50,MATCH(DI7,$W$39:$W$50,0),18)),0,INDEX($V$39:$AN$50,MATCH(DI7,$W$39:$W$50,0),18))","v":""},{"$f":"IF(ISNA(INDEX($AP$39:$BH$50,MATCH(DI7,$AQ$39:$AQ$50,0),15)),0,INDEX($AP$39:$BH$50,MATCH(DI7,$AQ$39:$AQ$50,0),15))","v":0},{"$f":"IF(ISNA(INDEX($AP$39:$BH$50,MATCH(DI7,$AQ$39:$AQ$50,0),18)),0,INDEX($AP$39:$BH$50,MATCH(DI7,$AQ$39:$AQ$50,0),18))","v":""},{"$f":"IF(ISNA(INDEX($BJ$39:$CB$50,MATCH(DI7,$BK$39:$BK$50,0),15)),0,INDEX($BJ$39:$CB$50,MATCH(DI7,$BK$39:$BK$50,0),15))","v":0},{"$f":"IF(ISNA(INDEX($BJ$39:$CB$50,MATCH(DI7,$BK$39:$BK$50,0),18)),0,INDEX($BJ$39:$CB$50,MATCH(DI7,$BK$39:$BK$50,0),18))","v":""},{"$f":"IF(Master!$B$4=\"Y\",INDEX(Qual!$C$8:$X$19,MATCH(DI7,Qual!$C$8:$C$19,0),20),0)","v":0},{"$f":"DJ7+DL7+DN7+DP7+DR7+DT7+DV7+DX7+DZ7+EB7+ED7+EF7","v":0},{"$f":"IF(DK7=\"\",0,DK7)+IF(DM7=\"\",0,DM7)+IF(DO7=\"\",0,DO7)+IF(DQ7=\"\",0,DQ7)+IF(DS7=\"\",0,DS7)+IF(DU7=\"\",0,DU7)+IF(DW7=\"\",0,DW7)+IF(DY7=\"\",0,DY7)+IF(EA7=\"\",0,EA7)+IF(EC7=\"\",0,EC7)+IF(EE7=\"\",0,EE7)+IF(EG7=\"\",0,EG7)","v":0},{"$f":"EH7+EI7+EJ7","v":0},{"$f":"EK7-IF(Master!$B$4=\"Y\",($EM$7+Qual!$K$4),$EM$7)*200","v":0},{"$f":"COUNTA(P7,AJ7,BD7,BX7,P23,AJ23,BD23,BX23,P39,AJ39,BD39,BX39)","v":0}]
[null,2,"DOWNER, ROB",{"$nulls":15},{"$f":"IF(P8=\"\",\"\",IF(P8>P7,30,IF(P8=P7,15,0)))","v":""},null,null,{"$f":"IF(Payout2,IF(Payout2>=12,5,IF(Payout2>=10,3,8)),IF(Payout>=12,5,IF(Payout>=10,3,8)))","v":5},"SAVOY, TODD",{"$nulls":15},{"$f":"IF(AJ8=\"\",\"\",IF(AJ8>AJ7,30,IF(AJ8=AJ7,15,0)))","v":""},null,null,{"$f":"IF(Payout2<>\"\",IF(Payout2>=12,3,IF(Payout2>=10,5,4)),IF(Payout>=12,3,IF(Payout>=10,5,4)))","v":3},"LANGER, DAVE",{"$nulls":15},{"$f":"IF(BD8=\"\",\"\",IF(BD8>BD7,30,IF(BD8=BD7,15,0)))","v":""},null,null,{"$f":"IF(Payout2<>\"\",IF(Payout2>=12,12,IF(Payout2>=10,1,6)),IF(Payout>=12,12,IF(Payout>=10,1,6)))","v":12},"DAVIS, SCOTT",{"$nulls":15},{"$f":"IF(BX8=\"\",\"\",IF(BX8>BX7,30,IF(BX8=BX7,15,0)))","v":""},{"$nulls":17},2,2,4,10,6,11,8,5,9,3,7,12,"P",null,2,7,{"$f":"IF(MPNo<>\"\", IF(MPNo<DG8,\"\",Qual!$C9),IF(MPNo<DG8,\"\",Qual!$C9))","v":"CAUGHEY, STEVE"},0,"",0,"",0,"",0,"",0,"",0,"",0,"",0,"",0,"",0,"",0,"",0,"",{"$f":"IF(Master!$B$4=\"Y\",INDEX(Qual!$C$8:$X$19,MATCH(DI8,Qual!$C$8:$C$19,0),20),0)","v":0},0,0,0,{"$f":"EK8-IF(Master!$B$4=\"Y\",($EM$7+Qual!$K$4),$EM$7)*200","v":0}]
[null,3,"LANGER, DAVE",{"$nulls":15},{"$f":"IF(P9=\"\",\"\",IF(P9>P10,30,IF(P9=P10,15,0)))","v":""},null,null,{"$f":"IF(Payout2<>\"\",IF(Payout2>=12,6,IF(Payout2>=10,1,5)),IF(Payout>=12,6,IF(Payout>=10,1,5)))","v":6},"JENSEN, WAYNE",{"$nulls":15},{"$f":"IF(AJ9=\"\",\"\",IF(AJ9>AJ10,30,IF(AJ9=AJ10,15,0)))","v":""},null,null,{"$f":"IF(Payout2<>\"\",IF(Payout2>=12,1,IF(Payout2>=10,9,1)),IF(Payout>=12,1,IF(Payout>=10,9,1)))","v":1},"JONES, TOM",{"$nulls":15},{"$f":"IF(BD9=\"\",\"\",IF(BD9>BD10,30,IF(BD9=BD10,15,0)))","v":""},null,null,{"$f":"IF(Payout2<>\"\",IF(Payout2>=12,5,IF(Payout2>=10,5,7)),IF(Payout>=12,5,IF(Payout>=10,5,7)))","v":5},"SAVOY, TODD",{"$nulls":15},{"$f":"IF(BX9=\"\",\"\",IF(BX9>BX10,30,IF(BX9=BX10,15,0)))","v":""},{"$nulls":17},3,3,6,2,12,8,5,11,10,7,1,4,"P",null,3,6,{"$f":"IF(MPNo<>\"\", IF(MPNo<DG9,\"\",Qual!$C10),IF(MPNo<DG9,\"\",Qual!$C10))","v":"JENSEN, WAYNE"},0,"",0,"",0,"",0,"",0,"",0,"",0,"",0,"",0,"",0,"",0,"",0,"",{"$f":"IF(Master!$B$4=\"Y\",INDEX(Qual!$C$8:$X$19,MATCH(DI9,Qual!$C$8:$C$19,0),20),0)","v":0},0,0,0,{"$f":"EK9-IF(Master!$B$4=\"Y\",($EM$7+Qual!$K$4),$EM$7)*200","v":0}]
[null,4,"HOMMES, JOHN",{"$nulls":15},{"$f":"IF(P10=\"\",\"\",IF(P10>P9,30,IF(P10=P9,15,0)))","v":""},null,null,{"$f":"IF(Payout2<>\"\",IF(Payout2>=12,2,IF(Payout2>=10,6,7)),IF(Payout>=12,2,IF(Payout>=10,6,7)))","v":2},"DOWNER, ROB",{"$nulls":15},{"$f":"IF(AJ10=\"\",\"\",IF(AJ10>AJ9,30,IF(AJ10=AJ9,15,0)))","v":""},null,null,{"$f":"IF(Payout2<>\"\",IF(Payout2>=12,10,IF(Payout2>=10,8,8)),IF(Payout>=12,10,IF(Payout>=10,8,8)))","v":10},"GREEN, GARY",{"$nulls":15},{"$f":"IF(BD10=\"\",\"\",IF(BD10>BD9,30,IF(BD10=BD9,15,0)))","v":""},null,null,{"$f":"IF(Payout2<>\"\",IF(Payout2>=12,8,IF(Payout2>=10,3,2)),IF(Payout>=12,8,IF(Payout>=10,3,2)))","v":8},"OULMAN, DAVE",{"$nulls":15},{"$f":"IF(BX10=\"\",\"\",IF(BX10>BX9,30,IF(BX10=BX9,15,0)))","v":""},{"$nulls":17},4,4,1,6,8,12,10,3,7,9,5,2,"P",null,4,5,{"$f":"IF(MPNo<>\"\", IF(MPNo<DG10,\"\",Qual!$C11),IF(MPNo<DG10,\"\",Qual!$C11))","v":"SAVOY, TODD"},0,"",0,"",0,"",0,"",0,"",0,"",0,"",0,"",0,"",0,"",0,"",0,"",{"$f":"IF(Master!$B$4=\"Y\",INDEX(Qual!$C$8:$X$19,MATCH(DI10,Qual!$C$8:$C$19,0),20),0)","v":0},0,0,0,{"$f":"EK10-IF(Master!$B$4=\"Y\",($EM$7+Qual!$K$4),$EM$7)*200","v":0}]
[null,5,"SAVOY, TODD",{"$nulls":15},{"$f":"IF(P11=\"\",\"\",IF(P11>P12,30,IF(P11=P12,15,0)))","v":""},null,null,{"$f":"IF(Payout2<>\"\",IF(Payout2>=12,12,IF(Payout2>=10,2,2)),IF(Payout>=12,12,IF(Payout>=10,2,2)))","v":12},"DAVIS, SCOTT",{"$nulls":15},{"$f":"IF(AJ11=\"\",\"\",IF(AJ11>AJ12,30,IF(AJ11=AJ12,15,0)))","v":""},null,null,{"$f":"IF(Payout2<>\"\",IF(Payout2>=12,11,IF(Payout2>=10,10,7)),IF(Payout>=12,11,IF(Payout>=10,10,7)))","v":11},"BIRKEDAHL, LARRY",{"$nulls":15},{"$f":"IF(BD11=\"\",\"\",IF(BD11>BD12,30,IF(BD11=BD12,15,0)))","v":""},null,null,{"$f":"IF(Payout2<>\"\",IF(Payout2>=12,9,IF(Payout2>=10,4,1)),IF(Payout>=12,9,IF(Payout>=10,4,1)))","v":9},"HAVLISH, TOM",{"$nulls":15},{"$f":"IF(BX11=\"\",\"\",IF(BX11>BX12,30,IF(BX11=BX12,15,0)))","v":""},{"$nulls":17},5,5,2,7,3,6,12,1,4,8,9,11,"P",null,5,4,{"$f":"IF(MPNo<>\"\", IF(MPNo<DG11,\"\",Qual!$C12),IF(MPNo<DG11,\"\",Qual!$C12))","v":"HOMMES, JOHN"},0,"",0,"",0,"",0,"",0,"",0,"",0,"",0,"",0,"",0,"",0,"",0,"",{"$f":"IF(Master!$B$4=\"Y\",INDEX(Qual!$C$8:$X$19,MATCH(DI11,Qual!$C$8:$C$19,0),20),0)","v":0},0,0,0,{"$f":"EK11-IF(Master!$B$4=\"Y\",($EM$7+Qual!$K$4),$EM$7)*200","v":0}]
[null,6,"JENSEN, WAYNE",{"$nulls":15},{"$f":"IF(P12=\"\",\"\",IF(P12>P11,30,IF(P12=P11,15,0)))","v":""},null,null,{"$f":"IF(Payout2<>\"\",IF(Payout2>=12,3,IF(Payout2>=10,9,4)),IF(Payout>=12,3,IF(Payout>=10,9,4)))","v":3},"LANGER, DAVE",{"$nulls":15},{"$f":"IF(AJ12=\"\",\"\",IF(AJ12>AJ11,30,IF(AJ12=AJ11,15,0)))","v":""},null,null,{"$f":"IF(Payout2<>\"\",IF(Payout2>=12,4,IF(Payout2>=10,1,3)),IF(Payout>=12,4,IF(Payout>=10,1,3)))","v":4},"HOMMES, JOHN",{"$nulls":15},{"$f":"IF(BD12=\"\",\"\",IF(BD12>BD11,30,IF(BD12=BD11,15,0)))","v":""},null,null,{"$f":"IF(Payout2<>\"\",IF(Payout2>=12,2,IF(Payout2>=10,7,5)),IF(Payout>=12,2,IF(Payout>=10,7,5)))","v":2},"DOWNER, ROB",{"$nulls":15},{"$f":"IF(BX12=\"\",\"\",IF(BX12>BX11,30,IF(BX12=BX11,15,0)))","v":""},{"$nulls":17},6,6,3,11,10,7,2,9,8,1,12,5,"P",null,6,3,{"$f":"IF(MPNo<>\"\", IF(MPNo<DG12,\"\",Qual!$C13),IF(MPNo<DG12,\"\",Qual!$C13))","v":"LANGER, DAVE"},0,"",0,"",0,"",0,"",0,"",0,"",0,"",0,"",0,"",0,"",0,"",0,"",{"$f":"IF(Master!$B$4=\"Y\",INDEX(Qual!$C$8:$X$19,MATCH(DI12,Qual!$C$8:$C$19,0),20),0)","v":0},0,0,0,{"$f":"EK12-IF(Master!$B$4=\"Y\",($EM$7+Qual!$K$4),$EM$7)*200","v":0}]
[null,7,"CAUGHEY, STEVE",{"$nulls":15},{"$f":"IF(P13=\"\",\"\",IF(P13>P14,30,IF(P13=P14,15,0)))","v":""},null,null,{"$f":"IF(Payout2,IF(Payout2>=12,9,IF(Payout2>=10,5,1)),IF(Payout>=12,9,IF(Payout>=10,5,1)))","v":9},"HAVLISH, TOM",{"$nulls":15},{"$f":"IF(AJ13=\"\",\"\",IF(AJ13>AJ14,30,IF(AJ13=AJ14,15,0)))","v":""},null,null,{"$f":"IF(Payout2<>\"\",IF(Payout2>=12,5,IF(Payout2>=10,3,2)),IF(Payout>=12,5,IF(Payout>=10,3,2)))","v":5},"SAVOY, TODD",{"$nulls":15},{"$f":"IF(BD13=\"\",\"\",IF(BD13>BD14,30,IF(BD13=BD14,15,0)))","v":""},null,null,{"$f":"IF(Payout2<>\"\",IF(Payout2>=12,10,IF(Payout2>=10,8,8)),IF(Payout>=12,10,IF(Payout>=10,8,8)))","v":10},"GREEN, GARY",{"$nulls":15},{"$f":"IF(BX13=\"\",\"\",IF(BX13>BX14,30,IF(BX13=BX14,15,0)))","v":""},{"$nulls":17},7,7,10,12,1,4,9,2,5,11,8,3,"P",null,7,2,{"$f":"IF(MPNo<>\"\", IF(MPNo<DG13,\"\",Qual!$C14),IF(MPNo<DG13,\"\",Qual!$C14))","v":"DOWNER, ROB"},0,"",0,"",0,"",0,"",0,"",0,"",0,"",0,"",0,"",0,"",0,"",0,"",{"$f":"IF(Master!$B$4=\"Y\",INDEX(Qual!$C$8:$X$19,MATCH(DI13,Qual!$C$8:$C$19,0),20),0)","v":0},0,0,0,{"$f":"EK13-IF(Master!$B$4=\"Y\",($EM$7+Qual!$K$4),$EM$7)*200","v":0}]
[null,8,"OULMAN, DAVE",{"$nulls":15},{"$f":"IF(P14=\"\",\"\",IF(P14>P13,30,IF(P14=P13,15,0)))","v":""},null,null,{"$f":"IF(Payout2,IF(Payout2>=12,11,IF(Payout2>=10,10,3)),IF(Payout>=12,11,IF(Payout>=10,10,3)))","v":11},"BIRKEDAHL, LARRY",{"$nulls":15},{"$f":"IF(AJ14=\"\",\"\",IF(AJ14>AJ13,30,IF(AJ14=AJ13,15,0)))","v":""},null,null,{"$f":"IF(Payout2<>\"\",IF(Payout2>=12,12,IF(Payout2>=10,2,6)),IF(Payout>=12,12,IF(Payout>=10,2,6)))","v":12},"DAVIS, SCOTT",{"$nulls":15},{"$f":"IF(BD14=\"\",\"\",IF(BD14>BD13,30,IF(BD14=BD13,15,0)))","v":""},null,null,{"$f":"IF(Payout2<>\"\",IF(Payout2>=12,4,IF(Payout2>=10,6,4)),IF(Payout>=12,4,IF(Payout>=10,6,4)))","v":4},"HOMMES, JOHN",{"$nulls":15},{"$f":"IF(BX14=\"\",\"\",IF(BX14>BX13,30,IF(BX14=BX13,15,0)))","v":""},{"$nulls":17},8,8,12,9,4,2,6,10,11,5,3,1,"P",null,8,1,{"$f":"IF(MPNo<>\"\", IF(MPNo<DG14,\"\",Qual!$C15),IF(MPNo<DG14,\"\",Qual!$C15))","v":"JONES, TOM"},0,"",0,"",0,"",0,"",0,"",0,"",0,"",0,"",0,"",0,"",0,"",0,"",{"$f":"IF(Master!$B$4=\"Y\",INDEX(Qual!$C$8:$X$19,MATCH(DI14,Qual!$C$8:$C$19,0),20),0)","v":0},0,0,0,{"$f":"EK14-IF(Master!$B$4=\"Y\",($EM$7+Qual!$K$4),$EM$7)*200","v":0}]
[null,{"$f":"IF(Payout2<>\"\",IF(Payout2>=12,9,IF(Payout2>=10,9,\"\")),IF(Payout>=12,9,IF(Payout>=10,9,\"\")))","v":9},"HAVLISH, TOM",{"$nulls":15},{"$f":"IF(P15=\"\",\"\",IF(P15>P16,30,IF(P15=P16,15,0)))","v":""},null,null,{"$f":"IF(Payout2<>\"\",IF(Payout2>=12,1,IF(Payout2>=10,8,\"\")),IF(Payout>=12,1,IF(Payout>=10,8,\"\")))","v":1},"JONES, TOM",{"$nulls":15},{"$f":"IF(AJ15=\"\",\"\",IF(AJ15>AJ16,30,IF(AJ15=AJ16,15,0)))","v":""},null,null,{"$f":"IF(Payout2<>\"\",IF(Payout2>=12,8,IF(Payout2>=10,6,\"\")),IF(Payout>=12,8,IF(Payout>=10,6,\"\")))","v":8},"OULMAN, DAVE",{"$nulls":15},{"$f":"IF(BD15=\"\",\"\",IF(BD15>BD16,30,IF(BD15=BD16,15,0)))","v":""},null,null,{"$f":"IF(Payout2<>\"\",IF(Payout2>=12,11,IF(Payout2>=10,10,\"\")),IF(Payout>=12,11,IF(Payout>=10,10,\"\")))","v":11},"BIRKEDAHL, LARRY",{"$nulls":15},{"$f":"IF(BX15=\"\",\"\",IF(BX15>BX16,30,IF(BX15=BX16,15,0)))","v":""},{"$nulls":17},9,9,7,1,5,3,11,8,2,10,4,6,"P",null,9,10,{"$f":"IF(MPNo<>\"\", IF(MPNo<DG15,\"\",Qual!$C16),IF(MPNo<DG15,\"\",Qual!$C16))","v":"GREEN, GARY"},0,"",0,"",0,"",0,"",0,"",0,"",0,"",0,"",0,"",0,"",0,"",0,"",{"$f":"IF(Master!$B$4=\"Y\",INDEX(Qual!$C$8:$X$19,MATCH(DI15,Qual!$C$8:$C$19,0),20),0)","v":0},0,0,0,{"$f":"EK15-IF(Master!$B$4=\"Y\",($EM$7+Qual!$K$4),$EM$7)*200","v":0}]
[null,{"$f":"IF(Payout2<>\"\",IF(Payout2>=12,10,IF(Payout2>=10,10,\"\")),IF(Payout>=12,10,IF(Payout>=10,10,\"\")))","v":10},"GREEN, GARY",{"$nulls":15},{"$f":"IF(P16=\"\",\"\",IF(P16>P15,30,IF(P16=P15,15,0)))","v":""},null,null,{"$f":"IF(Payout2<>\"\",IF(Payout2>=12,7,IF(Payout2>=10,4,\"\")),IF(Payout>=12,7,IF(Payout>=10,4,\"\")))","v":7},"CAUGHEY, STEVE",{"$nulls":15},{"$f":"IF(AJ16=\"\",\"\",IF(AJ16>AJ15,30,IF(AJ16=AJ15,15,0)))","v":""},null,null,{"$f":"IF(Payout2<>\"\",IF(Payout2>=12,2,IF(Payout2>=10,7,\"\")),IF(Payout>=12,2,IF(Payout>=10,7,\"\")))","v":2},"DOWNER, ROB",{"$nulls":15},{"$f":"IF(BD16=\"\",\"\",IF(BD16>BD15,30,IF(BD16=BD15,15,0)))","v":""},null,null,{"$f":"IF(Payout2<>\"\",IF(Payout2>=12,6,IF(Payout2>=10,2,\"\")),IF(Payout>=12,6,IF(Payout>=10,2,\"\")))","v":6},"JENSEN, WAYNE",{"$nulls":15},{"$f":"IF(BX16=\"\",\"\",IF(BX16>BX15,30,IF(BX16=BX15,15,0)))","v":""},{"$nulls":17},10,10,11,4,7,9,1,6,3,12,2,8,"P",null,10,9,{"$f":"IF(MPNo<>\"\", IF(MPNo<DG16,\"\",Qual!$C17),IF(MPNo<DG16,\"\",Qual!$C17))","v":"HAVLISH, TOM"},0,"",0,"",0,"",0,"",0,"",0,"",0,"",0,"",0,"",0,"",0,"",0,"",{"$f":"IF(Master!$B$4=\"Y\",INDEX(Qual!$C$8:$X$19,MATCH(DI16,Qual!$C$8:$C$19,0),20),0)","v":0},0,0,0,{"$f":"EK16-IF(Master!$B$4=\"Y\",($EM$7+Qual!$K$4),$EM$7)*200","v":0}]
[null,{"$f":"IF(Payout2<>\"\",IF(Payout2>=12,11,IF(Payout2>=10,\"\",\"\")),IF(Payout>=12,11,IF(Payout>=10,\"\",\"\")))","v":11},"BIRKEDAHL, LARRY",{"$nulls":15},{"$f":"IF(P17=\"\",\"\",IF(P17>P18,30,IF(P17=P18,15,0)))","v":""},null,null,{"$f":"IF(Payout2<>\"\",IF(Payout2>=12,10,IF(Payout2>=10,8,\"\")),IF(Payout>=12,1,IF(Payout>=10,8,\"\")))","v":10},"GREEN, GARY",{"$nulls":15},{"$f":"IF(AJ17=\"\",\"\",IF(AJ17>AJ18,30,IF(AJ17=AJ18,15,0)))","v":""},null,null,{"$f":"IF(Payout2<>\"\",IF(Payout2>=12,6,IF(Payout2>=10,\"\",\"\")),IF(Payout>=12,6,IF(Payout>=10,\"\",\"\")))","v":6},"JENSEN, WAYNE",{"$nulls":15},{"$f":"IF(BD17=\"\",\"\",IF(BD17>BD18,30,IF(BD17=BD18,15,0)))","v":""},null,null,{"$f":"IF(Payout2<>\"\",IF(Payout2>=12,1,IF(Payout2>=10,\"\",\"\")),IF(Payout>=12,1,IF(Payout>=10,\"\",\"\")))","v":1},"JONES, TOM",{"$nulls":15},{"$f":"IF(BX17=\"\",\"\",IF(BX17>BX18,30,IF(BX17=BX18,15,0)))","v":""},{"$nulls":17},11,11,8,5,9,1,3,12,6,4,10,7,"P",null,11,12,{"$f":"IF(MPNo<>\"\", IF(MPNo<DG17,\"\",Qual!$C18),IF(MPNo<DG17,\"\",Qual!$C18))","v":"DAVIS, SCOTT"},0,"",0,"",0,"",0,"",0,"",0,"",0,"",0,"",0,"",0,"",0,"",0,"",{"$f":"IF(Master!$B$4=\"Y\",INDEX(Qual!$C$8:$X$19,MATCH(DI17,Qual!$C$8:$C$19,0),20),0)","v":0},0,0,0,{"$f":"EK17-IF(Master!$B$4=\"Y\",($EM$7+Qual!$K$4),$EM$7)*200","v":0}]
[null,{"$f":"IF(Payout2<>\"\",IF(Payout2>=12,12,IF(Payout2>=10,\"\",\"\")),IF(Payout>=12,12,IF(Payout>=10,\"\",\"\")))","v":12},"DAVIS, SCOTT",{"$nulls":15},{"$f":"IF(P18=\"\",\"\",IF(P18>P17,30,IF(P18=P17,15,0)))","v":""},null,null,{"$f":"IF(Payout2<>\"\",IF(Payout2>=12,8,IF(Payout2>=10,4,\"\")),IF(Payout>=12,7,IF(Payout>=10,4,\"\")))","v":8},"OULMAN, DAVE",{"$nulls":15},{"$f":"IF(AJ18=\"\",\"\",IF(AJ18>AJ17,30,IF(AJ18=AJ17,15,0)))","v":""},null,null,{"$f":"IF(Payout2<>\"\",IF(Payout2>=12,7,IF(Payout2>=10,\"\",\"\")),IF(Payout>=12,7,IF(Payout>=10,\"\",\"\")))","v":7},"CAUGHEY, STEVE",{"$nulls":15},{"$f":"IF(BD18=\"\",\"\",IF(BD18>BD17,30,IF(BD18=BD17,15,0)))","v":""},null,null,{"$f":"IF(Payout2<>\"\",IF(Payout2>=12,3,IF(Payout2>=10,\"\",\"\")),IF(Payout>=12,3,IF(Payout>=10,\"\",\"\")))","v":3},"LANGER, DAVE",{"$nulls":15},{"$f":"IF(BX18=\"\",\"\",IF(BX18>BX17,30,IF(BX18=BX17,15,0)))","v":""},{"$nulls":17},12,12,5,8,2,10,7,4,1,6,11,9,"P",null,12,11,{"$f":"IF(MPNo<>\"\", IF(MPNo<DG18,\"\",Qual!$C19),IF(MPNo<DG18,\"\",Qual!$C19))","v":"BIRKEDAHL, LARRY"},0,"",0,"",0,"",0,"",0,"",0,"",0,"",0,"",0,"",0,"",0,"",0,"",{"$f":"IF(Master!$B$4=\"Y\",INDEX(Qual!$C$8:$X$19,MATCH(DI18,Qual!$C$8:$C$19,0),20),0)","v":0},0,0,0,{"$f":"EK18-IF(Master!$B$4=\"Y\",($EM$7+Qual!$K$4),$EM$7)*200","v":0}]
[]
[]
[]
[null,null,"Game 5",{"$nulls":15},"B",{"$nulls":3},"Game 6",{"$nulls":15},"B",{"$nulls":3},"Game 7",{"$nulls":15},"B",{"$nulls":3},"Game 8",{"$nulls":15},"B",{"$nulls":34},"G1","B","G2","B","G3","B","G4","B","G5","B","G6","B","G7","B","G8","B","G9","B","G10","B","G11","B","G12","B","Qual","MP","B","GT","+ / -"]
[null,{"$f":"IF(Payout2<>\"\",IF(Payout2>=12,11,IF(Payout2>=10,10,7)),IF(Payout>=12,11,IF(Payout>=10,10,7)))","v":11},{"$f":"INDEX($DG$7:$DI$18,MATCH(B23,$DH$7:$DH$18,0),3)","v":"BIRKEDAHL, LARRY"},{"$nulls":15},{"$f":"IF(P23=\"\",\"\",IF(P23>P24,30,IF(P23=P24,15,0)))","v":""},null,null,{"$f":"IF(Payout2<>\"\",IF(Payout2>=12,10,IF(Payout2>=10,5,2)),IF(Payout>=12,10,IF(Payout>=10,5,2)))","v":10},{"$f":"INDEX($DG$7:$DI$18,MATCH(V23,$DH$7:$DH$18,0),3)","v":"GREEN, GARY"},{"$nulls":15},{"$f":"IF(AJ23=\"\",\"\",IF(AJ23>AJ24,30,IF(AJ23=AJ24,15,0)))","v":""},null,null,{"$f":"IF(Payout2<>\"\",IF(Payout2>=12,5,IF(Payout2>=10,6,4)),IF(Payout>=12,5,IF(Payout>=10,6,4)))","v":5},{"$f":"INDEX($DG$7:$DI$18,MATCH(AP23,$DH$7:$DH$18,0),3)","v":"SAVOY, TODD"},{"$nulls":15},{"$f":"IF(BD23=\"\",\"\",IF(BD23>BD24,30,IF(BD23=BD24,15,0)))","v":""},null,null,{"$f":"IF(Payout2<>\"\",IF(Payout2>=12,12,IF(Payout2>=10,3,5)),IF(Payout>=12,12,IF(Payout>=10,3,5)))","v":12},{"$f":"INDEX($DG$7:$DI$18,MATCH(BJ23,IF('Check-In'!$F$135=8,$DG$7:$DG$18,$DH$7:$DH$18),0),3)","v":"DAVIS, SCOTT"},{"$nulls":15},{"$f":"IF(BX23=\"\",\"\",IF(BX23>BX24,30,IF(BX23=BX24,15,0)))","v":""},{"$nulls":31},1,null,{"$f":"IF(MPNo<>\"\", IF(MPNo<DG7,\"\",Qual!$C8),IF(MPNo<DG7,\"\",Qual!$C8))","v":"OULMAN, DAVE"},{"$f":"INDEX($B$7:$T$18,MATCH(DI23,$C$7:$C$18,0),15)","v":0},{"$f":"INDEX($B$7:$T$18,MATCH(DI23,$C$7:$C$18,0),18)","v":""},{"$f":"INDEX($V$7:$AN$18,MATCH(DI23,$W$7:$W$18,0),15)","v":0},{"$f":"INDEX($V$7:$AN$18,MATCH(DI23,$W$7:$W$18,0),18)","v":""},{"$f":"INDEX($AP$7:$BH$18,MATCH(DI23,$AQ$7:$AQ$18,0),15)","v":0},{"$f":"INDEX($AP$7:$BH$18,MATCH(DI23,$AQ$7:$AQ$18,0),18)","v":""},{"$f":"INDEX($BJ$7:$CB$18,MATCH(DI23,$BK$7:$BK$18,0),15)","v":0},{"$f":"INDEX($BJ$7:$CB$18,MATCH(DI23,$BK$7:$BK$18,0),18)","v":""},{"$f":"INDEX($B$23:$T$34,MATCH(DI23,$C$23:$C$34,0),15)","v":0},{"$f":"INDEX($B$23:$T$34,MATCH(DI23,$C$23:$C$34,0),18)","v":""},{"$f":"INDEX($V$23:$AN$34,MATCH(DI23,$W$23:$W$34,0),15)","v":0},{"$f":"INDEX($V$23:$AN$34,MATCH(DI23,$W$23:$W$34,0),18)","v":""},{"$f":"INDEX($AP$23:$BH$34,MATCH(DI23,$AQ$23:$AQ$34,0),15)","v":0},{"$f":"INDEX($AP$23:$BH$34,MATCH(DI23,$AQ$23:$AQ$34,0),18)","v":""},{"$f":"INDEX($BJ$23:$CB$34,MATCH(DI23,$BK$23:$BK$34,0),15)","v":0},{"$f":"INDEX($BJ$23:$CB$34,MATCH(DI23,$BK$23:$BK$34,0),18)","v":""},{"$f":"IF(ISNA(INDEX($B$39:$T$50,MATCH(DI23,$C$39:$C$50,0),15)),0,INDEX($B$39:$T$50,MATCH(DI23,$C$39:$C$50,0),15))","v":0},{"$f":"IF(ISNA(INDEX($B$39:$T$50,MATCH(DI23,$C$39:$C$50,0),18)),\"\",INDEX($B$39:$T$50,MATCH(DI23,$C$39:$C$50,0),18))","v":""},{"$f":"IF(ISNA(INDEX($V$39:$AN$50,MATCH(DI23,$W$39:$W$50,0),15)),0,INDEX($V$39:$AN$50,MATCH(DI23,$W$39:$W$50,0),15))","v":0},{"$f":"IF(ISNA(INDEX($V$39:$AN$50,MATCH(DI23,$W$39:$W$50,0),18)),0,INDEX($V$39:$AN$50,MATCH(DI23,$W$39:$W$50,0),18))","v":""},{"$f":"IF(ISNA(INDEX($AP$39:$BH$50,MATCH(DI23,$AQ$39:$AQ$50,0),15)),0,INDEX($AP$39:$BH$50,MATCH(DI23,$AQ$39:$AQ$50,0),15))","v":0},{"$f":"IF(ISNA(INDEX($AP$39:$BH$50,MATCH(DI23,$AQ$39:$AQ$50,0),18)),0,INDEX($AP$39:$BH$50,MATCH(DI23,$AQ$39:$AQ$50,0),18))","v":""},{"$f":"IF(ISNA(INDEX($BJ$39:$CB$50,MATCH(DI23,$BK$39:$BK$50,0),15)),0,INDEX($BJ$39:$CB$50,MATCH(DI23,$BK$39:$BK$50,0),15))","v":0},{"$f":"IF(ISNA(INDEX($BJ$39:$CB$50,MATCH(DI23,$BK$39:$BK$50,0),18)),0,INDEX($BJ$39:$CB$50,MATCH(DI23,$BK$39:$BK$50,0),18))","v":""},{"$f":"IF(Master!$B$4=\"Y\",INDEX(Qual!$C$8:$X$19,MATCH(DI23,Qual!$C$8:$C$19,0),20),0)","v":0},{"$f":"DJ23+DL23+DN23+DP23+DR23+DT23+DV23+DX23+DZ23+EB23+ED23+EF23","v":0},{"$f":"IF(DK23=\"\",0,DK23)+IF(DM23=\"\",0,DM23)+IF(DO23=\"\",0,DO23)+IF(DQ23=\"\",0,DQ23)+IF(DS23=\"\",0,DS23)+IF(DU23=\"\",0,DU23)+IF(DW23=\"\",0,DW23)+IF(DY23=\"\",0,DY23)+IF(EA23=\"\",0,EA23)+IF(EC23=\"\",0,EC23)+IF(EE23=\"\",0,EE23)+IF(EG23=\"\",0,EG23)","v":0},{"$f":"EH23+EI23+EJ23","v":0},{"$f":"EK23-IF(Master!$B$4=\"Y\",($EM$7+Qual!$K$4),$EM$7)*200","v":0}]
[null,{"$f":"IF(Payout2<>\"\",IF(Payout2>=12,8,IF(Payout2>=10,7,1)),IF(Payout>=12,8,IF(Payout>=10,7,1)))","v":8},"OULMAN, DAVE",{"$nulls":15},{"$f":"IF(P24=\"\",\"\",IF(P24>P23,30,IF(P24=P23,15,0)))","v":""},null,null,{"$f":"IF(Payout2<>\"\",IF(Payout2>=12,6,IF(Payout2>=10,8,3)),IF(Payout>=12,6,IF(Payout>=10,8,3)))","v":6},"JENSEN, WAYNE",{"$nulls":15},{"$f":"IF(AJ24=\"\",\"\",IF(AJ24>AJ23,30,IF(AJ24=AJ23,15,0)))","v":""},null,null,{"$f":"IF(Payout2<>\"\",IF(Payout2>=12,7,IF(Payout2>=10,4,7)),IF(Payout>=12,7,IF(Payout>=10,4,7)))","v":7},"CAUGHEY, STEVE",{"$nulls":15},{"$f":"IF(BD24=\"\",\"\",IF(BD24>BD23,30,IF(BD24=BD23,15,0)))","v":""},null,null,{"$f":"IF(Payout2<>\"\",IF(Payout2>=12,9,IF(Payout2>=10,9,6)),IF(Payout>=12,9,IF(Payout>=10,9,6)))","v":9},{"$f":"INDEX($DG$7:$DI$18,MATCH(BJ24,IF('Check-In'!$F$135=8,$DG$7:$DG$18,$DH$7:$DH$18),0),3)","v":"HAVLISH, TOM"},{"$nulls":15},{"$f":"IF(BX24=\"\",\"\",IF(BX24>BX23,30,IF(BX24=BX23,15,0)))","v":""},{"$nulls":31},2,null,{"$f":"IF(MPNo<>\"\", IF(MPNo<DG8,\"\",Qual!$C9),IF(MPNo<DG8,\"\",Qual!$C9))","v":"CAUGHEY, STEVE"},0,"",0,"",0,"",0,"",0,"",0,"",0,"",0,"",0,"",0,"",0,"",0,"",{"$f":"IF(Master!$B$4=\"Y\",INDEX(Qual!$C$8:$X$19,MATCH(DI24,Qual!$C$8:$C$19,0),20),0)","v":0},0,0,0,{"$f":"EK24-IF(Master!$B$4=\"Y\",($EM$7+Qual!$K$4),$EM$7)*200","v":0}]
[null,{"$f":"IF(Payout2<>\"\",IF(Payout2>=12,9,IF(Payout2>=10,6,4)),IF(Payout>=12,9,IF(Payout>=10,6,4)))","v":9},"HAVLISH, TOM",{"$nulls":15},{"$f":"IF(P25=\"\",\"\",IF(P25>P26,30,IF(P25=P26,15,0)))","v":""},null,null,{"$f":"IF(Payout2<>\"\",IF(Payout2>=12,11,IF(Payout2>=10,4,8)),IF(Payout>=12,11,IF(Payout>=10,4,8)))","v":11},"BIRKEDAHL, LARRY",{"$nulls":15},{"$f":"IF(AJ25=\"\",\"\",IF(AJ25>AJ26,30,IF(AJ25=AJ26,15,0)))","v":""},null,null,{"$f":"IF(Payout2<>\"\",IF(Payout2>=12,4,IF(Payout2>=10,7,6)),IF(Payout>=12,4,IF(Payout>=10,7,6)))","v":4},"HOMMES, JOHN",{"$nulls":15},{"$f":"IF(BD25=\"\",\"\",IF(BD25>BD26,30,IF(BD25=BD26,15,0)))","v":""},null,null,{"$f":"IF(Payout2<>\"\",IF(Payout2>=12,10,IF(Payout2>=10,8,1)),IF(Payout>=12,10,IF(Payout>=10,8,1)))","v":10},{"$f":"INDEX($DG$7:$DI$18,MATCH(BJ25,IF('Check-In'!$F$135=8,$DG$7:$DG$18,$DH$7:$DH$18),0),3)","v":"GREEN, GARY"},{"$nulls":15},{"$f":"IF(BX25=\"\",\"\",IF(BX25>BX26,30,IF(BX25=BX26,15,0)))","v":""},{"$nulls":31},3,null,{"$f":"IF(MPNo<>\"\", IF(MPNo<DG9,\"\",Qual!$C10),IF(MPNo<DG9,\"\",Qual!$C10))","v":"JENSEN, WAYNE"},0,"",0,"",0,"",0,"",0,"",0,"",0,"",0,"",0,"",0,"",0,"",0,"",{"$f":"IF(Master!$B$4=\"Y\",INDEX(Qual!$C$8:$X$19,MATCH(DI25,Qual!$C$8:$C$19,0),20),0)","v":0},0,0,0,{"$f":"EK25-IF(Master!$B$4=\"Y\",($EM$7+Qual!$K$4),$EM$7)*200","v":0}]
[null,{"$f":"IF(Payout2<>\"\",IF(Payout2>=12,7,IF(Payout2>=10,2,6)),IF(Payout2>=12,7,IF(Payout>=10,2,6)))","v":7},"CAUGHEY, STEVE",{"$nulls":15},{"$f":"IF(P26=\"\",\"\",IF(P26>P25,30,IF(P26=P25,15,0)))","v":""},null,null,{"$f":"IF(Payout2<>\"\",IF(Payout2>=12,1,IF(Payout2>=10,10,5)),IF(Payout>=12,1,IF(Payout>=10,10,5)))","v":1},"JONES, TOM",{"$nulls":15},{"$f":"IF(AJ26=\"\",\"\",IF(AJ26>AJ25,30,IF(AJ26=AJ25,15,0)))","v":""},null,null,{"$f":"IF(Payout2<>\"\",IF(Payout2>=12,12,IF(Payout2>=10,9,1)),IF(Payout>=12,12,IF(Payout>=10,9,1)))","v":12},"DAVIS, SCOTT",{"$nulls":15},{"$f":"IF(BD26=\"\",\"\",IF(BD26>BD25,30,IF(BD26=BD25,15,0)))","v":""},null,null,{"$f":"IF(Payout2<>\"\",IF(Payout2>=12,5,IF(Payout2>=10,1,2)),IF(Payout>=12,5,IF(Payout>=10,1,2)))","v":5},{"$f":"INDEX($DG$7:$DI$18,MATCH(BJ26,IF('Check-In'!$F$135=8,$DG$7:$DG$18,$DH$7:$DH$18),0),3)","v":"SAVOY, TODD"},{"$nulls":15},{"$f":"IF(BX26=\"\",\"\",IF(BX26>BX25,30,IF(BX26=BX25,15,0)))","v":""},{"$nulls":31},4,null,{"$f":"IF(MPNo<>\"\", IF(MPNo<DG10,\"\",Qual!$C11),IF(MPNo<DG10,\"\",Qual!$C11))","v":"SAVOY, TODD"},0,"",0,"",0,"",0,"",0,"",0,"",0,"",0,"",0,"",0,"",0,"",0,"",{"$f":"IF(Master!$B$4=\"Y\",INDEX(Qual!$C$8:$X$19,MATCH(DI26,Qual!$C$8:$C$19,0),20),0)","v":0},0,0,0,{"$f":"EK26-IF(Master!$B$4=\"Y\",($EM$7+Qual!$K$4),$EM$7)*200","v":0}]
[null,{"$f":"IF(Payout2<>\"\",IF(Payout2>=12,1,IF(Payout2>=10,8,3)),IF(Payout>=12,1,IF(Payout>=10,8,3)))","v":1},"JONES, TOM",{"$nulls":15},{"$f":"IF(P27=\"\",\"\",IF(P27>P28,30,IF(P27=P28,15,0)))","v":""},null,null,{"$f":"IF(Payout2<>\"\",IF(Payout2>=12,3,IF(Payout2>=10,7,4)),IF(Payout>=12,3,IF(Payout>=10,7,4)))","v":3},"LANGER, DAVE",{"$nulls":15},{"$f":"IF(AJ27=\"\",\"\",IF(AJ27>AJ28,30,IF(AJ27=AJ28,15,0)))","v":""},null,null,{"$f":"IF(Payout2<>\"\",IF(Payout2>=12,2,IF(Payout2>=10,1,8)),IF(Payout>=12,2,IF(Payout>=10,1,8)))","v":2},"DOWNER, ROB",{"$nulls":15},{"$f":"IF(BD27=\"\",\"\",IF(BD27>BD28,30,IF(BD27=BD28,15,0)))","v":""},null,null,{"$f":"IF(Payout2<>\"\",IF(Payout2>=12,7,IF(Payout2>=10,6,3)),IF(Payout>=12,7,IF(Payout>=10,6,3)))","v":7},{"$f":"INDEX($DG$7:$DI$18,MATCH(BJ27,IF('Check-In'!$F$135=8,$DG$7:$DG$18,$DH$7:$DH$18),0),3)","v":"CAUGHEY, STEVE"},{"$nulls":15},{"$f":"IF(BX27=\"\",\"\",IF(BX27>BX28,30,IF(BX27=BX28,15,0)))","v":""},{"$nulls":31},5,null,{"$f":"IF(MPNo<>\"\", IF(MPNo<DG11,\"\",Qual!$C12),IF(MPNo<DG11,\"\",Qual!$C12))","v":"HOMMES, JOHN"},0,"",0,"",0,"",0,"",0,"",0,"",0,"",0,"",0,"",0,"",0,"",0,"",{"$f":"IF(Master!$B$4=\"Y\",INDEX(Qual!$C$8:$X$19,MATCH(DI27,Qual!$C$8:$C$19,0),20),0)","v":0},0,0,0,{"$f":"EK27-IF(Master!$B$4=\"Y\",($EM$7+Qual!$K$4),$EM$7)*200","v":0}]
[null,{"$f":"IF(Payout2<>\"\",IF(Payout2>=12,5,IF(Payout2>=10,3,8)),IF(Payout>=12,5,IF(Payout>=10,3,8)))","v":5},"SAVOY, TODD",{"$nulls":15},{"$f":"IF(P28=\"\",\"\",IF(P28>P27,30,IF(P28=P27,15,0)))","v":""},null,null,{"$f":"IF(Payout2<>\"\",IF(Payout2>=12,8,IF(Payout2>=10,2,1)),IF(Payout>=12,8,IF(Payout>=10,2,1)))","v":8},"OULMAN, DAVE",{"$nulls":15},{"$f":"IF(AJ28=\"\",\"\",IF(AJ28>AJ27,30,IF(AJ28=AJ27,15,0)))","v":""},null,null,{"$f":"IF(Payout2<>\"\",IF(Payout2>=12,10,IF(Payout2>=10,5,2)),IF(Payout>=12,10,IF(Payout>=10,5,2)))","v":10},"GREEN, GARY",{"$nulls":15},{"$f":"IF(BD28=\"\",\"\",IF(BD28>BD27,30,IF(BD28=BD27,15,0)))","v":""},null,null,{"$f":"IF(Payout2<>\"\",IF(Payout2>=12,11,IF(Payout2>=10,10,4)),IF(Payout>=12,11,IF(Payout>=10,10,4)))","v":11},{"$f":"INDEX($DG$7:$DI$18,MATCH(BJ28,IF('Check-In'!$F$135=8,$DG$7:$DG$18,$DH$7:$DH$18),0),3)","v":"BIRKEDAHL, LARRY"},{"$nulls":15},{"$f":"IF(BX28=\"\",\"\",IF(BX28>BX27,30,IF(BX28=BX27,15,0)))","v":""},{"$nulls":31},6,null,{"$f":"IF(MPNo<>\"\", IF(MPNo<DG12,\"\",Qual!$C13),IF(MPNo<DG12,\"\",Qual!$C13))","v":"LANGER, DAVE"},0,"",0,"",0,"",0,"",0,"",0,"",0,"",0,"",0,"",0,"",0,"",0,"",{"$f":"IF(Master!$B$4=\"Y\",INDEX(Qual!$C$8:$X$19,MATCH(DI28,Qual!$C$8:$C$19,0),20),0)","v":0},0,0,0,{"$f":"EK28-IF(Master!$B$4=\"Y\",($EM$7+Qual!$K$4),$EM$7)*200","v":0}]
[null,{"$f":"IF(Payout2<>\"\",IF(Payout2>=12,6,IF(Payout2>=10,4,5)),IF(Payout>=12,6,IF(Payout>=10,4,5)))","v":6},"JENSEN, WAYNE",{"$nulls":15},{"$f":"IF(P29=\"\",\"\",IF(P29>P30,30,IF(P29=P30,15,0)))","v":""},null,null,{"$f":"IF(Payout2<>\"\",IF(Payout2>=12,12,IF(Payout2>=10,6,6)),IF(Payout>=12,12,IF(Payout>=10,6,6)))","v":12},"DAVIS, SCOTT",{"$nulls":15},{"$f":"IF(AJ29=\"\",\"\",IF(AJ29>AJ30,30,IF(AJ29=AJ30,15,0)))","v":""},null,null,{"$f":"IF(Payout2<>\"\",IF(Payout2>=12,1,IF(Payout2>=10,10,3)),IF(Payout>=12,1,IF(Payout>=10,10,3)))","v":1},"JONES, TOM",{"$nulls":15},{"$f":"IF(BD29=\"\",\"\",IF(BD29>BD30,30,IF(BD29=BD30,15,0)))","v":""},null,null,{"$f":"IF(Payout2<>\"\",IF(Payout2>=12,4,IF(Payout2>=10,2,7)),IF(Payout>=12,4,IF(Payout>=10,2,7)))","v":4},{"$f":"INDEX($DG$7:$DI$18,MATCH(BJ29,IF('Check-In'!$F$135=8,$DG$7:$DG$18,$DH$7:$DH$18),0),3)","v":"HOMMES, JOHN"},{"$nulls":15},{"$f":"IF(BX29=\"\",\"\",IF(BX29>BX30,30,IF(BX29=BX30,15,0)))","v":""},{"$nulls":31},7,null,{"$f":"IF(MPNo<>\"\", IF(MPNo<DG13,\"\",Qual!$C14),IF(MPNo<DG13,\"\",Qual!$C14))","v":"DOWNER, ROB"},0,"",0,"",0,"",0,"",0,"",0,"",0,"",0,"",0,"",0,"",0,"",0,"",{"$f":"IF(Master!$B$4=\"Y\",INDEX(Qual!$C$8:$X$19,MATCH(DI29,Qual!$C$8:$C$19,0),20),0)","v":0},0,0,0,{"$f":"EK29-IF(Master!$B$4=\"Y\",($EM$7+Qual!$K$4),$EM$7)*200","v":0}]
[null,{"$f":"IF(Payout2<>\"\",IF(Payout2>=12,3,IF(Payout2>=10,1,2)),IF(Payout>=12,3,IF(Payout>=10,1,2)))","v":3},"LANGER, DAVE",{"$nulls":15},{"$f":"IF(P30=\"\",\"\",IF(P30>P29,30,IF(P30=P29,15,0)))","v":""},null,null,{"$f":"IF(Payout2<>\"\",IF(Payout2>=12,2,IF(Payout2>=10,9,7)),IF(Payout>=12,2,IF(Payout>=10,9,7)))","v":2},"DOWNER, ROB",{"$nulls":15},{"$f":"IF(AJ30=\"\",\"\",IF(AJ30>AJ29,30,IF(AJ30=AJ29,15,0)))","v":""},null,null,{"$f":"IF(Payout2<>\"\",IF(Payout2>=12,9,IF(Payout2>=10,3,5)),IF(Payout>=12,9,IF(Payout>=10,3,5)))","v":9},"HAVLISH, TOM",{"$nulls":15},{"$f":"IF(BD30=\"\",\"\",IF(BD30>BD29,30,IF(BD30=BD29,15,0)))","v":""},null,null,{"$f":"IF(Payout2<>\"\",IF(Payout2>=12,6,IF(Payout2>=10,4,8)),IF(Payout>=12,6,IF(Payout>=10,4,8)))","v":6},{"$f":"INDEX($DG$7:$DI$18,MATCH(BJ30,IF('Check-In'!$F$135=8,$DG$7:$DG$18,$DH$7:$DH$18),0),3)","v":"JENSEN, WAYNE"},{"$nulls":15},{"$f":"IF(BX30=\"\",\"\",IF(BX30>BX29,30,IF(BX30=BX29,15,0)))","v":""},{"$nulls":31},8,null,{"$f":"IF(MPNo<>\"\", IF(MPNo<DG14,\"\",Qual!$C15),IF(MPNo<DG14,\"\",Qual!$C15))","v":"JONES, TOM"},0,"",0,"",0,"",0,"",0,"",0,"",0,"",0,"",0,"",0,"",0,"",0,"",{"$f":"IF(Master!$B$4=\"Y\",INDEX(Qual!$C$8:$X$19,MATCH(DI30,Qual!$C$8:$C$19,0),20),0)","v":0},0,0,0,{"$f":"EK30-IF(Master!$B$4=\"Y\",($EM$7+Qual!$K$4),$EM$7)*200","v":0}]
[null,{"$f":"IF(Payout2<>\"\",IF(Payout2>=12,10,IF(Payout2>=10,5,\"\")),IF(Payout>=12,10,IF(Payout>=10,5,\"\")))","v":10},"GREEN, GARY",{"$nulls":15},{"$f":"IF(P31=\"\",\"\",IF(P31>P32,30,IF(P31=P32,15,0)))","v":""},null,null,{"$f":"IF(Payout2<>\"\",IF(Payout2>=12,7,IF(Payout2>=10,1,\"\")),IF(Payout>=12,7,IF(Payout>=10,1,\"\")))","v":7},"CAUGHEY, STEVE",{"$nulls":15},{"$f":"IF(AJ31=\"\",\"\",IF(AJ31>AJ32,30,IF(AJ31=AJ32,15,0)))","v":""},null,null,{"$f":"IF(Payout2<>\"\",IF(Payout2>=12,6,IF(Payout2>=10,2,\"\")),IF(Payout>=12,6,IF(Payout>=10,2,\"\")))","v":6},"JENSEN, WAYNE",{"$nulls":15},{"$f":"IF(BD31=\"\",\"\",IF(BD31>BD32,30,IF(BD31=BD32,15,0)))","v":""},null,null,{"$f":"IF(Payout2<>\"\",IF(Payout2>=12,2,IF(Payout2>=10,7,\"\")),IF(Payout>=12,2,IF(Payout>=10,7,\"\")))","v":2},{"$f":"INDEX($DG$7:$DI$18,MATCH(BJ31,IF('Check-In'!$F$135=8,$DG$7:$DG$18,$DH$7:$DH$18),0),3)","v":"DOWNER, ROB"},{"$nulls":15},{"$f":"IF(BX31=\"\",\"\",IF(BX31>BX32,30,IF(BX31=BX32,15,0)))","v":""},{"$nulls":31},9,null,{"$f":"IF(MPNo<>\"\", IF(MPNo<DG15,\"\",Qual!$C16),IF(MPNo<DG15,\"\",Qual!$C16))","v":"GREEN, GARY"},0,"",0,"",0,"",0,"",0,"",0,"",0,"",0,"",0,"",0,"",0,"",0,"",{"$f":"IF(Master!$B$4=\"Y\",INDEX(Qual!$C$8:$X$19,MATCH(DI31,Qual!$C$8:$C$19,0),20),0)","v":0},0,0,0,{"$f":"EK31-IF(Master!$B$4=\"Y\",($EM$7+Qual!$K$4),$EM$7)*200","v":0}]
[null,{"$f":"IF(Payout2<>\"\",IF(Payout2>=12,12,IF(Payout2>=10,9,\"\")),IF(Payout>=12,12,IF(Payout>=10,9,\"\")))","v":12},"DAVIS, SCOTT",{"$nulls":15},{"$f":"IF(P32=\"\",\"\",IF(P32>P31,30,IF(P32=P31,15,0)))","v":""},null,null,{"$f":"IF(Payout2<>\"\",IF(Payout2>=12,4,IF(Payout2>=10,3,\"\")),IF(Payout>=12,4,IF(Payout>=10,3,\"\")))","v":4},"HOMMES, JOHN",{"$nulls":15},{"$f":"IF(AJ32=\"\",\"\",IF(AJ32>AJ31,30,IF(AJ32=AJ31,15,0)))","v":""},null,null,{"$f":"IF(Payout2<>\"\",IF(Payout2>=12,8,IF(Payout2>=10,8,\"\")),IF(Payout>=12,8,IF(Payout>=10,8,\"\")))","v":8},"OULMAN, DAVE",{"$nulls":15},{"$f":"IF(BD32=\"\",\"\",IF(BD32>BD31,30,IF(BD32=BD31,15,0)))","v":""},null,null,{"$f":"IF(Payout2<>\"\",IF(Payout2>=12,3,IF(Payout2>=10,5,\"\")),IF(Payout>=12,3,IF(Payout>=10,5,\"\")))","v":3},{"$f":"INDEX($DG$7:$DI$18,MATCH(BJ32,IF('Check-In'!$F$135=8,$DG$7:$DG$18,$DH$7:$DH$18),0),3)","v":"LANGER, DAVE"},{"$nulls":15},{"$f":"IF(BX32=\"\",\"\",IF(BX32>BX31,30,IF(BX32=BX31,15,0)))","v":""},{"$nulls":31},10,null,{"$f":"IF(MPNo<>\"\", IF(MPNo<DG16,\"\",Qual!$C17),IF(MPNo<DG16,\"\",Qual!$C17))","v":"HAVLISH, TOM"},0,"",0,"",0,"",0,"",0,"",0,"",0,"",0,"",0,"",0,"",0,"",0,"",{"$f":"IF(Master!$B$4=\"Y\",INDEX(Qual!$C$8:$X$19,MATCH(DI32,Qual!$C$8:$C$19,0),20),0)","v":0},0,0,0,{"$f":"EK32-IF(Master!$B$4=\"Y\",($EM$7+Qual!$K$4),$EM$7)*200","v":0}]
[null,{"$f":"IF(Payout2<>\"\",IF(Payout2>=12,2,IF(Payout>=10,\"\",\"\")),IF(Payout2>=12,2,IF(Payout>=10,\"\",\"\")))","v":2},"DOWNER, ROB",{"$nulls":15},{"$f":"IF(P33=\"\",\"\",IF(P33>P34,30,IF(P33=P34,15,0)))","v":""},null,null,{"$f":"IF(Payout2<>\"\",IF(Payout2>=12,9,IF(Payout2>=10,\"\",\"\")),IF(Payout>=12,9,IF(Payout>=10,\"\",\"\")))","v":9},"HAVLISH, TOM",{"$nulls":15},{"$f":"IF(AJ33=\"\",\"\",IF(AJ33>AJ34,30,IF(AJ33=AJ34,15,0)))","v":""},null,null,{"$f":"IF(Payout2<>\"\",IF(Payout2>=12,3,IF(Payout2>=10,\"\",\"\")),IF(Payout>=12,3,IF(Payout>=10,\"\",\"\")))","v":3},"LANGER, DAVE",{"$nulls":15},{"$f":"IF(BD33=\"\",\"\",IF(BD33>BD34,30,IF(BD33=BD34,15,0)))","v":""},null,null,{"$f":"IF(Payout2<>\"\",IF(Payout2>=12,8,IF(Payout2>=10,\"\",\"\")),IF(Payout>=12,8,IF(Payout>=10,\"\",\"\")))","v":8},{"$f":"INDEX($DG$7:$DI$18,MATCH(BJ33,IF('Check-In'!$F$135=8,$DG$7:$DG$18,$DH$7:$DH$18),0),3)","v":"OULMAN, DAVE"},{"$nulls":15},{"$f":"IF(BX33=\"\",\"\",IF(BX33>BX34,30,IF(BX33=BX34,15,0)))","v":""},{"$nulls":31},11,null,{"$f":"IF(MPNo<>\"\", IF(MPNo<DG17,\"\",Qual!$C18),IF(MPNo<DG17,\"\",Qual!$C18))","v":"DAVIS, SCOTT"},0,"",0,"",0,"",0,"",0,"",0,"",0,"",0,"",0,"",0,"",0,"",0,"",{"$f":"IF(Master!$B$4=\"Y\",INDEX(Qual!$C$8:$X$19,MATCH(DI33,Qual!$C$8:$C$19,0),20),0)","v":0},0,0,0,{"$f":"EK33-IF(Master!$B$4=\"Y\",($EM$7+Qual!$K$4),$EM$7)*200","v":0}]
[null,{"$f":"IF(Payout2<>\"\",IF(Payout2>=12,4,IF(Payout2>=10,\"\",\"\")),IF(Payout>=12,4,IF(Payout>=10,\"\",\"\")))","v":4},"HOMMES, JOHN",{"$nulls":15},{"$f":"IF(P34=\"\",\"\",IF(P34>P33,30,IF(P34=P33,15,0)))","v":""},null,null,{"$f":"IF(Payout2<>\"\",IF(Payout2>=12,5,IF(Payout2>=10,\"\",\"\")),IF(Payout>=12,5,IF(Payout>=10,\"\",\"\")))","v":5},"SAVOY, TODD",{"$nulls":15},{"$f":"IF(AJ34=\"\",\"\",IF(AJ34>AJ33,30,IF(AJ34=AJ33,15,0)))","v":""},null,null,{"$f":"IF(Payout2<>\"\",IF(Payout2>=12,11,IF(Payout2>=10,\"\",\"\")),IF(Payout>=12,11,IF(Payout>=10,\"\",\"\")))","v":11},"BIRKEDAHL, LARRY",{"$nulls":15},{"$f":"IF(BD34=\"\",\"\",IF(BD34>BD33,30,IF(BD34=BD33,15,0)))","v":""},null,null,{"$f":"IF(Payout2<>\"\",IF(Payout2>=12,1,IF(Payout2>=10,\"\",\"\")),IF(Payout>=12,1,IF(Payout>=10,\"\",\"\")))","v":1},{"$f":"INDEX($DG$7:$DI$18,MATCH(BJ34,IF('Check-In'!$F$135=8,$DG$7:$DG$18,$DH$7:$DH$18),0),3)","v":"JONES, TOM"},{"$nulls":15},{"$f":"IF(BX34=\"\",\"\",IF(BX34>BX33,30,IF(BX34=BX33,15,0)))","v":""},{"$nulls":31},12,null,{"$f":"IF(MPNo<>\"\", IF(MPNo<DG18,\"\",Qual!$C19),IF(MPNo<DG18,\"\",Qual!$C19))","v":"BIRKEDAHL, LARRY"},0,"",0,"",0,"",0,"",0,"",0,"",0,"",0,"",0,"",0,"",0,"",0,"",{"$f":"IF(Master!$B$4=\"Y\",INDEX(Qual!$C$8:$X$19,MATCH(DI34,Qual!$C$8:$C$19,0),20),0)","v":0},0,0,0,{"$f":"EK34-IF(Master!$B$4=\"Y\",($EM$7+Qual!$K$4),$EM$7)*200","v":0}]
[]
[]
[]
[null,null,"Game 9",{"$nulls":15},"B",{"$nulls":3},"Game 10",{"$nulls":15},"B",{"$nulls":3},{"$f":"IF('Check-In'!$F$135=12,\"Game11\",\"\")","v":""},{"$nulls":15},{"$f":"IF('Check-In'!$F$135=10,\"\",\"B\")","v":"B"},{"$nulls":3},{"$f":"IF('Check-In'!$F$135=12,\"Game12\",\"\")","v":""},{"$nulls":15},{"$f":"IF('Check-In'!$F$135=10,\"\",\"B\")","v":"B"}]
[null,{"$f":"IF(Payout2<>\"\",IF(Payout2>=12,6,IF(Payout2>=10,8,\"\")),IF(Payout>=12,6,IF(Payout>=10,8,\"\")))","v":6},{"$f":"INDEX($DG$7:$DI$18,MATCH(B39,$DH$7:$DH$18,0),3)","v":"JENSEN, WAYNE"},{"$nulls":15},{"$f":"IF(P39=\"\",\"\",IF(P39>P40,30,IF(P39=P40,15,0)))","v":""},null,null,{"$f":"IF(Payout2<>\"\",IF(Payout2>=12,3,IF(Payout2>=10,9,\"\")),IF(Payout>=12,3,IF(Payout>=10,9,\"\")))","v":3},{"$f":"INDEX($DG$7:$DI$18,MATCH(V39,IF('Check-In'!$F$135=10,$DG$7:$DG$18,$DH$7:$DH$18),0),3)","v":"LANGER, DAVE"},{"$nulls":15},{"$f":"IF(AJ39=\"\",\"\",IF(AJ39>AJ40,30,IF(AJ39=AJ40,15,0)))","v":""},null,null,{"$f":"IF(Payout2<>\"\",IF(Payout2>=12,8,IF(Payout2>=10,\"\",\"\")),IF(Payout>=12,8,IF(Payout>=10,\"\",\"\")))","v":8},{"$f":"_xlfn.IFNA(INDEX($DG$7:$DI$18,MATCH(AP39,$DH$7:$DH$18,0),3),\"\")","v":"OULMAN, DAVE"},{"$nulls":15},{"$f":"IF(BD39=\"\",\"\",IF(BD39>BD40,30,IF(BD39=BD40,15,0)))","v":""},null,null,{"$f":"IF(Payout2<>\"\",IF(Payout2>=12,9,IF(Payout2>=10,\"\",\"\")),IF(Payout>=12,9,IF(Payout>=10,\"\",\"\")))","v":9},{"$f":"_xlfn.IFNA(INDEX($DG$7:$DI$18,MATCH(BJ39,IF('Check-In'!$F$135=12,$DG$7:$DG$18,$DH$7:$DH$18),0),3),\"\")","v":"HAVLISH, TOM"},{"$nulls":15},{"$f":"IF(BX39=\"\",\"\",IF(BX39>BX40,30,IF(BX39=BX40,15,0)))","v":""}]
[null,{"$f":"IF(Payout2<>\"\",IF(Payout2>=12,1,IF(Payout2>=10,10,\"\")),IF(Payout>=12,1,IF(Payout>=10,10,\"\")))","v":1},"JONES, TOM",{"$nulls":15},{"$f":"IF(P40=\"\",\"\",IF(P40>P39,30,IF(P40=P39,15,0)))","v":""},null,null,{"$f":"IF(Payout2<>\"\",IF(Payout2>=12,10,IF(Payout2>=10,10,\"\")),IF(Payout>=12,10,IF(Payout>=10,10,\"\")))","v":10},{"$f":"INDEX($DG$7:$DI$18,MATCH(V40,IF('Check-In'!$F$135=10,$DG$7:$DG$18,$DH$7:$DH$18),0),3)","v":"GREEN, GARY"},{"$nulls":15},{"$f":"IF(AJ40=\"\",\"\",IF(AJ40>AJ39,30,IF(AJ40=AJ39,15,0)))","v":""},null,null,{"$f":"IF(Payout2<>\"\",IF(Payout2>=12,4,IF(Payout2>=10,\"\",\"\")),IF(Payout>=12,4,IF(Payout>=10,\"\",\"\")))","v":4},{"$f":"_xlfn.IFNA(INDEX($DG$7:$DI$18,MATCH(AP40,$DH$7:$DH$18,0),3),\"\")","v":"HOMMES, JOHN"},{"$nulls":15},{"$f":"IF(BD40=\"\",\"\",IF(BD40>BD39,30,IF(BD40=BD39,15,0)))","v":""},null,null,{"$f":"IF(Payout2<>\"\",IF(Payout2>=12,10,IF(Payout2>=10,\"\",\"\")),IF(Payout>=12,10,IF(Payout>=10,\"\",\"\")))","v":10},{"$f":"_xlfn.IFNA(INDEX($DG$7:$DI$18,MATCH(BJ40,IF('Check-In'!$F$135=12,$DG$7:$DG$18,$DH$7:$DH$18),0),3),\"\")","v":"GREEN, GARY"},{"$nulls":15},{"$f":"IF(BX40=\"\",\"\",IF(BX40>BX39,30,IF(BX40=BX39,15,0)))","v":""}]
[null,{"$f":"IF(Payout2<>\"\",IF(Payout2>=12,2,IF(Payout2>=10,2,\"\")),IF(Payout>=12,2,IF(Payout>=10,2,\"\")))","v":2},"DOWNER, ROB",{"$nulls":15},{"$f":"IF(P41=\"\",\"\",IF(P41>P42,30,IF(P41=P42,15,0)))","v":""},null,null,{"$f":"IF(Payout2<>\"\",IF(Payout2>=12,8,IF(Payout2>=10,5,\"\")),IF(Payout>=12,8,IF(Payout>=10,5,\"\")))","v":8},{"$f":"INDEX($DG$7:$DI$18,MATCH(V41,IF('Check-In'!$F$135=10,$DG$7:$DG$18,$DH$7:$DH$18),0),3)","v":"OULMAN, DAVE"},{"$nulls":15},{"$f":"IF(AJ41=\"\",\"\",IF(AJ41>AJ42,30,IF(AJ41=AJ42,15,0)))","v":""},null,null,{"$f":"IF(Payout2<>\"\",IF(Payout2>=12,7,IF(Payout2>=10,\"\",\"\")),IF(Payout>=12,7,IF(Payout>=10,\"\",\"\")))","v":7},"CAUGHEY, STEVE",{"$nulls":15},{"$f":"IF(BD41=\"\",\"\",IF(BD41>BD42,30,IF(BD41=BD42,15,0)))","v":""},null,null,{"$f":"IF(Payout2<>\"\",IF(Payout2>=12,5,IF(Payout2>=10,\"\",\"\")),IF(Payout>=12,5,IF(Payout>=10,\"\",\"\")))","v":5},{"$f":"_xlfn.IFNA(INDEX($DG$7:$DI$18,MATCH(BJ41,IF('Check-In'!$F$135=12,$DG$7:$DG$18,$DH$7:$DH$18),0),3),\"\")","v":"SAVOY, TODD"},{"$nulls":15},{"$f":"IF(BX41=\"\",\"\",IF(BX41>BX42,30,IF(BX41=BX42,15,0)))","v":""}]
[null,{"$f":"IF(Payout2<>\"\",IF(Payout2>=12,11,IF(Payout2>=10,5,\"\")),IF(Payout>=12,11,IF(Payout>=10,5,\"\")))","v":11},"BIRKEDAHL, LARRY",{"$nulls":15},{"$f":"IF(P42=\"\",\"\",IF(P42>P41,30,IF(P42=P41,15,0)))","v":""},null,null,{"$f":"IF(Payout2<>\"\",IF(Payout2>=12,9,IF(Payout2>=10,6,\"\")),IF(Payout>=12,9,IF(Payout>=10,6,\"\")))","v":9},{"$f":"INDEX($DG$7:$DI$18,MATCH(V42,IF('Check-In'!$F$135=10,$DG$7:$DG$18,$DH$7:$DH$18),0),3)","v":"HAVLISH, TOM"},{"$nulls":15},{"$f":"IF(AJ42=\"\",\"\",IF(AJ42>AJ41,30,IF(AJ42=AJ41,15,0)))","v":""},null,null,{"$f":"IF(Payout2<>\"\",IF(Payout2>=12,3,IF(Payout2>=10,\"\",\"\")),IF(Payout>=12,3,IF(Payout>=10,\"\",\"\")))","v":3},"LANGER, DAVE",{"$nulls":15},{"$f":"IF(BD42=\"\",\"\",IF(BD42>BD41,30,IF(BD42=BD41,15,0)))","v":""},null,null,{"$f":"IF(Payout2<>\"\",IF(Payout2>=12,6,IF(Payout2>=10,\"\",\"\")),IF(Payout>=12,6,IF(Payout>=10,\"\",\"\")))","v":6},{"$f":"_xlfn.IFNA(INDEX($DG$7:$DI$18,MATCH(BJ42,IF('Check-In'!$F$135=12,$DG$7:$DG$18,$DH$7:$DH$18),0),3),\"\")","v":"JENSEN, WAYNE"},{"$nulls":15},{"$f":"IF(BX42=\"\",\"\",IF(BX42>BX41,30,IF(BX42=BX41,15,0)))","v":""}]
[null,{"$f":"IF(Payout2<>\"\",IF(Payout2>=12,8,IF(Payout2>=10,9,\"\")),IF(Payout>=12,8,IF(Payout>=10,9,\"\")))","v":8},"OULMAN, DAVE",{"$nulls":15},{"$f":"IF(P43=\"\",\"\",IF(P43>P44,30,IF(P43=P44,15,0)))","v":""},null,null,{"$f":"IF(Payout2<>\"\",IF(Payout2>=12,4,IF(Payout2>=10,1,\"\")),IF(Payout>=12,4,IF(Payout>=10,1,\"\")))","v":4},{"$f":"INDEX($DG$7:$DI$18,MATCH(V43,IF('Check-In'!$F$135=10,$DG$7:$DG$18,$DH$7:$DH$18),0),3)","v":"HOMMES, JOHN"},{"$nulls":15},{"$f":"IF(AJ43=\"\",\"\",IF(AJ43>AJ44,30,IF(AJ43=AJ44,15,0)))","v":""},null,null,{"$f":"IF(Payout2<>\"\",IF(Payout2>=12,6,IF(Payout2>=10,\"\",\"\")),IF(Payout>=12,6,IF(Payout>=10,\"\",\"\")))","v":6},"JENSEN, WAYNE",{"$nulls":15},{"$f":"IF(BD43=\"\",\"\",IF(BD43>BD44,30,IF(BD43=BD44,15,0)))","v":""},null,null,{"$f":"IF(Payout2<>\"\",IF(Payout2>=12,1,IF(Payout2>=10,\"\",\"\")),IF(Payout>=12,1,IF(Payout>=10,\"\",\"\")))","v":1},{"$f":"_xlfn.IFNA(INDEX($DG$7:$DI$18,MATCH(BJ43,IF('Check-In'!$F$135=12,$DG$7:$DG$18,$DH$7:$DH$18),0),3),\"\")","v":"JONES, TOM"},{"$nulls":15},{"$f":"IF(BX43=\"\",\"\",IF(BX43>BX44,30,IF(BX43=BX44,15,0)))","v":""}]
[null,{"$f":"IF(Payout2<>\"\",IF(Payout2>=12,12,IF(Payout2>=10,4,\"\")),IF(Payout>=12,12,IF(Payout>=10,4,\"\")))","v":12},"DAVIS, SCOTT",{"$nulls":15},{"$f":"IF(P44=\"\",\"\",IF(P44>P43,30,IF(P44=P43,15,0)))","v":""},null,null,{"$f":"IF(Payout2<>\"\",IF(Payout2>=12,1,IF(Payout2>=10,2,\"\")), IF(Payout>=12,1,IF(Payout>=10,2,\"\")))","v":1},{"$f":"INDEX($DG$7:$DI$18,MATCH(V44,IF('Check-In'!$F$135=10,$DG$7:$DG$18,$DH$7:$DH$18),0),3)","v":"JONES, TOM"},{"$nulls":15},{"$f":"IF(AJ44=\"\",\"\",IF(AJ44>AJ43,30,IF(AJ44=AJ43,15,0)))","v":""},null,null,{"$f":"IF(Payout2<>\"\",IF(Payout2>=12,9,IF(Payout2>=10,\"\",\"\")),IF(Payout>=12,9,IF(Payout>=10,\"\",\"\")))","v":9},"HAVLISH, TOM",{"$nulls":15},{"$f":"IF(BD44=\"\",\"\",IF(BD44>BD43,30,IF(BD44=BD43,15,0)))","v":""},null,null,{"$f":"IF(Payout2<>\"\",IF(Payout2>=12,2,IF(Payout2>=10,\"\",\"\")),IF(Payout>=12,2,IF(Payout>=10,\"\",\"\")))","v":2},{"$f":"_xlfn.IFNA(INDEX($DG$7:$DI$18,MATCH(BJ44,IF('Check-In'!$F$135=12,$DG$7:$DG$18,$DH$7:$DH$18),0),3),\"\")","v":"DOWNER, ROB"},{"$nulls":15},{"$f":"IF(BX44=\"\",\"\",IF(BX44>BX43,30,IF(BX44=BX43,15,0)))","v":""}]
[null,{"$f":"IF(Payout2<>\"\",IF(Payout2>=12,3,IF(Payout2>=10,1,\"\")),IF(Payout>=12,3,IF(Payout>=10,1,\"\")))","v":3},"LANGER, DAVE",{"$nulls":15},{"$f":"IF(P45=\"\",\"\",IF(P45>P46,30,IF(P45=P46,15,0)))","v":""},null,null,{"$f":"IF(Payout2<>\"\",IF(Payout2>=12,2,IF(Payout2>=10,3,\"\")),IF(Payout>=12,2,IF(Payout>=10,3,\"\")))","v":2},{"$f":"INDEX($DG$7:$DI$18,MATCH(V45,IF('Check-In'!$F$135=10,$DG$7:$DG$18,$DH$7:$DH$18),0),3)","v":"DOWNER, ROB"},{"$nulls":15},{"$f":"IF(AJ45=\"\",\"\",IF(AJ45>AJ46,30,IF(AJ45=AJ46,15,0)))","v":""},null,null,{"$f":"IF(Payout2<>\"\",IF(Payout2>=12,11,IF(Payout2>=10,\"\",\"\")),IF(Payout>=12,11,IF(Payout>=10,\"\",\"\")))","v":11},"BIRKEDAHL, LARRY",{"$nulls":15},{"$f":"IF(BD45=\"\",\"\",IF(BD45>BD46,30,IF(BD45=BD46,15,0)))","v":""},null,null,{"$f":"IF(Payout2<>\"\",IF(Payout2>=12,3,IF(Payout>=10,\"\",\"\")),IF(Payout2>=12,3,IF(Payout>=10,\"\",\"\")))","v":3},{"$f":"_xlfn.IFNA(INDEX($DG$7:$DI$18,MATCH(BJ45,IF('Check-In'!$F$135=12,$DG$7:$DG$18,$DH$7:$DH$18),0),3),\"\")","v":"LANGER, DAVE"},{"$nulls":15},{"$f":"IF(BX45=\"\",\"\",IF(BX45>BX46,30,IF(BX45=BX46,15,0)))","v":""}]
[null,{"$f":"IF(Payout2<>\"\",IF(Payout2>=12,5,IF(Payout2>=10,7,\"\")),IF(Payout>=12,5,IF(Payout>=10,7,\"\")))","v":5},"SAVOY, TODD",{"$nulls":15},{"$f":"IF(P46=\"\",\"\",IF(P46>P45,30,IF(P46=P45,15,0)))","v":""},null,null,{"$f":"IF(Payout2<>\"\",IF(Payout2>=12,7,IF(Payout2>=10,4,\"\")),IF(Payout>=12,7,IF(Payout>=10,4,\"\")))","v":7},{"$f":"INDEX($DG$7:$DI$18,MATCH(V46,IF('Check-In'!$F$135=10,$DG$7:$DG$18,$DH$7:$DH$18),0),3)","v":"CAUGHEY, STEVE"},{"$nulls":15},{"$f":"IF(AJ46=\"\",\"\",IF(AJ46>AJ45,30,IF(AJ46=AJ45,15,0)))","v":""},null,null,{"$f":"IF(Payout2<>\"\",IF(Payout2>=12,10,IF(Payout2>=10,\"\",\"\")),IF(Payout>=12,10,IF(Payout>=10,\"\",\"\")))","v":10},"GREEN, GARY",{"$nulls":15},{"$f":"IF(BD46=\"\",\"\",IF(BD46>BD45,30,IF(BD46=BD45,15,0)))","v":""},null,null,{"$f":"IF(Payout2<>\"\",IF(Payout2>=12,4,IF(Payout2>=10,\"\",\"\")),IF(Payout>=12,4,IF(Payout>=10,\"\",\"\")))","v":4},{"$f":"_xlfn.IFNA(INDEX($DG$7:$DI$18,MATCH(BJ46,IF('Check-In'!$F$135=12,$DG$7:$DG$18,$DH$7:$DH$18),0),3),\"\")","v":"HOMMES, JOHN"},{"$nulls":15},{"$f":"IF(BX46=\"\",\"\",IF(BX46>BX45,30,IF(BX46=BX45,15,0)))","v":""}]
[null,{"$f":"IF(Payout2<>\"\",IF(Payout2>=12,4,IF(Payout2>=10,3,\"\")),IF(Payout>=12,4,IF(Payout>=10,3,\"\")))","v":4},"HOMMES, JOHN",{"$nulls":15},{"$f":"IF(P47=\"\",\"\",IF(P47>P48,30,IF(P47=P48,15,0)))","v":""},null,null,{"$f":"IF(Payout2<>\"\",IF(Payout2>=12,5,IF(Payout2>=10,7,\"\")),IF(Payout>=12,5,IF(Payout>=10,7,\"\")))","v":5},{"$f":"INDEX($DG$7:$DI$18,MATCH(V47,IF('Check-In'!$F$135=10,$DG$7:$DG$18,$DH$7:$DH$18),0),3)","v":"SAVOY, TODD"},{"$nulls":15},{"$f":"IF(AJ47=\"\",\"\",IF(AJ47>AJ48,30,IF(AJ47=AJ48,15,0)))","v":""},null,null,{"$f":"IF(Payout2<>\"\",IF(Payout2>=12,12,IF(Payout2>=10,\"\",\"\")),IF(Payout>=12,12,IF(Payout>=10,\"\",\"\")))","v":12},"DAVIS, SCOTT",{"$nulls":15},{"$f":"IF(BD47=\"\",\"\",IF(BD47>BD48,30,IF(BD47=BD48,15,0)))","v":""},null,null,{"$f":"IF(Payout2<>\"\",IF(Payout2>=12,7,IF(Payout2>=10,\"\",\"\")),IF(Payout>=12,7,IF(Payout>=10,\"\",\"\")))","v":7},{"$f":"_xlfn.IFNA(INDEX($DG$7:$DI$18,MATCH(BJ47,IF('Check-In'!$F$135=12,$DG$7:$DG$18,$DH$7:$DH$18),0),3),\"\")","v":"CAUGHEY, STEVE"},{"$nulls":15},{"$f":"IF(BX47=\"\",\"\",IF(BX47>BX48,30,IF(BX47=BX48,15,0)))","v":""}]
[null,{"$f":"IF(Payout2<>\"\",IF(Payout2>=12,9,IF(Payout2>=10,6,\"\")),IF(Payout>=12,9,IF(Payout>=10,6,\"\")))","v":9},"HAVLISH, TOM",{"$nulls":15},{"$f":"IF(P48=\"\",\"\",IF(P48>P47,30,IF(P48=P47,15,0)))","v":""},null,null,{"$f":"IF(Payout2<>\"\",IF(Payout2>=12,11,IF(Payout2>=10,8,\"\")),IF(Payout>=12,11,IF(Payout>=10,8,\"\")))","v":11},{"$f":"INDEX($DG$7:$DI$18,MATCH(V48,IF('Check-In'!$F$135=10,$DG$7:$DG$18,$DH$7:$DH$18),0),3)","v":"BIRKEDAHL, LARRY"},{"$nulls":15},{"$f":"IF(AJ48=\"\",\"\",IF(AJ48>AJ47,30,IF(AJ48=AJ47,15,0)))","v":""},null,null,{"$f":"IF(Payout2<>\"\",IF(Payout2>=12,1,IF(Payout2>=10,\"\",\"\")),IF(Payout>=12,1,IF(Payout>=10,\"\",\"\")))","v":1},"JONES, TOM",{"$nulls":15},{"$f":"IF(BD48=\"\",\"\",IF(BD48>BD47,30,IF(BD48=BD47,15,0)))","v":""},null,null,{"$f":"IF(Payout2<>\"\",IF(Payout2>=12,8,IF(Payout2>=10,\"\",\"\")),IF(Payout>=12,8,IF(Payout>=10,\"\",\"\")))","v":8},{"$f":"_xlfn.IFNA(INDEX($DG$7:$DI$18,MATCH(BJ48,IF('Check-In'!$F$135=12,$DG$7:$DG$18,$DH$7:$DH$18),0),3),\"\")","v":"OULMAN, DAVE"},{"$nulls":15},{"$f":"IF(BX48=\"\",\"\",IF(BX48>BX47,30,IF(BX48=BX47,15,0)))","v":""}]
[null,{"$f":"IF(Payout2<>\"\",IF(Payout2>=12,7,IF(Payout2>=10,\"\",\"\")),IF(Payout>=12,7,IF(Payout>=10,\"\",\"\")))","v":7},"CAUGHEY, STEVE",{"$nulls":15},{"$f":"IF(P49=\"\",\"\",IF(P49>P50,30,IF(P49=P50,15,0)))","v":""},null,null,{"$f":"IF(Payout2<>\"\",IF(Payout2>=12,12,IF(Payout2>=10,\"\",\"\")),IF(Payout>=12,12,IF(Payout>=10,\"\",\"\")))","v":12},{"$f":"INDEX($DG$7:$DI$18,MATCH(V49,IF('Check-In'!$F$135=10,$DG$7:$DG$18,$DH$7:$DH$18),0),3)","v":"DAVIS, SCOTT"},{"$nulls":15},{"$f":"IF(AJ49=\"\",\"\",IF(AJ49>AJ50,30,IF(AJ49=AJ50,15,0)))","v":""},null,null,{"$f":"IF(Payout2<>\"\",IF(Payout2>=12,5,IF(Payout>2=10,\"\",\"\")),IF(Payout>=12,5,IF(Payout>=10,\"\",\"\")))","v":5},{"$f":"INDEX($DG$7:$DI$18,MATCH(AP49,$DH$7:$DH$18,0),3)","v":"SAVOY, TODD"},{"$nulls":15},{"$f":"IF(BD49=\"\",\"\",IF(BD49>BD50,30,IF(BD49=BD50,15,0)))","v":""},null,null,{"$f":"IF(Payout2<>\"\",IF(Payout2>=12,11,IF(Payout2>=10,\"\",\"\")),IF(Payout2>=12,11,IF(Payout2>=10,\"\",\"\")))","v":11},{"$f":"INDEX($DG$7:$DI$18,MATCH(BJ49,IF('Check-In'!$F$135=12,$DG$7:$DG$18,$DH$7:$DH$18),0),3)","v":"BIRKEDAHL, LARRY"},{"$nulls":15},{"$f":"IF(BX49=\"\",\"\",IF(BX49>BX50,30,IF(BX49=BX50,15,0)))","v":""}]
[null,{"$f":"IF(Payout2<>\"\",IF(Payout2>=12,10,IF(Payout2>=10,\"\",\"\")),IF(Payout>=12,10,IF(Payout>=10,\"\",\"\")))","v":10},"GREEN, GARY",{"$nulls":15},{"$f":"IF(P50=\"\",\"\",IF(P50>P49,30,IF(P50=P49,15,0)))","v":""},null,null,{"$f":"IF(Payout2<>\"\",IF(Payout2>=12,6,IF(Payout2>=10,\"\",\"\")),IF(Payout>=12,6,IF(Payout>=10,\"\",\"\")))","v":6},{"$f":"INDEX($DG$7:$DI$18,MATCH(V50,IF('Check-In'!$F$135=10,$DG$7:$DG$18,$DH$7:$DH$18),0),3)","v":"JENSEN, WAYNE"},{"$nulls":15},{"$f":"IF(AJ50=\"\",\"\",IF(AJ50>AJ49,30,IF(AJ50=AJ49,15,0)))","v":""},null,null,{"$f":"IF(Payout2<>\"\",IF(Payout2>=12,2,IF(Payout2>=10,\"\",\"\")),IF(Payout>=12,2,IF(Payout>=10,\"\",\"\")))","v":2},"DOWNER, ROB",{"$nulls":15},{"$f":"IF(BD50=\"\",\"\",IF(BD50>BD49,30,IF(BD50=BD49,15,0)))","v":""},null,null,{"$f":"IF(Payout2<>\"\",IF(Payout2>=12,12,IF(Payout2>=10,\"\",\"\")),IF(Payout>=12,12,IF(Payout>=10,\"\",\"\")))","v":12},{"$f":"INDEX($DG$7:$DI$18,MATCH(BJ50,IF('Check-In'!$F$135=12,$DG$7:$DG$18,$DH$7:$DH$18),0),3)","v":"DAVIS, SCOTT"},{"$nulls":15},{"$f":"IF(BX50=\"\",\"\",IF(BX50>BX49,30,IF(BX50=BX49,15,0)))","v":""}]
[]
[]
[]
[{"$nulls":75},"Qual Total",{"$nulls":3},"MP Act Pins",{"$nulls":3},"Bonus",{"$nulls":3},"Grand Total",{"$nulls":3},"+ / -"]
[{"$nulls":15},"G1",null,null,"B",null,"G2",null,null,"B",null,"G3",null,null,"B",null,"G4",null,null,"B",null,"G5",null,null,"B",null,"G6",null,null,"B",null,"G7",null,null,"B",null,"G8",null,null,"B",null,"G9",null,null,"B",null,"G10",null,null,"B",null,{"$f":"IF('Check-In'!$F$135=10,\"\",\"G11\")","v":"G11"},null,null,{"$f":"IF('Check-In'!$F$135=10,\"\",\"B\")","v":"B"},null,{"$f":"IF('Check-In'!$F$135=10,\"\",\"G12\")","v":"G12"},null,null,{"$f":"IF('Check-In'!$F$135=10,\"\",\"B\")","v":"B"}]
[null,1,{"$f":"IF('Check-In'!$F$135=12,IF($BX$39=\"\",DI7,DI23),IF('Check-In'!D135=10,IF($AJ$39=\"\",DI7,DI23),IF($BX$23=\"\",DI7,DI23)))","v":"OULMAN, DAVE"},{"$nulls":12},{"$f":"IF('Check-In'!$D$135=12,IF($BX$39=\"\",DJ7,DJ23),IF('Check-In'!$D$135=10,IF($AJ$39=\"\",DJ7,DJ23),IF($BX$23=\"\",DJ7,DJ23)))","v":0},null,null,{"$f":"IF('Check-In'!$D$135=12,IF($BX$39=\"\",DK7,DK23),IF('Check-In'!$D$135=10,IF($AJ$39=\"\",DK7,DK23),IF($BX$23=\"\",DK7,DK23)))","v":""},null,{"$f":"IF('Check-In'!$D$135=12,IF($BX$39=\"\",DL7,DL23),IF('Check-In'!$D$135=10,IF($AJ$39=\"\",DL7,DL23),IF($BX$23=\"\",DL7,DL23)))","v":0},null,null,{"$f":"IF('Check-In'!$D$135=12,IF($BX$39=\"\",DM7,DM23),IF('Check-In'!$D$135=10,IF($AJ$39=\"\",DM7,DM23),IF($BX$23=\"\",DM7,DM23)))","v":""},null,{"$f":"IF('Check-In'!$D$135=12,IF($BX$39=\"\",DN7,DN23),IF('Check-In'!$D$135=10,IF($AJ$39=\"\",DN7,DN23),IF($BX$23=\"\",DN7,DN23)))","v":0},null,null,{"$f":"IF('Check-In'!$D$135=12,IF($BX$39=\"\",DO7,DO23),IF('Check-In'!$D$135=10,IF($AJ$39=\"\",DO7,DO23),IF($BX$23=\"\",DO7,DO23)))","v":""},null,{"$f":"IF('Check-In'!$D$135=12,IF($BX$39=\"\",DP7,DP23),IF('Check-In'!$D$135=10,IF($AJ$39=\"\",DP7,DP23),IF($BX$23=\"\",DP7,DP23)))","v":0},null,null,{"$f":"IF('Check-In'!$D$135=12,IF($BX$39=\"\",DQ7,DQ23),IF('Check-In'!$D$135=10,IF($AJ$39=\"\",DQ7,DQ23),IF($BX$23=\"\",DQ7,DQ23)))","v":""},null,{"$f":"IF('Check-In'!$D$135=12,IF($BX$39=\"\",DR7,DR23),IF('Check-In'!$D$135=10,IF($AJ$39=\"\",DR7,DR23),IF($BX$23=\"\",DR7,DR23)))","v":0},null,null,{"$f":"IF('Check-In'!$D$135=12,IF($BX$39=\"\",DS7,DS23),IF('Check-In'!$D$135=10,IF($AJ$39=\"\",DS7,DS23),IF($BX$23=\"\",DS7,DS23)))","v":""},null,{"$f":"IF('Check-In'!$D$135=12,IF($BX$39=\"\",DT7,DT23),IF('Check-In'!$D$135=10,IF($AJ$39=\"\",DT7,DT23),IF($BX$23=\"\",DT7,DT23)))","v":0},null,null,{"$f":"IF('Check-In'!$D$135=12,IF($BX$39=\"\",DU7,DU23),IF('Check-In'!$D$135=10,IF($AJ$39=\"\",DU7,DU23),IF($BX$23=\"\",DU7,DU23)))","v":""},null,{"$f":"IF('Check-In'!$D$135=12,IF($BX$39=\"\",DV7,DV23),IF('Check-In'!$D$135=10,IF($AJ$39=\"\",DV7,DV23),IF($BX$23=\"\",DV7,DV23)))","v":0},null,null,{"$f":"IF('Check-In'!$D$135=12,IF($BX$39=\"\",DW7,DW23),IF('Check-In'!$D$135=10,IF($AJ$39=\"\",DW7,DW23),IF($BX$23=\"\",DW7,DW23)))","v":""},null,{"$f":"IF('Check-In'!$D$135=12,IF($BX$39=\"\",DX7,DX23),IF('Check-In'!$D$135=10,IF($AJ$39=\"\",DX7,DX23),IF($BX$23=\"\",DX7,DX23)))","v":0},null,null,{"$f":"IF('Check-In'!$D$135=12,IF($BX$39=\"\",DY7,DY23),IF('Check-In'!$D$135=10,IF($AJ$39=\"\",DY7,DY23),IF($BX$23=\"\",DY7,DY23)))","v":""},null,{"$f":"IF('Check-In'!$D$135=12,IF($BX$39=\"\",DZ7,DZ23),IF('Check-In'!$D$135=10,IF($AJ$39=\"\",DZ7,DZ23),IF($BX$23=\"\",DZ7,DZ23)))","v":0},null,null,{"$f":"IF('Check-In'!$D$135=12,IF($BX$39=\"\",EA7,EA23),IF('Check-In'!$D$135=10,IF($AJ$39=\"\",EA7,EA23),IF($BX$23=\"\",EA7,EA23)))","v":""},null,{"$f":"IF('Check-In'!$D$135=12,IF($BX$39=\"\",EB7,EB23),IF('Check-In'!$D$135=10,IF($AJ$39=\"\",EB7,EB23),IF($BX$23=\"\",EB7,EB23)))","v":0},null,null,{"$f":"IF('Check-In'!$D$135=12,IF($BX$39=\"\",EC7,EC23),IF('Check-In'!$D$135=10,IF($AJ$39=\"\",EC7,EC23),IF($BX$23=\"\",EC7,EC23)))","v":""},null,{"$f":"IF('Check-In'!$D$135=12,IF($BX$39=\"\",ED7,ED23),IF('Check-In'!$D$135=10,IF($AJ$39=\"\",ED7,ED23),IF($BX$23=\"\",ED7,ED23)))","v":0},null,null,{"$f":"IF('Check-In'!$D$135=12,IF($BX$39=\"\",EE7,EE23),IF('Check-In'!$D$135=10,IF($AJ$39=\"\",EE7,EE23),IF($BX$23=\"\",EE7,EE23)))","v":""},null,{"$f":"IF('Check-In'!$D$135=12,IF($BX$39=\"\",EF7,EF23),IF('Check-In'!$D$135=10,IF($AJ$39=\"\",EF7,EF23),IF($BX$23=\"\",EF7,EF23)))","v":0},null,null,{"$f":"IF('Check-In'!$D$135=12,IF($BX$39=\"\",EG7,EG23),IF('Check-In'!$D$135=10,IF($AJ$39=\"\",EG7,EG23),IF($BX$23=\"\",EG7,EG23)))","v":""},null,{"$f":"IF($BX$39=\"\",EH7,EH23)","v":0},0,0,0,{"$f":"IF($BX$39=\"\",EI7,EI23)","v":0},{"$nulls":3},{"$f":"IF($BX$39=\"\",EJ7,EJ23)","v":0},{"$nulls":3},{"$f":"IF($BX$39=\"\",EK7,EK23)","v":0},{"$nulls":3},{"$f":"IF($BX$39=\"\",EL7,EL23)","v":0}]
[null,2,{"$f":"IF('Check-In'!$F$135=12,IF($BX$39=\"\",DI8,DI24),IF('Check-In'!D136=10,IF($AJ$39=\"\",DI8,DI24),IF($BX$23=\"\",DI8,DI24)))","v":"CAUGHEY, STEVE"},{"$nulls":12},{"$f":"IF('Check-In'!$D$135=12,IF($BX$39=\"\",DJ8,DJ24),IF('Check-In'!$D$135=10,IF($AJ$39=\"\",DJ8,DJ24),IF($BX$23=\"\",DJ8,DJ24)))","v":0},null,null,{"$f":"IF('Check-In'!$D$135=12,IF($BX$39=\"\",DK8,DK24),IF('Check-In'!$D$135=10,IF($AJ$39=\"\",DK8,DK24),IF($BX$23=\"\",DK8,DK24)))","v":""},null,{"$f":"IF('Check-In'!$D$135=12,IF($BX$39=\"\",DL8,DL24),IF('Check-In'!$D$135=10,IF($AJ$39=\"\",DL8,DL24),IF($BX$23=\"\",DL8,DL24)))","v":0},null,null,{"$f":"IF('Check-In'!$D$135=12,IF($BX$39=\"\",DM8,DM24),IF('Check-In'!$D$135=10,IF($AJ$39=\"\",DM8,DM24),IF($BX$23=\"\",DM8,DM24)))","v":""},null,{"$f":"IF('Check-In'!$D$135=12,IF($BX$39=\"\",DN8,DN24),IF('Check-In'!$D$135=10,IF($AJ$39=\"\",DN8,DN24),IF($BX$23=\"\",DN8,DN24)))","v":0},null,null,{"$f":"IF('Check-In'!$D$135=12,IF($BX$39=\"\",DO8,DO24),IF('Check-In'!$D$135=10,IF($AJ$39=\"\",DO8,DO24),IF($BX$23=\"\",DO8,DO24)))","v":""},null,{"$f":"IF('Check-In'!$D$135=12,IF($BX$39=\"\",DP8,DP24),IF('Check-In'!$D$135=10,IF($AJ$39=\"\",DP8,DP24),IF($BX$23=\"\",DP8,DP24)))","v":0},null,null,{"$f":"IF('Check-In'!$D$135=12,IF($BX$39=\"\",DQ8,DQ24),IF('Check-In'!$D$135=10,IF($AJ$39=\"\",DQ8,DQ24),IF($BX$23=\"\",DQ8,DQ24)))","v":""},null,{"$f":"IF('Check-In'!$D$135=12,IF($BX$39=\"\",DR8,DR24),IF('Check-In'!$D$135=10,IF($AJ$39=\"\",DR8,DR24),IF($BX$23=\"\",DR8,DR24)))","v":0},null,null,{"$f":"IF('Check-In'!$D$135=12,IF($BX$39=\"\",DS8,DS24),IF('Check-In'!$D$135=10,IF($AJ$39=\"\",DS8,DS24),IF($BX$23=\"\",DS8,DS24)))","v":""},null,{"$f":"IF('Check-In'!$D$135=12,IF($BX$39=\"\",DT8,DT24),IF('Check-In'!$D$135=10,IF($AJ$39=\"\",DT8,DT24),IF($BX$23=\"\",DT8,DT24)))","v":0},null,null,{"$f":"IF('Check-In'!$D$135=12,IF($BX$39=\"\",DU8,DU24),IF('Check-In'!$D$135=10,IF($AJ$39=\"\",DU8,DU24),IF($BX$23=\"\",DU8,DU24)))","v":""},null,{"$f":"IF('Check-In'!$D$135=12,IF($BX$39=\"\",DV8,DV24),IF('Check-In'!$D$135=10,IF($AJ$39=\"\",DV8,DV24),IF($BX$23=\"\",DV8,DV24)))","v":0},null,null,{"$f":"IF('Check-In'!$D$135=12,IF($BX$39=\"\",DW8,DW24),IF('Check-In'!$D$135=10,IF($AJ$39=\"\",DW8,DW24),IF($BX$23=\"\",DW8,DW24)))","v":""},null,{"$f":"IF('Check-In'!$D$135=12,IF($BX$39=\"\",DX8,DX24),IF('Check-In'!$D$135=10,IF($AJ$39=\"\",DX8,DX24),IF($BX$23=\"\",DX8,DX24)))","v":0},null,null,{"$f":"IF('Check-In'!$D$135=12,IF($BX$39=\"\",DY8,DY24),IF('Check-In'!$D$135=10,IF($AJ$39=\"\",DY8,DY24),IF($BX$23=\"\",DY8,DY24)))","v":""},null,{"$f":"IF('Check-In'!$D$135=12,IF($BX$39=\"\",DZ8,DZ24),IF('Check-In'!$D$135=10,IF($AJ$39=\"\",DZ8,DZ24),IF($BX$23=\"\",DZ8,DZ24)))","v":0},null,null,{"$f":"IF('Check-In'!$D$135=12,IF($BX$39=\"\",EA8,EA24),IF('Check-In'!$D$135=10,IF($AJ$39=\"\",EA8,EA24),IF($BX$23=\"\",EA8,EA24)))","v":""},null,{"$f":"IF('Check-In'!$D$135=12,IF($BX$39=\"\",EB8,EB24),IF('Check-In'!$D$135=10,IF($AJ$39=\"\",EB8,EB24),IF($BX$23=\"\",EB8,EB24)))","v":0},null,null,{"$f":"IF('Check-In'!$D$135=12,IF($BX$39=\"\",EC8,EC24),IF('Check-In'!$D$135=10,IF($AJ$39=\"\",EC8,EC24),IF($BX$23=\"\",EC8,EC24)))","v":""},null,{"$f":"IF('Check-In'!$D$135=12,IF($BX$39=\"\",ED8,ED24),IF('Check-In'!$D$135=10,IF($AJ$39=\"\",ED8,ED24),IF($BX$23=\"\",ED8,ED24)))","v":0},null,null,{"$f":"IF('Check-In'!$D$135=12,IF($BX$39=\"\",EE8,EE24),IF('Check-In'!$D$135=10,IF($AJ$39=\"\",EE8,EE24),IF($BX$23=\"\",EE8,EE24)))","v":""},null,{"$f":"IF('Check-In'!$D$135=12,IF($BX$39=\"\",EF8,EF24),IF('Check-In'!$D$135=10,IF($AJ$39=\"\",EF8,EF24),IF($BX$23=\"\",EF8,EF24)))","v":0},null,null,{"$f":"IF('Check-In'!$D$135=12,IF($BX$39=\"\",EG8,EG24),IF('Check-In'!$D$135=10,IF($AJ$39=\"\",EG8,EG24),IF($BX$23=\"\",EG8,EG24)))","v":""},null,{"$f":"IF($BX$39=\"\",EH8,EH24)","v":0},0,0,0,0,{"$nulls":3},{"$f":"IF($BX$39=\"\",EJ8,EJ24)","v":0},{"$nulls":3},{"$f":"IF($BX$39=\"\",EK8,EK24)","v":0},{"$nulls":3},{"$f":"IF($BX$39=\"\",EL8,EL24)","v":0}]
[null,3,{"$f":"IF('Check-In'!$F$135=12,IF($BX$39=\"\",DI9,DI25),IF('Check-In'!D137=10,IF($AJ$39=\"\",DI9,DI25),IF($BX$23=\"\",DI9,DI25)))","v":"JENSEN, WAYNE"},{"$nulls":12},{"$f":"IF('Check-In'!$D$135=12,IF($BX$39=\"\",DJ9,DJ25),IF('Check-In'!$D$135=10,IF($AJ$39=\"\",DJ9,DJ25),IF($BX$23=\"\",DJ9,DJ25)))","v":0},null,null,{"$f":"IF('Check-In'!$D$135=12,IF($BX$39=\"\",DK9,DK25),IF('Check-In'!$D$135=10,IF($AJ$39=\"\",DK9,DK25),IF($BX$23=\"\",DK9,DK25)))","v":""},null,{"$f":"IF('Check-In'!$D$135=12,IF($BX$39=\"\",DL9,DL25),IF('Check-In'!$D$135=10,IF($AJ$39=\"\",DL9,DL25),IF($BX$23=\"\",DL9,DL25)))","v":0},null,null,{"$f":"IF('Check-In'!$D$135=12,IF($BX$39=\"\",DM9,DM25),IF('Check-In'!$D$135=10,IF($AJ$39=\"\",DM9,DM25),IF($BX$23=\"\",DM9,DM25)))","v":""},null,{"$f":"IF('Check-In'!$D$135=12,IF($BX$39=\"\",DN9,DN25),IF('Check-In'!$D$135=10,IF($AJ$39=\"\",DN9,DN25),IF($BX$23=\"\",DN9,DN25)))","v":0},null,null,{"$f":"IF('Check-In'!$D$135=12,IF($BX$39=\"\",DO9,DO25),IF('Check-In'!$D$135=10,IF($AJ$39=\"\",DO9,DO25),IF($BX$23=\"\",DO9,DO25)))","v":""},null,{"$f":"IF('Check-In'!$D$135=12,IF($BX$39=\"\",DP9,DP25),IF('Check-In'!$D$135=10,IF($AJ$39=\"\",DP9,DP25),IF($BX$23=\"\",DP9,DP25)))","v":0},null,null,{"$f":"IF('Check-In'!$D$135=12,IF($BX$39=\"\",DQ9,DQ25),IF('Check-In'!$D$135=10,IF($AJ$39=\"\",DQ9,DQ25),IF($BX$23=\"\",DQ9,DQ25)))","v":""},null,{"$f":"IF('Check-In'!$D$135=12,IF($BX$39=\"\",DR9,DR25),IF('Check-In'!$D$135=10,IF($AJ$39=\"\",DR9,DR25),IF($BX$23=\"\",DR9,DR25)))","v":0},null,null,{"$f":"IF('Check-In'!$D$135=12,IF($BX$39=\"\",DS9,DS25),IF('Check-In'!$D$135=10,IF($AJ$39=\"\",DS9,DS25),IF($BX$23=\"\",DS9,DS25)))","v":""},null,{"$f":"IF('Check-In'!$D$135=12,IF($BX$39=\"\",DT9,DT25),IF('Check-In'!$D$135=10,IF($AJ$39=\"\",DT9,DT25),IF($BX$23=\"\",DT9,DT25)))","v":0},null,null,{"$f":"IF('Check-In'!$D$135=12,IF($BX$39=\"\",DU9,DU25),IF('Check-In'!$D$135=10,IF($AJ$39=\"\",DU9,DU25),IF($BX$23=\"\",DU9,DU25)))","v":""},null,{"$f":"IF('Check-In'!$D$135=12,IF($BX$39=\"\",DV9,DV25),IF('Check-In'!$D$135=10,IF($AJ$39=\"\",DV9,DV25),IF($BX$23=\"\",DV9,DV25)))","v":0},null,null,{"$f":"IF('Check-In'!$D$135=12,IF($BX$39=\"\",DW9,DW25),IF('Check-In'!$D$135=10,IF($AJ$39=\"\",DW9,DW25),IF($BX$23=\"\",DW9,DW25)))","v":""},null,{"$f":"IF('Check-In'!$D$135=12,IF($BX$39=\"\",DX9,DX25),IF('Check-In'!$D$135=10,IF($AJ$39=\"\",DX9,DX25),IF($BX$23=\"\",DX9,DX25)))","v":0},null,null,{"$f":"IF('Check-In'!$D$135=12,IF($BX$39=\"\",DY9,DY25),IF('Check-In'!$D$135=10,IF($AJ$39=\"\",DY9,DY25),IF($BX$23=\"\",DY9,DY25)))","v":""},null,{"$f":"IF('Check-In'!$D$135=12,IF($BX$39=\"\",DZ9,DZ25),IF('Check-In'!$D$135=10,IF($AJ$39=\"\",DZ9,DZ25),IF($BX$23=\"\",DZ9,DZ25)))","v":0},null,null,{"$f":"IF('Check-In'!$D$135=12,IF($BX$39=\"\",EA9,EA25),IF('Check-In'!$D$135=10,IF($AJ$39=\"\",EA9,EA25),IF($BX$23=\"\",EA9,EA25)))","v":""},null,{"$f":"IF('Check-In'!$D$135=12,IF($BX$39=\"\",EB9,EB25),IF('Check-In'!$D$135=10,IF($AJ$39=\"\",EB9,EB25),IF($BX$23=\"\",EB9,EB25)))","v":0},null,null,{"$f":"IF('Check-In'!$D$135=12,IF($BX$39=\"\",EC9,EC25),IF('Check-In'!$D$135=10,IF($AJ$39=\"\",EC9,EC25),IF($BX$23=\"\",EC9,EC25)))","v":""},null,{"$f":"IF('Check-In'!$D$135=12,IF($BX$39=\"\",ED9,ED25),IF('Check-In'!$D$135=10,IF($AJ$39=\"\",ED9,ED25),IF($BX$23=\"\",ED9,ED25)))","v":0},null,null,{"$f":"IF('Check-In'!$D$135=12,IF($BX$39=\"\",EE9,EE25),IF('Check-In'!$D$135=10,IF($AJ$39=\"\",EE9,EE25),IF($BX$23=\"\",EE9,EE25)))","v":""},null,{"$f":"IF('Check-In'!$D$135=12,IF($BX$39=\"\",EF9,EF25),IF('Check-In'!$D$135=10,IF($AJ$39=\"\",EF9,EF25),IF($BX$23=\"\",EF9,EF25)))","v":0},null,null,{"$f":"IF('Check-In'!$D$135=12,IF($BX$39=\"\",EG9,EG25),IF('Check-In'!$D$135=10,IF($AJ$39=\"\",EG9,EG25),IF($BX$23=\"\",EG9,EG25)))","v":""},null,0,0,0,0,0,{"$nulls":3},0,{"$nulls":3},0,{"$nulls":3},0]
[null,4,{"$f":"IF('Check-In'!$F$135=12,IF($BX$39=\"\",DI10,DI26),IF('Check-In'!D138=10,IF($AJ$39=\"\",DI10,DI26),IF($BX$23=\"\",DI10,DI26)))","v":"SAVOY, TODD"},{"$nulls":12},{"$f":"IF('Check-In'!$D$135=12,IF($BX$39=\"\",DJ10,DJ26),IF('Check-In'!$D$135=10,IF($AJ$39=\"\",DJ10,DJ26),IF($BX$23=\"\",DJ10,DJ26)))","v":0},null,null,{"$f":"IF('Check-In'!$D$135=12,IF($BX$39=\"\",DK10,DK26),IF('Check-In'!$D$135=10,IF($AJ$39=\"\",DK10,DK26),IF($BX$23=\"\",DK10,DK26)))","v":""},null,{"$f":"IF('Check-In'!$D$135=12,IF($BX$39=\"\",DL10,DL26),IF('Check-In'!$D$135=10,IF($AJ$39=\"\",DL10,DL26),IF($BX$23=\"\",DL10,DL26)))","v":0},null,null,{"$f":"IF('Check-In'!$D$135=12,IF($BX$39=\"\",DM10,DM26),IF('Check-In'!$D$135=10,IF($AJ$39=\"\",DM10,DM26),IF($BX$23=\"\",DM10,DM26)))","v":""},null,{"$f":"IF('Check-In'!$D$135=12,IF($BX$39=\"\",DN10,DN26),IF('Check-In'!$D$135=10,IF($AJ$39=\"\",DN10,DN26),IF($BX$23=\"\",DN10,DN26)))","v":0},null,null,{"$f":"IF('Check-In'!$D$135=12,IF($BX$39=\"\",DO10,DO26),IF('Check-In'!$D$135=10,IF($AJ$39=\"\",DO10,DO26),IF($BX$23=\"\",DO10,DO26)))","v":""},null,{"$f":"IF('Check-In'!$D$135=12,IF($BX$39=\"\",DP10,DP26),IF('Check-In'!$D$135=10,IF($AJ$39=\"\",DP10,DP26),IF($BX$23=\"\",DP10,DP26)))","v":0},null,null,{"$f":"IF('Check-In'!$D$135=12,IF($BX$39=\"\",DQ10,DQ26),IF('Check-In'!$D$135=10,IF($AJ$39=\"\",DQ10,DQ26),IF($BX$23=\"\",DQ10,DQ26)))","v":""},null,{"$f":"IF('Check-In'!$D$135=12,IF($BX$39=\"\",DR10,DR26),IF('Check-In'!$D$135=10,IF($AJ$39=\"\",DR10,DR26),IF($BX$23=\"\",DR10,DR26)))","v":0},null,null,{"$f":"IF('Check-In'!$D$135=12,IF($BX$39=\"\",DS10,DS26),IF('Check-In'!$D$135=10,IF($AJ$39=\"\",DS10,DS26),IF($BX$23=\"\",DS10,DS26)))","v":""},null,{"$f":"IF('Check-In'!$D$135=12,IF($BX$39=\"\",DT10,DT26),IF('Check-In'!$D$135=10,IF($AJ$39=\"\",DT10,DT26),IF($BX$23=\"\",DT10,DT26)))","v":0},null,null,{"$f":"IF('Check-In'!$D$135=12,IF($BX$39=\"\",DU10,DU26),IF('Check-In'!$D$135=10,IF($AJ$39=\"\",DU10,DU26),IF($BX$23=\"\",DU10,DU26)))","v":""},null,{"$f":"IF('Check-In'!$D$135=12,IF($BX$39=\"\",DV10,DV26),IF('Check-In'!$D$135=10,IF($AJ$39=\"\",DV10,DV26),IF($BX$23=\"\",DV10,DV26)))","v":0},null,null,{"$f":"IF('Check-In'!$D$135=12,IF($BX$39=\"\",DW10,DW26),IF('Check-In'!$D$135=10,IF($AJ$39=\"\",DW10,DW26),IF($BX$23=\"\",DW10,DW26)))","v":""},null,{"$f":"IF('Check-In'!$D$135=12,IF($BX$39=\"\",DX10,DX26),IF('Check-In'!$D$135=10,IF($AJ$39=\"\",DX10,DX26),IF($BX$23=\"\",DX10,DX26)))","v":0},null,null,{"$f":"IF('Check-In'!$D$135=12,IF($BX$39=\"\",DY10,DY26),IF('Check-In'!$D$135=10,IF($AJ$39=\"\",DY10,DY26),IF($BX$23=\"\",DY10,DY26)))","v":""},null,{"$f":"IF('Check-In'!$D$135=12,IF($BX$39=\"\",DZ10,DZ26),IF('Check-In'!$D$135=10,IF($AJ$39=\"\",DZ10,DZ26),IF($BX$23=\"\",DZ10,DZ26)))","v":0},null,null,{"$f":"IF('Check-In'!$D$135=12,IF($BX$39=\"\",EA10,EA26),IF('Check-In'!$D$135=10,IF($AJ$39=\"\",EA10,EA26),IF($BX$23=\"\",EA10,EA26)))","v":""},null,{"$f":"IF('Check-In'!$D$135=12,IF($BX$39=\"\",EB10,EB26),IF('Check-In'!$D$135=10,IF($AJ$39=\"\",EB10,EB26),IF($BX$23=\"\",EB10,EB26)))","v":0},null,null,{"$f":"IF('Check-In'!$D$135=12,IF($BX$39=\"\",EC10,EC26),IF('Check-In'!$D$135=10,IF($AJ$39=\"\",EC10,EC26),IF($BX$23=\"\",EC10,EC26)))","v":""},null,{"$f":"IF('Check-In'!$D$135=12,IF($BX$39=\"\",ED10,ED26),IF('Check-In'!$D$135=10,IF($AJ$39=\"\",ED10,ED26),IF($BX$23=\"\",ED10,ED26)))","v":0},null,null,{"$f":"IF('Check-In'!$D$135=12,IF($BX$39=\"\",EE10,EE26),IF('Check-In'!$D$135=10,IF($AJ$39=\"\",EE10,EE26),IF($BX$23=\"\",EE10,EE26)))","v":""},null,{"$f":"IF('Check-In'!$D$135=12,IF($BX$39=\"\",EF10,EF26),IF('Check-In'!$D$135=10,IF($AJ$39=\"\",EF10,EF26),IF($BX$23=\"\",EF10,EF26)))","v":0},null,null,{"$f":"IF('Check-In'!$D$135=12,IF($BX$39=\"\",EG10,EG26),IF('Check-In'!$D$135=10,IF($AJ$39=\"\",EG10,EG26),IF($BX$23=\"\",EG10,EG26)))","v":""},null,0,0,0,0,0,{"$nulls":3},0,{"$nulls":3},0,{"$nulls":3},0]
[null,5,{"$f":"IF('Check-In'!$F$135=12,IF($BX$39=\"\",DI11,DI27),IF('Check-In'!D139=10,IF($AJ$39=\"\",DI11,DI27),IF($BX$23=\"\",DI11,DI27)))","v":"HOMMES, JOHN"},{"$nulls":12},{"$f":"IF('Check-In'!$D$135=12,IF($BX$39=\"\",DJ11,DJ27),IF('Check-In'!$D$135=10,IF($AJ$39=\"\",DJ11,DJ27),IF($BX$23=\"\",DJ11,DJ27)))","v":0},null,null,{"$f":"IF('Check-In'!$D$135=12,IF($BX$39=\"\",DK11,DK27),IF('Check-In'!$D$135=10,IF($AJ$39=\"\",DK11,DK27),IF($BX$23=\"\",DK11,DK27)))","v":""},null,{"$f":"IF('Check-In'!$D$135=12,IF($BX$39=\"\",DL11,DL27),IF('Check-In'!$D$135=10,IF($AJ$39=\"\",DL11,DL27),IF($BX$23=\"\",DL11,DL27)))","v":0},null,null,{"$f":"IF('Check-In'!$D$135=12,IF($BX$39=\"\",DM11,DM27),IF('Check-In'!$D$135=10,IF($AJ$39=\"\",DM11,DM27),IF($BX$23=\"\",DM11,DM27)))","v":""},null,{"$f":"IF('Check-In'!$D$135=12,IF($BX$39=\"\",DN11,DN27),IF('Check-In'!$D$135=10,IF($AJ$39=\"\",DN11,DN27),IF($BX$23=\"\",DN11,DN27)))","v":0},null,null,{"$f":"IF('Check-In'!$D$135=12,IF($BX$39=\"\",DO11,DO27),IF('Check-In'!$D$135=10,IF($AJ$39=\"\",DO11,DO27),IF($BX$23=\"\",DO11,DO27)))","v":""},null,{"$f":"IF('Check-In'!$D$135=12,IF($BX$39=\"\",DP11,DP27),IF('Check-In'!$D$135=10,IF($AJ$39=\"\",DP11,DP27),IF($BX$23=\"\",DP11,DP27)))","v":0},null,null,{"$f":"IF('Check-In'!$D$135=12,IF($BX$39=\"\",DQ11,DQ27),IF('Check-In'!$D$135=10,IF($AJ$39=\"\",DQ11,DQ27),IF($BX$23=\"\",DQ11,DQ27)))","v":""},null,{"$f":"IF('Check-In'!$D$135=12,IF($BX$39=\"\",DR11,DR27),IF('Check-In'!$D$135=10,IF($AJ$39=\"\",DR11,DR27),IF($BX$23=\"\",DR11,DR27)))","v":0},null,null,{"$f":"IF('Check-In'!$D$135=12,IF($BX$39=\"\",DS11,DS27),IF('Check-In'!$D$135=10,IF($AJ$39=\"\",DS11,DS27),IF($BX$23=\"\",DS11,DS27)))","v":""},null,{"$f":"IF('Check-In'!$D$135=12,IF($BX$39=\"\",DT11,DT27),IF('Check-In'!$D$135=10,IF($AJ$39=\"\",DT11,DT27),IF($BX$23=\"\",DT11,DT27)))","v":0},null,null,{"$f":"IF('Check-In'!$D$135=12,IF($BX$39=\"\",DU11,DU27),IF('Check-In'!$D$135=10,IF($AJ$39=\"\",DU11,DU27),IF($BX$23=\"\",DU11,DU27)))","v":""},null,{"$f":"IF('Check-In'!$D$135=12,IF($BX$39=\"\",DV11,DV27),IF('Check-In'!$D$135=10,IF($AJ$39=\"\",DV11,DV27),IF($BX$23=\"\",DV11,DV27)))","v":0},null,null,{"$f":"IF('Check-In'!$D$135=12,IF($BX$39=\"\",DW11,DW27),IF('Check-In'!$D$135=10,IF($AJ$39=\"\",DW11,DW27),IF($BX$23=\"\",DW11,DW27)))","v":""},null,{"$f":"IF('Check-In'!$D$135=12,IF($BX$39=\"\",DX11,DX27),IF('Check-In'!$D$135=10,IF($AJ$39=\"\",DX11,DX27),IF($BX$23=\"\",DX11,DX27)))","v":0},null,null,{"$f":"IF('Check-In'!$D$135=12,IF($BX$39=\"\",DY11,DY27),IF('Check-In'!$D$135=10,IF($AJ$39=\"\",DY11,DY27),IF($BX$23=\"\",DY11,DY27)))","v":""},null,{"$f":"IF('Check-In'!$D$135=12,IF($BX$39=\"\",DZ11,DZ27),IF('Check-In'!$D$135=10,IF($AJ$39=\"\",DZ11,DZ27),IF($BX$23=\"\",DZ11,DZ27)))","v":0},null,null,{"$f":"IF('Check-In'!$D$135=12,IF($BX$39=\"\",EA11,EA27),IF('Check-In'!$D$135=10,IF($AJ$39=\"\",EA11,EA27),IF($BX$23=\"\",EA11,EA27)))","v":""},null,{"$f":"IF('Check-In'!$D$135=12,IF($BX$39=\"\",EB11,EB27),IF('Check-In'!$D$135=10,IF($AJ$39=\"\",EB11,EB27),IF($BX$23=\"\",EB11,EB27)))","v":0},null,null,{"$f":"IF('Check-In'!$D$135=12,IF($BX$39=\"\",EC11,EC27),IF('Check-In'!$D$135=10,IF($AJ$39=\"\",EC11,EC27),IF($BX$23=\"\",EC11,EC27)))","v":""},null,{"$f":"IF('Check-In'!$D$135=12,IF($BX$39=\"\",ED11,ED27),IF('Check-In'!$D$135=10,IF($AJ$39=\"\",ED11,ED27),IF($BX$23=\"\",ED11,ED27)))","v":0},null,null,{"$f":"IF('Check-In'!$D$135=12,IF($BX$39=\"\",EE11,EE27),IF('Check-In'!$D$135=10,IF($AJ$39=\"\",EE11,EE27),IF($BX$23=\"\",EE11,EE27)))","v":""},null,{"$f":"IF('Check-In'!$D$135=12,IF($BX$39=\"\",EF11,EF27),IF('Check-In'!$D$135=10,IF($AJ$39=\"\",EF11,EF27),IF($BX$23=\"\",EF11,EF27)))","v":0},null,null,{"$f":"IF('Check-In'!$D$135=12,IF($BX$39=\"\",EG11,EG27),IF('Check-In'!$D$135=10,IF($AJ$39=\"\",EG11,EG27),IF($BX$23=\"\",EG11,EG27)))","v":""},null,0,0,0,0,0,{"$nulls":3},0,{"$nulls":3},0,{"$nulls":3},0]
[null,6,{"$f":"IF('Check-In'!$F$135=12,IF($BX$39=\"\",DI12,DI28),IF('Check-In'!D140=10,IF($AJ$39=\"\",DI12,DI28),IF($BX$23=\"\",DI12,DI28)))","v":"LANGER, DAVE"},{"$nulls":12},{"$f":"IF('Check-In'!$D$135=12,IF($BX$39=\"\",DJ12,DJ28),IF('Check-In'!$D$135=10,IF($AJ$39=\"\",DJ12,DJ28),IF($BX$23=\"\",DJ12,DJ28)))","v":0},null,null,{"$f":"IF('Check-In'!$D$135=12,IF($BX$39=\"\",DK12,DK28),IF('Check-In'!$D$135=10,IF($AJ$39=\"\",DK12,DK28),IF($BX$23=\"\",DK12,DK28)))","v":""},null,{"$f":"IF('Check-In'!$D$135=12,IF($BX$39=\"\",DL12,DL28),IF('Check-In'!$D$135=10,IF($AJ$39=\"\",DL12,DL28),IF($BX$23=\"\",DL12,DL28)))","v":0},null,null,{"$f":"IF('Check-In'!$D$135=12,IF($BX$39=\"\",DM12,DM28),IF('Check-In'!$D$135=10,IF($AJ$39=\"\",DM12,DM28),IF($BX$23=\"\",DM12,DM28)))","v":""},null,{"$f":"IF('Check-In'!$D$135=12,IF($BX$39=\"\",DN12,DN28),IF('Check-In'!$D$135=10,IF($AJ$39=\"\",DN12,DN28),IF($BX$23=\"\",DN12,DN28)))","v":0},null,null,{"$f":"IF('Check-In'!$D$135=12,IF($BX$39=\"\",DO12,DO28),IF('Check-In'!$D$135=10,IF($AJ$39=\"\",DO12,DO28),IF($BX$23=\"\",DO12,DO28)))","v":""},null,{"$f":"IF('Check-In'!$D$135=12,IF($BX$39=\"\",DP12,DP28),IF('Check-In'!$D$135=10,IF($AJ$39=\"\",DP12,DP28),IF($BX$23=\"\",DP12,DP28)))","v":0},null,null,{"$f":"IF('Check-In'!$D$135=12,IF($BX$39=\"\",DQ12,DQ28),IF('Check-In'!$D$135=10,IF($AJ$39=\"\",DQ12,DQ28),IF($BX$23=\"\",DQ12,DQ28)))","v":""},null,{"$f":"IF('Check-In'!$D$135=12,IF($BX$39=\"\",DR12,DR28),IF('Check-In'!$D$135=10,IF($AJ$39=\"\",DR12,DR28),IF($BX$23=\"\",DR12,DR28)))","v":0},null,null,{"$f":"IF('Check-In'!$D$135=12,IF($BX$39=\"\",DS12,DS28),IF('Check-In'!$D$135=10,IF($AJ$39=\"\",DS12,DS28),IF($BX$23=\"\",DS12,DS28)))","v":""},null,{"$f":"IF('Check-In'!$D$135=12,IF($BX$39=\"\",DT12,DT28),IF('Check-In'!$D$135=10,IF($AJ$39=\"\",DT12,DT28),IF($BX$23=\"\",DT12,DT28)))","v":0},null,null,{"$f":"IF('Check-In'!$D$135=12,IF($BX$39=\"\",DU12,DU28),IF('Check-In'!$D$135=10,IF($AJ$39=\"\",DU12,DU28),IF($BX$23=\"\",DU12,DU28)))","v":""},null,{"$f":"IF('Check-In'!$D$135=12,IF($BX$39=\"\",DV12,DV28),IF('Check-In'!$D$135=10,IF($AJ$39=\"\",DV12,DV28),IF($BX$23=\"\",DV12,DV28)))","v":0},null,null,{"$f":"IF('Check-In'!$D$135=12,IF($BX$39=\"\",DW12,DW28),IF('Check-In'!$D$135=10,IF($AJ$39=\"\",DW12,DW28),IF($BX$23=\"\",DW12,DW28)))","v":""},null,{"$f":"IF('Check-In'!$D$135=12,IF($BX$39=\"\",DX12,DX28),IF('Check-In'!$D$135=10,IF($AJ$39=\"\",DX12,DX28),IF($BX$23=\"\",DX12,DX28)))","v":0},null,null,{"$f":"IF('Check-In'!$D$135=12,IF($BX$39=\"\",DY12,DY28),IF('Check-In'!$D$135=10,IF($AJ$39=\"\",DY12,DY28),IF($BX$23=\"\",DY12,DY28)))","v":""},null,{"$f":"IF('Check-In'!$D$135=12,IF($BX$39=\"\",DZ12,DZ28),IF('Check-In'!$D$135=10,IF($AJ$39=\"\",DZ12,DZ28),IF($BX$23=\"\",DZ12,DZ28)))","v":0},null,null,{"$f":"IF('Check-In'!$D$135=12,IF($BX$39=\"\",EA12,EA28),IF('Check-In'!$D$135=10,IF($AJ$39=\"\",EA12,EA28),IF($BX$23=\"\",EA12,EA28)))","v":""},null,{"$f":"IF('Check-In'!$D$135=12,IF($BX$39=\"\",EB12,EB28),IF('Check-In'!$D$135=10,IF($AJ$39=\"\",EB12,EB28),IF($BX$23=\"\",EB12,EB28)))","v":0},null,null,{"$f":"IF('Check-In'!$D$135=12,IF($BX$39=\"\",EC12,EC28),IF('Check-In'!$D$135=10,IF($AJ$39=\"\",EC12,EC28),IF($BX$23=\"\",EC12,EC28)))","v":""},null,{"$f":"IF('Check-In'!$D$135=12,IF($BX$39=\"\",ED12,ED28),IF('Check-In'!$D$135=10,IF($AJ$39=\"\",ED12,ED28),IF($BX$23=\"\",ED12,ED28)))","v":0},null,null,{"$f":"IF('Check-In'!$D$135=12,IF($BX$39=\"\",EE12,EE28),IF('Check-In'!$D$135=10,IF($AJ$39=\"\",EE12,EE28),IF($BX$23=\"\",EE12,EE28)))","v":""},null,{"$f":"IF('Check-In'!$D$135=12,IF($BX$39=\"\",EF12,EF28),IF('Check-In'!$D$135=10,IF($AJ$39=\"\",EF12,EF28),IF($BX$23=\"\",EF12,EF28)))","v":0},null,null,{"$f":"IF('Check-In'!$D$135=12,IF($BX$39=\"\",EG12,EG28),IF('Check-In'!$D$135=10,IF($AJ$39=\"\",EG12,EG28),IF($BX$23=\"\",EG12,EG28)))","v":""},null,0,0,0,0,0,{"$nulls":3},0,{"$nulls":3},0,{"$nulls":3},0]
[null,7,{"$f":"IF('Check-In'!$F$135=12,IF($BX$39=\"\",DI13,DI29),IF('Check-In'!D141=10,IF($AJ$39=\"\",DI13,DI29),IF($BX$23=\"\",DI13,DI29)))","v":"DOWNER, ROB"},{"$nulls":12},{"$f":"IF('Check-In'!$D$135=12,IF($BX$39=\"\",DJ13,DJ29),IF('Check-In'!$D$135=10,IF($AJ$39=\"\",DJ13,DJ29),IF($BX$23=\"\",DJ13,DJ29)))","v":0},null,null,{"$f":"IF('Check-In'!$D$135=12,IF($BX$39=\"\",DK13,DK29),IF('Check-In'!$D$135=10,IF($AJ$39=\"\",DK13,DK29),IF($BX$23=\"\",DK13,DK29)))","v":""},null,{"$f":"IF('Check-In'!$D$135=12,IF($BX$39=\"\",DL13,DL29),IF('Check-In'!$D$135=10,IF($AJ$39=\"\",DL13,DL29),IF($BX$23=\"\",DL13,DL29)))","v":0},null,null,{"$f":"IF('Check-In'!$D$135=12,IF($BX$39=\"\",DM13,DM29),IF('Check-In'!$D$135=10,IF($AJ$39=\"\",DM13,DM29),IF($BX$23=\"\",DM13,DM29)))","v":""},null,{"$f":"IF('Check-In'!$D$135=12,IF($BX$39=\"\",DN13,DN29),IF('Check-In'!$D$135=10,IF($AJ$39=\"\",DN13,DN29),IF($BX$23=\"\",DN13,DN29)))","v":0},null,null,{"$f":"IF('Check-In'!$D$135=12,IF($BX$39=\"\",DO13,DO29),IF('Check-In'!$D$135=10,IF($AJ$39=\"\",DO13,DO29),IF($BX$23=\"\",DO13,DO29)))","v":""},null,{"$f":"IF('Check-In'!$D$135=12,IF($BX$39=\"\",DP13,DP29),IF('Check-In'!$D$135=10,IF($AJ$39=\"\",DP13,DP29),IF($BX$23=\"\",DP13,DP29)))","v":0},null,null,{"$f":"IF('Check-In'!$D$135=12,IF($BX$39=\"\",DQ13,DQ29),IF('Check-In'!$D$135=10,IF($AJ$39=\"\",DQ13,DQ29),IF($BX$23=\"\",DQ13,DQ29)))","v":""},null,{"$f":"IF('Check-In'!$D$135=12,IF($BX$39=\"\",DR13,DR29),IF('Check-In'!$D$135=10,IF($AJ$39=\"\",DR13,DR29),IF($BX$23=\"\",DR13,DR29)))","v":0},null,null,{"$f":"IF('Check-In'!$D$135=12,IF($BX$39=\"\",DS13,DS29),IF('Check-In'!$D$135=10,IF($AJ$39=\"\",DS13,DS29),IF($BX$23=\"\",DS13,DS29)))","v":""},null,{"$f":"IF('Check-In'!$D$135=12,IF($BX$39=\"\",DT13,DT29),IF('Check-In'!$D$135=10,IF($AJ$39=\"\",DT13,DT29),IF($BX$23=\"\",DT13,DT29)))","v":0},null,null,{"$f":"IF('Check-In'!$D$135=12,IF($BX$39=\"\",DU13,DU29),IF('Check-In'!$D$135=10,IF($AJ$39=\"\",DU13,DU29),IF($BX$23=\"\",DU13,DU29)))","v":""},null,{"$f":"IF('Check-In'!$D$135=12,IF($BX$39=\"\",DV13,DV29),IF('Check-In'!$D$135=10,IF($AJ$39=\"\",DV13,DV29),IF($BX$23=\"\",DV13,DV29)))","v":0},null,null,{"$f":"IF('Check-In'!$D$135=12,IF($BX$39=\"\",DW13,DW29),IF('Check-In'!$D$135=10,IF($AJ$39=\"\",DW13,DW29),IF($BX$23=\"\",DW13,DW29)))","v":""},null,{"$f":"IF('Check-In'!$D$135=12,IF($BX$39=\"\",DX13,DX29),IF('Check-In'!$D$135=10,IF($AJ$39=\"\",DX13,DX29),IF($BX$23=\"\",DX13,DX29)))","v":0},null,null,{"$f":"IF('Check-In'!$D$135=12,IF($BX$39=\"\",DY13,DY29),IF('Check-In'!$D$135=10,IF($AJ$39=\"\",DY13,DY29),IF($BX$23=\"\",DY13,DY29)))","v":""},null,{"$f":"IF('Check-In'!$D$135=12,IF($BX$39=\"\",DZ13,DZ29),IF('Check-In'!$D$135=10,IF($AJ$39=\"\",DZ13,DZ29),IF($BX$23=\"\",DZ13,DZ29)))","v":0},null,null,{"$f":"IF('Check-In'!$D$135=12,IF($BX$39=\"\",EA13,EA29),IF('Check-In'!$D$135=10,IF($AJ$39=\"\",EA13,EA29),IF($BX$23=\"\",EA13,EA29)))","v":""},null,{"$f":"IF('Check-In'!$D$135=12,IF($BX$39=\"\",EB13,EB29),IF('Check-In'!$D$135=10,IF($AJ$39=\"\",EB13,EB29),IF($BX$23=\"\",EB13,EB29)))","v":0},null,null,{"$f":"IF('Check-In'!$D$135=12,IF($BX$39=\"\",EC13,EC29),IF('Check-In'!$D$135=10,IF($AJ$39=\"\",EC13,EC29),IF($BX$23=\"\",EC13,EC29)))","v":""},null,{"$f":"IF('Check-In'!$D$135=12,IF($BX$39=\"\",ED13,ED29),IF('Check-In'!$D$135=10,IF($AJ$39=\"\",ED13,ED29),IF($BX$23=\"\",ED13,ED29)))","v":0},null,null,{"$f":"IF('Check-In'!$D$135=12,IF($BX$39=\"\",EE13,EE29),IF('Check-In'!$D$135=10,IF($AJ$39=\"\",EE13,EE29),IF($BX$23=\"\",EE13,EE29)))","v":""},null,{"$f":"IF('Check-In'!$D$135=12,IF($BX$39=\"\",EF13,EF29),IF('Check-In'!$D$135=10,IF($AJ$39=\"\",EF13,EF29),IF($BX$23=\"\",EF13,EF29)))","v":0},null,null,{"$f":"IF('Check-In'!$D$135=12,IF($BX$39=\"\",EG13,EG29),IF('Check-In'!$D$135=10,IF($AJ$39=\"\",EG13,EG29),IF($BX$23=\"\",EG13,EG29)))","v":""},null,0,0,0,0,0,{"$nulls":3},0,{"$nulls":3},0,{"$nulls":3},0]
[null,8,{"$f":"IF('Check-In'!$F$135=12,IF($BX$39=\"\",DI14,DI30),IF('Check-In'!D142=10,IF($AJ$39=\"\",DI14,DI30),IF($BX$23=\"\",DI14,DI30)))","v":"JONES, TOM"},{"$nulls":12},{"$f":"IF('Check-In'!$D$135=12,IF($BX$39=\"\",DJ14,DJ30),IF('Check-In'!$D$135=10,IF($AJ$39=\"\",DJ14,DJ30),IF($BX$23=\"\",DJ14,DJ30)))","v":0},null,null,{"$f":"IF('Check-In'!$D$135=12,IF($BX$39=\"\",DK14,DK30),IF('Check-In'!$D$135=10,IF($AJ$39=\"\",DK14,DK30),IF($BX$23=\"\",DK14,DK30)))","v":""},null,{"$f":"IF('Check-In'!$D$135=12,IF($BX$39=\"\",DL14,DL30),IF('Check-In'!$D$135=10,IF($AJ$39=\"\",DL14,DL30),IF($BX$23=\"\",DL14,DL30)))","v":0},null,null,{"$f":"IF('Check-In'!$D$135=12,IF($BX$39=\"\",DM14,DM30),IF('Check-In'!$D$135=10,IF($AJ$39=\"\",DM14,DM30),IF($BX$23=\"\",DM14,DM30)))","v":""},null,{"$f":"IF('Check-In'!$D$135=12,IF($BX$39=\"\",DN14,DN30),IF('Check-In'!$D$135=10,IF($AJ$39=\"\",DN14,DN30),IF($BX$23=\"\",DN14,DN30)))","v":0},null,null,{"$f":"IF('Check-In'!$D$135=12,IF($BX$39=\"\",DO14,DO30),IF('Check-In'!$D$135=10,IF($AJ$39=\"\",DO14,DO30),IF($BX$23=\"\",DO14,DO30)))","v":""},null,{"$f":"IF('Check-In'!$D$135=12,IF($BX$39=\"\",DP14,DP30),IF('Check-In'!$D$135=10,IF($AJ$39=\"\",DP14,DP30),IF($BX$23=\"\",DP14,DP30)))","v":0},null,null,{"$f":"IF('Check-In'!$D$135=12,IF($BX$39=\"\",DQ14,DQ30),IF('Check-In'!$D$135=10,IF($AJ$39=\"\",DQ14,DQ30),IF($BX$23=\"\",DQ14,DQ30)))","v":""},null,{"$f":"IF('Check-In'!$D$135=12,IF($BX$39=\"\",DR14,DR30),IF('Check-In'!$D$135=10,IF($AJ$39=\"\",DR14,DR30),IF($BX$23=\"\",DR14,DR30)))","v":0},null,null,{"$f":"IF('Check-In'!$D$135=12,IF($BX$39=\"\",DS14,DS30),IF('Check-In'!$D$135=10,IF($AJ$39=\"\",DS14,DS30),IF($BX$23=\"\",DS14,DS30)))","v":""},null,{"$f":"IF('Check-In'!$D$135=12,IF($BX$39=\"\",DT14,DT30),IF('Check-In'!$D$135=10,IF($AJ$39=\"\",DT14,DT30),IF($BX$23=\"\",DT14,DT30)))","v":0},null,null,{"$f":"IF('Check-In'!$D$135=12,IF($BX$39=\"\",DU14,DU30),IF('Check-In'!$D$135=10,IF($AJ$39=\"\",DU14,DU30),IF($BX$23=\"\",DU14,DU30)))","v":""},null,{"$f":"IF('Check-In'!$D$135=12,IF($BX$39=\"\",DV14,DV30),IF('Check-In'!$D$135=10,IF($AJ$39=\"\",DV14,DV30),IF($BX$23=\"\",DV14,DV30)))","v":0},null,null,{"$f":"IF('Check-In'!$D$135=12,IF($BX$39=\"\",DW14,DW30),IF('Check-In'!$D$135=10,IF($AJ$39=\"\",DW14,DW30),IF($BX$23=\"\",DW14,DW30)))","v":""},null,{"$f":"IF('Check-In'!$D$135=12,IF($BX$39=\"\",DX14,DX30),IF('Check-In'!$D$135=10,IF($AJ$39=\"\",DX14,DX30),IF($BX$23=\"\",DX14,DX30)))","v":0},null,null,{"$f":"IF('Check-In'!$D$135=12,IF($BX$39=\"\",DY14,DY30),IF('Check-In'!$D$135=10,IF($AJ$39=\"\",DY14,DY30),IF($BX$23=\"\",DY14,DY30)))","v":""},null,{"$f":"IF('Check-In'!$D$135=12,IF($BX$39=\"\",DZ14,DZ30),IF('Check-In'!$D$135=10,IF($AJ$39=\"\",DZ14,DZ30),IF($BX$23=\"\",DZ14,DZ30)))","v":0},null,null,{"$f":"IF('Check-In'!$D$135=12,IF($BX$39=\"\",EA14,EA30),IF('Check-In'!$D$135=10,IF($AJ$39=\"\",EA14,EA30),IF($BX$23=\"\",EA14,EA30)))","v":""},null,{"$f":"IF('Check-In'!$D$135=12,IF($BX$39=\"\",EB14,EB30),IF('Check-In'!$D$135=10,IF($AJ$39=\"\",EB14,EB30),IF($BX$23=\"\",EB14,EB30)))","v":0},null,null,{"$f":"IF('Check-In'!$D$135=12,IF($BX$39=\"\",EC14,EC30),IF('Check-In'!$D$135=10,IF($AJ$39=\"\",EC14,EC30),IF($BX$23=\"\",EC14,EC30)))","v":""},null,{"$f":"IF('Check-In'!$D$135=12,IF($BX$39=\"\",ED14,ED30),IF('Check-In'!$D$135=10,IF($AJ$39=\"\",ED14,ED30),IF($BX$23=\"\",ED14,ED30)))","v":0},null,null,{"$f":"IF('Check-In'!$D$135=12,IF($BX$39=\"\",EE14,EE30),IF('Check-In'!$D$135=10,IF($AJ$39=\"\",EE14,EE30),IF($BX$23=\"\",EE14,EE30)))","v":""},null,{"$f":"IF('Check-In'!$D$135=12,IF($BX$39=\"\",EF14,EF30),IF('Check-In'!$D$135=10,IF($AJ$39=\"\",EF14,EF30),IF($BX$23=\"\",EF14,EF30)))","v":0},null,null,{"$f":"IF('Check-In'!$D$135=12,IF($BX$39=\"\",EG14,EG30),IF('Check-In'!$D$135=10,IF($AJ$39=\"\",EG14,EG30),IF($BX$23=\"\",EG14,EG30)))","v":""},null,0,0,0,0,0,{"$nulls":3},0,{"$nulls":3},0,{"$nulls":3},0]
[null,9,{"$f":"IF('Check-In'!$F$135=12,IF($BX$39=\"\",DI15,DI31),IF('Check-In'!D143=10,IF($AJ$39=\"\",DI15,DI31),IF($BX$23=\"\",DI15,DI31)))","v":"GREEN, GARY"},{"$nulls":12},{"$f":"IF('Check-In'!$D$135=12,IF($BX$39=\"\",DJ15,DJ31),IF('Check-In'!$D$135=10,IF($AJ$39=\"\",DJ15,DJ31),IF($BX$23=\"\",DJ15,DJ31)))","v":0},null,null,{"$f":"IF('Check-In'!$D$135=12,IF($BX$39=\"\",DK15,DK31),IF('Check-In'!$D$135=10,IF($AJ$39=\"\",DK15,DK31),IF($BX$23=\"\",DK15,DK31)))","v":""},null,{"$f":"IF('Check-In'!$D$135=12,IF($BX$39=\"\",DL15,DL31),IF('Check-In'!$D$135=10,IF($AJ$39=\"\",DL15,DL31),IF($BX$23=\"\",DL15,DL31)))","v":0},null,null,{"$f":"IF('Check-In'!$D$135=12,IF($BX$39=\"\",DM15,DM31),IF('Check-In'!$D$135=10,IF($AJ$39=\"\",DM15,DM31),IF($BX$23=\"\",DM15,DM31)))","v":""},null,{"$f":"IF('Check-In'!$D$135=12,IF($BX$39=\"\",DN15,DN31),IF('Check-In'!$D$135=10,IF($AJ$39=\"\",DN15,DN31),IF($BX$23=\"\",DN15,DN31)))","v":0},null,null,{"$f":"IF('Check-In'!$D$135=12,IF($BX$39=\"\",DO15,DO31),IF('Check-In'!$D$135=10,IF($AJ$39=\"\",DO15,DO31),IF($BX$23=\"\",DO15,DO31)))","v":""},null,{"$f":"IF('Check-In'!$D$135=12,IF($BX$39=\"\",DP15,DP31),IF('Check-In'!$D$135=10,IF($AJ$39=\"\",DP15,DP31),IF($BX$23=\"\",DP15,DP31)))","v":0},null,null,{"$f":"IF('Check-In'!$D$135=12,IF($BX$39=\"\",DQ15,DQ31),IF('Check-In'!$D$135=10,IF($AJ$39=\"\",DQ15,DQ31),IF($BX$23=\"\",DQ15,DQ31)))","v":""},null,{"$f":"IF('Check-In'!$D$135=12,IF($BX$39=\"\",DR15,DR31),IF('Check-In'!$D$135=10,IF($AJ$39=\"\",DR15,DR31),IF($BX$23=\"\",DR15,DR31)))","v":0},null,null,{"$f":"IF('Check-In'!$D$135=12,IF($BX$39=\"\",DS15,DS31),IF('Check-In'!$D$135=10,IF($AJ$39=\"\",DS15,DS31),IF($BX$23=\"\",DS15,DS31)))","v":""},null,{"$f":"IF('Check-In'!$D$135=12,IF($BX$39=\"\",DT15,DT31),IF('Check-In'!$D$135=10,IF($AJ$39=\"\",DT15,DT31),IF($BX$23=\"\",DT15,DT31)))","v":0},null,null,{"$f":"IF('Check-In'!$D$135=12,IF($BX$39=\"\",DU15,DU31),IF('Check-In'!$D$135=10,IF($AJ$39=\"\",DU15,DU31),IF($BX$23=\"\",DU15,DU31)))","v":""},null,{"$f":"IF('Check-In'!$D$135=12,IF($BX$39=\"\",DV15,DV31),IF('Check-In'!$D$135=10,IF($AJ$39=\"\",DV15,DV31),IF($BX$23=\"\",DV15,DV31)))","v":0},null,null,{"$f":"IF('Check-In'!$D$135=12,IF($BX$39=\"\",DW15,DW31),IF('Check-In'!$D$135=10,IF($AJ$39=\"\",DW15,DW31),IF($BX$23=\"\",DW15,DW31)))","v":""},null,{"$f":"IF('Check-In'!$D$135=12,IF($BX$39=\"\",DX15,DX31),IF('Check-In'!$D$135=10,IF($AJ$39=\"\",DX15,DX31),IF($BX$23=\"\",DX15,DX31)))","v":0},null,null,{"$f":"IF('Check-In'!$D$135=12,IF($BX$39=\"\",DY15,DY31),IF('Check-In'!$D$135=10,IF($AJ$39=\"\",DY15,DY31),IF($BX$23=\"\",DY15,DY31)))","v":""},null,{"$f":"IF('Check-In'!$D$135=12,IF($BX$39=\"\",DZ15,DZ31),IF('Check-In'!$D$135=10,IF($AJ$39=\"\",DZ15,DZ31),IF($BX$23=\"\",DZ15,DZ31)))","v":0},null,null,{"$f":"IF('Check-In'!$D$135=12,IF($BX$39=\"\",EA15,EA31),IF('Check-In'!$D$135=10,IF($AJ$39=\"\",EA15,EA31),IF($BX$23=\"\",EA15,EA31)))","v":""},null,{"$f":"IF('Check-In'!$D$135=12,IF($BX$39=\"\",EB15,EB31),IF('Check-In'!$D$135=10,IF($AJ$39=\"\",EB15,EB31),IF($BX$23=\"\",EB15,EB31)))","v":0},null,null,{"$f":"IF('Check-In'!$D$135=12,IF($BX$39=\"\",EC15,EC31),IF('Check-In'!$D$135=10,IF($AJ$39=\"\",EC15,EC31),IF($BX$23=\"\",EC15,EC31)))","v":""},null,{"$f":"IF('Check-In'!$D$135=12,IF($BX$39=\"\",ED15,ED31),IF('Check-In'!$D$135=10,IF($AJ$39=\"\",ED15,ED31),IF($BX$23=\"\",ED15,ED31)))","v":0},null,null,{"$f":"IF('Check-In'!$D$135=12,IF($BX$39=\"\",EE15,EE31),IF('Check-In'!$D$135=10,IF($AJ$39=\"\",EE15,EE31),IF($BX$23=\"\",EE15,EE31)))","v":""},null,{"$f":"IF('Check-In'!$D$135=12,IF($BX$39=\"\",EF15,EF31),IF('Check-In'!$D$135=10,IF($AJ$39=\"\",EF15,EF31),IF($BX$23=\"\",EF15,EF31)))","v":0},null,null,{"$f":"IF('Check-In'!$D$135=12,IF($BX$39=\"\",EG15,EG31),IF('Check-In'!$D$135=10,IF($AJ$39=\"\",EG15,EG31),IF($BX$23=\"\",EG15,EG31)))","v":""},null,0,0,0,0,0,{"$nulls":3},0,{"$nulls":3},0,{"$nulls":3},0]
[null,10,{"$f":"IF('Check-In'!$F$135=12,IF($BX$39=\"\",DI16,DI32),IF('Check-In'!D144=10,IF($AJ$39=\"\",DI16,DI32),IF($BX$23=\"\",DI16,DI32)))","v":"HAVLISH, TOM"},{"$nulls":12},{"$f":"IF('Check-In'!$D$135=12,IF($BX$39=\"\",DJ16,DJ32),IF('Check-In'!$D$135=10,IF($AJ$39=\"\",DJ16,DJ32),IF($BX$23=\"\",DJ16,DJ32)))","v":0},null,null,{"$f":"IF('Check-In'!$D$135=12,IF($BX$39=\"\",DK16,DK32),IF('Check-In'!$D$135=10,IF($AJ$39=\"\",DK16,DK32),IF($BX$23=\"\",DK16,DK32)))","v":""},null,{"$f":"IF('Check-In'!$D$135=12,IF($BX$39=\"\",DL16,DL32),IF('Check-In'!$D$135=10,IF($AJ$39=\"\",DL16,DL32),IF($BX$23=\"\",DL16,DL32)))","v":0},null,null,{"$f":"IF('Check-In'!$D$135=12,IF($BX$39=\"\",DM16,DM32),IF('Check-In'!$D$135=10,IF($AJ$39=\"\",DM16,DM32),IF($BX$23=\"\",DM16,DM32)))","v":""},null,{"$f":"IF('Check-In'!$D$135=12,IF($BX$39=\"\",DN16,DN32),IF('Check-In'!$D$135=10,IF($AJ$39=\"\",DN16,DN32),IF($BX$23=\"\",DN16,DN32)))","v":0},null,null,{"$f":"IF('Check-In'!$D$135=12,IF($BX$39=\"\",DO16,DO32),IF('Check-In'!$D$135=10,IF($AJ$39=\"\",DO16,DO32),IF($BX$23=\"\",DO16,DO32)))","v":""},null,{"$f":"IF('Check-In'!$D$135=12,IF($BX$39=\"\",DP16,DP32),IF('Check-In'!$D$135=10,IF($AJ$39=\"\",DP16,DP32),IF($BX$23=\"\",DP16,DP32)))","v":0},null,null,{"$f":"IF('Check-In'!$D$135=12,IF($BX$39=\"\",DQ16,DQ32),IF('Check-In'!$D$135=10,IF($AJ$39=\"\",DQ16,DQ32),IF($BX$23=\"\",DQ16,DQ32)))","v":""},null,{"$f":"IF('Check-In'!$D$135=12,IF($BX$39=\"\",DR16,DR32),IF('Check-In'!$D$135=10,IF($AJ$39=\"\",DR16,DR32),IF($BX$23=\"\",DR16,DR32)))","v":0},null,null,{"$f":"IF('Check-In'!$D$135=12,IF($BX$39=\"\",DS16,DS32),IF('Check-In'!$D$135=10,IF($AJ$39=\"\",DS16,DS32),IF($BX$23=\"\",DS16,DS32)))","v":""},null,{"$f":"IF('Check-In'!$D$135=12,IF($BX$39=\"\",DT16,DT32),IF('Check-In'!$D$135=10,IF($AJ$39=\"\",DT16,DT32),IF($BX$23=\"\",DT16,DT32)))","v":0},null,null,{"$f":"IF('Check-In'!$D$135=12,IF($BX$39=\"\",DU16,DU32),IF('Check-In'!$D$135=10,IF($AJ$39=\"\",DU16,DU32),IF($BX$23=\"\",DU16,DU32)))","v":""},null,{"$f":"IF('Check-In'!$D$135=12,IF($BX$39=\"\",DV16,DV32),IF('Check-In'!$D$135=10,IF($AJ$39=\"\",DV16,DV32),IF($BX$23=\"\",DV16,DV32)))","v":0},null,null,{"$f":"IF('Check-In'!$D$135=12,IF($BX$39=\"\",DW16,DW32),IF('Check-In'!$D$135=10,IF($AJ$39=\"\",DW16,DW32),IF($BX$23=\"\",DW16,DW32)))","v":""},null,{"$f":"IF('Check-In'!$D$135=12,IF($BX$39=\"\",DX16,DX32),IF('Check-In'!$D$135=10,IF($AJ$39=\"\",DX16,DX32),IF($BX$23=\"\",DX16,DX32)))","v":0},null,null,{"$f":"IF('Check-In'!$D$135=12,IF($BX$39=\"\",DY16,DY32),IF('Check-In'!$D$135=10,IF($AJ$39=\"\",DY16,DY32),IF($BX$23=\"\",DY16,DY32)))","v":""},null,{"$f":"IF('Check-In'!$D$135=12,IF($BX$39=\"\",DZ16,DZ32),IF('Check-In'!$D$135=10,IF($AJ$39=\"\",DZ16,DZ32),IF($BX$23=\"\",DZ16,DZ32)))","v":0},null,null,{"$f":"IF('Check-In'!$D$135=12,IF($BX$39=\"\",EA16,EA32),IF('Check-In'!$D$135=10,IF($AJ$39=\"\",EA16,EA32),IF($BX$23=\"\",EA16,EA32)))","v":""},null,{"$f":"IF('Check-In'!$D$135=12,IF($BX$39=\"\",EB16,EB32),IF('Check-In'!$D$135=10,IF($AJ$39=\"\",EB16,EB32),IF($BX$23=\"\",EB16,EB32)))","v":0},null,null,{"$f":"IF('Check-In'!$D$135=12,IF($BX$39=\"\",EC16,EC32),IF('Check-In'!$D$135=10,IF($AJ$39=\"\",EC16,EC32),IF($BX$23=\"\",EC16,EC32)))","v":""},null,{"$f":"IF('Check-In'!$D$135=12,IF($BX$39=\"\",ED16,ED32),IF('Check-In'!$D$135=10,IF($AJ$39=\"\",ED16,ED32),IF($BX$23=\"\",ED16,ED32)))","v":0},null,null,{"$f":"IF('Check-In'!$D$135=12,IF($BX$39=\"\",EE16,EE32),IF('Check-In'!$D$135=10,IF($AJ$39=\"\",EE16,EE32),IF($BX$23=\"\",EE16,EE32)))","v":""},null,{"$f":"IF('Check-In'!$D$135=12,IF($BX$39=\"\",EF16,EF32),IF('Check-In'!$D$135=10,IF($AJ$39=\"\",EF16,EF32),IF($BX$23=\"\",EF16,EF32)))","v":0},null,null,{"$f":"IF('Check-In'!$D$135=12,IF($BX$39=\"\",EG16,EG32),IF('Check-In'!$D$135=10,IF($AJ$39=\"\",EG16,EG32),IF($BX$23=\"\",EG16,EG32)))","v":""},null,0,0,0,0,0,{"$nulls":3},0,{"$nulls":3},0,{"$nulls":3},0]
[null,11,{"$f":"IF($AJ$23=\"\",DI17,DI33)","v":"DAVIS, SCOTT"},{"$nulls":12},{"$f":"IF($BX$39=\"\",DJ17,DJ33)","v":0},null,null,{"$f":"IF($BX$39=\"\",DK17,DK33)","v":""},null,{"$f":"IF($BX$39=\"\",DL17,DL33)","v":0},null,null,{"$f":"IF($BX$39=\"\",DM17,DM33)","v":""},null,{"$f":"IF($BX$39=\"\",DN17,DN33)","v":0},null,null,{"$f":"IF($BX$39=\"\",DO17,DO33)","v":""},null,{"$f":"IF($BX$39=\"\",DP17,DP33)","v":0},null,null,{"$f":"IF($BX$39=\"\",DQ17,DQ33)","v":""},null,{"$f":"IF($BX$39=\"\",DR17,DR33)","v":0},null,null,{"$f":"IF($BX$39=\"\",DS17,DS33)","v":""},null,{"$f":"IF($BX$39=\"\",DT17,DT33)","v":0},null,null,{"$f":"IF($BX$39=\"\",DU17,DU33)","v":""},null,{"$f":"IF($BX$39=\"\",DV17,DV33)","v":0},null,null,{"$f":"IF($BX$39=\"\",DW17,DW33)","v":""},null,{"$f":"IF($BX$39=\"\",DX17,DX33)","v":0},null,null,{"$f":"IF($BX$39=\"\",DY17,DY33)","v":""},null,{"$f":"IF($BX$39=\"\",DZ17,DZ33)","v":0},null,null,{"$f":"IF($BX$39=\"\",EA17,EA33)","v":""},null,{"$f":"IF($BX$39=\"\",EB17,EB33)","v":0},null,null,{"$f":"IF($BX$39=\"\",EC17,EC33)","v":""},null,{"$f":"IF($BX$39=\"\",ED17,ED33)","v":0},null,null,{"$f":"IF($BX$39=\"\",EE17,EE33)","v":""},null,{"$f":"IF($BX$39=\"\",EF17,EF33)","v":0},null,null,{"$f":"IF($BX$39=\"\",EG17,EG33)","v":""},null,{"$f":"IF($BX$39=\"\",EH17,EH33)","v":0},0,0,0,{"$f":"IF($BX$39=\"\",EI17,EI33)","v":0},{"$nulls":3},{"$f":"IF($BX$39=\"\",EJ17,EJ33)","v":0},{"$nulls":3},{"$f":"IF($BX$39=\"\",EK17,EK33)","v":0},{"$nulls":3},{"$f":"IF($BX$39=\"\",EL17,EL33)","v":0}]
[null,12,"BIRKEDAHL, LARRY",{"$nulls":12},0,null,null,"",null,0,null,null,"",null,0,null,null,"",null,0,null,null,"",null,0,null,null,"",null,0,null,null,"",null,0,null,null,"",null,0,null,null,"",null,0,null,null,"",null,0,null,null,"",null,0,null,null,"",null,0,null,null,"",null,0,0,0,0,0,{"$nulls":3},0,{"$nulls":3},0,{"$nulls":3},0]
[{"$nulls":14},"Average ",{"$f":"AVERAGE(IF(ISNUMBER(P56:P67),P56:P67))","v":0},{"$nulls":4},{"$f":"AVERAGE(IF(ISNUMBER(U56:U67),U56:U67))","v":0},{"$nulls":4},{"$f":"AVERAGE(IF(ISNUMBER(Z56:Z67),Z56:Z67))","v":0},{"$nulls":4},{"$f":"AVERAGE(IF(ISNUMBER(AE56:AE67),AE56:AE67))","v":0},{"$nulls":4},{"$f":"AVERAGE(IF(ISNUMBER(AJ56:AJ67),AJ56:AJ67))","v":0},{"$nulls":4},{"$f":"AVERAGE(IF(ISNUMBER(AO56:AO67),AO56:AO67))","v":0},{"$nulls":4},{"$f":"AVERAGE(IF(ISNUMBER(AT56:AT67),AT56:AT67))","v":0},{"$nulls":4},{"$f":"AVERAGE(IF(ISNUMBER(AY56:AY67),AY56:AY67))","v":0},{"$nulls":4},{"$f":"AVERAGE(IF(ISNUMBER(BD56:BD67),BD56:BD67))","v":0},{"$nulls":4},{"$f":"AVERAGE(IF(ISNUMBER(BI56:BI67),BI56:BI67))","v":0},{"$nulls":4},{"$f":"AVERAGE(IF(ISNUMBER(BN56:BN67),BN56:BN67))","v":0},{"$nulls":4},{"$f":"AVERAGE(IF(ISNUMBER(BS56:BS67),BS56:BS67))","v":0}]
[]
[null,"Stepladder Finals"]
[null,"Match 1"]
[null,null,{"$f":"IF('Check-In'!$D$135=12,IF(BX39=0,\"\",C60),IF('Check-In'!D135=10,IF(AJ39=0,\"\",C60),IF('Check-In'!D135=8,IF(BX23=0,\"\",C60))))","v":false}]
[null,null,{"$f":"IF('Check-In'!$D$135=12,IF(BX39=0,\"\",C59),IF('Check-In'!D135=10,IF(AJ39=0,\"\",C59),IF('Check-In'!D135=8,IF(BX23=0,\"\",C59))))","v":false}]
[]
[{"$nulls":11},"Match 2"]
[{"$nulls":11},{"$f":"IF('Check-In'!$D$135=12,IF(BX39=0,\"\",C58),IF('Check-In'!D135=10,IF(AJ39=0,\"\",C58),IF('Check-In'!D135=8,IF(BX23=0,\"\",C58))))","v":false}]
[{"$nulls":11},{"$f":"IF(P73=\"\",\"\",IF(P72>P73,C72,C73))","v":""}]
[]
[{"$nulls":21},"Match 3"]
[{"$nulls":21},{"$f":"IF('Check-In'!$D$135=12,IF(BX39=0,\"\",C57),IF('Check-In'!D135=10,IF(AJ39=0,\"\",C57),IF('Check-In'!D135=8,IF(BX23=0,\"\",C57))))","v":false}]
[null,null,{"$f":"IF(AR85>AR84,AE85,AE84)","v":false},{"$f":"IF(P73=\"\",\"\",IF(P72>P73,CONCATENATE(LEFT(C72,(FIND(\",\",C72,1)-1)),\" def. \",LEFT(C73,(FIND(\",\",C73,1)-1)),\" \",P72,\"-\",P73),CONCATENATE(LEFT(C73,(FIND(\",\",C73,1)-1)),\" def. \",LEFT(C72,(FIND(\",\",C72,1)-1)),\" \",P73,\"-\",P72)))","v":""},{"$nulls":17},{"$f":"IF(Y77=\"\",\"\",IF(Y76>Y77,L76,L77))","v":""}]
[null,null,{"$f":"IF(AR85<AR84,AE85,AE84)","v":false},{"$f":"IF(Y76=\"\",\"\",IF(Y76>Y77,CONCATENATE(LEFT(L76,(FIND(\",\",L76,1)-1)),\" def. \",LEFT(L77,(FIND(\",\",L77,1)-1)),\" \",Y76,\"-\",Y77),CONCATENATE(LEFT(L77,(FIND(\",\",L77,1)-1)),\" def. \",LEFT(L76,(FIND(\",\",L76,1)-1)),\" \",Y77,\"-\",Y76)))","v":""}]
[null,null,{"$f":"IF(AI81=\"\",\"\",IF(AI80<AI81,V80,V81))","v":""},{"$f":"IF(AI80=\"\",\"\",IF(AI80>AI81,CONCATENATE(LEFT(V80,(FIND(\",\",V80,1)-1)),\" def. \",LEFT(V81,(FIND(\",\",V81,1)-1)),\" \",AI80,\"-\",AI81),CONCATENATE(LEFT(V81,(FIND(\",\",V81,1)-1)),\" def. \",LEFT(V80,(FIND(\",\",V80,1)-1)),\" \",AI81,\"-\",AI80)))","v":""},{"$nulls":26},"Match 4"]
[null,null,{"$f":"IF(Y77=\"\",\"\",IF(Y76<Y77,L76,L77))","v":""},{"$f":"IF(AR84=\"\",\"\",IF(AR84>AR85,CONCATENATE(LEFT(AE84,(FIND(\",\",AE84,1)-1)),\" def. \",LEFT(AE85,(FIND(\",\",AE85,1)-1)),\" \",AR84,\"-\",AR85),CONCATENATE(LEFT(AE85,(FIND(\",\",AE85,1)-1)),\" def. \",LEFT(AE84,(FIND(\",\",AE84,1)-1)),\" \",AR85,\"-\",AR84)))","v":""},{"$nulls":26},{"$f":"IF('Check-In'!$D$135=12,IF(BX39=0,\"\",C56),IF('Check-In'!D135=10,IF(AJ39=0,\"\",C56),IF('Check-In'!D135=8,IF(BX23=0,\"\",C56))))","v":false}]
[null,null,{"$f":"IF(P73=\"\",\"\",IF(P72<P73,C72,C73))","v":""},{"$nulls":27},{"$f":"IF(AI81=\"\",\"\",IF(AI80>AI81,V80,V81))","v":""}]

{"sheet":"1D1GMP","index":10,"n_rows":104,"n_cols":91,"rows_kept":104,"hidden":true,"merged":[[0,0,0,60],[1,0,1,60],[2,0,2,60],[3,63,3,65],[5,2,5,14],[5,18,5,19],[5,22,5,34],[5,38,5,39],[5,42,5,54],[5,58,5,59],[6,2,6,14],[6,15,6,17],[6,18,6,19],[6,22,6,34],[6,35,6,37],[6,38,6,39],[6,42,6,54],[6,55,6,57],[6,58,6,59],[7,2,7,14],[7,15,7,17],[7,18,7,19],[7,22,7,34],[7,35,7,37],[7,38,7,39],[7,42,7,54],[7,55,7,57],[7,58,7,59],[8,2,8,14],[8,15,8,17],[8,18,8,19],[8,22,8,34],[8,35,8,37],[8,38,8,39],[8,42,8,54],[8,55,8,57],[8,58,8,59],[9,2,9,14],[9,15,9,17],[9,18,9,19],[9,22,9,34],[9,35,9,37],[9,38,9,39],[9,42,9,54],[9,55,9,57],[9,58,9,59],[10,2,10,14],[10,15,10,17],[10,18,10,19],[10,22,10,34],[10,35,10,37],[10,38,10,39],[10,42,10,54],[10,55,10,57],[10,58,10,59],[11,2,11,14],[11,15,11,17],[11,18,11,19],[11,22,11,34],[11,35,11,37],[11,38,11,39],[11,42,11,54],[11,55,11,57],[11,58,11,59],[12,2,12,14],[12,15,12,17],[12,18,12,19],[12,22,12,34],[12,35,12,37],[12,38,12,39],[12,42,12,54],[12,55,12,57],[12,58,12,59],[13,2,13,14],[13,15,13,17],[13,18,13,19],[13,22,13,34],[13,35,13,37],[13,38,13,39],[13,42,13,54],[13,55,13,57],[13,58,13,59],[14,2,14,14],[14,15,14,17],[14,18,14,19],[14,22,14,34],[14,35,14,37],[14,38,14,39],[14,42,14,54],[14,55,14,57],[14,58,14,59],[15,2,15,14],[15,15,15,17],[15,18,15,19],[15,22,15,34],[15,35,15,37],[15,38,15,39],[15,42,15,54],[15,55,15,57],[15,58,15,59],[16,2,16,14],[16,15,16,17],[16,18,16,19],[16,22,16,34],[16,35,16,37],[16,38,16,39],[16,42,16,54],[16,55,16,57],[16,58,16,59],[17,2,17,14],[17,15,17,17],[17,18,17,19],[17,22,17,34],[17,35,17,37],[17,38,17,39],[17,42,17,54],[17,55,17,57],[17,58,17,59],[18,2,18,14],[18,15,18,17],[18,18,18,19],[18,22,18,34],[18,35,18,37],[18,38,18,39],[18,42,18,54],[18,55,18,57],[18,58,18,59],[19,2,19,14],[19,15,19,17],[19,18,19,19],[19,22,19,34],[19,35,19,37],[19,38,19,39],[19,42,19,54],[19,55,19,57],[19,58,19,59],[20,2,20,14],[20,15,20,17],[20,18,20,19],[20,22,20,34],[20,35,20,37],[20,38,20,39],[20,42,20,54],[20,55,20,57],[20,58,20,59],[21,2,21,14],[21,15,21,17],[21,18,21,19],[21,22,21,34],[21,35,21,37],[21,38,21,39],[21,42,21,54],[21,55,21,57],[21,58,21,59],[22,2,22,14],[22,15,22,17],[22,18,22,19],[22,22,22,34],[22,35,22,37],[22,38,22,39],[22,42,22,54],[22,55,22,57],[22,58,22,59],[23,2,23,14],[23,15,23,17],[23,18,23,19],[23,22,23,34],[23,35,23,37],[23,38,23,39],[23,42,23,54],[23,55,23,57],[23,58,23,59],[24,2,24,14],[24,15,24,17],[24,18,24,19],[24,22,24,34],[24,35,24,37],[24,38,24,39],[24,42,24,54],[24,55,24,57],[24,58,24,59],[25,2,25,14],[25,15,25,17],[25,18,25,19],[25,22,25,34],[25,35,25,37],[25,38,25,39],[25,42,25,54],[25,55,25,57],[25,58,25,59],[26,2,26,14],[26,15,26,17],[26,18,26,19],[26,22,26,34],[26,35,26,37],[26,38,26,39],[26,42,26,54],[26,55,26,57],[26,58,26,59],[27,2,27,14],[27,15,27,17],[27,18,27,19],[27,22,27,34],[27,35,27,37],[27,38,27,39],[27,42,27,54],[27,55,27,57],[27,58,27,59],[28,2,28,14],[28,15,28,17],[28,18,28,19],[28,22,28,34],[28,35,28,37],[28,38,28,39],[28,42,28,54],[28,55,28,57],[28,58,28,59],[29,2,29,14],[29,15,29,17],[29,18,29,19],[29,22,29,34],[29,35,29,37],[29,38,29,39],[29,42,29,54],[29,55,29,57],[29,58,29,59],[33,2,33,14],[33,18,33,19],[33,22,33,34],[33,38,33,39],[33,42,33,54],[33,58,33,59],[34,2,34,14],[34,15,34,17],[34,18,34,19],[34,22,34,34],[34,35,34,37],[34,38,34,39],[34,42,34,54],[34,55,34,57],[34,58,34,59],[35,2,35,14],[35,15,35,17],[35,18,35,19],[35,22,35,34],[35,35,35,37],[35,38,35,39],[35,42,35,54],[35,55,35,57],[35,58,35,59],[36,2,36,14],[36,15,36,17],[36,18,36,19],[36,22,36,34],[36,35,36,37],[36,38,36,39],[36,42,36,54],[36,55,36,57],[36,58,36,59],[37,2,37,14],[37,15,37,17],[37,18,37,19],[37,22,37,34],[37,35,37,37],[37,38,37,39],[37,42,37,54],[37,55,37,57],[37,58,37,59],[38,2,38,14],[38,15,38,17],[38,18,38,19],[38,22,38,34],[38,35,38,37],[38,38,38,39],[38,42,38,54],[38,55,38,57],[38,58,38,59],[39,2,39,14],[39,15,39,17],[39,18,39,19],[39,22,39,34],[39,35,39,37],[39,38,39,39],[39,42,39,54],[39,55,39,57],[39,58,39,59],[40,2,40,14],[40,15,40,17],[40,18,40,19],[40,22,40,34],[40,35,40,37],[40,38,40,39],[40,42,40,54],[40,55,40,57],[40,58,40,59],[41,2,41,14],[41,15,41,17],[41,18,41,19],[41,22,41,34],[41,35,41,37],[41,38,41,39],[41,42,41,54],[41,55,41,57],[41,58,41,59],[42,2,42,14],[42,15,42,17],[42,18,42,19],[42,22,42,34],[42,35,42,37],[42,38,42,39],[42,42,42,54],[42,55,42,57],[42,58,42,59],[43,2,43,14],[43,15,43,17],[43,18,43,19],[43,22,43,34],[43,35,43,37],[43,38,43,39],[43,42,43,54],[43,55,43,57],[43,58,43,59],[44,2,44,14],[44,15,44,17],[44,18,44,19],[44,22,44,34],[44,35,44,37],[44,38,44,39],[44,42,44,54],[44,55,44,57],[44,58,44,59],[45,2,45,14],[45,15,45,17],[45,18,45,19],[45,22,45,34],[45,35,45,37],[45,38,45,39],[45,42,45,54],[45,55,45,57],[45,58,45,59],[46,2,46,14],[46,15,46,17],[46,18,46,19],[46,22,46,34],[46,35,46,37],[46,38,46,39],[46,42,46,54],[46,55,46,57],[46,58,46,59],[47,2,47,14],[47,15,47,17],[47,18,47,19],[47,22,47,34],[47,35,47,37],[47,38,47,39],[47,42,47,54],[47,55,47,57],[47,58,47,59],[48,2,48,14],[48,15,48,17],[48,18,48,19],[48,22,48,34],[48,35,48,37],[48,38,48,39],[48,42,48,54],[48,55,48,57],[48,58,48,59],[49,2,49,14],[49,15,49,17],[49,18,49,19],[49,22,49,34],[49,35,49,37],[49,38,49,39],[49,42,49,54],[49,55,49,57],[49,58,49,59],[50,2,50,14],[50,15,50,17],[50,18,50,19],[50,22,50,34],[50,35,50,37],[50,38,50,39],[50,42,50,54],[50,55,50,57],[50,58,50,59],[51,2,51,14],[51,15,51,17],[51,18,51,19],[51,22,51,34],[51,35,51,37],[51,38,51,39],[51,42,51,54],[51,55,51,57],[51,58,51,59],[52,2,52,14],[52,15,52,17],[52,18,52,19],[52,22,52,34],[52,35,52,37],[52,38,52,39],[52,42,52,54],[52,55,52,57],[52,58,52,59],[53,2,53,14],[53,15,53,17],[53,18,53,19],[53,22,53,34],[53,35,53,37],[53,38,53,39],[53,42,53,54],[53,55,53,57],[53,58,53,59],[54,2,54,14],[54,15,54,17],[54,18,54,19],[54,22,54,34],[54,35,54,37],[54,38,54,39],[54,42,54,54],[54,55,54,57],[54,58,54,59],[55,2,55,14],[55,15,55,17],[55,18,55,19],[55,22,55,34],[55,35,55,37],[55,38,55,39],[55,42,55,54],[55,55,55,57],[55,58,55,59],[56,2,56,14],[56,15,56,17],[56,18,56,19],[56,22,56,34],[56,35,56,37],[56,38,56,39],[56,42,56,54],[56,55,56,57],[56,58,56,59],[57,2,57,14],[57,15,57,17],[57,18,57,19],[57,22,57,34],[57,35,57,37],[57,38,57,39],[57,42,57,54],[57,55,57,57],[57,58,57,59],[60,45,61,48],[60,49,61,52],[60,53,61,56],[60,57,61,60],[60,61,61,61],[61,15,61,17],[61,18,61,19],[61,20,61,22],[61,23,61,24],[61,25,61,27],[61,28,61,29],[61,30,61,32],[61,33,61,34],[61,35,61,37],[61,38,61,39],[61,40,61,42],[61,43,61,44],[62,2,62,14],[62,15,62,17],[62,18,62,19],[62,20,62,22],[62,23,62,24],[62,25,62,27],[62,28,62,29],[62,30,62,32],[62,33,62,34],[62,35,62,37],[62,38,62,39],[62,40,62,42],[62,43,62,44],[62,45,62,48],[62,49,62,52],[62,53,62,56],[62,57,62,60],[63,2,63,14],[63,15,63,17],[63,18,63,19],[63,20,63,22],[63,23,63,24],[63,25,63,27],[63,28,63,29],[63,30,63,32],[63,33,63,34],[63,35,63,37],[63,38,63,39],[63,40,63,42],[63,43,63,44],[63,45,63,48],[63,49,63,52],[63,53,63,56],[63,57,63,60],[64,2,64,14],[64,15,64,17],[64,18,64,19],[64,20,64,22],[64,23,64,24],[64,25,64,27],[64,28,64,29],[64,30,64,32],[64,33,64,34],[64,35,64,37],[64,38,64,39],[64,40,64,42],[64,43,64,44],[64,45,64,48],[64,49,64,52],[64,53,64,56],[64,57,64,60],[65,2,65,14],[65,15,65,17],[65,18,65,19],[65,20,65,22],[65,23,65,24],[65,25,65,27],[65,28,65,29],[65,30,65,32],[65,33,65,34],[65,35,65,37],[65,38,65,39],[65,40,65,42],[65,43,65,44],[65,45,65,48],[65,49,65,52],[65,53,65,56],[65,57,65,60],[66,2,66,14],[66,15,66,17],[66,18,66,19],[66,20,66,22],[66,23,66,24],[66,25,66,27],[66,28,66,29],[66,30,66,32],[66,33,66,34],[66,35,66,37],[66,38,66,39],[66,40,66,42],[66,43,66,44],[66,45,66,48],[66,49,66,52],[66,53,66,56],[66,57,66,60],[67,2,67,14],[67,15,67,17],[67,18,67,19],[67,20,67,22],[67,23,67,24],[67,25,67,27],[67,28,67,29],[67,30,67,32],[67,33,67,34],[67,35,67,37],[67,38,67,39],[67,40,67,42],[67,43,67,44],[67,45,67,48],[67,49,67,52],[67,53,67,56],[67,57,67,60],[68,2,68,14],[68,15,68,17],[68,18,68,19],[68,20,68,22],[68,23,68,24],[68,25,68,27],[68,28,68,29],[68,30,68,32],[68,33,68,34],[68,35,68,37],[68,38,68,39],[68,40,68,42],[68,43,68,44],[68,45,68,48],[68,49,68,52],[68,53,68,56],[68,57,68,60],[69,2,69,14],[69,15,69,17],[69,18,69,19],[69,20,69,22],[69,23,69,24],[69,25,69,27],[69,28,69,29],[69,30,69,32],[69,33,69,34],[69,35,69,37],[69,38,69,39],[69,40,69,42],[69,43,69,44],[69,45,69,48],[69,49,69,52],[69,53,69,56],[69,57,69,60],[70,2,70,14],[70,15,70,17],[70,18,70,19],[70,20,70,22],[70,23,70,24],[70,25,70,27],[70,28,70,29],[70,30,70,32],[70,33,70,34],[70,35,70,37],[70,38,70,39],[70,40,70,42],[70,43,70,44],[70,45,70,48],[70,49,70,52],[70,53,70,56],[70,57,70,60],[71,2,71,14],[71,15,71,17],[71,18,71,19],[71,20,71,22],[71,23,71,24],[71,25,71,27],[71,28,71,29],[71,30,71,32],[71,33,71,34],[71,35,71,37],[71,38,71,39],[71,40,71,42],[71,43,71,44],[71,45,71,48],[71,49,71,52],[71,53,71,56],[71,57,71,60],[72,2,72,14],[72,15,72,17],[72,18,72,19],[72,20,72,22],[72,23,72,24],[72,25,72,27],[72,28,72,29],[72,30,72,32],[72,33,72,34],[72,35,72,37],[72,38,72,39],[72,40,72,42],[72,43,72,44],[72,45,72,48],[72,49,72,52],[72,53,72,56],[72,57,72,60],[73,2,73,14],[73,15,73,17],[73,18,73,19],[73,20,73,22],[73,23,73,24],[73,25,73,27],[73,28,73,29],[73,30,73,32],[73,33,73,34],[73,35,73,37],[73,38,73,39],[73,40,73,42],[73,43,73,44],[73,45,73,48],[73,49,73,52],[73,53,73,56],[73,57,73,60],[74,2,74,14],[74,15,74,17],[74,18,74,19],[74,20,74,22],[74,23,74,24],[74,25,74,27],[74,28,74,29],[74,30,74,32],[74,33,74,34],[74,35,74,37],[74,38,74,39],[74,40,74,42],[74,43,74,44],[74,45,74,48],[74,49,74,52],[74,53,74,56],[74,57,74,60],[75,2,75,14],[75,15,75,17],[75,18,75,19],[75,20,75,22],[75,23,75,24],[75,25,75,27],[75,28,75,29],[75,30,75,32],[75,33,75,34],[75,35,75,37],[75,38,75,39],[75,40,75,42],[75,43,75,44],[75,45,75,48],[75,49,75,52],[75,53,75,56],[75,57,75,60],[76,2,76,14],[76,15,76,17],[76,18,76,19],[76,20,76,22],[76,23,76,24],[76,25,76,27],[76,28,76,29],[76,30,76,32],[76,33,76,34],[76,35,76,37],[76,38,76,39],[76,40,76,42],[76,43,76,44],[76,45,76,48],[76,49,76,52],[76,53,76,56],[76,57,76,60],[77,2,77,14],[77,15,77,17],[77,18,77,19],[77,20,77,22],[77,23,77,24],[77,25,77,27],[77,28,77,29],[77,30,77,32],[77,33,77,34],[77,35,77,37],[77,38,77,39],[77,40,77,42],[77,43,77,44],[77,45,77,48],[77,49,77,52],[77,53,77,56],[77,57,77,60],[78,2,78,14],[78,15,78,17],[78,18,78,19],[78,20,78,22],[78,23,78,24],[78,25,78,27],[78,28,78,29],[78,30,78,32],[78,33,78,34],[78,35,78,37],[78,38,78,39],[78,40,78,42],[78,43,78,44],[78,45,78,48],[78,49,78,52],[78,53,78,56],[78,57,78,60],[79,2,79,14],[79,15,79,17],[79,18,79,19],[79,20,79,22],[79,23,79,24],[79,25,79,27],[79,28,79,29],[79,30,79,32],[79,33,79,34],[79,35,79,37],[79,38,79,39],[79,40,79,42],[79,43,79,44],[79,45,79,48],[79,49,79,52],[79,53,79,56],[79,57,79,60],[80,2,80,14],[80,15,80,17],[80,18,80,19],[80,20,80,22],[80,23,80,24],[80,25,80,27],[80,28,80,29],[80,30,80,32],[80,33,80,34],[80,35,80,37],[80,38,80,39],[80,40,80,42],[80,43,80,44],[80,45,80,48],[80,49,80,52],[80,53,80,56],[80,57,80,60],[81,2,81,14],[81,15,81,17],[81,18,81,19],[81,20,81,22],[81,23,81,24],[81,25,81,27],[81,28,81,29],[81,30,81,32],[81,33,81,34],[81,35,81,37],[81,38,81,39],[81,40,81,42],[81,43,81,44],[81,45,81,48],[81,49,81,52],[81,53,81,56],[81,57,81,60],[82,2,82,14],[82,15,82,17],[82,18,82,19],[82,20,82,22],[82,23,82,24],[82,25,82,27],[82,28,82,29],[82,30,82,32],[82,33,82,34],[82,35,82,37],[82,38,82,39],[82,40,82,42],[82,43,82,44],[82,45,82,48],[82,49,82,52],[82,53,82,56],[82,57,82,60],[83,2,83,14],[83,15,83,17],[83,18,83,19],[83,20,83,22],[83,23,83,24],[83,25,83,27],[83,28,83,29],[83,30,83,32],[83,33,83,34],[83,35,83,37],[83,38,83,39],[83,40,83,42],[83,43,83,44],[83,45,83,48],[83,49,83,52],[83,53,83,56],[83,57,83,60],[84,2,84,14],[84,15,84,17],[84,18,84,19],[84,20,84,22],[84,23,84,24],[84,25,84,27],[84,28,84,29],[84,30,84,32],[84,33,84,34],[84,35,84,37],[84,38,84,39],[84,40,84,42],[84,43,84,44],[84,45,84,48],[84,49,84,52],[84,53,84,56],[84,57,84,60],[85,2,85,14],[85,15,85,17],[85,18,85,19],[85,20,85,22],[85,23,85,24],[85,25,85,27],[85,28,85,29],[85,30,85,32],[85,33,85,34],[85,35,85,37],[85,38,85,39],[85,40,85,42],[85,43,85,44],[85,45,85,48],[85,49,85,52],[85,53,85,56],[85,57,85,60],[86,15,86,17],[86,20,86,22],[86,25,86,27],[86,30,86,32],[86,35,86,37],[86,40,86,42],[90,2,90,14],[90,15,90,17],[91,2,91,14],[91,15,91,17],[94,11,94,23],[94,24,94,26],[95,11,95,23],[95,24,95,26],[98,21,98,33],[98,34,98,36],[99,21,99,33],[99,34,99,36],[102,30,102,42],[102,43,102,45],[103,30,103,42],[103,43,103,45]]}
[{"$f":"'Check-In'!$B$1","v":"Midwest Senior Classic"}]
[{"$f":"'Check-In'!$B$2","v":"2022-04-24"}]
[{"$f":"'Check-In'!$B$3","v":"Cedarvale"}]
[{"$nulls":63},"Starting Lane",null,null,7]
[]
[null,null,"Game 1",{"$nulls":15},"B",{"$nulls":3},"Game 2",{"$nulls":15},"B",{"$nulls":3},"Game 3",{"$nulls":15},"B",{"$nulls":4},"Bowler","G1","G2","G3","G4","G5","G6",{"$nulls":4},"G1","B","G2","B","G3","B","G4","B","G5","B","G6","B","Qual","MP","B","GT","+ / -"]
[null,1,{"$f":"INDEX($BT$7:$BV$30,MATCH(B7,$BU$7:$BU$30,0),3)","v":"JONES, TOM"},{"$nulls":15},{"$f":"IF(P7=\"\",\"\",IF(P7>P8,30,IF(P7=P8,15,0)))","v":""},null,null,{"$f":"IF(Payout2>=24,7,IF(Payout2>=22,20,IF(Payout2>=20,3,IF(Payout2>=18,3,IF(Payout2>=16,13,IF(Payout2>=14,8,IF(Payout2>=12,4,IF(Payout2>=10,7,IF(Payout2>=8,6,5)))))))))","v":3},{"$f":"INDEX($BT$7:$BV$30,MATCH(V7,$BU$7:$BU$30,0),3)","v":"LANGER, DAVE"},{"$nulls":15},{"$f":"IF(AJ7=\"\",\"\",IF(AJ7>AJ8,30,IF(AJ7=AJ8,15,0)))","v":""},null,null,{"$f":"IF(Payout2>=24,3,IF(Payout2>=22,3,IF(Payout2>=20,8,IF(Payout2>=18,5,IF(Payout2>=16,9,IF(Payout2>=14,7,IF(Payout2>=12,9,IF(Payout2>=10,4,IF(Payout2>=8,5,3)))))))))","v":8},{"$f":"INDEX($BT$7:$BV$30,MATCH(AP7,$BU$7:$BU$30,0),3)","v":"OULMAN, DAVE"},{"$nulls":15},{"$f":"IF(BD7=\"\",\"\",IF(BD7>BD8,30,IF(BD7=BD8,15,0)))","v":""},{"$nulls":4},1,{"$f":"IF(ISNA(MATCH($BL7,$B$7:$B$30,0)),\"\",$BO$4-1+MATCH($BL7,$B$7:$B$30,0))","v":7},{"$f":"IF(ISNA(MATCH($BL7,$V$7:$V$30,0)),\"\",$BO$4-1+MATCH($BL7,$V$7:$V$30,0))","v":18},{"$f":"IF(ISNA(MATCH($BL7,$AP$7:$AP$30,0)),\"\",$BO$4-1+MATCH($BL7,$AP$7:$AP$30,0))","v":25},{"$f":"IF(ISNA(MATCH($BL7,$B$35:$B$58,0)),\"\",$BO$4-1+MATCH($BL7,$B$35:$B$58,0))","v":23},{"$f":"IF(ISNA(MATCH($BL7,$V$35:$V$58,0)),\"\",$BO$4-1+MATCH($BL7,$V$35:$V$58,0))","v":11},"P",null,1,8,{"$f":"IF(MPNo<>\"\", IF(MPNo<BT7,\"\",Qual!$C8),IF(MPNo<BT7,\"\",Qual!$C8))","v":"OULMAN, DAVE"},{"$f":"INDEX($B$7:$T$30,MATCH(BV7,$C$7:$C$30,0),15)","v":0},{"$f":"INDEX($B$7:$T$30,MATCH(BV7,$C$7:$C$30,0),18)","v":""},{"$f":"INDEX($V$7:$AN$30,MATCH(BV7,$W$7:$W$30,0),15)","v":0},{"$f":"INDEX($V$7:$AN$30,MATCH(BV7,$W$7:$W$30,0),18)","v":""},{"$f":"INDEX($AP$7:$BH$30,MATCH(BV7,$AQ$7:$AQ$30,0),15)","v":0},{"$f":"INDEX($AP$7:$BH$30,MATCH(BV7,$AQ$7:$AQ$30,0),18)","v":""},{"$f":"INDEX($B$35:$T$58,MATCH(BV7,$C$35:$C$58,0),15)","v":0},{"$f":"INDEX($B$35:$T$58,MATCH(BV7,$C$35:$C$58,0),18)","v":""},{"$f":"INDEX($V$35:$AN$58,MATCH(BV7,$W$35:$W$58,0),15)","v":0},{"$f":"INDEX($V$35:$AN$58,MATCH(BV7,$W$35:$W$58,0),18)","v":""},{"$f":"INDEX($AP$35:$BH$58,MATCH(BV7,$AQ$35:$AQ$58,0),15)","v":0},{"$f":"INDEX($AP$35:$BH$58,MATCH(BV7,$AQ$35:$AQ$58,0),18)","v":""},{"$f":"IF(Master!$B$4=\"Y\",INDEX(Qual!$C$8:$V$31,MATCH(BV7,Qual!$C$8:$C$31,0),20),0)","v":0},{"$f":"BW7+BY7+CA7+CC7+CE7+CG7","v":0},{"$f":"IF(BX7=\"\",0,BX7)+IF(BZ7=\"\",0,BZ7)+IF(CB7=\"\",0,CB7)+IF(CD7=\"\",0,CD7)+IF(CF7=\"\",0,CF7)+IF(CH7=\"\",0,CH7)","v":0},{"$f":"CI7+CJ7+CK7","v":0},{"$f":"IF(Master!$B$4=\"Y\",(IF(CG7>0,CL7-2800,IF(CE7>0,CL7-2600,IF(CC7>0,CL7-2400,IF(CA7>0,CL7-2200,IF(BY7>0,CL7-2000,IF(BW7>0,CL7-3000,CL7-0))))))),(IF(CG7>0,CL7-1200,IF(CE7>0,CL7-1000,IF(CC7>0,CL7-800,IF(CA7>0,CL7-600,IF(BY7>0,CL7-400,IF(BW7>0,CL7-200,CL7-0))))))))","v":0}]
[null,2,{"$f":"INDEX($BT$7:$BV$30,MATCH(B8,$BU$7:$BU$30,0),3)","v":"DOWNER, ROB"},{"$nulls":15},{"$f":"IF(P8=\"\",\"\",IF(P8>P7,30,IF(P8=P7,15,0)))","v":""},null,null,{"$f":"IF(Payout2>=24,6,IF(Payout2>=22,5,IF(Payout2>=20,11,IF(Payout2>=18,6,IF(Payout2>=16,12,IF(Payout2>=14,5,IF(Payout2>=12,5,IF(Payout2>=10,3,IF(Payout2>=8,8,4)))))))))","v":11},"BIRKEDAHL, LARRY",{"$nulls":15},{"$f":"IF(AJ8=\"\",\"\",IF(AJ8>AJ7,30,IF(AJ8=AJ7,15,0)))","v":""},null,null,{"$f":"IF(Payout2>=24,8,IF(Payout2>=22,16,IF(Payout2>=20,13,IF(Payout2>=18,4,IF(Payout2>=16,16,IF(Payout2>=14,6,IF(Payout2>=12,3,IF(Payout2>=10,5,IF(Payout2>=8,4,1)))))))))","v":13},"VANSLEET, TODD",{"$nulls":15},{"$f":"IF(BD8=\"\",\"\",IF(BD8>BD7,30,IF(BD8=BD7,15,0)))","v":""},{"$nulls":4},2,{"$f":"IF(ISNA(MATCH($BL8,$B$7:$B$30,0)),\"\",$BO$4-1+MATCH($BL8,$B$7:$B$30,0))","v":8},{"$f":"IF(ISNA(MATCH($BL8,$V$7:$V$30,0)),\"\",$BO$4-1+MATCH($BL8,$V$7:$V$30,0))","v":9},{"$f":"IF(ISNA(MATCH($BL8,$AP$7:$AP$30,0)),\"\",$BO$4-1+MATCH($BL8,$AP$7:$AP$30,0))","v":19},{"$f":"IF(ISNA(MATCH($BL8,$B$35:$B$58,0)),\"\",$BO$4-1+MATCH($BL8,$B$35:$B$58,0))","v":25},{"$f":"IF(ISNA(MATCH($BL8,$V$35:$V$58,0)),\"\",$BO$4-1+MATCH($BL8,$V$35:$V$58,0))","v":22},"P",null,2,7,{"$f":"IF(MPNo<>\"\", IF(MPNo<BT8,\"\",Qual!$C9),IF(MPNo<BT8,\"\",Qual!$C9))","v":"CAUGHEY, STEVE"},0,"",0,"",0,"",0,"",0,"",0,"",{"$f":"IF(Master!$B$4=\"Y\",INDEX(Qual!$C$8:$V$31,MATCH(BV8,Qual!$C$8:$C$31,0),20),0)","v":0},0,0,0,{"$f":"IF(Master!$B$4=\"Y\",(IF(CG8>0,CL8-2800,IF(CE8>0,CL8-2600,IF(CC8>0,CL8-2400,IF(CA8>0,CL8-2200,IF(BY8>0,CL8-2000,IF(BW8>0,CL8-3000,CL8-0))))))),(IF(CG8>0,CL8-1200,IF(CE8>0,CL8-1000,IF(CC8>0,CL8-800,IF(CA8>0,CL8-600,IF(BY8>0,CL8-400,IF(BW8>0,CL8-200,CL8-0))))))))","v":0}]
[null,3,"LANGER, DAVE",{"$nulls":15},{"$f":"IF(P9=\"\",\"\",IF(P9>P10,30,IF(P9=P10,15,0)))","v":""},null,null,{"$f":"IF(Payout2>=24,5,IF(Payout2>=22,21,IF(Payout2>=20,2,IF(Payout2>=18,5,IF(Payout2>=16,6,IF(Payout2>=14,7,IF(Payout2>=12,6,IF(Payout2>=10,1,IF(Payout2>=8,5,1)))))))))","v":2},"DOWNER, ROB",{"$nulls":15},{"$f":"IF(AJ9=\"\",\"\",IF(AJ9>AJ10,30,IF(AJ9=AJ10,15,0)))","v":""},null,null,{"$f":"IF(Payout2>=24,1,IF(Payout2>=22,19,IF(Payout2>=20,11,IF(Payout2>=18,2,IF(Payout2>=16,8,IF(Payout2>=14,8,IF(Payout2>=12,1,IF(Payout2>=10,9,IF(Payout2>=8,1,2)))))))))","v":11},"BIRKEDAHL, LARRY",{"$nulls":15},{"$f":"IF(BD9=\"\",\"\",IF(BD9>BD10,30,IF(BD9=BD10,15,0)))","v":""},{"$nulls":4},3,9,7,17,13,23,"P",null,3,6,{"$f":"IF(MPNo<>\"\", IF(MPNo<BT9,\"\",Qual!$C10),IF(MPNo<BT9,\"\",Qual!$C10))","v":"JENSEN, WAYNE"},0,"",0,"",0,"",0,"",0,"",0,"",{"$f":"IF(Master!$B$4=\"Y\",INDEX(Qual!$C$8:$V$31,MATCH(BV9,Qual!$C$8:$C$31,0),20),0)","v":0},0,0,0,{"$f":"IF(Master!$B$4=\"Y\",(IF(CG9>0,CL9-2800,IF(CE9>0,CL9-2600,IF(CC9>0,CL9-2400,IF(CA9>0,CL9-2200,IF(BY9>0,CL9-2000,IF(BW9>0,CL9-3000,CL9-0))))))),(IF(CG9>0,CL9-1200,IF(CE9>0,CL9-1000,IF(CC9>0,CL9-800,IF(CA9>0,CL9-600,IF(BY9>0,CL9-400,IF(BW9>0,CL9-200,CL9-0))))))))","v":0}]
[null,4,"HOMMES, JOHN",{"$nulls":15},{"$f":"IF(P10=\"\",\"\",IF(P10>P9,30,IF(P10=P9,15,0)))","v":""},null,null,{"$f":"IF(Payout2>=24,8,IF(Payout2>=22,15,IF(Payout2>=20,13,IF(Payout2>=18,1,IF(Payout2>=16,15,IF(Payout2>=14,10,IF(Payout2>=12,2,IF(Payout2>=10,6,IF(Payout2>=8,7,6)))))))))","v":13},"VANSLEET, TODD",{"$nulls":15},{"$f":"IF(AJ10=\"\",\"\",IF(AJ10>AJ9,30,IF(AJ10=AJ9,15,0)))","v":""},null,null,{"$f":"IF(Payout2>=24,6,IF(Payout2>=22,7,IF(Payout2>=20,19,IF(Payout2>=18,6,IF(Payout2>=16,14,IF(Payout2>=14,9,IF(Payout2>=12,10,IF(Payout2>=10,8,IF(Payout2>=8,8,5)))))))))","v":19},"STOEBNER, JOHN",{"$nulls":15},{"$f":"IF(BD10=\"\",\"\",IF(BD10>BD9,30,IF(BD10=BD9,15,0)))","v":""},{"$nulls":4},4,10,19,26,21,15,"P",null,4,5,{"$f":"IF(MPNo<>\"\", IF(MPNo<BT10,\"\",Qual!$C11),IF(MPNo<BT10,\"\",Qual!$C11))","v":"SAVOY, TODD"},0,"",0,"",0,"",0,"",0,"",0,"",{"$f":"IF(Master!$B$4=\"Y\",INDEX(Qual!$C$8:$V$31,MATCH(BV10,Qual!$C$8:$C$31,0),20),0)","v":0},0,0,0,{"$f":"IF(Master!$B$4=\"Y\",(IF(CG10>0,CL10-2800,IF(CE10>0,CL10-2600,IF(CC10>0,CL10-2400,IF(CA10>0,CL10-2200,IF(BY10>0,CL10-2000,IF(BW10>0,CL10-3000,CL10-0))))))),(IF(CG10>0,CL10-1200,IF(CE10>0,CL10-1000,IF(CC10>0,CL10-800,IF(CA10>0,CL10-600,IF(BY10>0,CL10-400,IF(BW10>0,CL10-200,CL10-0))))))))","v":0}]
[null,5,"SAVOY, TODD",{"$nulls":15},{"$f":"IF(P11=\"\",\"\",IF(P11>P12,30,IF(P11=P12,15,0)))","v":""},null,null,{"$f":"IF(Payout2>=24,3,IF(Payout2>=22,2,IF(Payout2>=20,9,IF(Payout2>=18,2,IF(Payout2>=16,8,IF(Payout2>=14,2,IF(Payout2>=12,12,IF(Payout2>=10,2,IF(Payout2>=8,2,2)))))))))","v":9},"HAVLISH, TOM",{"$nulls":15},{"$f":"IF(AJ11=\"\",\"\",IF(AJ11>AJ12,30,IF(AJ11=AJ12,15,0)))","v":""},null,null,{"$f":"IF(Payout2>=24,7,IF(Payout2>=22,20,IF(Payout2>=20,15,IF(Payout2>=18,3,IF(Payout2>=16,15,IF(Payout2>=14,1,IF(Payout2>=12,11,IF(Payout2>=10,10,IF(Payout2>=8,7,6)))))))))","v":15},"PESCH, JOHN",{"$nulls":15},{"$f":"IF(BD11=\"\",\"\",IF(BD11>BD12,30,IF(BD11=BD12,15,0)))","v":""},{"$nulls":4},5,11,15,22,26,19,"P",null,5,4,{"$f":"IF(MPNo<>\"\", IF(MPNo<BT11,\"\",Qual!$C12),IF(MPNo<BT11,\"\",Qual!$C12))","v":"HOMMES, JOHN"},0,"",0,"",0,"",0,"",0,"",0,"",{"$f":"IF(Master!$B$4=\"Y\",INDEX(Qual!$C$8:$V$31,MATCH(BV11,Qual!$C$8:$C$31,0),20),0)","v":0},0,0,0,{"$f":"IF(Master!$B$4=\"Y\",(IF(CG11>0,CL11-2800,IF(CE11>0,CL11-2600,IF(CC11>0,CL11-2400,IF(CA11>0,CL11-2200,IF(BY11>0,CL11-2000,IF(BW11>0,CL11-3000,CL11-0))))))),(IF(CG11>0,CL11-1200,IF(CE11>0,CL11-1000,IF(CC11>0,CL11-800,IF(CA11>0,CL11-600,IF(BY11>0,CL11-400,IF(BW11>0,CL11-200,CL11-0))))))))","v":0}]
[null,6,"JENSEN, WAYNE",{"$nulls":15},{"$f":"IF(P12=\"\",\"\",IF(P12>P11,30,IF(P12=P11,15,0)))","v":""},null,null,{"$f":"IF(Payout2>=24,2,IF(Payout2>=22,3,IF(Payout2>=20,18,IF(Payout2>=18,4,IF(Payout2>=16,3,IF(Payout2>=14,11,IF(Payout2>=12,3,IF(Payout2>=10,9,IF(Payout2>=8,4,3)))))))))","v":18},"BORDSON, DAVE",{"$nulls":15},{"$f":"IF(AJ12=\"\",\"\",IF(AJ12>AJ11,30,IF(AJ12=AJ11,15,0)))","v":""},null,null,{"$f":"IF(Payout2>=24,4,IF(Payout2>=22,14,IF(Payout2>=20,7,IF(Payout2>=18,1,IF(Payout2>=16,10,IF(Payout2>=14,12,IF(Payout2>=12,4,IF(Payout2>=10,1,IF(Payout2>=8,3,4)))))))))","v":7},"CAUGHEY, STEVE",{"$nulls":15},{"$f":"IF(BD12=\"\",\"\",IF(BD12>BD11,30,IF(BD12=BD11,15,0)))","v":""},{"$nulls":4},6,12,24,14,18,8,"P",null,6,3,{"$f":"IF(MPNo<>\"\", IF(MPNo<BT12,\"\",Qual!$C13),IF(MPNo<BT12,\"\",Qual!$C13))","v":"LANGER, DAVE"},0,"",0,"",0,"",0,"",0,"",0,"",{"$f":"IF(Master!$B$4=\"Y\",INDEX(Qual!$C$8:$V$31,MATCH(BV12,Qual!$C$8:$C$31,0),20),0)","v":0},0,0,0,{"$f":"IF(Master!$B$4=\"Y\",(IF(CG12>0,CL12-2800,IF(CE12>0,CL12-2600,IF(CC12>0,CL12-2400,IF(CA12>0,CL12-2200,IF(BY12>0,CL12-2000,IF(BW12>0,CL12-3000,CL12-0))))))),(IF(CG12>0,CL12-1200,IF(CE12>0,CL12-1000,IF(CC12>0,CL12-800,IF(CA12>0,CL12-600,IF(BY12>0,CL12-400,IF(BW12>0,CL12-200,CL12-0))))))))","v":0}]
[null,{"$f":"IF(Payout2>=24,7,IF(Payout2>=22,7,IF(Payout2>=20,7,IF(Payout2>=18,7,IF(Payout2>=16,7,IF(Payout2>=14,7,IF(Payout2>=12,7,IF(Payout2>=10,7,IF(Payout2>=8,7,\"\")))))))))","v":7},"CAUGHEY, STEVE",{"$nulls":15},{"$f":"IF(P13=\"\",\"\",IF(P13>P14,30,IF(P13=P14,15,0)))","v":""},null,null,{"$f":"IF(Payout2>=24,1,IF(Payout2>=22,9,IF(Payout2>=20,17,IF(Payout2>=18,11,IF(Payout2>=16,10,IF(Payout2>=14,3,IF(Payout2>=12,9,IF(Payout2>=10,5,IF(Payout2>=8,1,\"\")))))))))","v":17},"WRIGHT, DANA",{"$nulls":15},{"$f":"IF(AJ13=\"\",\"\",IF(AJ13>AJ14,30,IF(AJ13=AJ14,15,0)))","v":""},null,null,{"$f":"IF(Payout2>=24,5,IF(Payout2>=22,18,IF(Payout2>=20,10,IF(Payout2>=18,9,IF(Payout2>=16,11,IF(Payout2>=14,4,IF(Payout2>=12,5,IF(Payout2>=10,3,IF(Payout2>=8,2,\"\")))))))))","v":10},"GREEN, GARY",{"$nulls":15},{"$f":"IF(BD13=\"\",\"\",IF(BD13>BD14,30,IF(BD13=BD14,15,0)))","v":""},{"$nulls":4},7,13,23,12,15,21,"P",null,7,2,{"$f":"IF(MPNo<>\"\", IF(MPNo<BT13,\"\",Qual!$C14),IF(MPNo<BT13,\"\",Qual!$C14))","v":"DOWNER, ROB"},0,"",0,"",0,"",0,"",0,"",0,"",{"$f":"IF(Master!$B$4=\"Y\",INDEX(Qual!$C$8:$V$31,MATCH(BV13,Qual!$C$8:$C$31,0),20),0)","v":0},0,0,0,{"$f":"IF(Master!$B$4=\"Y\",(IF(CG13>0,CL13-2800,IF(CE13>0,CL13-2600,IF(CC13>0,CL13-2400,IF(CA13>0,CL13-2200,IF(BY13>0,CL13-2000,IF(BW13>0,CL13-3000,CL13-0))))))),(IF(CG13>0,CL13-1200,IF(CE13>0,CL13-1000,IF(CC13>0,CL13-800,IF(CA13>0,CL13-600,IF(BY13>0,CL13-400,IF(BW13>0,CL13-200,CL13-0))))))))","v":0}]
[null,{"$f":"IF(Payout2>=24,8,IF(Payout2>=22,8,IF(Payout2>=20,8,IF(Payout2>=18,8,IF(Payout2>=16,8,IF(Payout2>=14,8,IF(Payout2>=12,8,IF(Payout2>=10,8,IF(Payout2>=8,8,\"\")))))))))","v":8},"OULMAN, DAVE",{"$nulls":15},{"$f":"IF(P14=\"\",\"\",IF(P14>P13,30,IF(P14=P13,15,0)))","v":""},null,null,{"$f":"IF(Payout2>=24,4,IF(Payout2>=22,22,IF(Payout2>=20,12,IF(Payout2>=18,10,IF(Payout2>=16,5,IF(Payout2>=14,1,IF(Payout2>=12,11,IF(Payout2>=10,10,IF(Payout2>=8,3,\"\")))))))))","v":12},"DAVIS, SCOTT",{"$nulls":15},{"$f":"IF(AJ14=\"\",\"\",IF(AJ14>AJ13,30,IF(AJ14=AJ13,15,0)))","v":""},null,null,{"$f":"IF(Payout2>=24,2,IF(Payout2>=22,11,IF(Payout2>=20,6,IF(Payout2>=18,12,IF(Payout2>=16,3,IF(Payout2>=14,2,IF(Payout2>=12,12,IF(Payout2>=10,2,IF(Payout2>=8,6,\"\")))))))))","v":6},"JENSEN, WAYNE",{"$nulls":15},{"$f":"IF(BD14=\"\",\"\",IF(BD14>BD13,30,IF(BD14=BD13,15,0)))","v":""},{"$nulls":4},8,14,17,7,10,20,"P",null,8,1,{"$f":"IF(MPNo<>\"\", IF(MPNo<BT14,\"\",Qual!$C15),IF(MPNo<BT14,\"\",Qual!$C15))","v":"JONES, TOM"},0,"",0,"",0,"",0,"",0,"",0,"",{"$f":"IF(Master!$B$4=\"Y\",INDEX(Qual!$C$8:$V$31,MATCH(BV14,Qual!$C$8:$C$31,0),20),0)","v":0},0,0,0,{"$f":"IF(Master!$B$4=\"Y\",(IF(CG14>0,CL14-2800,IF(CE14>0,CL14-2600,IF(CC14>0,CL14-2400,IF(CA14>0,CL14-2200,IF(BY14>0,CL14-2000,IF(BW14>0,CL14-3000,CL14-0))))))),(IF(CG14>0,CL14-1200,IF(CE14>0,CL14-1000,IF(CC14>0,CL14-800,IF(CA14>0,CL14-600,IF(BY14>0,CL14-400,IF(BW14>0,CL14-200,CL14-0))))))))","v":0}]
[null,{"$f":"IF(Payout2>=24,9,IF(Payout2>=22,9,IF(Payout2>=20,9,IF(Payout2>=18,9,IF(Payout2>=16,9,IF(Payout2>=14,9,IF(Payout2>=12,9,IF(Payout2>=10,9,IF(Payout2>=8,\"\",\"\")))))))))","v":9},"HAVLISH, TOM",{"$nulls":15},{"$f":"IF(P15=\"\",\"\",IF(P15>P16,30,IF(P15=P16,15,0)))","v":""},null,null,{"$f":"IF(Payout2>=24,15,IF(Payout2>=22,11,IF(Payout2>=20,5,IF(Payout2>=18,7,IF(Payout2>=16,11,IF(Payout2>=14,14,IF(Payout2>=12,1,IF(Payout2>=10,8,IF(Payout2>=8,\"\",\"\")))))))))","v":5},"SAVOY, TODD",{"$nulls":15},{"$f":"IF(AJ15=\"\",\"\",IF(AJ15>AJ16,30,IF(AJ15=AJ16,15,0)))","v":""},null,null,{"$f":"IF(Payout2>=24,11,IF(Payout2>=22,13,IF(Payout2>=20,20,IF(Payout2>=18,11,IF(Payout2>=16,5,IF(Payout2>=14,13,IF(Payout2>=12,8,IF(Payout2>=10,6,IF(Payout2>=8,\"\",\"\")))))))))","v":20},"PETERSON, ED",{"$nulls":15},{"$f":"IF(BD15=\"\",\"\",IF(BD15>BD16,30,IF(BD15=BD16,15,0)))","v":""},{"$nulls":4},9,15,11,23,14,18,"P",null,9,10,{"$f":"IF(MPNo<>\"\", IF(MPNo<BT15,\"\",Qual!$C16),IF(MPNo<BT15,\"\",Qual!$C16))","v":"GREEN, GARY"},0,"",0,"",0,"",0,"",0,"",0,"",{"$f":"IF(Master!$B$4=\"Y\",INDEX(Qual!$C$8:$V$31,MATCH(BV15,Qual!$C$8:$C$31,0),20),0)","v":0},0,0,0,{"$f":"IF(Master!$B$4=\"Y\",(IF(CG15>0,CL15-2800,IF(CE15>0,CL15-2600,IF(CC15>0,CL15-2400,IF(CA15>0,CL15-2200,IF(BY15>0,CL15-2000,IF(BW15>0,CL15-3000,CL15-0))))))),(IF(CG15>0,CL15-1200,IF(CE15>0,CL15-1000,IF(CC15>0,CL15-800,IF(CA15>0,CL15-600,IF(BY15>0,CL15-400,IF(BW15>0,CL15-200,CL15-0))))))))","v":0}]
[null,{"$f":"IF(Payout2>=24,10,IF(Payout2>=22,10,IF(Payout2>=20,10,IF(Payout2>=18,10,IF(Payout2>=16,10,IF(Payout2>=14,10,IF(Payout2>=12,10,IF(Payout2>=10,10,IF(Payout2>=8,\"\",\"\")))))))))","v":10},"GREEN, GARY",{"$nulls":15},{"$f":"IF(P16=\"\",\"\",IF(P16>P15,30,IF(P16=P15,15,0)))","v":""},null,null,{"$f":"IF(Payout2>=24,14,IF(Payout2>=22,8,IF(Payout2>=20,15,IF(Payout2>=18,12,IF(Payout2>=16,7,IF(Payout2>=14,4,IF(Payout2>=12,7,IF(Payout2>=10,4,IF(Payout2>=8,\"\",\"\")))))))))","v":15},"PESCH, JOHN",{"$nulls":15},{"$f":"IF(AJ16=\"\",\"\",IF(AJ16>AJ15,30,IF(AJ16=AJ15,15,0)))","v":""},null,null,{"$f":"IF(Payout2>=24,16,IF(Payout2>=22,22,IF(Payout2>=20,18,IF(Payout2>=18,8,IF(Payout2>=16,2,IF(Payout2>=14,3,IF(Payout2>=12,2,IF(Payout2>=10,7,IF(Payout2>=8,\"\",\"\")))))))))","v":18},"BORDSON, DAVE",{"$nulls":15},{"$f":"IF(BD16=\"\",\"\",IF(BD16>BD15,30,IF(BD16=BD15,15,0)))","v":""},{"$nulls":4},10,16,22,13,19,9,"P",null,10,9,{"$f":"IF(MPNo<>\"\", IF(MPNo<BT16,\"\",Qual!$C17),IF(MPNo<BT16,\"\",Qual!$C17))","v":"HAVLISH, TOM"},0,"",0,"",0,"",0,"",0,"",0,"",{"$f":"IF(Master!$B$4=\"Y\",INDEX(Qual!$C$8:$V$31,MATCH(BV16,Qual!$C$8:$C$31,0),20),0)","v":0},0,0,0,{"$f":"IF(Master!$B$4=\"Y\",(IF(CG16>0,CL16-2800,IF(CE16>0,CL16-2600,IF(CC16>0,CL16-2400,IF(CA16>0,CL16-2200,IF(BY16>0,CL16-2000,IF(BW16>0,CL16-3000,CL16-0))))))),(IF(CG16>0,CL16-1200,IF(CE16>0,CL16-1000,IF(CC16>0,CL16-800,IF(CA16>0,CL16-600,IF(BY16>0,CL16-400,IF(BW16>0,CL16-200,CL16-0))))))))","v":0}]
[null,{"$f":"IF(Payout2>=24,11,IF(Payout2>=22,11,IF(Payout2>=20,11,IF(Payout2>=18,11,IF(Payout2>=16,11,IF(Payout2>=14,11,IF(Payout2>=12,11,IF(Payout2>=10,\"\",IF(Payout2>=8,\"\",\"\")))))))))","v":11},"BIRKEDAHL, LARRY",{"$nulls":15},{"$f":"IF(P17=\"\",\"\",IF(P17>P18,30,IF(P17=P18,15,0)))","v":""},null,null,{"$f":"IF(Payout2>=24,13,IF(Payout2>=22,13,IF(Payout2>=20,8,IF(Payout2>=18,9,IF(Payout2>=16,9,IF(Payout2>=14,6,IF(Payout2>=12,10,IF(Payout2>=10,\"\",IF(Payout2>=8,\"\",\"\")))))))))","v":8},"OULMAN, DAVE",{"$nulls":15},{"$f":"IF(AJ17=\"\",\"\",IF(AJ17>AJ18,30,IF(AJ17=AJ18,15,0)))","v":""},null,null,{"$f":"IF(Payout2>=24,9,IF(Payout2>=22,8,IF(Payout2>=20,3,IF(Payout2>=18,7,IF(Payout2>=16,7,IF(Payout2>=14,5,IF(Payout2>=12,6,IF(Payout2>=10,\"\",IF(Payout2>=8,\"\",\"\")))))))))","v":3},"LANGER, DAVE",{"$nulls":15},{"$f":"IF(BD17=\"\",\"\",IF(BD17>BD18,30,IF(BD17=BD18,15,0)))","v":""},{"$nulls":4},11,17,8,9,20,26,"P",null,11,12,{"$f":"IF(MPNo<>\"\", IF(MPNo<BT17,\"\",Qual!$C18),IF(MPNo<BT17,\"\",Qual!$C18))","v":"DAVIS, SCOTT"},0,"",0,"",0,"",0,"",0,"",0,"",{"$f":"IF(Master!$B$4=\"Y\",INDEX(Qual!$C$8:$V$31,MATCH(BV17,Qual!$C$8:$C$31,0),20),0)","v":0},0,0,0,{"$f":"IF(Master!$B$4=\"Y\",(IF(CG17>0,CL17-2800,IF(CE17>0,CL17-2600,IF(CC17>0,CL17-2400,IF(CA17>0,CL17-2200,IF(BY17>0,CL17-2000,IF(BW17>0,CL17-3000,CL17-0))))))),(IF(CG17>0,CL17-1200,IF(CE17>0,CL17-1000,IF(CC17>0,CL17-800,IF(CA17>0,CL17-600,IF(BY17>0,CL17-400,IF(BW17>0,CL17-200,CL17-0))))))))","v":0}]
[null,{"$f":"IF(Payout2>=24,12,IF(Payout2>=22,12,IF(Payout2>=20,12,IF(Payout2>=18,12,IF(Payout2>=16,12,IF(Payout2>=14,12,IF(Payout2>=12,12,IF(Payout2>=10,\"\",IF(Payout2>=8,\"\",\"\")))))))))","v":12},"DAVIS, SCOTT",{"$nulls":15},{"$f":"IF(P18=\"\",\"\",IF(P18>P17,30,IF(P18=P17,15,0)))","v":""},null,null,{"$f":"IF(Payout2>=24,16,IF(Payout2>=22,10,IF(Payout2>=20,1,IF(Payout2>=18,8,IF(Payout2>=16,2,IF(Payout2>=14,13,IF(Payout2>=12,8,IF(Payout2>=10,\"\",IF(Payout2>=8,\"\",\"\")))))))))","v":1},"JONES, TOM",{"$nulls":15},{"$f":"IF(AJ18=\"\",\"\",IF(AJ18>AJ17,30,IF(AJ18=AJ17,15,0)))","v":""},null,null,{"$f":"IF(Payout2>=24,14,IF(Payout2>=22,4,IF(Payout2>=20,17,IF(Payout2>=18,10,IF(Payout2>=16,13,IF(Payout2>=14,14,IF(Payout2>=12,7,IF(Payout2>=10,\"\",IF(Payout2>=8,\"\",\"\")))))))))","v":17},"WRIGHT, DANA",{"$nulls":15},{"$f":"IF(BD18=\"\",\"\",IF(BD18>BD17,30,IF(BD18=BD17,15,0)))","v":""},{"$nulls":4},12,18,14,24,12,16,"P",null,12,11,{"$f":"IF(MPNo<>\"\", IF(MPNo<BT18,\"\",Qual!$C19),IF(MPNo<BT18,\"\",Qual!$C19))","v":"BIRKEDAHL, LARRY"},0,"",0,"",0,"",0,"",0,"",0,"",{"$f":"IF(Master!$B$4=\"Y\",INDEX(Qual!$C$8:$V$31,MATCH(BV18,Qual!$C$8:$C$31,0),20),0)","v":0},0,0,0,{"$f":"IF(Master!$B$4=\"Y\",(IF(CG18>0,CL18-2800,IF(CE18>0,CL18-2600,IF(CC18>0,CL18-2400,IF(CA18>0,CL18-2200,IF(BY18>0,CL18-2000,IF(BW18>0,CL18-3000,CL18-0))))))),(IF(CG18>0,CL18-1200,IF(CE18>0,CL18-1000,IF(CC18>0,CL18-800,IF(CA18>0,CL18-600,IF(BY18>0,CL18-400,IF(BW18>0,CL18-200,CL18-0))))))))","v":0}]
[null,{"$f":"IF(Payout2>=24,13,IF(Payout2>=22,13,IF(Payout2>=20,13,IF(Payout2>=18,13,IF(Payout2>=16,13,IF(Payout2>=14,13,IF(Payout2>=12,\"\",IF(Payout2>=10,\"\",IF(Payout2>=8,\"\",\"\")))))))))","v":13},"VANSLEET, TODD",{"$nulls":15},{"$f":"IF(P19=\"\",\"\",IF(P19>P20,30,IF(P19=P20,15,0)))","v":""},null,null,{"$f":"IF(Payout2>=24,11,IF(Payout2>=22,18,IF(Payout2>=20,4,IF(Payout2>=18,18,IF(Payout2>=16,1,IF(Payout2>=14,9,IF(Payout2>=12,\"\",IF(Payout2>=10,\"\",IF(Payout2>=8,\"\",\"\")))))))))","v":4},"HOMMES, JOHN",{"$nulls":15},{"$f":"IF(AJ19=\"\",\"\",IF(AJ19>AJ20,30,IF(AJ19=AJ20,15,0)))","v":""},null,null,{"$f":"IF(Payout2>=24,15,IF(Payout2>=22,9,IF(Payout2>=20,2,IF(Payout2>=18,15,IF(Payout2>=16,4,IF(Payout2>=14,11,IF(Payout2>=12,\"\",IF(Payout2>=10,\"\",IF(Payout2>=8,\"\",\"\")))))))))","v":2},"DOWNER, ROB",{"$nulls":15},{"$f":"IF(BD19=\"\",\"\",IF(BD19>BD20,30,IF(BD19=BD20,15,0)))","v":""},{"$nulls":4},13,19,10,8,17,14,"P",null,13,14,{"$f":"IF(MPNo<>\"\", IF(MPNo<BT19,\"\",Qual!$C20),IF(MPNo<BT19,\"\",Qual!$C20))","v":"MCKINNEY, TERRY"},0,"",0,"",0,"",0,"",0,"",0,"",{"$f":"IF(Master!$B$4=\"Y\",INDEX(Qual!$C$8:$V$31,MATCH(BV19,Qual!$C$8:$C$31,0),20),0)","v":0},0,0,0,{"$f":"IF(Master!$B$4=\"Y\",(IF(CG19>0,CL19-2800,IF(CE19>0,CL19-2600,IF(CC19>0,CL19-2400,IF(CA19>0,CL19-2200,IF(BY19>0,CL19-2000,IF(BW19>0,CL19-3000,CL19-0))))))),(IF(CG19>0,CL19-1200,IF(CE19>0,CL19-1000,IF(CC19>0,CL19-800,IF(CA19>0,CL19-600,IF(BY19>0,CL19-400,IF(BW19>0,CL19-200,CL19-0))))))))","v":0}]
[null,{"$f":"IF(Payout2>=24,14,IF(Payout2>=22,14,IF(Payout2>=20,14,IF(Payout2>=18,14,IF(Payout2>=16,14,IF(Payout2>=14,14,IF(Payout2>=12,\"\",IF(Payout2>=10,\"\",IF(Payout2>=8,\"\",\"\")))))))))","v":14},"MCKINNEY, TERRY",{"$nulls":15},{"$f":"IF(P20=\"\",\"\",IF(P20>P19,30,IF(P20=P19,15,0)))","v":""},null,null,{"$f":"IF(Payout2>=24,10,IF(Payout2>=22,7,IF(Payout2>=20,19,IF(Payout2>=18,16,IF(Payout2>=16,16,IF(Payout2>=14,12,IF(Payout2>=12,\"\",IF(Payout2>=10,\"\",IF(Payout2>=8,\"\",\"\")))))))))","v":19},"STOEBNER, JOHN",{"$nulls":15},{"$f":"IF(AJ20=\"\",\"\",IF(AJ20>AJ19,30,IF(AJ20=AJ19,15,0)))","v":""},null,null,{"$f":"IF(Payout2>=24,12,IF(Payout2>=22,15,IF(Payout2>=20,16,IF(Payout2>=18,17,IF(Payout2>=16,12,IF(Payout2>=14,10,IF(Payout2>=12,\"\",IF(Payout2>=10,\"\",IF(Payout2>=8,\"\",\"\")))))))))","v":16},"JONES, DAVE",{"$nulls":15},{"$f":"IF(BD20=\"\",\"\",IF(BD20>BD19,30,IF(BD20=BD19,15,0)))","v":""},{"$nulls":4},14,20,26,21,16,12,"P",null,14,13,{"$f":"IF(MPNo<>\"\", IF(MPNo<BT20,\"\",Qual!$C21),IF(MPNo<BT20,\"\",Qual!$C21))","v":"VANSLEET, TODD"},0,"",0,"",0,"",0,"",0,"",0,"",{"$f":"IF(Master!$B$4=\"Y\",INDEX(Qual!$C$8:$V$31,MATCH(BV20,Qual!$C$8:$C$31,0),20),0)","v":0},0,0,0,{"$f":"IF(Master!$B$4=\"Y\",(IF(CG20>0,CL20-2800,IF(CE20>0,CL20-2600,IF(CC20>0,CL20-2400,IF(CA20>0,CL20-2200,IF(BY20>0,CL20-2000,IF(BW20>0,CL20-3000,CL20-0))))))),(IF(CG20>0,CL20-1200,IF(CE20>0,CL20-1000,IF(CC20>0,CL20-800,IF(CA20>0,CL20-600,IF(BY20>0,CL20-400,IF(BW20>0,CL20-200,CL20-0))))))))","v":0}]
[null,{"$f":"IF(Payout2>=24,15,IF(Payout2>=22,15,IF(Payout2>=20,15,IF(Payout2>=18,15,IF(Payout2>=16,15,IF(Payout2>=14,\"\",IF(Payout2>=12,\"\",IF(Payout2>=10,\"\",IF(Payout2>=8,\"\",\"\")))))))))","v":15},"PESCH, JOHN",{"$nulls":15},{"$f":"IF(P21=\"\",\"\",IF(P21>P22,30,IF(P21=P22,15,0)))","v":""},null,null,{"$f":"IF(Payout2>=24,9,IF(Payout2>=22,17,IF(Payout2>=20,20,IF(Payout2>=18,13,IF(Payout2>=16,4,IF(Payout2>=14,\"\",IF(Payout2>=12,\"\",IF(Payout2>=10,\"\",IF(Payout2>=8,\"\",\"\")))))))))","v":20},"PETERSON, ED",{"$nulls":15},{"$f":"IF(AJ21=\"\",\"\",IF(AJ21>AJ22,30,IF(AJ21=AJ22,15,0)))","v":""},null,null,{"$f":"IF(Payout2>=24,13,IF(Payout2>=22,21,IF(Payout2>=20,14,IF(Payout2>=18,18,IF(Payout2>=16,1,IF(Payout2>=14,\"\",IF(Payout2>=12,\"\",IF(Payout2>=10,\"\",IF(Payout2>=8,\"\",\"\")))))))))","v":14},"MCKINNEY, TERRY",{"$nulls":15},{"$f":"IF(BD21=\"\",\"\",IF(BD21>BD22,30,IF(BD21=BD22,15,0)))","v":""},{"$nulls":4},15,21,16,11,24,13,"P",null,15,16,{"$f":"IF(MPNo<>\"\", IF(MPNo<BT21,\"\",Qual!$C22),IF(MPNo<BT21,\"\",Qual!$C22))","v":"JONES, DAVE"},0,"",0,"",0,"",0,"",0,"",0,"",{"$f":"IF(Master!$B$4=\"Y\",INDEX(Qual!$C$8:$V$31,MATCH(BV21,Qual!$C$8:$C$31,0),20),0)","v":0},0,0,0,{"$f":"IF(Master!$B$4=\"Y\",(IF(CG21>0,CL21-2800,IF(CE21>0,CL21-2600,IF(CC21>0,CL21-2400,IF(CA21>0,CL21-2200,IF(BY21>0,CL21-2000,IF(BW21>0,CL21-3000,CL21-0))))))),(IF(CG21>0,CL21-1200,IF(CE21>0,CL21-1000,IF(CC21>0,CL21-800,IF(CA21>0,CL21-600,IF(BY21>0,CL21-400,IF(BW21>0,CL21-200,CL21-0))))))))","v":0}]
[null,{"$f":"IF(Payout2>=24,16,IF(Payout2>=22,16,IF(Payout2>=20,16,IF(Payout2>=18,16,IF(Payout2>=16,16,IF(Payout2>=14,\"\",IF(Payout2>=12,\"\",IF(Payout2>=10,\"\",IF(Payout2>=8,\"\",\"\")))))))))","v":16},"JONES, DAVE",{"$nulls":15},{"$f":"IF(P22=\"\",\"\",IF(P22>P21,30,IF(P22=P21,15,0)))","v":""},null,null,{"$f":"IF(Payout2>=24,12,IF(Payout2>=22,19,IF(Payout2>=20,10,IF(Payout2>=18,17,IF(Payout2>=16,14,IF(Payout2>=14,\"\",IF(Payout2>=12,\"\",IF(Payout2>=10,\"\",IF(Payout2>=8,\"\",\"\")))))))))","v":10},"GREEN, GARY",{"$nulls":15},{"$f":"IF(AJ22=\"\",\"\",IF(AJ22>AJ21,30,IF(AJ22=AJ21,15,0)))","v":""},null,null,{"$f":"IF(Payout2>=24,10,IF(Payout2>=22,1,IF(Payout2>=20,5,IF(Payout2>=18,14,IF(Payout2>=16,6,IF(Payout2>=14,\"\",IF(Payout2>=12,\"\",IF(Payout2>=10,\"\",IF(Payout2>=8,\"\",\"\")))))))))","v":5},"SAVOY, TODD",{"$nulls":15},{"$f":"IF(BD22=\"\",\"\",IF(BD22>BD21,30,IF(BD22=BD21,15,0)))","v":""},{"$nulls":4},16,22,25,20,9,7,"P",null,16,15,{"$f":"IF(MPNo<>\"\", IF(MPNo<BT22,\"\",Qual!$C23),IF(MPNo<BT22,\"\",Qual!$C23))","v":"PESCH, JOHN"},0,"",0,"",0,"",0,"",0,"",0,"",{"$f":"IF(Master!$B$4=\"Y\",INDEX(Qual!$C$8:$V$31,MATCH(BV22,Qual!$C$8:$C$31,0),20),0)","v":0},0,0,0,{"$f":"IF(Master!$B$4=\"Y\",(IF(CG22>0,CL22-2800,IF(CE22>0,CL22-2600,IF(CC22>0,CL22-2400,IF(CA22>0,CL22-2200,IF(BY22>0,CL22-2000,IF(BW22>0,CL22-3000,CL22-0))))))),(IF(CG22>0,CL22-1200,IF(CE22>0,CL22-1000,IF(CC22>0,CL22-800,IF(CA22>0,CL22-600,IF(BY22>0,CL22-400,IF(BW22>0,CL22-200,CL22-0))))))))","v":0}]
[null,{"$f":"IF(Payout2>=24,17,IF(Payout2>=22,17,IF(Payout2>=20,17,IF(Payout2>=18,17,IF(Payout2>=16,\"\",IF(Payout2>=14,\"\",IF(Payout2>=12,\"\",IF(Payout2>=10,\"\",IF(Payout2>=8,\"\",\"\")))))))))","v":17},"WRIGHT, DANA",{"$nulls":15},{"$f":"IF(P23=\"\",\"\",IF(P23>P24,30,IF(P23=P24,15,0)))","v":""},null,null,{"$f":"IF(Payout2>=24,23,IF(Payout2>=22,14,IF(Payout2>=20,7,IF(Payout2>=18,14,IF(Payout2>=16,\"\",IF(Payout2>=14,\"\",IF(Payout2>=12,\"\",IF(Payout2>=10,\"\",IF(Payout2>=8,\"\",\"\")))))))))","v":7},"CAUGHEY, STEVE",{"$nulls":15},{"$f":"IF(AJ23=\"\",\"\",IF(AJ23>AJ24,30,IF(AJ23=AJ24,15,0)))","v":""},null,null,{"$f":"IF(Payout2>=24,19,IF(Payout2>=22,2,IF(Payout2>=20,9,IF(Payout2>=18,16,IF(Payout2>=16,\"\",IF(Payout2>=14,\"\",IF(Payout2>=12,\"\",IF(Payout2>=10,\"\",IF(Payout2>=8,\"\",\"\")))))))))","v":9},"HAVLISH, TOM",{"$nulls":15},{"$f":"IF(BD23=\"\",\"\",IF(BD23>BD24,30,IF(BD23=BD24,15,0)))","v":""},{"$nulls":4},17,23,13,18,7,10,"P",null,17,18,{"$f":"IF(MPNo<>\"\", IF(MPNo<BT23,\"\",Qual!$C24),IF(MPNo<BT23,\"\",Qual!$C24))","v":"BORDSON, DAVE"},0,"",0,"",0,"",0,"",0,"",0,"",{"$f":"IF(Master!$B$4=\"Y\",INDEX(Qual!$C$8:$V$31,MATCH(BV23,Qual!$C$8:$C$31,0),20),0)","v":0},0,0,0,{"$f":"IF(Master!$B$4=\"Y\",(IF(CG23>0,CL23-2800,IF(CE23>0,CL23-2600,IF(CC23>0,CL23-2400,IF(CA23>0,CL23-2200,IF(BY23>0,CL23-2000,IF(BW23>0,CL23-3000,CL23-0))))))),(IF(CG23>0,CL23-1200,IF(CE23>0,CL23-1000,IF(CC23>0,CL23-800,IF(CA23>0,CL23-600,IF(BY23>0,CL23-400,IF(BW23>0,CL23-200,CL23-0))))))))","v":0}]
[null,{"$f":"IF(Payout2>=24,18,IF(Payout2>=22,18,IF(Payout2>=20,18,IF(Payout2>=18,18,IF(Payout2>=16,\"\",IF(Payout2>=14,\"\",IF(Payout2>=12,\"\",IF(Payout2>=10,\"\",IF(Payout2>=8,\"\",\"\")))))))))","v":18},"BORDSON, DAVE",{"$nulls":15},{"$f":"IF(P24=\"\",\"\",IF(P24>P23,30,IF(P24=P23,15,0)))","v":""},null,null,{"$f":"IF(Payout2>=24,22,IF(Payout2>=22,6,IF(Payout2>=20,6,IF(Payout2>=18,15,IF(Payout2>=16,\"\",IF(Payout2>=14,\"\",IF(Payout2>=12,\"\",IF(Payout2>=10,\"\",IF(Payout2>=8,\"\",\"\")))))))))","v":6},"JENSEN, WAYNE",{"$nulls":15},{"$f":"IF(AJ24=\"\",\"\",IF(AJ24>AJ23,30,IF(AJ24=AJ23,15,0)))","v":""},null,null,{"$f":"IF(Payout2>=24,24,IF(Payout2>=22,12,IF(Payout2>=20,12,IF(Payout2>=18,13,IF(Payout2>=16,\"\",IF(Payout2>=14,\"\",IF(Payout2>=12,\"\",IF(Payout2>=10,\"\",IF(Payout2>=8,\"\",\"\")))))))))","v":12},"DAVIS, SCOTT",{"$nulls":15},{"$f":"IF(BD24=\"\",\"\",IF(BD24>BD23,30,IF(BD24=BD23,15,0)))","v":""},{"$nulls":4},18,24,12,16,22,25,"P",null,18,17,{"$f":"IF(MPNo<>\"\", IF(MPNo<BT24,\"\",Qual!$C25),IF(MPNo<BT24,\"\",Qual!$C25))","v":"WRIGHT, DANA"},0,"",0,"",0,"",0,"",0,"",0,"",{"$f":"IF(Master!$B$4=\"Y\",INDEX(Qual!$C$8:$V$31,MATCH(BV24,Qual!$C$8:$C$31,0),20),0)","v":0},0,0,0,{"$f":"IF(Master!$B$4=\"Y\",(IF(CG24>0,CL24-2800,IF(CE24>0,CL24-2600,IF(CC24>0,CL24-2400,IF(CA24>0,CL24-2200,IF(BY24>0,CL24-2000,IF(BW24>0,CL24-3000,CL24-0))))))),(IF(CG24>0,CL24-1200,IF(CE24>0,CL24-1000,IF(CC24>0,CL24-800,IF(CA24>0,CL24-600,IF(BY24>0,CL24-400,IF(BW24>0,CL24-200,CL24-0))))))))","v":0}]
[null,{"$f":"IF(Payout2>=24,19,IF(Payout2>=22,19,IF(Payout2>=20,19,IF(Payout2>=18,\"\",IF(Payout2>=16,\"\",IF(Payout2>=14,\"\",IF(Payout2>=12,\"\",IF(Payout2>=10,\"\",IF(Payout2>=8,\"\",\"\")))))))))","v":19},"STOEBNER, JOHN",{"$nulls":15},{"$f":"IF(P25=\"\",\"\",IF(P25>P26,30,IF(P25=P26,15,0)))","v":""},null,null,{"$f":"IF(Payout2>=24,21,IF(Payout2>=22,16,IF(Payout2>=20,16,IF(Payout2>=18,\"\",IF(Payout2>=16,\"\",IF(Payout2>=14,\"\",IF(Payout2>=12,\"\",IF(Payout2>=10,\"\",IF(Payout2>=8,\"\",\"\")))))))))","v":16},"JONES, DAVE",{"$nulls":15},{"$f":"IF(AJ25=\"\",\"\",IF(AJ25>AJ26,30,IF(AJ25=AJ26,15,0)))","v":""},null,null,{"$f":"IF(Payout2>=24,17,IF(Payout2>=22,5,IF(Payout2>=20,1,IF(Payout2>=18,\"\",IF(Payout2>=16,\"\",IF(Payout2>=14,\"\",IF(Payout2>=12,\"\",IF(Payout2>=10,\"\",IF(Payout2>=8,\"\",\"\")))))))))","v":1},"JONES, TOM",{"$nulls":15},{"$f":"IF(BD25=\"\",\"\",IF(BD25>BD26,30,IF(BD25=BD26,15,0)))","v":""},{"$nulls":4},19,25,20,10,8,17,"P",null,19,20,{"$f":"IF(MPNo<>\"\", IF(MPNo<BT25,\"\",Qual!$C26),IF(MPNo<BT25,\"\",Qual!$C26))","v":"PETERSON, ED"},0,"",0,"",0,"",0,"",0,"",0,"",{"$f":"IF(Master!$B$4=\"Y\",INDEX(Qual!$C$8:$V$31,MATCH(BV25,Qual!$C$8:$C$31,0),20),0)","v":0},0,0,0,{"$f":"IF(Master!$B$4=\"Y\",(IF(CG25>0,CL25-2800,IF(CE25>0,CL25-2600,IF(CC25>0,CL25-2400,IF(CA25>0,CL25-2200,IF(BY25>0,CL25-2000,IF(BW25>0,CL25-3000,CL25-0))))))),(IF(CG25>0,CL25-1200,IF(CE25>0,CL25-1000,IF(CC25>0,CL25-800,IF(CA25>0,CL25-600,IF(BY25>0,CL25-400,IF(BW25>0,CL25-200,CL25-0))))))))","v":0}]
[null,{"$f":"IF(Payout2>=24,20,IF(Payout2>=22,20,IF(Payout2>=20,20,IF(Payout2>=18,\"\",IF(Payout2>=16,\"\",IF(Payout2>=14,\"\",IF(Payout2>=12,\"\",IF(Payout2>=10,\"\",IF(Payout2>=8,\"\",\"\")))))))))","v":20},"PETERSON, ED",{"$nulls":15},{"$f":"IF(P26=\"\",\"\",IF(P26>P25,30,IF(P26=P25,15,0)))","v":""},null,null,{"$f":"IF(Payout2>=24,24,IF(Payout2>=22,1,IF(Payout2>=20,14,IF(Payout2>=18,\"\",IF(Payout2>=16,\"\",IF(Payout2>=14,\"\",IF(Payout2>=12,\"\",IF(Payout2>=10,\"\",IF(Payout2>=8,\"\",\"\")))))))))","v":14},"MCKINNEY, TERRY",{"$nulls":15},{"$f":"IF(AJ26=\"\",\"\",IF(AJ26>AJ25,30,IF(AJ26=AJ25,15,0)))","v":""},null,null,{"$f":"IF(Payout2>=24,22,IF(Payout2>=22,17,IF(Payout2>=20,4,IF(Payout2>=18,\"\",IF(Payout2>=16,\"\",IF(Payout2>=14,\"\",IF(Payout2>=12,\"\",IF(Payout2>=10,\"\",IF(Payout2>=8,\"\",\"\")))))))))","v":4},"HOMMES, JOHN",{"$nulls":15},{"$f":"IF(BD26=\"\",\"\",IF(BD26>BD25,30,IF(BD26=BD25,15,0)))","v":""},{"$nulls":4},20,26,21,15,11,24,"P",null,20,19,{"$f":"IF(MPNo<>\"\", IF(MPNo<BT26,\"\",Qual!$C27),IF(MPNo<BT26,\"\",Qual!$C27))","v":"STOEBNER, JOHN"},0,"",0,"",0,"",0,"",0,"",0,"",{"$f":"IF(Master!$B$4=\"Y\",INDEX(Qual!$C$8:$V$31,MATCH(BV26,Qual!$C$8:$C$31,0),20),0)","v":0},0,0,0,{"$f":"IF(Master!$B$4=\"Y\",(IF(CG26>0,CL26-2800,IF(CE26>0,CL26-2600,IF(CC26>0,CL26-2400,IF(CA26>0,CL26-2200,IF(BY26>0,CL26-2000,IF(BW26>0,CL26-3000,CL26-0))))))),(IF(CG26>0,CL26-1200,IF(CE26>0,CL26-1000,IF(CC26>0,CL26-800,IF(CA26>0,CL26-600,IF(BY26>0,CL26-400,IF(BW26>0,CL26-200,CL26-0))))))))","v":0}]
[null,{"$f":"IF(Payout2>=24,21,IF(Payout2>=22,21,IF(Payout2>=20,\"\",IF(Payout2>=18,\"\",IF(Payout2>=16,\"\",IF(Payout2>=14,\"\",IF(Payout2>=12,\"\",IF(Payout2>=10,\"\",IF(Payout2>=8,\"\",\"\")))))))))","v":""},{"$error":"#N/A"},{"$nulls":15},{"$f":"IF(P27=\"\",\"\",IF(P27>P28,30,IF(P27=P28,15,0)))","v":""},null,null,{"$f":"IF(Payout2>=24,19,IF(Payout2>=22,4,IF(Payout2>=20,\"\",IF(Payout2>=18,\"\",IF(Payout2>=16,\"\",IF(Payout2>=14,\"\",IF(Payout2>=12,\"\",IF(Payout2>=10,\"\",IF(Payout2>=8,\"\",\"\")))))))))","v":""},{"$error":"#N/A"},{"$nulls":15},{"$f":"IF(AJ27=\"\",\"\",IF(AJ27>AJ28,30,IF(AJ27=AJ28,15,0)))","v":""},null,null,{"$f":"IF(Payout2>=23,23,IF(Payout2>=22,6,IF(Payout2>=20,\"\",IF(Payout2>=18,\"\",IF(Payout2>=16,\"\",IF(Payout2>=14,\"\",IF(Payout2>=12,\"\",IF(Payout2>=10,\"\",IF(Payout2>=8,\"\",\"\")))))))))","v":""},{"$error":"#N/A"},{"$nulls":15},{"$f":"IF(BD27=\"\",\"\",IF(BD27>BD28,30,IF(BD27=BD28,15,0)))","v":""},{"$nulls":4},21,"","","","","","P",null,21,22,{"$f":"IF(MPNo<>\"\", IF(MPNo<BT27,\"\",Qual!$C28),IF(MPNo<BT27,\"\",Qual!$C28))","v":""},{"$error":"#N/A"},{"$error":"#N/A"},{"$error":"#N/A"},{"$error":"#N/A"},{"$error":"#N/A"},{"$error":"#N/A"},{"$error":"#N/A"},{"$error":"#N/A"},{"$error":"#N/A"},{"$error":"#N/A"},{"$error":"#N/A"},{"$error":"#N/A"},{"$f":"IF(Master!$B$4=\"Y\",INDEX(Qual!$C$8:$V$31,MATCH(BV27,Qual!$C$8:$C$31,0),20),0)","v":0},{"$error":"#N/A"},{"$error":"#N/A"},{"$error":"#N/A"},{"$f":"IF(Master!$B$4=\"Y\",(IF(CG27>0,CL27-2800,IF(CE27>0,CL27-2600,IF(CC27>0,CL27-2400,IF(CA27>0,CL27-2200,IF(BY27>0,CL27-2000,IF(BW27>0,CL27-3000,CL27-0))))))),(IF(CG27>0,CL27-1200,IF(CE27>0,CL27-1000,IF(CC27>0,CL27-800,IF(CA27>0,CL27-600,IF(BY27>0,CL27-400,IF(BW27>0,CL27-200,CL27-0))))))))","v":{"$error":"#N/A"}}]
[null,{"$f":"IF(Payout2>=24,22,IF(Payout2>=22,22,IF(Payout2>=20,\"\",IF(Payout2>=18,\"\",IF(Payout2>=16,\"\",IF(Payout2>=14,\"\",IF(Payout2>=12,\"\",IF(Payout2>=10,\"\",IF(Payout2>=8,\"\",\"\")))))))))","v":""},{"$error":"#N/A"},{"$nulls":15},{"$f":"IF(P28=\"\",\"\",IF(P28>P27,30,IF(P28=P27,15,0)))","v":""},null,null,{"$f":"IF(Payout2>=24,18,IF(Payout2>=22,12,IF(Payout2>=20,\"\",IF(Payout2>=18,\"\",IF(Payout2>=16,\"\",IF(Payout2>=14,\"\",IF(Payout2>=12,\"\",IF(Payout2>=10,\"\",IF(Payout2>=8,\"\",\"\")))))))))","v":""},{"$error":"#N/A"},{"$nulls":15},{"$f":"IF(AJ28=\"\",\"\",IF(AJ28>AJ27,30,IF(AJ28=AJ27,15,0)))","v":""},null,null,{"$f":"IF(Payout2>=24,20,IF(Payout2>=22,10,IF(Payout2>=20,\"\",IF(Payout2>=18,\"\",IF(Payout2>=16,\"\",IF(Payout2>=14,\"\",IF(Payout2>=12,\"\",IF(Payout2>=10,\"\",IF(Payout2>=8,\"\",\"\")))))))))","v":""},{"$error":"#N/A"},{"$nulls":15},{"$f":"IF(BD28=\"\",\"\",IF(BD28>BD27,30,IF(BD28=BD27,15,0)))","v":""},{"$nulls":4},22,"","","","","","P",null,22,21,{"$f":"IF(MPNo<>\"\", IF(MPNo<BT28,\"\",Qual!$C29),IF(MPNo<BT28,\"\",Qual!$C29))","v":""},{"$error":"#N/A"},{"$error":"#N/A"},{"$error":"#N/A"},{"$error":"#N/A"},{"$error":"#N/A"},{"$error":"#N/A"},{"$error":"#N/A"},{"$error":"#N/A"},{"$error":"#N/A"},{"$error":"#N/A"},{"$error":"#N/A"},{"$error":"#N/A"},{"$f":"IF(Master!$B$4=\"Y\",INDEX(Qual!$C$8:$V$31,MATCH(BV28,Qual!$C$8:$C$31,0),20),0)","v":0},{"$error":"#N/A"},{"$error":"#N/A"},{"$error":"#N/A"},{"$f":"IF(Master!$B$4=\"Y\",(IF(CG28>0,CL28-2800,IF(CE28>0,CL28-2600,IF(CC28>0,CL28-2400,IF(CA28>0,CL28-2200,IF(BY28>0,CL28-2000,IF(BW28>0,CL28-3000,CL28-0))))))),(IF(CG28>0,CL28-1200,IF(CE28>0,CL28-1000,IF(CC28>0,CL28-800,IF(CA28>0,CL28-600,IF(BY28>0,CL28-400,IF(BW28>0,CL28-200,CL28-0))))))))","v":{"$error":"#N/A"}}]
[null,{"$f":"IF(Payout2>=24,23,IF(Payout2>=23,\"\",IF(Payout2>=20,\"\",IF(Payout2>=18,\"\",IF(Payout2>=16,\"\",IF(Payout2>=14,\"\",IF(Payout2>=12,\"\",IF(Payout2>=10,\"\",IF(Payout2>=8,\"\",\"\")))))))))","v":""},{"$error":"#N/A"},{"$nulls":15},{"$f":"IF(P29=\"\",\"\",IF(P29>P30,30,IF(P29=P30,15,0)))","v":""},null,null,{"$f":"IF(Payout2>=24,17,IF(Payout2>=22,\"\",IF(Payout2>=20,\"\",IF(Payout2>=18,\"\",IF(Payout2>=16,\"\",IF(Payout2>=14,\"\",IF(Payout2>=12,\"\",IF(Payout2>=10,\"\",IF(Payout2>=8,\"\",\"\")))))))))","v":""},{"$error":"#N/A"},{"$nulls":15},{"$f":"IF(AJ29=\"\",\"\",IF(AJ29>AJ30,30,IF(AJ29=AJ30,15,0)))","v":""},null,null,{"$f":"IF(Payout2>=24,21,IF(Payout2>=22,\"\",IF(Payout2>=20,\"\",IF(Payout2>=18,\"\",IF(Payout2>=16,\"\",IF(Payout2>=14,\"\",IF(Payout2>=12,\"\",IF(Payout2>=10,\"\",IF(Payout2>=8,\"\",\"\")))))))))","v":""},{"$error":"#N/A"},{"$nulls":15},{"$f":"IF(BD29=\"\",\"\",IF(BD29>BD30,30,IF(BD29=BD30,15,0)))","v":""},{"$nulls":4},23,"","","","","","P",null,23,24,{"$f":"IF(MPNo<>\"\", IF(MPNo<BT29,\"\",Qual!$C30),IF(MPNo<BT29,\"\",Qual!$C30))","v":""},{"$error":"#N/A"},{"$error":"#N/A"},{"$error":"#N/A"},{"$error":"#N/A"},{"$error":"#N/A"},{"$error":"#N/A"},{"$error":"#N/A"},{"$error":"#N/A"},{"$error":"#N/A"},{"$error":"#N/A"},{"$error":"#N/A"},{"$error":"#N/A"},{"$f":"IF(Master!$B$4=\"Y\",INDEX(Qual!$C$8:$V$31,MATCH(BV29,Qual!$C$8:$C$31,0),20),0)","v":0},{"$error":"#N/A"},{"$error":"#N/A"},{"$error":"#N/A"},{"$f":"IF(Master!$B$4=\"Y\",(IF(CG29>0,CL29-2800,IF(CE29>0,CL29-2600,IF(CC29>0,CL29-2400,IF(CA29>0,CL29-2200,IF(BY29>0,CL29-2000,IF(BW29>0,CL29-3000,CL29-0))))))),(IF(CG29>0,CL29-1200,IF(CE29>0,CL29-1000,IF(CC29>0,CL29-800,IF(CA29>0,CL29-600,IF(BY29>0,CL29-400,IF(BW29>0,CL29-200,CL29-0))))))))","v":{"$error":"#N/A"}}]
[null,{"$f":"IF(Payout2>=24,24,IF(Payout2>=22,\"\",IF(Payout2>=20,\"\",IF(Payout2>=18,\"\",IF(Payout2>=16,\"\",IF(Payout2>=14,\"\",IF(Payout2>=12,\"\",IF(Payout2>=10,\"\",IF(Payout2>=8,\"\",\"\")))))))))","v":""},{"$error":"#N/A"},{"$nulls":15},{"$f":"IF(P30=\"\",\"\",IF(P30>P29,30,IF(P30=P29,15,0)))","v":""},null,null,{"$f":"IF(Payout2>=24,20,IF(Payout2>=22,\"\",IF(Payout2>=20,\"\",IF(Payout2>=18,\"\",IF(Payout2>=16,\"\",IF(Payout2>=14,\"\",IF(Payout2>=12,\"\",IF(Payout2>=10,\"\",IF(Payout2>=8,\"\",\"\")))))))))","v":""},{"$error":"#N/A"},{"$nulls":15},{"$f":"IF(AJ30=\"\",\"\",IF(AJ30>AJ29,30,IF(AJ30=AJ29,15,0)))","v":""},null,null,{"$f":"IF(Payout2>=24,18,IF(Payout2>=22,\"\",IF(Payout2>=20,\"\",IF(Payout2>=18,\"\",IF(Payout2>=16,\"\",IF(Payout2>=14,\"\",IF(Payout2>=12,\"\",IF(Payout2>=10,\"\",IF(Payout2>=8,\"\",\"\")))))))))","v":""},{"$error":"#N/A"},{"$nulls":15},{"$f":"IF(BD30=\"\",\"\",IF(BD30>BD29,30,IF(BD30=BD29,15,0)))","v":""},{"$nulls":4},24,"","","","","","P",null,24,23,{"$f":"IF(MPNo<>\"\", IF(MPNo<BT30,\"\",Qual!$C31),IF(MPNo<BT30,\"\",Qual!$C31))","v":""},{"$error":"#N/A"},{"$error":"#N/A"},{"$error":"#N/A"},{"$error":"#N/A"},{"$error":"#N/A"},{"$error":"#N/A"},{"$error":"#N/A"},{"$error":"#N/A"},{"$error":"#N/A"},{"$error":"#N/A"},{"$error":"#N/A"},{"$error":"#N/A"},{"$f":"IF(Master!$B$4=\"Y\",INDEX(Qual!$C$8:$V$31,MATCH(BV30,Qual!$C$8:$C$31,0),20),0)","v":0},{"$error":"#N/A"},{"$error":"#N/A"},{"$error":"#N/A"},{"$f":"IF(Master!$B$4=\"Y\",(IF(CG30>0,CL30-2800,IF(CE30>0,CL30-2600,IF(CC30>0,CL30-2400,IF(CA30>0,CL30-2200,IF(BY30>0,CL30-2000,IF(BW30>0,CL30-3000,CL30-0))))))),(IF(CG30>0,CL30-1200,IF(CE30>0,CL30-1000,IF(CC30>0,CL30-800,IF(CA30>0,CL30-600,IF(BY30>0,CL30-400,IF(BW30>0,CL30-200,CL30-0))))))))","v":{"$error":"#N/A"}}]
[]
[]
[]
[null,null,"Game 4",{"$nulls":15},"B",{"$nulls":3},"Game 5",{"$nulls":15},"B",{"$nulls":3},"Game 6",{"$nulls":15},"B",{"$nulls":15},"G1","B","G2","B","G3","B","G4","B","G5","B","G6","B","Qual","MP","B","GT","+ / -"]
[null,{"$f":"IF(Payout2>=24,5,IF(Payout2>=22,9,IF(Payout2>=20,17,IF(Payout2>=18,7,IF(Payout2>=16,7,IF(Payout2>=14,12,IF(Payout2>=12,7,IF(Payout2>=10,9,IF(Payout2>=8,3,2)))))))))","v":17},{"$f":"INDEX($BT$7:$BV$30,MATCH(B35,$BU$7:$BU$30,0),3)","v":"WRIGHT, DANA"},{"$nulls":15},{"$f":"IF(P35=\"\",\"\",IF(P35>P36,30,IF(P35=P36,15,0)))","v":""},null,null,{"$f":"IF(Payout2>=24,12,IF(Payout2>=22,13,IF(Payout2>=20,16,IF(Payout2>=18,14,IF(Payout2>=16,8,IF(Payout2>=14,2,IF(Payout2>=12,11,IF(Payout2>=10,10,IF(Payout2>=8,7,1)))))))))","v":16},{"$f":"INDEX($BT$7:$BV$30,MATCH(V35,$BU$7:$BU$30,0),3)","v":"JONES, DAVE"},{"$nulls":15},{"$f":"IF(AJ35=\"\",\"\",IF(AJ35>AJ36,30,IF(AJ35=AJ36,15,0)))","v":""},null,null,{"$f":"IF(Payout2>=24,21,IF(Payout2>=22,19,IF(Payout2>=20,17,IF(Payout2>=18,15,IF(Payout2>=16,13,IF(Payout2>=14,11,IF(Payout2>=12,9,IF(Payout2>=10,7,IF(Payout2>=8,5,3)))))))))","v":17},{"$f":"INDEX($BT$7:$BV$30,MATCH(AP35,$BT$7:$BT$30,0),3)","v":"BORDSON, DAVE"},{"$nulls":15},{"$f":"IF(BD35=\"\",\"\",IF(BD35>BD36,30,IF(BD35=BD36,15,0)))","v":""},{"$nulls":12},1,null,{"$f":"IF(MPNo<>\"\", IF(MPNo<BT35,\"\",Qual!$C8),IF(MPNo<BT35,\"\",Qual!$C8))","v":"OULMAN, DAVE"},{"$f":"INDEX($B$7:$T$30,MATCH(BV35,$C$7:$C$30,0),15)","v":0},{"$f":"INDEX($B$7:$T$30,MATCH(BV35,$C$7:$C$30,0),18)","v":""},{"$f":"INDEX($V$7:$AN$30,MATCH(BV35,$W$7:$W$30,0),15)","v":0},{"$f":"INDEX($V$7:$AN$30,MATCH(BV35,$W$7:$W$30,0),18)","v":""},{"$f":"INDEX($AP$7:$BH$30,MATCH(BV35,$AQ$7:$AQ$30,0),15)","v":0},{"$f":"INDEX($AP$7:$BH$30,MATCH(BV35,$AQ$7:$AQ$30,0),18)","v":""},{"$f":"INDEX($B$35:$T$58,MATCH(BV35,$C$35:$C$58,0),15)","v":0},{"$f":"INDEX($B$35:$T$58,MATCH(BV35,$C$35:$C$58,0),18)","v":""},{"$f":"INDEX($V$35:$AN$58,MATCH(BV35,$W$35:$W$58,0),15)","v":0},{"$f":"INDEX($V$35:$AN$58,MATCH(BV35,$W$35:$W$58,0),18)","v":""},{"$f":"INDEX($AP$35:$BH$58,MATCH(BV35,$AQ$35:$AQ$58,0),15)","v":0},{"$f":"INDEX($AP$35:$BH$58,MATCH(BV35,$AQ$35:$AQ$58,0),18)","v":""},{"$f":"IF(Master!$B$4=\"Y\",INDEX(Qual!$C$8:$V$31,MATCH(BV35,Qual!$C$8:$C$31,0),20),0)","v":0},{"$f":"BW35+BY35+CA35+CC35+CE35+CG35","v":0},{"$f":"IF(BX35=\"\",0,BX35)+IF(BZ35=\"\",0,BZ35)+IF(CB35=\"\",0,CB35)+IF(CD35=\"\",0,CD35)+IF(CF35=\"\",0,CF35)+IF(CH35=\"\",0,CH35)","v":0},{"$f":"CI35+CJ35+CK35","v":0},{"$f":"IF(Master!$B$4=\"Y\",(IF(CG35>0,CL35-2800,IF(CE35>0,CL35-2600,IF(CC35>0,CL35-2400,IF(CA35>0,CL35-2200,IF(BY35>0,CL35-2000,IF(BW35>0,CL35-3000,CL35-0))))))),(IF(CG35>0,CL35-1200,IF(CE35>0,CL35-1000,IF(CC35>0,CL35-800,IF(CA35>0,CL35-600,IF(BY35>0,CL35-400,IF(BW35>0,CL35-200,CL35-0))))))))","v":0}]
[null,{"$f":"IF(Payout2>=24,4,IF(Payout2>=22,8,IF(Payout2>=20,19,IF(Payout2>=18,9,IF(Payout2>=16,4,IF(Payout2>=14,4,IF(Payout2>=12,12,IF(Payout2>=10,1,IF(Payout2>=8,6,6)))))))))","v":19},"STOEBNER, JOHN",{"$nulls":15},{"$f":"IF(P36=\"\",\"\",IF(P36>P35,30,IF(P36=P35,15,0)))","v":""},null,null,{"$f":"IF(Payout2>=24,24,IF(Payout2>=22,18,IF(Payout2>=20,6,IF(Payout2>=18,1,IF(Payout2>=16,5,IF(Payout2>=14,9,IF(Payout2>=12,8,IF(Payout2>=10,7,IF(Payout2>=8,1,5)))))))))","v":6},"JENSEN, WAYNE",{"$nulls":15},{"$f":"IF(AJ36=\"\",\"\",IF(AJ36>AJ35,30,IF(AJ36=AJ35,15,0)))","v":""},null,null,{"$f":"IF(Payout2>=24,22,IF(Payout2>=22,20,IF(Payout2>=20,18,IF(Payout2>=18,16,IF(Payout2>=16,14,IF(Payout2>=14,12,IF(Payout2>=12,10,IF(Payout2>=10,8,IF(Payout2>=8,6,4)))))))))","v":18},"WRIGHT, DANA",{"$nulls":15},{"$f":"IF(BD36=\"\",\"\",IF(BD36>BD35,30,IF(BD36=BD35,15,0)))","v":""},{"$nulls":12},2,null,{"$f":"IF(MPNo<>\"\", IF(MPNo<BT36,\"\",Qual!$C9),IF(MPNo<BT36,\"\",Qual!$C9))","v":"CAUGHEY, STEVE"},0,"",0,"",0,"",0,"",0,"",0,"",{"$f":"IF(Master!$B$4=\"Y\",INDEX(Qual!$C$8:$V$31,MATCH(BV36,Qual!$C$8:$C$31,0),20),0)","v":0},0,0,0,{"$f":"IF(Master!$B$4=\"Y\",(IF(CG36>0,CL36-2800,IF(CE36>0,CL36-2600,IF(CC36>0,CL36-2400,IF(CA36>0,CL36-2200,IF(BY36>0,CL36-2000,IF(BW36>0,CL36-3000,CL36-0))))))),(IF(CG36>0,CL36-1200,IF(CE36>0,CL36-1000,IF(CC36>0,CL36-800,IF(CA36>0,CL36-600,IF(BY36>0,CL36-400,IF(BW36>0,CL36-200,CL36-0))))))))","v":0}]
[null,{"$f":"IF(Payout2>=24,7,IF(Payout2>=22,4,IF(Payout2>=20,16,IF(Payout2>=18,13,IF(Payout2>=16,1,IF(Payout2>=14,13,IF(Payout2>=12,5,IF(Payout2>=10,5,IF(Payout2>=8,7,4)))))))))","v":16},"JONES, DAVE",{"$nulls":15},{"$f":"IF(P37=\"\",\"\",IF(P37>P38,30,IF(P37=P38,15,0)))","v":""},null,null,{"$f":"IF(Payout2>=24,18,IF(Payout2>=22,10,IF(Payout2>=20,10,IF(Payout2>=18,4,IF(Payout2>=16,2,IF(Payout2>=14,1,IF(Payout2>=12,9,IF(Payout2>=10,6,IF(Payout2>=8,4,6)))))))))","v":10},"GREEN, GARY",{"$nulls":15},{"$f":"IF(AJ37=\"\",\"\",IF(AJ37>AJ38,30,IF(AJ37=AJ38,15,0)))","v":""},null,null,{"$f":"IF(Payout2>=24,17,IF(Payout2>=22,15,IF(Payout2>=20,13,IF(Payout2>=18,11,IF(Payout2>=16,9,IF(Payout2>=14,7,IF(Payout2>=12,5,IF(Payout2>=10,3,IF(Payout2>=8,1,1)))))))))","v":13},"MCKINNEY, TERRY",{"$nulls":15},{"$f":"IF(BD37=\"\",\"\",IF(BD37>BD38,30,IF(BD37=BD38,15,0)))","v":""},{"$nulls":12},3,null,{"$f":"IF(MPNo<>\"\", IF(MPNo<BT37,\"\",Qual!$C10),IF(MPNo<BT37,\"\",Qual!$C10))","v":"JENSEN, WAYNE"},0,"",0,"",0,"",0,"",0,"",0,"",{"$f":"IF(Master!$B$4=\"Y\",INDEX(Qual!$C$8:$V$31,MATCH(BV37,Qual!$C$8:$C$31,0),20),0)","v":0},0,0,0,{"$f":"IF(Master!$B$4=\"Y\",(IF(CG37>0,CL37-2800,IF(CE37>0,CL37-2600,IF(CC37>0,CL37-2400,IF(CA37>0,CL37-2200,IF(BY37>0,CL37-2000,IF(BW37>0,CL37-3000,CL37-0))))))),(IF(CG37>0,CL37-1200,IF(CE37>0,CL37-1000,IF(CC37>0,CL37-800,IF(CA37>0,CL37-600,IF(BY37>0,CL37-400,IF(BW37>0,CL37-200,CL37-0))))))))","v":0}]
[null,{"$f":"IF(Payout2>=24,2,IF(Payout2>=22,14,IF(Payout2>=20,8,IF(Payout2>=18,15,IF(Payout2>=16,10,IF(Payout2>=14,2,IF(Payout2>=12,8,IF(Payout2>=10,3,IF(Payout2>=8,2,1)))))))))","v":8},"OULMAN, DAVE",{"$nulls":15},{"$f":"IF(P38=\"\",\"\",IF(P38>P37,30,IF(P38=P37,15,0)))","v":""},null,null,{"$f":"IF(Payout2>=24,14,IF(Payout2>=22,2,IF(Payout2>=20,17,IF(Payout2>=18,16,IF(Payout2>=16,12,IF(Payout2>=14,14,IF(Payout2>=12,7,IF(Payout2>=10,2,IF(Payout2>=8,6,3)))))))))","v":17},"WRIGHT, DANA",{"$nulls":15},{"$f":"IF(AJ38=\"\",\"\",IF(AJ38>AJ37,30,IF(AJ38=AJ37,15,0)))","v":""},null,null,{"$f":"IF(Payout2>=24,18,IF(Payout2>=22,16,IF(Payout2>=20,14,IF(Payout2>=18,12,IF(Payout2>=16,10,IF(Payout2>=14,8,IF(Payout2>=12,6,IF(Payout2>=10,4,IF(Payout2>=8,2,2)))))))))","v":14},"VANSLEET, TODD",{"$nulls":15},{"$f":"IF(BD38=\"\",\"\",IF(BD38>BD37,30,IF(BD38=BD37,15,0)))","v":""},{"$nulls":12},4,null,{"$f":"IF(MPNo<>\"\", IF(MPNo<BT38,\"\",Qual!$C11),IF(MPNo<BT38,\"\",Qual!$C11))","v":"SAVOY, TODD"},0,"",0,"",0,"",0,"",0,"",0,"",{"$f":"IF(Master!$B$4=\"Y\",INDEX(Qual!$C$8:$V$31,MATCH(BV38,Qual!$C$8:$C$31,0),20),0)","v":0},0,0,0,{"$f":"IF(Master!$B$4=\"Y\",(IF(CG38>0,CL38-2800,IF(CE38>0,CL38-2600,IF(CC38>0,CL38-2400,IF(CA38>0,CL38-2200,IF(BY38>0,CL38-2000,IF(BW38>0,CL38-3000,CL38-0))))))),(IF(CG38>0,CL38-1200,IF(CE38>0,CL38-1000,IF(CC38>0,CL38-800,IF(CA38>0,CL38-600,IF(BY38>0,CL38-400,IF(BW38>0,CL38-200,CL38-0))))))))","v":0}]
[null,{"$f":"IF(Payout2>=24,1,IF(Payout2>=22,13,IF(Payout2>=20,20,IF(Payout2>=18,18,IF(Payout2>=16,14,IF(Payout2>=14,14,IF(Payout2>=12,9,IF(Payout2>=10,4,IF(Payout2>=8,1,3)))))))))","v":20},"PETERSON, ED",{"$nulls":15},{"$f":"IF(P39=\"\",\"\",IF(P39>P40,30,IF(P39=P40,15,0)))","v":""},null,null,{"$f":"IF(Payout2>=24,20,IF(Payout2>=22,11,IF(Payout2>=20,1,IF(Payout2>=18,6,IF(Payout2>=16,13,IF(Payout2>=14,8,IF(Payout2>=12,1,IF(Payout2>=10,8,IF(Payout2>=8,3,4)))))))))","v":1},"JONES, TOM",{"$nulls":15},{"$f":"IF(AJ39=\"\",\"\",IF(AJ39>AJ40,30,IF(AJ39=AJ40,15,0)))","v":""},null,null,{"$f":"IF(Payout2>=24,13,IF(Payout2>=22,11,IF(Payout2>=20,9,IF(Payout2>=18,7,IF(Payout2>=16,5,IF(Payout2>=14,3,IF(Payout2>=12,1,IF(Payout2>=10,1,IF(Payout2>=8,3,5)))))))))","v":9},"GREEN, GARY",{"$nulls":15},{"$f":"IF(BD39=\"\",\"\",IF(BD39>BD40,30,IF(BD39=BD40,15,0)))","v":""},{"$nulls":12},5,null,{"$f":"IF(MPNo<>\"\", IF(MPNo<BT39,\"\",Qual!$C12),IF(MPNo<BT39,\"\",Qual!$C12))","v":"HOMMES, JOHN"},0,"",0,"",0,"",0,"",0,"",0,"",{"$f":"IF(Master!$B$4=\"Y\",INDEX(Qual!$C$8:$V$31,MATCH(BV39,Qual!$C$8:$C$31,0),20),0)","v":0},0,0,0,{"$f":"IF(Master!$B$4=\"Y\",(IF(CG39>0,CL39-2800,IF(CE39>0,CL39-2600,IF(CC39>0,CL39-2400,IF(CA39>0,CL39-2200,IF(BY39>0,CL39-2000,IF(BW39>0,CL39-3000,CL39-0))))))),(IF(CG39>0,CL39-1200,IF(CE39>0,CL39-1000,IF(CC39>0,CL39-800,IF(CA39>0,CL39-600,IF(BY39>0,CL39-400,IF(BW39>0,CL39-200,CL39-0))))))))","v":0}]
[null,{"$f":"IF(Payout2>=24,8,IF(Payout2>=22,12,IF(Payout2>=20,12,IF(Payout2>=18,11,IF(Payout2>=16,11,IF(Payout2>=14,7,IF(Payout2>=12,2,IF(Payout2>=10,7,IF(Payout2>=8,5,5)))))))))","v":12},"DAVIS, SCOTT",{"$nulls":15},{"$f":"IF(P40=\"\",\"\",IF(P40>P39,30,IF(P40=P39,15,0)))","v":""},null,null,{"$f":"IF(Payout2>=24,16,IF(Payout2>=22,15,IF(Payout2>=20,14,IF(Payout2>=18,17,IF(Payout2>=16,1,IF(Payout2>=14,13,IF(Payout2>=12,5,IF(Payout2>=10,3,IF(Payout2>=8,8,2)))))))))","v":14},"MCKINNEY, TERRY",{"$nulls":15},{"$f":"IF(AJ40=\"\",\"\",IF(AJ40>AJ39,30,IF(AJ40=AJ39,15,0)))","v":""},null,null,{"$f":"IF(Payout2>=24,14,IF(Payout2>=22,12,IF(Payout2>=20,10,IF(Payout2>=18,8,IF(Payout2>=16,6,IF(Payout2>=14,4,IF(Payout2>=12,2,IF(Payout2>=10,2,IF(Payout2>=8,4,6)))))))))","v":10},"HAVLISH, TOM",{"$nulls":15},{"$f":"IF(BD40=\"\",\"\",IF(BD40>BD39,30,IF(BD40=BD39,15,0)))","v":""},{"$nulls":12},6,null,{"$f":"IF(MPNo<>\"\", IF(MPNo<BT40,\"\",Qual!$C13),IF(MPNo<BT40,\"\",Qual!$C13))","v":"LANGER, DAVE"},0,"",0,"",0,"",0,"",0,"",0,"",{"$f":"IF(Master!$B$4=\"Y\",INDEX(Qual!$C$8:$V$31,MATCH(BV40,Qual!$C$8:$C$31,0),20),0)","v":0},0,0,0,{"$f":"IF(Master!$B$4=\"Y\",(IF(CG40>0,CL40-2800,IF(CE40>0,CL40-2600,IF(CC40>0,CL40-2400,IF(CA40>0,CL40-2200,IF(BY40>0,CL40-2000,IF(BW40>0,CL40-3000,CL40-0))))))),(IF(CG40>0,CL40-1200,IF(CE40>0,CL40-1000,IF(CC40>0,CL40-800,IF(CA40>0,CL40-600,IF(BY40>0,CL40-400,IF(BW40>0,CL40-200,CL40-0))))))))","v":0}]
[null,{"$f":"IF(Payout2>=24,3,IF(Payout2>=22,2,IF(Payout2>=20,3,IF(Payout2>=18,16,IF(Payout2>=16,15,IF(Payout2>=14,9,IF(Payout2>=12,10,IF(Payout2>=10,8,IF(Payout2>=8,8,\"\")))))))))","v":3},"LANGER, DAVE",{"$nulls":15},{"$f":"IF(P41=\"\",\"\",IF(P41>P42,30,IF(P41=P42,15,0)))","v":""},null,null,{"$f":"IF(Payout2>=24,10,IF(Payout2>=22,14,IF(Payout2>=20,15,IF(Payout2>=18,8,IF(Payout2>=16,14,IF(Payout2>=14,10,IF(Payout2>=12,6,IF(Payout2>=10,4,IF(Payout2>=8,5,\"\")))))))))","v":15},"PESCH, JOHN",{"$nulls":15},{"$f":"IF(AJ41=\"\",\"\",IF(AJ41>AJ42,30,IF(AJ41=AJ42,15,0)))","v":""},null,null,{"$f":"IF(Payout2>=24,9,IF(Payout2>=22,7,IF(Payout2>=20,5,IF(Payout2>=18,3,IF(Payout2>=16,1,IF(Payout2>=14,1,IF(Payout2>=12,3,IF(Payout2>=10,5,IF(Payout2>=8,7,\"\")))))))))","v":5},"HOMMES, JOHN",{"$nulls":15},{"$f":"IF(BD41=\"\",\"\",IF(BD41>BD42,30,IF(BD41=BD42,15,0)))","v":""},{"$nulls":12},7,null,{"$f":"IF(MPNo<>\"\", IF(MPNo<BT41,\"\",Qual!$C14),IF(MPNo<BT41,\"\",Qual!$C14))","v":"DOWNER, ROB"},0,"",0,"",0,"",0,"",0,"",0,"",{"$f":"IF(Master!$B$4=\"Y\",INDEX(Qual!$C$8:$V$31,MATCH(BV41,Qual!$C$8:$C$31,0),20),0)","v":0},0,0,0,{"$f":"IF(Master!$B$4=\"Y\",(IF(CG41>0,CL41-2800,IF(CE41>0,CL41-2600,IF(CC41>0,CL41-2400,IF(CA41>0,CL41-2200,IF(BY41>0,CL41-2000,IF(BW41>0,CL41-3000,CL41-0))))))),(IF(CG41>0,CL41-1200,IF(CE41>0,CL41-1000,IF(CC41>0,CL41-800,IF(CA41>0,CL41-600,IF(BY41>0,CL41-400,IF(BW41>0,CL41-200,CL41-0))))))))","v":0}]
[null,{"$f":"IF(Payout2>=24,6,IF(Payout2>=22,5,IF(Payout2>=20,9,IF(Payout2>=18,14,IF(Payout2>=16,2,IF(Payout2>=14,6,IF(Payout2>=12,4,IF(Payout2>=10,6,IF(Payout2>=8,4,\"\")))))))))","v":9},"HAVLISH, TOM",{"$nulls":15},{"$f":"IF(P42=\"\",\"\",IF(P42>P41,30,IF(P42=P41,15,0)))","v":""},null,null,{"$f":"IF(Payout2>=24,22,IF(Payout2>=22,16,IF(Payout2>=20,13,IF(Payout2>=18,13,IF(Payout2>=16,16,IF(Payout2>=14,5,IF(Payout2>=12,3,IF(Payout2>=10,1,IF(Payout2>=8,2,\"\")))))))))","v":13},"VANSLEET, TODD",{"$nulls":15},{"$f":"IF(AJ42=\"\",\"\",IF(AJ42>AJ41,30,IF(AJ42=AJ41,15,0)))","v":""},null,null,{"$f":"IF(Payout2>=24,10,IF(Payout2>=22,8,IF(Payout2>=20,6,IF(Payout2>=18,4,IF(Payout2>=16,2,IF(Payout2>=14,2,IF(Payout2>=12,4,IF(Payout2>=10,6,IF(Payout2>=8,8,\"\")))))))))","v":6},"LANGER, DAVE",{"$nulls":15},{"$f":"IF(BD42=\"\",\"\",IF(BD42>BD41,30,IF(BD42=BD41,15,0)))","v":""},{"$nulls":12},8,null,{"$f":"IF(MPNo<>\"\", IF(MPNo<BT42,\"\",Qual!$C15),IF(MPNo<BT42,\"\",Qual!$C15))","v":"JONES, TOM"},0,"",0,"",0,"",0,"",0,"",0,"",{"$f":"IF(Master!$B$4=\"Y\",INDEX(Qual!$C$8:$V$31,MATCH(BV42,Qual!$C$8:$C$31,0),20),0)","v":0},0,0,0,{"$f":"IF(Master!$B$4=\"Y\",(IF(CG42>0,CL42-2800,IF(CE42>0,CL42-2600,IF(CC42>0,CL42-2400,IF(CA42>0,CL42-2200,IF(BY42>0,CL42-2000,IF(BW42>0,CL42-3000,CL42-0))))))),(IF(CG42>0,CL42-1200,IF(CE42>0,CL42-1000,IF(CC42>0,CL42-800,IF(CA42>0,CL42-600,IF(BY42>0,CL42-400,IF(BW42>0,CL42-200,CL42-0))))))))","v":0}]
[null,{"$f":"IF(Payout2>=24,13,IF(Payout2>=22,20,IF(Payout2>=20,7,IF(Payout2>=18,3,IF(Payout2>=16,3,IF(Payout2>=14,8,IF(Payout2>=12,11,IF(Payout2>=10,10,IF(Payout2>=8,\"\",\"\")))))))))","v":7},"CAUGHEY, STEVE",{"$nulls":15},{"$f":"IF(P43=\"\",\"\",IF(P43>P44,30,IF(P43=P44,15,0)))","v":""},null,null,{"$f":"IF(Payout2>=24,23,IF(Payout2>=22,3,IF(Payout2>=20,4,IF(Payout2>=18,10,IF(Payout2>=16,15,IF(Payout2>=14,12,IF(Payout2>=12,10,IF(Payout2>=10,5,IF(Payout2>=8,\"\",\"\")))))))))","v":4},"HOMMES, JOHN",{"$nulls":15},{"$f":"IF(AJ43=\"\",\"\",IF(AJ43>AJ44,30,IF(AJ43=AJ44,15,0)))","v":""},null,null,{"$f":"IF(Payout2>=24,5,IF(Payout2>=22,3,IF(Payout2>=20,1,IF(Payout2>=18,1,IF(Payout2>=16,3,IF(Payout2>=14,5,IF(Payout2>=12,7,IF(Payout2>=10,9,IF(Payout2>=8,\"\",\"\")))))))))","v":1},"OULMAN, DAVE",{"$nulls":15},{"$f":"IF(BD43=\"\",\"\",IF(BD43>BD44,30,IF(BD43=BD44,15,0)))","v":""},{"$nulls":12},9,null,{"$f":"IF(MPNo<>\"\", IF(MPNo<BT43,\"\",Qual!$C16),IF(MPNo<BT43,\"\",Qual!$C16))","v":"GREEN, GARY"},0,"",0,"",0,"",0,"",0,"",0,"",{"$f":"IF(Master!$B$4=\"Y\",INDEX(Qual!$C$8:$V$31,MATCH(BV43,Qual!$C$8:$C$31,0),20),0)","v":0},0,0,0,{"$f":"IF(Master!$B$4=\"Y\",(IF(CG43>0,CL43-2800,IF(CE43>0,CL43-2600,IF(CC43>0,CL43-2400,IF(CA43>0,CL43-2200,IF(BY43>0,CL43-2000,IF(BW43>0,CL43-3000,CL43-0))))))),(IF(CG43>0,CL43-1200,IF(CE43>0,CL43-1000,IF(CC43>0,CL43-800,IF(CA43>0,CL43-600,IF(BY43>0,CL43-400,IF(BW43>0,CL43-200,CL43-0))))))))","v":0}]
[null,{"$f":"IF(Payout2>=24,12,IF(Payout2>=22,1,IF(Payout2>=20,14,IF(Payout2>=18,2,IF(Payout2>=16,13,IF(Payout2>=14,11,IF(Payout2>=12,6,IF(Payout2>=10,2,IF(Payout2>=8,\"\",\"\")))))))))","v":14},"MCKINNEY, TERRY",{"$nulls":15},{"$f":"IF(P44=\"\",\"\",IF(P44>P43,30,IF(P44=P43,15,0)))","v":""},null,null,{"$f":"IF(Payout2>=24,3,IF(Payout2>=22,17,IF(Payout2>=20,12,IF(Payout2>=18,15,IF(Payout2>=16,4,IF(Payout2>=14,7,IF(Payout2>=12,12,IF(Payout2>=10,9,IF(Payout2>=8,\"\",\"\")))))))))","v":12},"DAVIS, SCOTT",{"$nulls":15},{"$f":"IF(AJ44=\"\",\"\",IF(AJ44>AJ43,30,IF(AJ44=AJ43,15,0)))","v":""},null,null,{"$f":"IF(Payout2>=24,6,IF(Payout2>=22,4,IF(Payout2>=20,2,IF(Payout2>=18,2,IF(Payout2>=16,4,IF(Payout2>=14,6,IF(Payout2>=12,8,IF(Payout2>=10,10,IF(Payout2>=8,\"\",\"\")))))))))","v":2},"CAUGHEY, STEVE",{"$nulls":15},{"$f":"IF(BD44=\"\",\"\",IF(BD44>BD43,30,IF(BD44=BD43,15,0)))","v":""},{"$nulls":12},10,null,{"$f":"IF(MPNo<>\"\", IF(MPNo<BT44,\"\",Qual!$C17),IF(MPNo<BT44,\"\",Qual!$C17))","v":"HAVLISH, TOM"},0,"",0,"",0,"",0,"",0,"",0,"",{"$f":"IF(Master!$B$4=\"Y\",INDEX(Qual!$C$8:$V$31,MATCH(BV44,Qual!$C$8:$C$31,0),20),0)","v":0},0,0,0,{"$f":"IF(Master!$B$4=\"Y\",(IF(CG44>0,CL44-2800,IF(CE44>0,CL44-2600,IF(CC44>0,CL44-2400,IF(CA44>0,CL44-2200,IF(BY44>0,CL44-2000,IF(BW44>0,CL44-3000,CL44-0))))))),(IF(CG44>0,CL44-1200,IF(CE44>0,CL44-1000,IF(CC44>0,CL44-800,IF(CA44>0,CL44-600,IF(BY44>0,CL44-400,IF(BW44>0,CL44-200,CL44-0))))))))","v":0}]
[null,{"$f":"IF(Payout2>=24,15,IF(Payout2>=22,16,IF(Payout2>=20,13,IF(Payout2>=18,17,IF(Payout2>=16,16,IF(Payout2>=14,10,IF(Payout2>=12,1,IF(Payout2>=10,\"\",IF(Payout2>=8,\"\",\"\")))))))))","v":13},"VANSLEET, TODD",{"$nulls":15},{"$f":"IF(P45=\"\",\"\",IF(P45>P46,30,IF(P45=P46,15,0)))","v":""},null,null,{"$f":"IF(Payout2>=24,17,IF(Payout2>=22,5,IF(Payout2>=20,19,IF(Payout2>=18,12,IF(Payout2>=16,6,IF(Payout2>=14,3,IF(Payout2>=12,2,IF(Payout2>=10,\"\",IF(Payout2>=8,\"\",\"\")))))))))","v":19},"STOEBNER, JOHN",{"$nulls":15},{"$f":"IF(AJ45=\"\",\"\",IF(AJ45>AJ46,30,IF(AJ45=AJ46,15,0)))","v":""},null,null,{"$f":"IF(Payout2>=24,1,IF(Payout2>=22,1,IF(Payout2>=20,3,IF(Payout2>=18,5,IF(Payout2>=16,7,IF(Payout2>=14,9,IF(Payout2>=12,11,IF(Payout2>=10,\"\",IF(Payout2>=8,\"\",\"\")))))))))","v":3},"JENSEN, WAYNE",{"$nulls":15},{"$f":"IF(BD45=\"\",\"\",IF(BD45>BD46,30,IF(BD45=BD46,15,0)))","v":""},{"$nulls":12},11,null,{"$f":"IF(MPNo<>\"\", IF(MPNo<BT45,\"\",Qual!$C18),IF(MPNo<BT45,\"\",Qual!$C18))","v":"DAVIS, SCOTT"},0,"",0,"",0,"",0,"",0,"",0,"",{"$f":"IF(Master!$B$4=\"Y\",INDEX(Qual!$C$8:$V$31,MATCH(BV45,Qual!$C$8:$C$31,0),20),0)","v":0},0,0,0,{"$f":"IF(Master!$B$4=\"Y\",(IF(CG45>0,CL45-2800,IF(CE45>0,CL45-2600,IF(CC45>0,CL45-2400,IF(CA45>0,CL45-2200,IF(BY45>0,CL45-2000,IF(BW45>0,CL45-3000,CL45-0))))))),(IF(CG45>0,CL45-1200,IF(CE45>0,CL45-1000,IF(CC45>0,CL45-800,IF(CA45>0,CL45-600,IF(BY45>0,CL45-400,IF(BW45>0,CL45-200,CL45-0))))))))","v":0}]
[null,{"$f":"IF(Payout2>=24,10,IF(Payout2>=22,19,IF(Payout2>=20,6,IF(Payout2>=18,5,IF(Payout2>=16,5,IF(Payout2>=14,1,IF(Payout2>=12,3,IF(Payout2>=10,\"\",IF(Payout2>=8,\"\",\"\")))))))))","v":6},"JENSEN, WAYNE",{"$nulls":15},{"$f":"IF(P46=\"\",\"\",IF(P46>P45,30,IF(P46=P45,15,0)))","v":""},null,null,{"$f":"IF(Payout2>=24,5,IF(Payout2>=22,21,IF(Payout2>=20,9,IF(Payout2>=18,18,IF(Payout2>=16,3,IF(Payout2>=14,11,IF(Payout2>=12,4,IF(Payout2>=10,\"\",IF(Payout2>=8,\"\",\"\")))))))))","v":9},"HAVLISH, TOM",{"$nulls":15},{"$f":"IF(AJ46=\"\",\"\",IF(AJ46>AJ45,30,IF(AJ46=AJ45,15,0)))","v":""},null,null,{"$f":"IF(Payout2>=24,2,IF(Payout2>=22,2,IF(Payout2>=20,4,IF(Payout2>=18,6,IF(Payout2>=16,8,IF(Payout2>=14,10,IF(Payout2>=12,12,IF(Payout2>=10,\"\",IF(Payout2>=8,\"\",\"\")))))))))","v":4},"SAVOY, TODD",{"$nulls":15},{"$f":"IF(BD46=\"\",\"\",IF(BD46>BD45,30,IF(BD46=BD45,15,0)))","v":""},{"$nulls":12},12,null,{"$f":"IF(MPNo<>\"\", IF(MPNo<BT46,\"\",Qual!$C19),IF(MPNo<BT46,\"\",Qual!$C19))","v":"BIRKEDAHL, LARRY"},0,"",0,"",0,"",0,"",0,"",0,"",{"$f":"IF(Master!$B$4=\"Y\",INDEX(Qual!$C$8:$V$31,MATCH(BV46,Qual!$C$8:$C$31,0),20),0)","v":0},0,0,0,{"$f":"IF(Master!$B$4=\"Y\",(IF(CG46>0,CL46-2800,IF(CE46>0,CL46-2600,IF(CC46>0,CL46-2400,IF(CA46>0,CL46-2200,IF(BY46>0,CL46-2000,IF(BW46>0,CL46-3000,CL46-0))))))),(IF(CG46>0,CL46-1200,IF(CE46>0,CL46-1000,IF(CC46>0,CL46-800,IF(CA46>0,CL46-600,IF(BY46>0,CL46-400,IF(BW46>0,CL46-200,CL46-0))))))))","v":0}]
[null,{"$f":"IF(Payout2>=24,9,IF(Payout2>=22,3,IF(Payout2>=20,10,IF(Payout2>=18,1,IF(Payout2>=16,6,IF(Payout2>=14,3,IF(Payout2>=12,\"\",IF(Payout2>=10,\"\",IF(Payout2>=8,\"\",\"\")))))))))","v":10},"GREEN, GARY",{"$nulls":15},{"$f":"IF(P47=\"\",\"\",IF(P47>P48,30,IF(P47=P48,15,0)))","v":""},null,null,{"$f":"IF(Payout2>=24,7,IF(Payout2>=22,12,IF(Payout2>=20,5,IF(Payout2>=18,7,IF(Payout2>=16,10,IF(Payout2>=14,4,IF(Payout2>=12,\"\",IF(Payout2>=10,\"\",IF(Payout2>=8,\"\",\"\")))))))))","v":5},"SAVOY, TODD",{"$nulls":15},{"$f":"IF(AJ47=\"\",\"\",IF(AJ47>AJ48,30,IF(AJ47=AJ48,15,0)))","v":""},null,null,{"$f":"IF(Payout2>=24,3,IF(Payout2>=22,5,IF(Payout2>=20,7,IF(Payout2>=18,9,IF(Payout2>=16,11,IF(Payout2>=14,13,IF(Payout2>=12,\"\",IF(Payout2>=10,\"\",IF(Payout2>=8,\"\",\"\")))))))))","v":7},"DOWNER, ROB",{"$nulls":15},{"$f":"IF(BD47=\"\",\"\",IF(BD47>BD48,30,IF(BD47=BD48,15,0)))","v":""},{"$nulls":12},13,null,{"$f":"IF(MPNo<>\"\", IF(MPNo<BT47,\"\",Qual!$C20),IF(MPNo<BT47,\"\",Qual!$C20))","v":"MCKINNEY, TERRY"},0,"",0,"",0,"",0,"",0,"",0,"",{"$f":"IF(Master!$B$4=\"Y\",INDEX(Qual!$C$8:$V$31,MATCH(BV47,Qual!$C$8:$C$31,0),20),0)","v":0},0,0,0,{"$f":"IF(Master!$B$4=\"Y\",(IF(CG47>0,CL47-2800,IF(CE47>0,CL47-2600,IF(CC47>0,CL47-2400,IF(CA47>0,CL47-2200,IF(BY47>0,CL47-2000,IF(BW47>0,CL47-3000,CL47-0))))))),(IF(CG47>0,CL47-1200,IF(CE47>0,CL47-1000,IF(CC47>0,CL47-800,IF(CA47>0,CL47-600,IF(BY47>0,CL47-400,IF(BW47>0,CL47-200,CL47-0))))))))","v":0}]
[null,{"$f":"IF(Payout2>=24,16,IF(Payout2>=22,6,IF(Payout2>=20,11,IF(Payout2>=18,4,IF(Payout2>=16,9,IF(Payout2>=14,5,IF(Payout2>=12,\"\",IF(Payout2>=10,\"\",IF(Payout2>=8,\"\",\"\")))))))))","v":11},"BIRKEDAHL, LARRY",{"$nulls":15},{"$f":"IF(P48=\"\",\"\",IF(P48>P47,30,IF(P48=P47,15,0)))","v":""},null,null,{"$f":"IF(Payout2>=24,19,IF(Payout2>=22,20,IF(Payout2>=20,8,IF(Payout2>=18,2,IF(Payout2>=16,7,IF(Payout2>=14,6,IF(Payout2>=12,\"\",IF(Payout2>=10,\"\",IF(Payout2>=8,\"\",\"\")))))))))","v":8},"OULMAN, DAVE",{"$nulls":15},{"$f":"IF(AJ48=\"\",\"\",IF(AJ48>AJ47,30,IF(AJ48=AJ47,15,0)))","v":""},null,null,{"$f":"IF(Payout2>=24,4,IF(Payout2>=22,6,IF(Payout2>=20,8,IF(Payout2>=18,10,IF(Payout2>=16,12,IF(Payout2>=14,14,IF(Payout2>=12,\"\",IF(Payout2>=10,\"\",IF(Payout2>=8,\"\",\"\")))))))))","v":8},"JONES, TOM",{"$nulls":15},{"$f":"IF(BD48=\"\",\"\",IF(BD48>BD47,30,IF(BD48=BD47,15,0)))","v":""},{"$nulls":12},14,null,{"$f":"IF(MPNo<>\"\", IF(MPNo<BT48,\"\",Qual!$C21),IF(MPNo<BT48,\"\",Qual!$C21))","v":"VANSLEET, TODD"},0,"",0,"",0,"",0,"",0,"",0,"",{"$f":"IF(Master!$B$4=\"Y\",INDEX(Qual!$C$8:$V$31,MATCH(BV48,Qual!$C$8:$C$31,0),20),0)","v":0},0,0,0,{"$f":"IF(Master!$B$4=\"Y\",(IF(CG48>0,CL48-2800,IF(CE48>0,CL48-2600,IF(CC48>0,CL48-2400,IF(CA48>0,CL48-2200,IF(BY48>0,CL48-2000,IF(BW48>0,CL48-3000,CL48-0))))))),(IF(CG48>0,CL48-1200,IF(CE48>0,CL48-1000,IF(CC48>0,CL48-800,IF(CA48>0,CL48-600,IF(BY48>0,CL48-400,IF(BW48>0,CL48-200,CL48-0))))))))","v":0}]
[null,{"$f":"IF(Payout2>=24,11,IF(Payout2>=22,7,IF(Payout2>=20,4,IF(Payout2>=18,8,IF(Payout2>=16,12,IF(Payout2>=14,\"\",IF(Payout2>=12,\"\",IF(Payout2>=10,\"\",IF(Payout2>=8,\"\",\"\")))))))))","v":4},"HOMMES, JOHN",{"$nulls":15},{"$f":"IF(P49=\"\",\"\",IF(P49>P50,30,IF(P49=P50,15,0)))","v":""},null,null,{"$f":"IF(Payout2>=24,21,IF(Payout2>=22,6,IF(Payout2>=20,7,IF(Payout2>=18,9,IF(Payout2>=16,9,IF(Payout2>=14,\"\",IF(Payout2>=12,\"\",IF(Payout2>=10,\"\",IF(Payout2>=8,\"\",\"\")))))))))","v":7},"CAUGHEY, STEVE",{"$nulls":15},{"$f":"IF(AJ49=\"\",\"\",IF(AJ49>AJ50,30,IF(AJ49=AJ50,15,0)))","v":""},null,null,{"$f":"IF(Payout2>=24,7,IF(Payout2>=22,9,IF(Payout2>=20,11,IF(Payout2>=18,13,IF(Payout2>=16,15,IF(Payout2>=14,\"\",IF(Payout2>=12,\"\",IF(Payout2>=10,\"\",IF(Payout2>=8,\"\",\"\")))))))))","v":11},"DAVIS, SCOTT",{"$nulls":15},{"$f":"IF(BD49=\"\",\"\",IF(BD49>BD50,30,IF(BD49=BD50,15,0)))","v":""},{"$nulls":12},15,null,{"$f":"IF(MPNo<>\"\", IF(MPNo<BT49,\"\",Qual!$C22),IF(MPNo<BT49,\"\",Qual!$C22))","v":"JONES, DAVE"},0,"",0,"",0,"",0,"",0,"",0,"",{"$f":"IF(Master!$B$4=\"Y\",INDEX(Qual!$C$8:$V$31,MATCH(BV49,Qual!$C$8:$C$31,0),20),0)","v":0},0,0,0,{"$f":"IF(Master!$B$4=\"Y\",(IF(CG49>0,CL49-2800,IF(CE49>0,CL49-2600,IF(CC49>0,CL49-2400,IF(CA49>0,CL49-2200,IF(BY49>0,CL49-2000,IF(BW49>0,CL49-3000,CL49-0))))))),(IF(CG49>0,CL49-1200,IF(CE49>0,CL49-1000,IF(CC49>0,CL49-800,IF(CA49>0,CL49-600,IF(BY49>0,CL49-400,IF(BW49>0,CL49-200,CL49-0))))))))","v":0}]
[null,{"$f":"IF(Payout2>=24,14,IF(Payout2>=22,22,IF(Payout2>=20,18,IF(Payout2>=18,10,IF(Payout2>=16,8,IF(Payout2>=14,\"\",IF(Payout2>=12,\"\",IF(Payout2>=10,\"\",IF(Payout2>=8,\"\",\"\")))))))))","v":18},"BORDSON, DAVE",{"$nulls":15},{"$f":"IF(P50=\"\",\"\",IF(P50>P49,30,IF(P50=P49,15,0)))","v":""},null,null,{"$f":"IF(Payout2>=24,1,IF(Payout2>=22,8,IF(Payout2>=20,2,IF(Payout2>=18,3,IF(Payout2>=16,11,IF(Payout2>=14,\"\",IF(Payout2>=12,\"\",IF(Payout2>=10,\"\",IF(Payout2>=8,\"\",\"\")))))))))","v":2},"DOWNER, ROB",{"$nulls":15},{"$f":"IF(AJ50=\"\",\"\",IF(AJ50>AJ49,30,IF(AJ50=AJ49,15,0)))","v":""},null,null,{"$f":"IF(Payout2>=24,8,IF(Payout2>=22,10,IF(Payout2>=20,12,IF(Payout2>=18,14,IF(Payout2>=16,16,IF(Payout2>=14,\"\",IF(Payout2>=12,\"\",IF(Payout2>=10,\"\",IF(Payout2>=8,\"\",\"\")))))))))","v":12},"BIRKEDAHL, LARRY",{"$nulls":15},{"$f":"IF(BD50=\"\",\"\",IF(BD50>BD49,30,IF(BD50=BD49,15,0)))","v":""},{"$nulls":12},16,null,{"$f":"IF(MPNo<>\"\", IF(MPNo<BT50,\"\",Qual!$C23),IF(MPNo<BT50,\"\",Qual!$C23))","v":"PESCH, JOHN"},0,"",0,"",0,"",0,"",0,"",0,"",{"$f":"IF(Master!$B$4=\"Y\",INDEX(Qual!$C$8:$V$31,MATCH(BV50,Qual!$C$8:$C$31,0),20),0)","v":0},0,0,0,{"$f":"IF(Master!$B$4=\"Y\",(IF(CG50>0,CL50-2800,IF(CE50>0,CL50-2600,IF(CC50>0,CL50-2400,IF(CA50>0,CL50-2200,IF(BY50>0,CL50-2000,IF(BW50>0,CL50-3000,CL50-0))))))),(IF(CG50>0,CL50-1200,IF(CE50>0,CL50-1000,IF(CC50>0,CL50-800,IF(CA50>0,CL50-600,IF(BY50>0,CL50-400,IF(BW50>0,CL50-200,CL50-0))))))))","v":0}]
[null,{"$f":"IF(Payout2>=24,21,IF(Payout2>=22,18,IF(Payout2>=20,1,IF(Payout2>=18,12,IF(Payout2>=16,\"\",IF(Payout2>=14,\"\",IF(Payout2>=12,\"\",IF(Payout2>=10,\"\",IF(Payout2>=8,\"\",\"\")))))))))","v":1},"JONES, TOM",{"$nulls":15},{"$f":"IF(P51=\"\",\"\",IF(P51>P52,30,IF(P51=P52,15,0)))","v":""},null,null,{"$f":"IF(Payout2>=24,8,IF(Payout2>=22,9,IF(Payout2>=20,3,IF(Payout2>=18,5,IF(Payout2>=16,\"\",IF(Payout2>=14,\"\",IF(Payout2>=12,\"\",IF(Payout2>=10,\"\",IF(Payout2>=8,\"\",\"\")))))))))","v":3},"LANGER, DAVE",{"$nulls":15},{"$f":"IF(AJ51=\"\",\"\",IF(AJ51>AJ52,30,IF(AJ51=AJ52,15,0)))","v":""},null,null,{"$f":"IF(Payout2>=24,11,IF(Payout2>=22,13,IF(Payout2>=20,15,IF(Payout2>=18,17,IF(Payout2>=16,\"\",IF(Payout2>=14,\"\",IF(Payout2>=12,\"\",IF(Payout2>=10,\"\",IF(Payout2>=8,\"\",\"\")))))))))","v":15},"JONES, DAVE",{"$nulls":15},{"$f":"IF(BD51=\"\",\"\",IF(BD51>BD52,30,IF(BD51=BD52,15,0)))","v":""},{"$nulls":12},17,null,{"$f":"IF(MPNo<>\"\", IF(MPNo<BT51,\"\",Qual!$C24),IF(MPNo<BT51,\"\",Qual!$C24))","v":"BORDSON, DAVE"},0,"",0,"",0,"",0,"",0,"",0,"",{"$f":"IF(Master!$B$4=\"Y\",INDEX(Qual!$C$8:$V$31,MATCH(BV51,Qual!$C$8:$C$31,0),20),0)","v":0},0,0,0,{"$f":"IF(Master!$B$4=\"Y\",(IF(CG51>0,CL51-2800,IF(CE51>0,CL51-2600,IF(CC51>0,CL51-2400,IF(CA51>0,CL51-2200,IF(BY51>0,CL51-2000,IF(BW51>0,CL51-3000,CL51-0))))))),(IF(CG51>0,CL51-1200,IF(CE51>0,CL51-1000,IF(CC51>0,CL51-800,IF(CA51>0,CL51-600,IF(BY51>0,CL51-400,IF(BW51>0,CL51-200,CL51-0))))))))","v":0}]
[null,{"$f":"IF(Payout2>=24,20,IF(Payout2>=22,21,IF(Payout2>=20,15,IF(Payout2>=18,6,IF(Payout2>=16,\"\",IF(Payout2>=14,\"\",IF(Payout2>=12,\"\",IF(Payout2>=10,\"\",IF(Payout2>=8,\"\",\"\")))))))))","v":15},"PESCH, JOHN",{"$nulls":15},{"$f":"IF(P52=\"\",\"\",IF(P52>P51,30,IF(P52=P51,15,0)))","v":""},null,null,{"$f":"IF(Payout2>=24,11,IF(Payout2>=22,19,IF(Payout2>=20,20,IF(Payout2>=18,11,IF(Payout2>=16,\"\",IF(Payout2>=14,\"\",IF(Payout2>=12,\"\",IF(Payout2>=10,\"\",IF(Payout2>=8,\"\",\"\")))))))))","v":20},"PETERSON, ED",{"$nulls":15},{"$f":"IF(AJ52=\"\",\"\",IF(AJ52>AJ51,30,IF(AJ52=AJ51,15,0)))","v":""},null,null,{"$f":"IF(Payout2>=24,12,IF(Payout2>=22,14,IF(Payout2>=20,16,IF(Payout2>=18,18,IF(Payout2>=16,\"\",IF(Payout2>=14,\"\",IF(Payout2>=12,\"\",IF(Payout2>=10,\"\",IF(Payout2>=8,\"\",\"\")))))))))","v":16},"PESCH, JOHN",{"$nulls":15},{"$f":"IF(BD52=\"\",\"\",IF(BD52>BD51,30,IF(BD52=BD51,15,0)))","v":""},{"$nulls":12},18,null,{"$f":"IF(MPNo<>\"\", IF(MPNo<BT52,\"\",Qual!$C25),IF(MPNo<BT52,\"\",Qual!$C25))","v":"WRIGHT, DANA"},0,"",0,"",0,"",0,"",0,"",0,"",{"$f":"IF(Master!$B$4=\"Y\",INDEX(Qual!$C$8:$V$31,MATCH(BV52,Qual!$C$8:$C$31,0),20),0)","v":0},0,0,0,{"$f":"IF(Master!$B$4=\"Y\",(IF(CG52>0,CL52-2800,IF(CE52>0,CL52-2600,IF(CC52>0,CL52-2400,IF(CA52>0,CL52-2200,IF(BY52>0,CL52-2000,IF(BW52>0,CL52-3000,CL52-0))))))),(IF(CG52>0,CL52-1200,IF(CE52>0,CL52-1000,IF(CC52>0,CL52-800,IF(CA52>0,CL52-600,IF(BY52>0,CL52-400,IF(BW52>0,CL52-200,CL52-0))))))))","v":0}]
[null,{"$f":"IF(Payout2>=24,23,IF(Payout2>=22,11,IF(Payout2>=20,2,IF(Payout2>=18,\"\",IF(Payout2>=16,\"\",IF(Payout2>=14,\"\",IF(Payout2>=12,\"\",IF(Payout2>=10,\"\",IF(Payout2>=8,\"\",\"\")))))))))","v":2},"DOWNER, ROB",{"$nulls":15},{"$f":"IF(P53=\"\",\"\",IF(P53>P54,30,IF(P53=P54,15,0)))","v":""},null,null,{"$f":"IF(Payout2>=24,2,IF(Payout2>=22,4,IF(Payout2>=20,18,IF(Payout2>=18,\"\",IF(Payout2>=16,\"\",IF(Payout2>=14,\"\",IF(Payout2>=12,\"\",IF(Payout2>=10,\"\",IF(Payout2>=8,\"\",\"\")))))))))","v":18},"BORDSON, DAVE",{"$nulls":15},{"$f":"IF(AJ53=\"\",\"\",IF(AJ53>AJ54,30,IF(AJ53=AJ54,15,0)))","v":""},null,null,{"$f":"IF(Payout2>=24,15,IF(Payout2>=22,17,IF(Payout2>=20,19,IF(Payout2>=18,\"\",IF(Payout2>=16,\"\",IF(Payout2>=14,\"\",IF(Payout2>=12,\"\",IF(Payout2>=10,\"\",IF(Payout2>=8,\"\",\"\")))))))))","v":19},"PETERSON, ED",{"$nulls":15},{"$f":"IF(BD53=\"\",\"\",IF(BD53>BD54,30,IF(BD53=BD54,15,0)))","v":""},{"$nulls":12},19,null,{"$f":"IF(MPNo<>\"\", IF(MPNo<BT53,\"\",Qual!$C26),IF(MPNo<BT53,\"\",Qual!$C26))","v":"PETERSON, ED"},0,"",0,"",0,"",0,"",0,"",0,"",{"$f":"IF(Master!$B$4=\"Y\",INDEX(Qual!$C$8:$V$31,MATCH(BV53,Qual!$C$8:$C$31,0),20),0)","v":0},0,0,0,{"$f":"IF(Master!$B$4=\"Y\",(IF(CG53>0,CL53-2800,IF(CE53>0,CL53-2600,IF(CC53>0,CL53-2400,IF(CA53>0,CL53-2200,IF(BY53>0,CL53-2000,IF(BW53>0,CL53-3000,CL53-0))))))),(IF(CG53>0,CL53-1200,IF(CE53>0,CL53-1000,IF(CC53>0,CL53-800,IF(CA53>0,CL53-600,IF(BY53>0,CL53-400,IF(BW53>0,CL53-200,CL53-0))))))))","v":0}]
[null,{"$f":"IF(Payout2>=24,18,IF(Payout2>=22,10,IF(Payout2>=20,5,IF(Payout2>=18,\"\",IF(Payout2>=16,\"\",IF(Payout2>=14,\"\",IF(Payout2>=12,\"\",IF(Payout2>=10,\"\",IF(Payout2>=8,\"\",\"\")))))))))","v":5},"SAVOY, TODD",{"$nulls":15},{"$f":"IF(P54=\"\",\"\",IF(P54>P53,30,IF(P54=P53,15,0)))","v":""},null,null,{"$f":"IF(Payout2>=24,13,IF(Payout2>=22,22,IF(Payout2>=20,11,IF(Payout2>=18,\"\",IF(Payout2>=16,\"\",IF(Payout2>=14,\"\",IF(Payout2>=12,\"\",IF(Payout2>=10,\"\",IF(Payout2>=8,\"\",\"\")))))))))","v":11},"BIRKEDAHL, LARRY",{"$nulls":15},{"$f":"IF(AJ54=\"\",\"\",IF(AJ54>AJ53,30,IF(AJ54=AJ53,15,0)))","v":""},null,null,{"$f":"IF(Payout2>=24,16,IF(Payout2>=22,18,IF(Payout2>=20,20,IF(Payout2>=18,\"\",IF(Payout2>=16,\"\",IF(Payout2>=14,\"\",IF(Payout2>=12,\"\",IF(Payout2>=10,\"\",IF(Payout2>=8,\"\",\"\")))))))))","v":20},"STOEBNER, JOHN",{"$nulls":15},{"$f":"IF(BD54=\"\",\"\",IF(BD54>BD53,30,IF(BD54=BD53,15,0)))","v":""},{"$nulls":12},20,null,{"$f":"IF(MPNo<>\"\", IF(MPNo<BT54,\"\",Qual!$C27),IF(MPNo<BT54,\"\",Qual!$C27))","v":"STOEBNER, JOHN"},0,"",0,"",0,"",0,"",0,"",0,"",{"$f":"IF(Master!$B$4=\"Y\",INDEX(Qual!$C$8:$V$31,MATCH(BV54,Qual!$C$8:$C$31,0),20),0)","v":0},0,0,0,{"$f":"IF(Master!$B$4=\"Y\",(IF(CG54>0,CL54-2800,IF(CE54>0,CL54-2600,IF(CC54>0,CL54-2400,IF(CA54>0,CL54-2200,IF(BY54>0,CL54-2000,IF(BW54>0,CL54-3000,CL54-0))))))),(IF(CG54>0,CL54-1200,IF(CE54>0,CL54-1000,IF(CC54>0,CL54-800,IF(CA54>0,CL54-600,IF(BY54>0,CL54-400,IF(BW54>0,CL54-200,CL54-0))))))))","v":0}]
[null,{"$f":"IF(Payout2>=24,17,IF(Payout2>=22,17,IF(Payout2>=20,\"\",IF(Payout2>=18,\"\",IF(Payout2>=16,\"\",IF(Payout2>=14,\"\",IF(Payout2>=12,\"\",IF(Payout2>=10,\"\",IF(Payout2>=8,\"\",\"\")))))))))","v":""},{"$error":"#N/A"},{"$nulls":15},{"$f":"IF(P55=\"\",\"\",IF(P55>P56,30,IF(P55=P56,15,0)))","v":""},null,null,{"$f":"IF(Payout2>=24,4,IF(Payout2>=22,1,IF(Payout2>=20,\"\",IF(Payout2>=18,\"\",IF(Payout2>=16,\"\",IF(Payout2>=14,\"\",IF(Payout2>=12,\"\",IF(Payout2>=10,\"\",IF(Payout2>=8,\"\",\"\")))))))))","v":""},{"$error":"#N/A"},{"$nulls":15},{"$f":"IF(AJ55=\"\",\"\",IF(AJ55>AJ56,30,IF(AJ55=AJ56,15,0)))","v":""},null,null,{"$f":"IF(Payout2>=24,19,IF(Payout2>=22,21,IF(Payout2>=20,\"\",IF(Payout2>=18,\"\",IF(Payout2>=16,\"\",IF(Payout2>=14,\"\",IF(Payout2>=12,\"\",IF(Payout2>=10,\"\",IF(Payout2>=8,\"\",\"\")))))))))","v":""},{"$error":"#N/A"},{"$nulls":15},{"$f":"IF(BD55=\"\",\"\",IF(BD55>BD56,30,IF(BD55=BD56,15,0)))","v":""},{"$nulls":12},21,null,{"$f":"IF(MPNo<>\"\", IF(MPNo<BT55,\"\",Qual!$C28),IF(MPNo<BT55,\"\",Qual!$C28))","v":""},{"$error":"#N/A"},{"$error":"#N/A"},{"$error":"#N/A"},{"$error":"#N/A"},{"$error":"#N/A"},{"$error":"#N/A"},{"$error":"#N/A"},{"$error":"#N/A"},{"$error":"#N/A"},{"$error":"#N/A"},{"$error":"#N/A"},{"$error":"#N/A"},{"$f":"IF(Master!$B$4=\"Y\",INDEX(Qual!$C$8:$V$31,MATCH(BV55,Qual!$C$8:$C$31,0),20),0)","v":0},{"$error":"#N/A"},{"$error":"#N/A"},{"$error":"#N/A"},{"$f":"IF(Master!$B$4=\"Y\",(IF(CG55>0,CL55-2800,IF(CE55>0,CL55-2600,IF(CC55>0,CL55-2400,IF(CA55>0,CL55-2200,IF(BY55>0,CL55-2000,IF(BW55>0,CL55-3000,CL55-0))))))),(IF(CG55>0,CL55-1200,IF(CE55>0,CL55-1000,IF(CC55>0,CL55-800,IF(CA55>0,CL55-600,IF(BY55>0,CL55-400,IF(BW55>0,CL55-200,CL55-0))))))))","v":{"$error":"#N/A"}}]
[null,{"$f":"IF(Payout2>=24,24,IF(Payout2>=22,15,IF(Payout2>=20,\"\",IF(Payout2>=18,\"\",IF(Payout2>=16,\"\",IF(Payout2>=14,\"\",IF(Payout2>=12,\"\",IF(Payout2>=10,\"\",IF(Payout2>=8,\"\",\"\")))))))))","v":""},{"$error":"#N/A"},{"$nulls":15},{"$f":"IF(P56=\"\",\"\",IF(P56>P55,30,IF(P56=P55,15,0)))","v":""},null,null,{"$f":"IF(Payout2>=24,15,IF(Payout2>=22,7,IF(Payout2>=20,\"\",IF(Payout2>=18,\"\",IF(Payout2>=16,\"\",IF(Payout2>=14,\"\",IF(Payout2>=12,\"\",IF(Payout2>=10,\"\",IF(Payout2>=8,\"\",\"\")))))))))","v":""},{"$error":"#N/A"},{"$nulls":15},{"$f":"IF(AJ56=\"\",\"\",IF(AJ56>AJ55,30,IF(AJ56=AJ55,15,0)))","v":""},null,null,{"$f":"IF(Payout2>=24,20,IF(Payout2>=22,22,IF(Payout2>=20,\"\",IF(Payout2>=18,\"\",IF(Payout2>=16,\"\",IF(Payout2>=14,\"\",IF(Payout2>=12,\"\",IF(Payout2>=10,\"\",IF(Payout2>=8,\"\",\"\")))))))))","v":""},{"$error":"#N/A"},{"$nulls":15},{"$f":"IF(BD56=\"\",\"\",IF(BD56>BD55,30,IF(BD56=BD55,15,0)))","v":""},{"$nulls":12},22,null,{"$f":"IF(MPNo<>\"\", IF(MPNo<BT56,\"\",Qual!$C29),IF(MPNo<BT56,\"\",Qual!$C29))","v":""},{"$error":"#N/A"},{"$error":"#N/A"},{"$error":"#N/A"},{"$error":"#N/A"},{"$error":"#N/A"},{"$error":"#N/A"},{"$error":"#N/A"},{"$error":"#N/A"},{"$error":"#N/A"},{"$error":"#N/A"},{"$error":"#N/A"},{"$error":"#N/A"},{"$f":"IF(Master!$B$4=\"Y\",INDEX(Qual!$C$8:$V$31,MATCH(BV56,Qual!$C$8:$C$31,0),20),0)","v":0},{"$error":"#N/A"},{"$error":"#N/A"},{"$error":"#N/A"},{"$f":"IF(Master!$B$4=\"Y\",(IF(CG56>0,CL56-2800,IF(CE56>0,CL56-2600,IF(CC56>0,CL56-2400,IF(CA56>0,CL56-2200,IF(BY56>0,CL56-2000,IF(BW56>0,CL56-3000,CL56-0))))))),(IF(CG56>0,CL56-1200,IF(CE56>0,CL56-1000,IF(CC56>0,CL56-800,IF(CA56>0,CL56-600,IF(BY56>0,CL56-400,IF(BW56>0,CL56-200,CL56-0))))))))","v":{"$error":"#N/A"}}]
[null,{"$f":"IF(Payout2>=24,19,IF(Payout2>=22,\"\",IF(Payout2>=20,\"\",IF(Payout2>=18,\"\",IF(Payout2>=16,\"\",IF(Payout2>=14,\"\",IF(Payout2>=12,\"\",IF(Payout2>=10,\"\",IF(Payout2>=8,\"\",\"\")))))))))","v":""},{"$error":"#N/A"},{"$nulls":15},{"$f":"IF(P57=\"\",\"\",IF(P57>P58,30,IF(P57=P58,15,0)))","v":""},null,null,{"$f":"IF(Payout2>=24,6,IF(Payout2>=22,\"\",IF(Payout2>=20,\"\",IF(Payout2>=18,\"\",IF(Payout2>=16,\"\",IF(Payout2>=14,\"\",IF(Payout2>=12,\"\",IF(Payout2>=10,\"\",IF(Payout2>=8,\"\",\"\")))))))))","v":""},{"$error":"#N/A"},{"$nulls":15},{"$f":"IF(AJ57=\"\",\"\",IF(AJ57>AJ58,30,IF(AJ57=AJ58,15,0)))","v":""},null,null,{"$f":"IF(Payout2>=24,23,IF(Payout2>=22,\"\",IF(Payout2>=20,\"\",IF(Payout2>=18,\"\",IF(Payout2>=16,\"\",IF(Payout2>=14,\"\",IF(Payout2>=12,\"\",IF(Payout2>=10,\"\",IF(Payout2>=8,\"\",\"\")))))))))","v":""},{"$error":"#N/A"},{"$nulls":15},{"$f":"IF(BD57=\"\",\"\",IF(BD57>BD58,30,IF(BD57=BD58,15,0)))","v":""},{"$nulls":12},23,null,{"$f":"IF(MPNo<>\"\", IF(MPNo<BT57,\"\",Qual!$C30),IF(MPNo<BT57,\"\",Qual!$C30))","v":""},{"$error":"#N/A"},{"$error":"#N/A"},{"$error":"#N/A"},{"$error":"#N/A"},{"$error":"#N/A"},{"$error":"#N/A"},{"$error":"#N/A"},{"$error":"#N/A"},{"$error":"#N/A"},{"$error":"#N/A"},{"$error":"#N/A"},{"$error":"#N/A"},{"$f":"IF(Master!$B$4=\"Y\",INDEX(Qual!$C$8:$V$31,MATCH(BV57,Qual!$C$8:$C$31,0),20),0)","v":0},{"$error":"#N/A"},{"$error":"#N/A"},{"$error":"#N/A"},{"$f":"IF(Master!$B$4=\"Y\",(IF(CG57>0,CL57-2800,IF(CE57>0,CL57-2600,IF(CC57>0,CL57-2400,IF(CA57>0,CL57-2200,IF(BY57>0,CL57-2000,IF(BW57>0,CL57-3000,CL57-0))))))),(IF(CG57>0,CL57-1200,IF(CE57>0,CL57-1000,IF(CC57>0,CL57-800,IF(CA57>0,CL57-600,IF(BY57>0,CL57-400,IF(BW57>0,CL57-200,CL57-0))))))))","v":{"$error":"#N/A"}}]
[null,{"$f":"IF(Payout2>=24,22,IF(Payout2>=22,\"\",IF(Payout2>=20,\"\",IF(Payout2>=18,\"\",IF(Payout2>=16,\"\",IF(Payout2>=14,\"\",IF(Payout2>=12,\"\",IF(Payout2>=10,\"\",IF(Payout2>=8,\"\",\"\")))))))))","v":""},{"$error":"#N/A"},{"$nulls":15},{"$f":"IF(P58=\"\",\"\",IF(P58>P57,30,IF(P58=P57,15,0)))","v":""},null,null,{"$f":"IF(Payout2>=24,9,IF(Payout2>=22,\"\",IF(Payout2>=20,\"\",IF(Payout2>=18,\"\",IF(Payout2>=16,\"\",IF(Payout2>=14,\"\",IF(Payout2>=12,\"\",IF(Payout2>=10,\"\",IF(Payout2>=8,\"\",\"\")))))))))","v":""},{"$error":"#N/A"},{"$nulls":15},{"$f":"IF(AJ58=\"\",\"\",IF(AJ58>AJ57,30,IF(AJ58=AJ57,15,0)))","v":""},null,null,{"$f":"IF(Payout2>=24,24,IF(Payout2>=22,\"\",IF(Payout2>=20,\"\",IF(Payout2>=18,\"\",IF(Payout2>=16,\"\",IF(Payout2>=14,\"\",IF(Payout2>=12,\"\",IF(Payout2>=10,\"\",IF(Payout2>=8,\"\",\"\")))))))))","v":""},{"$error":"#N/A"},{"$nulls":15},{"$f":"IF(BD58=\"\",\"\",IF(BD58>BD57,30,IF(BD58=BD57,15,0)))","v":""},{"$nulls":12},24,null,{"$f":"IF(MPNo<>\"\", IF(MPNo<BT58,\"\",Qual!$C31),IF(MPNo<BT58,\"\",Qual!$C31))","v":""},{"$error":"#N/A"},{"$error":"#N/A"},{"$error":"#N/A"},{"$error":"#N/A"},{"$error":"#N/A"},{"$error":"#N/A"},{"$error":"#N/A"},{"$error":"#N/A"},{"$error":"#N/A"},{"$error":"#N/A"},{"$error":"#N/A"},{"$error":"#N/A"},{"$f":"IF(Master!$B$4=\"Y\",INDEX(Qual!$C$8:$V$31,MATCH(BV58,Qual!$C$8:$C$31,0),20),0)","v":0},{"$error":"#N/A"},{"$error":"#N/A"},{"$error":"#N/A"},{"$f":"IF(Master!$B$4=\"Y\",(IF(CG58>0,CL58-2800,IF(CE58>0,CL58-2600,IF(CC58>0,CL58-2400,IF(CA58>0,CL58-2200,IF(BY58>0,CL58-2000,IF(BW58>0,CL58-3000,CL58-0))))))),(IF(CG58>0,CL58-1200,IF(CE58>0,CL58-1000,IF(CC58>0,CL58-800,IF(CA58>0,CL58-600,IF(BY58>0,CL58-400,IF(BW58>0,CL58-200,CL58-0))))))))","v":{"$error":"#N/A"}}]
[]
[]
[{"$nulls":45},"Qual Total",{"$nulls":3},"MP Act Pins",{"$nulls":3},"MP B Pins",{"$nulls":3},"Total Pins",{"$nulls":3},"+ / -"]
[{"$nulls":15},"G1",null,null,"B",null,"G2",null,null,"B",null,"G3",null,null,"B",null,"G4",null,null,"B",null,"G5",null,null,"B",null,"G6",null,null,"B"]
[null,1,{"$f":"IF($BD$35=\"\",BV7,BV35)","v":"OULMAN, DAVE"},{"$nulls":12},{"$f":"IF($BD$35=\"\",BW7,BW35)","v":0},null,null,{"$f":"IF($BD$35=\"\",BX7,BX35)","v":""},null,{"$f":"IF($BD$35=\"\",BY7,BY35)","v":0},null,null,{"$f":"IF($BD$35=\"\",BZ7,BZ35)","v":""},null,{"$f":"IF($BD$35=\"\",CA7,CA35)","v":0},null,null,{"$f":"IF($BD$35=\"\",CB7,CB35)","v":""},null,{"$f":"IF($BD$35=\"\",CC7,CC35)","v":0},null,null,{"$f":"IF($BD$35=\"\",CD7,CD35)","v":""},null,{"$f":"IF($BD$35=\"\",CE7,CE35)","v":0},null,null,{"$f":"IF($BD$35=\"\",CF7,CF35)","v":""},null,{"$f":"IF($BD$35=\"\",CG7,CG35)","v":0},null,null,{"$f":"IF($BD$35=\"\",CH7,CH35)","v":""},null,{"$f":"IF(Master!$B$4=\"Y\",INDEX(Qual!$C$8:$V$31,MATCH(C63,Qual!$C$8:$C$31,0),20),0)","v":0},{"$f":"IF($BO$34=\"Y\",INDEX(Qual!$C$8:$V$19,MATCH(AH63,Qual!$C$8:$C$19,0),11),0)","v":0},{"$f":"IF($BO$34=\"Y\",INDEX(Qual!$C$8:$V$19,MATCH(AI63,Qual!$C$8:$C$19,0),11),0)","v":0},{"$f":"IF($BO$34=\"Y\",INDEX(Qual!$C$8:$V$19,MATCH(AJ63,Qual!$C$8:$C$19,0),11),0)","v":0},{"$f":"IF($BD$35=\"\",CJ7,CJ35)","v":0},{"$nulls":3},{"$f":"IF($BD$35=\"\",CK7,CK35)","v":0},{"$nulls":3},{"$f":"IF($BD$35=\"\",CL7,CL35)","v":0},{"$nulls":3},{"$f":"IF($BD$35=\"\",CM7,CM35)","v":0},{"$nulls":3},{"$f":"BF63-16*200","v":-3200}]
[null,2,"CAUGHEY, STEVE",{"$nulls":12},0,null,null,"",null,0,null,null,"",null,0,null,null,"",null,0,null,null,"",null,0,null,null,"",null,0,null,null,"",null,{"$f":"IF(Master!$B$4=\"Y\",INDEX(Qual!$C$8:$V$31,MATCH(C64,Qual!$C$8:$C$31,0),20),0)","v":0},{"$f":"IF($BO$34=\"Y\",INDEX(Qual!$C$8:$V$19,MATCH(AH64,Qual!$C$8:$C$19,0),11),0)","v":0},{"$f":"IF($BO$34=\"Y\",INDEX(Qual!$C$8:$V$19,MATCH(AI64,Qual!$C$8:$C$19,0),11),0)","v":0},{"$f":"IF($BO$34=\"Y\",INDEX(Qual!$C$8:$V$19,MATCH(AJ64,Qual!$C$8:$C$19,0),11),0)","v":0},0,{"$nulls":3},0,{"$nulls":3},0,{"$nulls":3},0,{"$nulls":3},{"$f":"BF64-16*200","v":-3200}]
[null,3,"JENSEN, WAYNE",{"$nulls":12},0,null,null,"",null,0,null,null,"",null,0,null,null,"",null,0,null,null,"",null,0,null,null,"",null,0,null,null,"",null,{"$f":"IF(Master!$B$4=\"Y\",INDEX(Qual!$C$8:$V$31,MATCH(C65,Qual!$C$8:$C$31,0),20),0)","v":0},{"$f":"IF($BO$34=\"Y\",INDEX(Qual!$C$8:$V$19,MATCH(AH65,Qual!$C$8:$C$19,0),11),0)","v":0},{"$f":"IF($BO$34=\"Y\",INDEX(Qual!$C$8:$V$19,MATCH(AI65,Qual!$C$8:$C$19,0),11),0)","v":0},{"$f":"IF($BO$34=\"Y\",INDEX(Qual!$C$8:$V$19,MATCH(AJ65,Qual!$C$8:$C$19,0),11),0)","v":0},0,{"$nulls":3},0,{"$nulls":3},0,{"$nulls":3},0,{"$nulls":3},-3200]
[null,4,"SAVOY, TODD",{"$nulls":12},0,null,null,"",null,0,null,null,"",null,0,null,null,"",null,0,null,null,"",null,0,null,null,"",null,0,null,null,"",null,{"$f":"IF(Master!$B$4=\"Y\",INDEX(Qual!$C$8:$V$31,MATCH(C66,Qual!$C$8:$C$31,0),20),0)","v":0},{"$f":"IF($BO$34=\"Y\",INDEX(Qual!$C$8:$V$19,MATCH(AH66,Qual!$C$8:$C$19,0),11),0)","v":0},{"$f":"IF($BO$34=\"Y\",INDEX(Qual!$C$8:$V$19,MATCH(AI66,Qual!$C$8:$C$19,0),11),0)","v":0},{"$f":"IF($BO$34=\"Y\",INDEX(Qual!$C$8:$V$19,MATCH(AJ66,Qual!$C$8:$C$19,0),11),0)","v":0},0,{"$nulls":3},0,{"$nulls":3},0,{"$nulls":3},0,{"$nulls":3},-3200]
[null,5,"HOMMES, JOHN",{"$nulls":12},0,null,null,"",null,0,null,null,"",null,0,null,null,"",null,0,null,null,"",null,0,null,null,"",null,0,null,null,"",null,{"$f":"IF(Master!$B$4=\"Y\",INDEX(Qual!$C$8:$V$31,MATCH(C67,Qual!$C$8:$C$31,0),20),0)","v":0},{"$f":"IF($BO$34=\"Y\",INDEX(Qual!$C$8:$V$19,MATCH(AH67,Qual!$C$8:$C$19,0),11),0)","v":0},{"$f":"IF($BO$34=\"Y\",INDEX(Qual!$C$8:$V$19,MATCH(AI67,Qual!$C$8:$C$19,0),11),0)","v":0},{"$f":"IF($BO$34=\"Y\",INDEX(Qual!$C$8:$V$19,MATCH(AJ67,Qual!$C$8:$C$19,0),11),0)","v":0},0,{"$nulls":3},0,{"$nulls":3},0,{"$nulls":3},0,{"$nulls":3},-3200]
[null,6,"LANGER, DAVE",{"$nulls":12},0,null,null,"",null,0,null,null,"",null,0,null,null,"",null,0,null,null,"",null,0,null,null,"",null,0,null,null,"",null,{"$f":"IF(Master!$B$4=\"Y\",INDEX(Qual!$C$8:$V$31,MATCH(C68,Qual!$C$8:$C$31,0),20),0)","v":0},{"$f":"IF($BO$34=\"Y\",INDEX(Qual!$C$8:$V$19,MATCH(AH68,Qual!$C$8:$C$19,0),11),0)","v":0},{"$f":"IF($BO$34=\"Y\",INDEX(Qual!$C$8:$V$19,MATCH(AI68,Qual!$C$8:$C$19,0),11),0)","v":0},{"$f":"IF($BO$34=\"Y\",INDEX(Qual!$C$8:$V$19,MATCH(AJ68,Qual!$C$8:$C$19,0),11),0)","v":0},0,{"$nulls":3},0,{"$nulls":3},0,{"$nulls":3},0,{"$nulls":3},-3200]
[null,7,"DOWNER, ROB",{"$nulls":12},0,null,null,"",null,0,null,null,"",null,0,null,null,"",null,0,null,null,"",null,0,null,null,"",null,0,null,null,"",null,{"$f":"IF(Master!$B$4=\"Y\",INDEX(Qual!$C$8:$V$31,MATCH(C69,Qual!$C$8:$C$31,0),20),0)","v":0},{"$f":"IF($BO$34=\"Y\",INDEX(Qual!$C$8:$V$19,MATCH(AH69,Qual!$C$8:$C$19,0),11),0)","v":0},{"$f":"IF($BO$34=\"Y\",INDEX(Qual!$C$8:$V$19,MATCH(AI69,Qual!$C$8:$C$19,0),11),0)","v":0},{"$f":"IF($BO$34=\"Y\",INDEX(Qual!$C$8:$V$19,MATCH(AJ69,Qual!$C$8:$C$19,0),11),0)","v":0},0,{"$nulls":3},0,{"$nulls":3},0,{"$nulls":3},0,{"$nulls":3},-3200]
[null,8,"JONES, TOM",{"$nulls":12},0,null,null,"",null,0,null,null,"",null,0,null,null,"",null,0,null,null,"",null,0,null,null,"",null,0,null,null,"",null,{"$f":"IF(Master!$B$4=\"Y\",INDEX(Qual!$C$8:$V$31,MATCH(C70,Qual!$C$8:$C$31,0),20),0)","v":0},{"$f":"IF($BO$34=\"Y\",INDEX(Qual!$C$8:$V$19,MATCH(AH70,Qual!$C$8:$C$19,0),11),0)","v":0},{"$f":"IF($BO$34=\"Y\",INDEX(Qual!$C$8:$V$19,MATCH(AI70,Qual!$C$8:$C$19,0),11),0)","v":0},{"$f":"IF($BO$34=\"Y\",INDEX(Qual!$C$8:$V$19,MATCH(AJ70,Qual!$C$8:$C$19,0),11),0)","v":0},0,{"$nulls":3},0,{"$nulls":3},0,{"$nulls":3},0,{"$nulls":3},-3200]
[null,9,"GREEN, GARY",{"$nulls":12},0,null,null,"",null,0,null,null,"",null,0,null,null,"",null,0,null,null,"",null,0,null,null,"",null,0,null,null,"",null,{"$f":"IF(Master!$B$4=\"Y\",INDEX(Qual!$C$8:$V$31,MATCH(C71,Qual!$C$8:$C$31,0),20),0)","v":0},{"$f":"IF($BO$34=\"Y\",INDEX(Qual!$C$8:$V$19,MATCH(AH71,Qual!$C$8:$C$19,0),11),0)","v":0},{"$f":"IF($BO$34=\"Y\",INDEX(Qual!$C$8:$V$19,MATCH(AI71,Qual!$C$8:$C$19,0),11),0)","v":0},{"$f":"IF($BO$34=\"Y\",INDEX(Qual!$C$8:$V$19,MATCH(AJ71,Qual!$C$8:$C$19,0),11),0)","v":0},0,{"$nulls":3},0,{"$nulls":3},0,{"$nulls":3},0,{"$nulls":3},-3200]
[null,10,"HAVLISH, TOM",{"$nulls":12},0,null,null,"",null,0,null,null,"",null,0,null,null,"",null,0,null,null,"",null,0,null,null,"",null,0,null,null,"",null,{"$f":"IF(Master!$B$4=\"Y\",INDEX(Qual!$C$8:$V$31,MATCH(C72,Qual!$C$8:$C$31,0),20),0)","v":0},{"$f":"IF($BO$34=\"Y\",INDEX(Qual!$C$8:$V$19,MATCH(AH72,Qual!$C$8:$C$19,0),11),0)","v":0},{"$f":"IF($BO$34=\"Y\",INDEX(Qual!$C$8:$V$19,MATCH(AI72,Qual!$C$8:$C$19,0),11),0)","v":0},{"$f":"IF($BO$34=\"Y\",INDEX(Qual!$C$8:$V$19,MATCH(AJ72,Qual!$C$8:$C$19,0),11),0)","v":0},0,{"$nulls":3},0,{"$nulls":3},0,{"$nulls":3},0,{"$nulls":3},-3200]
[null,11,"DAVIS, SCOTT",{"$nulls":12},0,null,null,"",null,0,null,null,"",null,0,null,null,"",null,0,null,null,"",null,0,null,null,"",null,0,null,null,"",null,{"$f":"IF(Master!$B$4=\"Y\",INDEX(Qual!$C$8:$V$31,MATCH(C73,Qual!$C$8:$C$31,0),20),0)","v":0},{"$f":"IF($BO$34=\"Y\",INDEX(Qual!$C$8:$V$19,MATCH(AH73,Qual!$C$8:$C$19,0),11),0)","v":0},{"$f":"IF($BO$34=\"Y\",INDEX(Qual!$C$8:$V$19,MATCH(AI73,Qual!$C$8:$C$19,0),11),0)","v":0},{"$f":"IF($BO$34=\"Y\",INDEX(Qual!$C$8:$V$19,MATCH(AJ73,Qual!$C$8:$C$19,0),11),0)","v":0},0,{"$nulls":3},0,{"$nulls":3},0,{"$nulls":3},0,{"$nulls":3},-3200]
[null,12,"BIRKEDAHL, LARRY",{"$nulls":12},0,null,null,"",null,0,null,null,"",null,0,null,null,"",null,0,null,null,"",null,0,null,null,"",null,0,null,null,"",null,{"$f":"IF(Master!$B$4=\"Y\",INDEX(Qual!$C$8:$V$31,MATCH(C74,Qual!$C$8:$C$31,0),20),0)","v":0},{"$f":"IF($BO$34=\"Y\",INDEX(Qual!$C$8:$V$19,MATCH(AH74,Qual!$C$8:$C$19,0),11),0)","v":0},{"$f":"IF($BO$34=\"Y\",INDEX(Qual!$C$8:$V$19,MATCH(AI74,Qual!$C$8:$C$19,0),11),0)","v":0},{"$f":"IF($BO$34=\"Y\",INDEX(Qual!$C$8:$V$19,MATCH(AJ74,Qual!$C$8:$C$19,0),11),0)","v":0},0,{"$nulls":3},0,{"$nulls":3},0,{"$nulls":3},0,{"$nulls":3},-3200]
[null,13,"MCKINNEY, TERRY",{"$nulls":12},0,null,null,"",null,0,null,null,"",null,0,null,null,"",null,0,null,null,"",null,0,null,null,"",null,0,null,null,"",null,{"$f":"IF(Master!$B$4=\"Y\",INDEX(Qual!$C$8:$V$31,MATCH(C75,Qual!$C$8:$C$31,0),20),0)","v":0},{"$f":"IF($BO$34=\"Y\",INDEX(Qual!$C$8:$V$19,MATCH(AH75,Qual!$C$8:$C$19,0),11),0)","v":0},{"$f":"IF($BO$34=\"Y\",INDEX(Qual!$C$8:$V$19,MATCH(AI75,Qual!$C$8:$C$19,0),11),0)","v":0},{"$f":"IF($BO$34=\"Y\",INDEX(Qual!$C$8:$V$19,MATCH(AJ75,Qual!$C$8:$C$19,0),11),0)","v":0},0,{"$nulls":3},0,{"$nulls":3},0,{"$nulls":3},0,{"$nulls":3},{"$f":"BF75-16*200","v":-3200}]
[null,14,"VANSLEET, TODD",{"$nulls":12},0,null,null,"",null,0,null,null,"",null,0,null,null,"",null,0,null,null,"",null,0,null,null,"",null,0,null,null,"",null,{"$f":"IF(Master!$B$4=\"Y\",INDEX(Qual!$C$8:$V$31,MATCH(C76,Qual!$C$8:$C$31,0),20),0)","v":0},{"$f":"IF($BO$34=\"Y\",INDEX(Qual!$C$8:$V$19,MATCH(AH76,Qual!$C$8:$C$19,0),11),0)","v":0},{"$f":"IF($BO$34=\"Y\",INDEX(Qual!$C$8:$V$19,MATCH(AI76,Qual!$C$8:$C$19,0),11),0)","v":0},{"$f":"IF($BO$34=\"Y\",INDEX(Qual!$C$8:$V$19,MATCH(AJ76,Qual!$C$8:$C$19,0),11),0)","v":0},0,{"$nulls":3},0,{"$nulls":3},0,{"$nulls":3},0,{"$nulls":3},{"$f":"BF76-16*200","v":-3200}]
[null,15,"JONES, DAVE",{"$nulls":12},0,null,null,"",null,0,null,null,"",null,0,null,null,"",null,0,null,null,"",null,0,null,null,"",null,0,null,null,"",null,{"$f":"IF(Master!$B$4=\"Y\",INDEX(Qual!$C$8:$V$31,MATCH(C77,Qual!$C$8:$C$31,0),20),0)","v":0},{"$f":"IF($BO$34=\"Y\",INDEX(Qual!$C$8:$V$19,MATCH(AH77,Qual!$C$8:$C$19,0),11),0)","v":0},{"$f":"IF($BO$34=\"Y\",INDEX(Qual!$C$8:$V$19,MATCH(AI77,Qual!$C$8:$C$19,0),11),0)","v":0},{"$f":"IF($BO$34=\"Y\",INDEX(Qual!$C$8:$V$19,MATCH(AJ77,Qual!$C$8:$C$19,0),11),0)","v":0},0,{"$nulls":3},0,{"$nulls":3},0,{"$nulls":3},0,{"$nulls":3},-3200]
[null,16,"PESCH, JOHN",{"$nulls":12},0,null,null,"",null,0,null,null,"",null,0,null,null,"",null,0,null,null,"",null,0,null,null,"",null,0,null,null,"",null,{"$f":"IF(Master!$B$4=\"Y\",INDEX(Qual!$C$8:$V$31,MATCH(C78,Qual!$C$8:$C$31,0),20),0)","v":0},{"$f":"IF($BO$34=\"Y\",INDEX(Qual!$C$8:$V$19,MATCH(AH78,Qual!$C$8:$C$19,0),11),0)","v":0},{"$f":"IF($BO$34=\"Y\",INDEX(Qual!$C$8:$V$19,MATCH(AI78,Qual!$C$8:$C$19,0),11),0)","v":0},{"$f":"IF($BO$34=\"Y\",INDEX(Qual!$C$8:$V$19,MATCH(AJ78,Qual!$C$8:$C$19,0),11),0)","v":0},0,{"$nulls":3},0,{"$nulls":3},0,{"$nulls":3},0,{"$nulls":3},-3200]
[null,17,"BORDSON, DAVE",{"$nulls":12},0,null,null,"",null,0,null,null,"",null,0,null,null,"",null,0,null,null,"",null,0,null,null,"",null,0,null,null,"",null,{"$f":"IF(Master!$B$4=\"Y\",INDEX(Qual!$C$8:$V$31,MATCH(C79,Qual!$C$8:$C$31,0),20),0)","v":0},{"$f":"IF($BO$34=\"Y\",INDEX(Qual!$C$8:$V$19,MATCH(AH79,Qual!$C$8:$C$19,0),11),0)","v":0},{"$f":"IF($BO$34=\"Y\",INDEX(Qual!$C$8:$V$19,MATCH(AI79,Qual!$C$8:$C$19,0),11),0)","v":0},{"$f":"IF($BO$34=\"Y\",INDEX(Qual!$C$8:$V$19,MATCH(AJ79,Qual!$C$8:$C$19,0),11),0)","v":0},0,{"$nulls":3},0,{"$nulls":3},0,{"$nulls":3},0,{"$nulls":3},-3200]
[null,18,"WRIGHT, DANA",{"$nulls":12},0,null,null,"",null,0,null,null,"",null,0,null,null,"",null,0,null,null,"",null,0,null,null,"",null,0,null,null,"",null,{"$f":"IF(Master!$B$4=\"Y\",INDEX(Qual!$C$8:$V$31,MATCH(C80,Qual!$C$8:$C$31,0),20),0)","v":0},{"$f":"IF($BO$34=\"Y\",INDEX(Qual!$C$8:$V$19,MATCH(AH80,Qual!$C$8:$C$19,0),11),0)","v":0},{"$f":"IF($BO$34=\"Y\",INDEX(Qual!$C$8:$V$19,MATCH(AI80,Qual!$C$8:$C$19,0),11),0)","v":0},{"$f":"IF($BO$34=\"Y\",INDEX(Qual!$C$8:$V$19,MATCH(AJ80,Qual!$C$8:$C$19,0),11),0)","v":0},0,{"$nulls":3},0,{"$nulls":3},0,{"$nulls":3},0,{"$nulls":3},-3200]
[null,19,"PETERSON, ED",{"$nulls":12},0,null,null,"",null,0,null,null,"",null,0,null,null,"",null,0,null,null,"",null,0,null,null,"",null,0,null,null,"",null,{"$f":"IF(Master!$B$4=\"Y\",INDEX(Qual!$C$8:$V$31,MATCH(C81,Qual!$C$8:$C$31,0),20),0)","v":0},{"$f":"IF($BO$34=\"Y\",INDEX(Qual!$C$8:$V$19,MATCH(AH81,Qual!$C$8:$C$19,0),11),0)","v":0},{"$f":"IF($BO$34=\"Y\",INDEX(Qual!$C$8:$V$19,MATCH(AI81,Qual!$C$8:$C$19,0),11),0)","v":0},{"$f":"IF($BO$34=\"Y\",INDEX(Qual!$C$8:$V$19,MATCH(AJ81,Qual!$C$8:$C$19,0),11),0)","v":0},0,{"$nulls":3},0,{"$nulls":3},0,{"$nulls":3},0,{"$nulls":3},-3200]
[null,20,"STOEBNER, JOHN",{"$nulls":12},0,null,null,"",null,0,null,null,"",null,0,null,null,"",null,0,null,null,"",null,0,null,null,"",null,0,null,null,"",null,{"$f":"IF(Master!$B$4=\"Y\",INDEX(Qual!$C$8:$V$31,MATCH(C82,Qual!$C$8:$C$31,0),20),0)","v":0},{"$f":"IF($BO$34=\"Y\",INDEX(Qual!$C$8:$V$19,MATCH(AH82,Qual!$C$8:$C$19,0),11),0)","v":0},{"$f":"IF($BO$34=\"Y\",INDEX(Qual!$C$8:$V$19,MATCH(AI82,Qual!$C$8:$C$19,0),11),0)","v":0},{"$f":"IF($BO$34=\"Y\",INDEX(Qual!$C$8:$V$19,MATCH(AJ82,Qual!$C$8:$C$19,0),11),0)","v":0},0,{"$nulls":3},0,{"$nulls":3},0,{"$nulls":3},0,{"$nulls":3},-3200]
[null,21,"",{"$nulls":12},{"$error":"#N/A"},null,null,{"$error":"#N/A"},null,{"$error":"#N/A"},null,null,{"$error":"#N/A"},null,{"$error":"#N/A"},null,null,{"$error":"#N/A"},null,{"$error":"#N/A"},null,null,{"$error":"#N/A"},null,{"$error":"#N/A"},null,null,{"$error":"#N/A"},null,{"$error":"#N/A"},null,null,{"$error":"#N/A"},null,{"$f":"IF(Master!$B$4=\"Y\",INDEX(Qual!$C$8:$V$31,MATCH(C83,Qual!$C$8:$C$31,0),20),0)","v":0},{"$f":"IF($BO$34=\"Y\",INDEX(Qual!$C$8:$V$19,MATCH(AH83,Qual!$C$8:$C$19,0),11),0)","v":0},{"$f":"IF($BO$34=\"Y\",INDEX(Qual!$C$8:$V$19,MATCH(AI83,Qual!$C$8:$C$19,0),11),0)","v":0},{"$f":"IF($BO$34=\"Y\",INDEX(Qual!$C$8:$V$19,MATCH(AJ83,Qual!$C$8:$C$19,0),11),0)","v":0},{"$error":"#N/A"},{"$nulls":3},{"$error":"#N/A"},{"$nulls":3},{"$error":"#N/A"},{"$nulls":3},{"$error":"#N/A"},{"$nulls":3},{"$error":"#N/A"}]
[null,22,"",{"$nulls":12},{"$error":"#N/A"},null,null,{"$error":"#N/A"},null,{"$error":"#N/A"},null,null,{"$error":"#N/A"},null,{"$error":"#N/A"},null,null,{"$error":"#N/A"},null,{"$error":"#N/A"},null,null,{"$error":"#N/A"},null,{"$error":"#N/A"},null,null,{"$error":"#N/A"},null,{"$error":"#N/A"},null,null,{"$error":"#N/A"},null,{"$f":"IF(Master!$B$4=\"Y\",INDEX(Qual!$C$8:$V$31,MATCH(C84,Qual!$C$8:$C$31,0),20),0)","v":0},{"$f":"IF($BO$34=\"Y\",INDEX(Qual!$C$8:$V$19,MATCH(AH84,Qual!$C$8:$C$19,0),11),0)","v":0},{"$f":"IF($BO$34=\"Y\",INDEX(Qual!$C$8:$V$19,MATCH(AI84,Qual!$C$8:$C$19,0),11),0)","v":0},{"$f":"IF($BO$34=\"Y\",INDEX(Qual!$C$8:$V$19,MATCH(AJ84,Qual!$C$8:$C$19,0),11),0)","v":0},{"$error":"#N/A"},{"$nulls":3},{"$error":"#N/A"},{"$nulls":3},{"$error":"#N/A"},{"$nulls":3},{"$error":"#N/A"},{"$nulls":3},{"$error":"#N/A"}]
[null,23,"",{"$nulls":12},{"$error":"#N/A"},null,null,{"$error":"#N/A"},null,{"$error":"#N/A"},null,null,{"$error":"#N/A"},null,{"$error":"#N/A"},null,null,{"$error":"#N/A"},null,{"$error":"#N/A"},null,null,{"$error":"#N/A"},null,{"$error":"#N/A"},null,null,{"$error":"#N/A"},null,{"$error":"#N/A"},null,null,{"$error":"#N/A"},null,{"$f":"IF(Master!$B$4=\"Y\",INDEX(Qual!$C$8:$V$31,MATCH(C85,Qual!$C$8:$C$31,0),20),0)","v":0},{"$f":"IF($BO$34=\"Y\",INDEX(Qual!$C$8:$V$19,MATCH(AH85,Qual!$C$8:$C$19,0),11),0)","v":0},{"$f":"IF($BO$34=\"Y\",INDEX(Qual!$C$8:$V$19,MATCH(AI85,Qual!$C$8:$C$19,0),11),0)","v":0},{"$f":"IF($BO$34=\"Y\",INDEX(Qual!$C$8:$V$19,MATCH(AJ85,Qual!$C$8:$C$19,0),11),0)","v":0},{"$error":"#N/A"},{"$nulls":3},{"$error":"#N/A"},{"$nulls":3},{"$error":"#N/A"},{"$nulls":3},{"$error":"#N/A"},{"$nulls":3},{"$error":"#N/A"}]
[null,24,"",{"$nulls":12},{"$error":"#N/A"},null,null,{"$error":"#N/A"},null,{"$error":"#N/A"},null,null,{"$error":"#N/A"},null,{"$error":"#N/A"},null,null,{"$error":"#N/A"},null,{"$error":"#N/A"},null,null,{"$error":"#N/A"},null,{"$error":"#N/A"},null,null,{"$error":"#N/A"},null,{"$error":"#N/A"},null,null,{"$error":"#N/A"},null,{"$f":"IF(Master!$B$4=\"Y\",INDEX(Qual!$C$8:$V$31,MATCH(C86,Qual!$C$8:$C$31,0),20),0)","v":0},{"$f":"IF($BO$34=\"Y\",INDEX(Qual!$C$8:$V$19,MATCH(AH86,Qual!$C$8:$C$19,0),11),0)","v":0},{"$f":"IF($BO$34=\"Y\",INDEX(Qual!$C$8:$V$19,MATCH(AI86,Qual!$C$8:$C$19,0),11),0)","v":0},{"$f":"IF($BO$34=\"Y\",INDEX(Qual!$C$8:$V$19,MATCH(AJ86,Qual!$C$8:$C$19,0),11),0)","v":0},{"$error":"#N/A"},{"$nulls":3},{"$error":"#N/A"},{"$nulls":3},{"$error":"#N/A"},{"$nulls":3},{"$error":"#N/A"},{"$nulls":3},{"$error":"#N/A"}]
[{"$nulls":14},"Average ",{"$f":"AVERAGE(IF(ISNUMBER(P63:P86),P63:P86))","v":0},{"$nulls":4},{"$f":"AVERAGE(IF(ISNUMBER(U63:U86),U63:U86))","v":0},{"$nulls":4},{"$f":"AVERAGE(IF(ISNUMBER(Z63:Z86),Z63:Z86))","v":0},{"$nulls":4},{"$f":"AVERAGE(IF(ISNUMBER(AE63:AE86),AE63:AE86))","v":0},{"$nulls":4},{"$f":"AVERAGE(IF(ISNUMBER(AJ63:AJ86),AJ63:AJ86))","v":0},{"$nulls":4},{"$f":"AVERAGE(IF(ISNUMBER(AO63:AO86),AO63:AO86))","v":0}]
[]
[null,"Stepladder Finals"]
[null,"Match 1"]
[null,null,{"$f":"IF(AO63=0,\"\",C67)","v":""}]
[null,null,{"$f":"IF(AO63=0,\"\",C66)","v":""}]
[]
[{"$nulls":11},"Match 2"]
[{"$nulls":11},{"$f":"IF(AO63=0,\"\",C65)","v":""}]
[{"$nulls":11},{"$f":"IF(P92=\"\",\"\",IF(P91>P92,C91,C92))","v":""}]
[]
[{"$nulls":21},"Match 3"]
[{"$nulls":21},{"$f":"IF(AO63=0,\"\",C64)","v":""}]
[null,null,{"$f":"IF(AR104>AR103,AE104,AE103)","v":""},{"$f":"IF(P92=\"\",\"\",IF(P91>P92,CONCATENATE(LEFT(C91,(FIND(\",\",C91,1)-1)),\" def. \",LEFT(C92,(FIND(\",\",C92,1)-1)),\" \",P91,\"-\",P92),CONCATENATE(LEFT(C92,(FIND(\",\",C92,1)-1)),\" def. \",LEFT(C91,(FIND(\",\",C91,1)-1)),\" \",P92,\"-\",P91)))","v":""},{"$nulls":17},{"$f":"IF(Y96=\"\",\"\",IF(Y95>Y96,L95,L96))","v":""}]
[null,null,{"$f":"IF(AR104<AR103,AE104,AE103)","v":""},{"$f":"IF(Y95=\"\",\"\",IF(Y95>Y96,CONCATENATE(LEFT(L95,(FIND(\",\",L95,1)-1)),\" def. \",LEFT(L96,(FIND(\",\",L96,1)-1)),\" \",Y95,\"-\",Y96),CONCATENATE(LEFT(L96,(FIND(\",\",L96,1)-1)),\" def. \",LEFT(L95,(FIND(\",\",L95,1)-1)),\" \",Y96,\"-\",Y95)))","v":""}]
[null,null,{"$f":"IF(AI100=\"\",\"\",IF(AI99<AI100,V99,V100))","v":""},{"$f":"IF(AI99=\"\",\"\",IF(AI99>AI100,CONCATENATE(LEFT(V99,(FIND(\",\",V99,1)-1)),\" def. \",LEFT(V100,(FIND(\",\",V100,1)-1)),\" \",AI99,\"-\",AI100),CONCATENATE(LEFT(V100,(FIND(\",\",V100,1)-1)),\" def. \",LEFT(V99,(FIND(\",\",V99,1)-1)),\" \",AI100,\"-\",AI99)))","v":""},{"$nulls":26},"Match 4"]
[null,null,{"$f":"IF(Y96=\"\",\"\",IF(Y95<Y96,L95,L96))","v":""},{"$f":"IF(AR103=\"\",\"\",IF(AR103>AR104,CONCATENATE(LEFT(AE103,(FIND(\",\",AE103,1)-1)),\" def. \",LEFT(AE104,(FIND(\",\",AE104,1)-1)),\" \",AR103,\"-\",AR104),CONCATENATE(LEFT(AE104,(FIND(\",\",AE104,1)-1)),\" def. \",LEFT(AE103,(FIND(\",\",AE103,1)-1)),\" \",AR104,\"-\",AR103)))","v":""},{"$nulls":26},{"$f":"IF(AO63=0,\"\",C63)","v":""}]
[null,null,{"$f":"IF(P92=\"\",\"\",IF(P91<P92,C91,C92))","v":""},{"$nulls":27},{"$f":"IF(AI100=\"\",\"\",IF(AI99>AI100,V99,V100))","v":""}]

{"sheet":"MSC","index":11,"n_rows":29,"n_cols":18,"rows_kept":29,"merged":[[0,0,0,60],[1,0,1,60],[2,0,2,60],[3,63,3,65],[7,2,7,14],[7,15,7,17],[8,2,8,14],[8,15,8,17],[11,5,11,17],[11,18,11,20],[12,5,12,17],[12,18,12,20],[15,8,15,20],[15,21,15,23],[16,8,16,20],[16,21,16,23],[19,11,19,23],[19,24,19,26],[20,11,20,23],[20,24,20,26],[23,14,23,26],[23,27,23,29],[24,14,24,26],[24,27,24,29],[27,17,27,29],[27,30,27,32],[28,17,28,29],[28,30,28,32]]}
[{"$f":"'Check-In'!$B$1","v":"Midwest Senior Classic"}]
[{"$f":"'Check-In'!$B$2","v":"2022-04-24"}]
[{"$f":"'Check-In'!$B$3","v":"Cedarvale"}]
[]
[]
[null,"Stepladder Finals"]
[null,"Match 1 (if Needed)"]
[null,"ROG",{"$f":"IF(ISNA(MATCH(B8,Qual!$D$8:$D$133,0)),\"\",IF(INDEX(Qual!$C$8:$D$133,MATCH(B8,Qual!$D$8:$D$133,0),1)=$L$20,\"\",IF(INDEX(Qual!$C$8:$D$133,MATCH(B8,Qual!$D$8:$D$133,0),1)=$O$24,\"\",IF(INDEX(Qual!$C$8:$D$133,MATCH(B8,Qual!$D$8:$D$133,0),1)=$R$28,\"\",IF(INDEX(Qual!$C$8:$D$133,MATCH(B8,Qual!$D$8:$D$133,0),1)=$F$12,\"\",IF(INDEX(Qual!$C$8:$D$133,MATCH(B8,Qual!$D$8:$D$133,0),1)=I16,\"\",INDEX(Qual!$C$8:$D$133,MATCH(B8,Qual!$D$8:$D$133,0),1)))))))","v":"HAVLISH, TOM"}]
[null,"SS",{"$f":"IF(ISNA(MATCH(B9,Qual!$D$8:$D$133,0)),\"\",IF(INDEX(Qual!$C$8:$D$133,MATCH(B9,Qual!$D$8:$D$133,0),1)=$L$20,\"\",IF(INDEX(Qual!$C$8:$D$133,MATCH(B9,Qual!$D$8:$D$133,0),1)=$O$24,\"\",IF(INDEX(Qual!$C$8:$D$133,MATCH(B9,Qual!$D$8:$D$133,0),1)=$R$28,\"\",IF(INDEX(Qual!$C$8:$D$133,MATCH(B9,Qual!$D$8:$D$133,0),1)=$F$12,\"\",IF(INDEX(Qual!$C$8:$D$133,MATCH(B9,Qual!$D$8:$D$133,0),1)=I16,\"\",INDEX(Qual!$C$8:$D$133,MATCH(B9,Qual!$D$8:$D$133,0),1)))))))","v":""}]
[]
[{"$nulls":5},"Match 2 (if needed)"]
[{"$nulls":4},{"$f":"IF(OR(Qual!D8:D12=\"ROG\",Qual!D8:D12=\"SS\"),\"ARGH\",Qual!C12)","v":"ARGH"},{"$f":"E12","v":"ARGH"}]
[{"$nulls":5},{"$f":"IF(AND(C8<>\"\",C9<>\"\"),IF(P8=\"\",\"\",IF(P8<P9,C9,C8)),IF(C9=\"\",C8,C9))","v":"HAVLISH, TOM"}]
[]
[{"$nulls":8},"Match 3"]
[{"$nulls":8},{"$f":"Qual!C11","v":"SAVOY, TODD"}]
[{"$nulls":8},{"$f":"IF(S12=\"\",\"\",IF(S12<S13,F13,F12))","v":""}]
[]
[{"$nulls":11},"Match 4"]
[{"$nulls":11},{"$f":"Qual!C10","v":"JENSEN, WAYNE"}]
[{"$nulls":11},{"$f":"IF(V16=\"\",\"\",IF(V16<V17,I17,I16))","v":""}]
[]
[{"$nulls":14},"Match 5"]
[{"$nulls":14},{"$f":"Qual!C9","v":"CAUGHEY, STEVE"}]
[null,null,{"$f":"IF(AE29>AE28,R29,R28)","v":"OULMAN, DAVE"},{"$nulls":11},{"$f":"IF(Y20=\"\",\"\",IF(Y20<Y21,L21,L20))","v":""}]
[null,null,{"$f":"IF(AE29<AE28,R29,R28)","v":"OULMAN, DAVE"}]
[null,null,{"$f":"IF(AB25=\"\",\"\",IF(AB24<AB25,O24,O25))","v":""},{"$nulls":14},"Match 5"]
[null,null,{"$f":"IF(Y21=\"\",\"\",IF(Y20<Y21,L20,L21))","v":""},{"$nulls":14},{"$f":"Qual!C8","v":"OULMAN, DAVE"}]
[{"$nulls":17},{"$f":"IF(AB24=\"\",\"\",IF(AB24<AB25,O25,O24))","v":""}]

{"sheet":"1D1GRRMP","index":12,"n_rows":104,"n_cols":91,"rows_kept":104,"hidden":true,"merged":[[0,0,0,60],[1,0,1,60],[2,0,2,60],[3,63,3,65],[5,2,5,14],[5,18,5,19],[5,22,5,34],[5,38,5,39],[5,42,5,54],[5,58,5,59],[6,2,6,14],[6,15,6,17],[6,18,6,19],[6,22,6,34],[6,35,6,37],[6,38,6,39],[6,42,6,54],[6,55,6,57],[6,58,6,59],[7,2,7,14],[7,15,7,17],[7,18,7,19],[7,22,7,34],[7,35,7,37],[7,38,7,39],[7,42,7,54],[7,55,7,57],[7,58,7,59],[8,2,8,14],[8,15,8,17],[8,18,8,19],[8,22,8,34],[8,35,8,37],[8,38,8,39],[8,42,8,54],[8,55,8,57],[8,58,8,59],[9,2,9,14],[9,15,9,17],[9,18,9,19],[9,22,9,34],[9,35,9,37],[9,38,9,39],[9,42,9,54],[9,55,9,57],[9,58,9,59],[10,2,10,14],[10,15,10,17],[10,18,10,19],[10,22,10,34],[10,35,10,37],[10,38,10,39],[10,42,10,54],[10,55,10,57],[10,58,10,59],[11,2,11,14],[11,15,11,17],[11,18,11,19],[11,22,11,34],[11,35,11,37],[11,38,11,39],[11,42,11,54],[11,55,11,57],[11,58,11,59],[12,2,12,14],[12,15,12,17],[12,18,12,19],[12,22,12,34],[12,35,12,37],[12,38,12,39],[12,42,12,54],[12,55,12,57],[12,58,12,59],[13,2,13,14],[13,15,13,17],[13,18,13,19],[13,22,13,34],[13,35,13,37],[13,38,13,39],[13,42,13,54],[13,55,13,57],[13,58,13,59],[14,2,14,14],[14,15,14,17],[14,18,14,19],[14,22,14,34],[14,35,14,37],[14,38,14,39],[14,42,14,54],[14,55,14,57],[14,58,14,59],[15,2,15,14],[15,15,15,17],[15,18,15,19],[15,22,15,34],[15,35,15,37],[15,38,15,39],[15,42,15,54],[15,55,15,57],[15,58,15,59],[16,2,16,14],[16,15,16,17],[16,18,16,19],[16,22,16,34],[16,35,16,37],[16,38,16,39],[16,42,16,54],[16,55,16,57],[16,58,16,59],[17,2,17,14],[17,15,17,17],[17,18,17,19],[17,22,17,34],[17,35,17,37],[17,38,17,39],[17,42,17,54],[17,55,17,57],[17,58,17,59],[18,2,18,14],[18,15,18,17],[18,18,18,19],[18,22,18,34],[18,35,18,37],[18,38,18,39],[18,42,18,54],[18,55,18,57],[18,58,18,59],[19,2,19,14],[19,15,19,17],[19,18,19,19],[19,22,19,34],[19,35,19,37],[19,38,19,39],[19,42,19,54],[19,55,19,57],[19,58,19,59],[20,2,20,14],[20,15,20,17],[20,18,20,19],[20,22,20,34],[20,35,20,37],[20,38,20,39],[20,42,20,54],[20,55,20,57],[20,58,20,59],[21,2,21,14],[21,15,21,17],[21,18,21,19],[21,22,21,34],[21,35,21,37],[21,38,21,39],[21,42,21,54],[21,55,21,57],[21,58,21,59],[22,2,22,14],[22,15,22,17],[22,18,22,19],[22,22,22,34],[22,35,22,37],[22,38,22,39],[22,42,22,54],[22,55,22,57],[22,58,22,59],[23,2,23,14],[23,15,23,17],[23,18,23,19],[23,22,23,34],[23,35,23,37],[23,38,23,39],[23,42,23,54],[23,55,23,57],[23,58,23,59],[24,2,24,14],[24,15,24,17],[24,18,24,19],[24,22,24,34],[24,35,24,37],[24,38,24,39],[24,42,24,54],[24,55,24,57],[24,58,24,59],[25,2,25,14],[25,15,25,17],[25,18,25,19],[25,22,25,34],[25,35,25,37],[25,38,25,39],[25,42,25,54],[25,55,25,57],[25,58,25,59],[26,2,26,14],[26,15,26,17],[26,18,26,19],[26,22,26,34],[26,35,26,37],[26,38,26,39],[26,42,26,54],[26,55,26,57],[26,58,26,59],[27,2,27,14],[27,15,27,17],[27,18,27,19],[27,22,27,34],[27,35,27,37],[27,38,27,39],[27,42,27,54],[27,55,27,57],[27,58,27,59],[28,2,28,14],[28,15,28,17],[28,18,28,19],[28,22,28,34],[28,35,28,37],[28,38,28,39],[28,42,28,54],[28,55,28,57],[28,58,28,59],[29,2,29,14],[29,15,29,17],[29,18,29,19],[29,22,29,34],[29,35,29,37],[29,38,29,39],[29,42,29,54],[29,55,29,57],[29,58,29,59],[33,2,33,14],[33,18,33,19],[33,22,33,34],[33,38,33,39],[33,42,33,54],[33,58,33,59],[34,2,34,14],[34,15,34,17],[34,18,34,19],[34,22,34,34],[34,35,34,37],[34,38,34,39],[34,42,34,54],[34,55,34,57],[34,58,34,59],[35,2,35,14],[35,15,35,17],[35,18,35,19],[35,22,35,34],[35,35,35,37],[35,38,35,39],[35,42,35,54],[35,55,35,57],[35,58,35,59],[36,2,36,14],[36,15,36,17],[36,18,36,19],[36,22,36,34],[36,35,36,37],[36,38,36,39],[36,42,36,54],[36,55,36,57],[36,58,36,59],[37,2,37,14],[37,15,37,17],[37,18,37,19],[37,22,37,34],[37,35,37,37],[37,38,37,39],[37,42,37,54],[37,55,37,57],[37,58,37,59],[38,2,38,14],[38,15,38,17],[38,18,38,19],[38,22,38,34],[38,35,38,37],[38,38,38,39],[38,42,38,54],[38,55,38,57],[38,58,38,59],[39,2,39,14],[39,15,39,17],[39,18,39,19],[39,22,39,34],[39,35,39,37],[39,38,39,39],[39,42,39,54],[39,55,39,57],[39,58,39,59],[40,2,40,14],[40,15,40,17],[40,18,40,19],[40,22,40,34],[40,35,40,37],[40,38,40,39],[40,42,40,54],[40,55,40,57],[40,58,40,59],[41,2,41,14],[41,15,41,17],[41,18,41,19],[41,22,41,34],[41,35,41,37],[41,38,41,39],[41,42,41,54],[41,55,41,57],[41,58,41,59],[42,2,42,14],[42,15,42,17],[42,18,42,19],[42,22,42,34],[42,35,42,37],[42,38,42,39],[42,42,42,54],[42,55,42,57],[42,58,42,59],[43,2,43,14],[43,15,43,17],[43,18,43,19],[43,22,43,34],[43,35,43,37],[43,38,43,39],[43,42,43,54],[43,55,43,57],[43,58,43,59],[44,2,44,14],[44,15,44,17],[44,18,44,19],[44,22,44,34],[44,35,44,37],[44,38,44,39],[44,42,44,54],[44,55,44,57],[44,58,44,59],[45,2,45,14],[45,15,45,17],[45,18,45,19],[45,22,45,34],[45,35,45,37],[45,38,45,39],[45,42,45,54],[45,55,45,57],[45,58,45,59],[46,2,46,14],[46,15,46,17],[46,18,46,19],[46,22,46,34],[46,35,46,37],[46,38,46,39],[46,42,46,54],[46,55,46,57],[46,58,46,59],[47,2,47,14],[47,15,47,17],[47,18,47,19],[47,22,47,34],[47,35,47,37],[47,38,47,39],[47,42,47,54],[47,55,47,57],[47,58,47,59],[48,2,48,14],[48,15,48,17],[48,18,48,19],[48,22,48,34],[48,35,48,37],[48,38,48,39],[48,42,48,54],[48,55,48,57],[48,58,48,59],[49,2,49,14],[49,15,49,17],[49,18,49,19],[49,22,49,34],[49,35,49,37],[49,38,49,39],[49,42,49,54],[49,55,49,57],[49,58,49,59],[50,2,50,14],[50,15,50,17],[50,18,50,19],[50,22,50,34],[50,35,50,37],[50,38,50,39],[50,42,50,54],[50,55,50,57],[50,58,50,59],[51,2,51,14],[51,15,51,17],[51,18,51,19],[51,22,51,34],[51,35,51,37],[51,38,51,39],[51,42,51,54],[51,55,51,57],[51,58,51,59],[52,2,52,14],[52,15,52,17],[52,18,52,19],[52,22,52,34],[52,35,52,37],[52,38,52,39],[52,42,52,54],[52,55,52,57],[52,58,52,59],[53,2,53,14],[53,15,53,17],[53,18,53,19],[53,22,53,34],[53,35,53,37],[53,38,53,39],[53,42,53,54],[53,55,53,57],[53,58,53,59],[54,2,54,14],[54,15,54,17],[54,18,54,19],[54,22,54,34],[54,35,54,37],[54,38,54,39],[54,42,54,54],[54,55,54,57],[54,58,54,59],[55,2,55,14],[55,15,55,17],[55,18,55,19],[55,22,55,34],[55,35,55,37],[55,38,55,39],[55,42,55,54],[55,55,55,57],[55,58,55,59],[56,2,56,14],[56,15,56,17],[56,18,56,19],[56,22,56,34],[56,35,56,37],[56,38,56,39],[56,42,56,54],[56,55,56,57],[56,58,56,59],[57,2,57,14],[57,15,57,17],[57,18,57,19],[57,22,57,34],[57,35,57,37],[57,38,57,39],[57,42,57,54],[57,55,57,57],[57,58,57,59],[60,45,61,48],[60,49,61,52],[60,53,61,56],[60,57,61,60],[60,61,61,61],[61,15,61,17],[61,18,61,19],[61,20,61,22],[61,23,61,24],[61,25,61,27],[61,28,61,29],[61,30,61,32],[61,33,61,34],[61,35,61,37],[61,38,61,39],[61,40,61,42],[61,43,61,44],[62,2,62,14],[62,15,62,17],[62,18,62,19],[62,20,62,22],[62,23,62,24],[62,25,62,27],[62,28,62,29],[62,30,62,32],[62,33,62,34],[62,35,62,37],[62,38,62,39],[62,40,62,42],[62,43,62,44],[62,45,62,48],[62,49,62,52],[62,53,62,56],[62,57,62,60],[63,2,63,14],[63,15,63,17],[63,18,63,19],[63,20,63,22],[63,23,63,24],[63,25,63,27],[63,28,63,29],[63,30,63,32],[63,33,63,34],[63,35,63,37],[63,38,63,39],[63,40,63,42],[63,43,63,44],[63,45,63,48],[63,49,63,52],[63,53,63,56],[63,57,63,60],[64,2,64,14],[64,15,64,17],[64,18,64,19],[64,20,64,22],[64,23,64,24],[64,25,64,27],[64,28,64,29],[64,30,64,32],[64,33,64,34],[64,35,64,37],[64,38,64,39],[64,40,64,42],[64,43,64,44],[64,45,64,48],[64,49,64,52],[64,53,64,56],[64,57,64,60],[65,2,65,14],[65,15,65,17],[65,18,65,19],[65,20,65,22],[65,23,65,24],[65,25,65,27],[65,28,65,29],[65,30,65,32],[65,33,65,34],[65,35,65,37],[65,38,65,39],[65,40,65,42],[65,43,65,44],[65,45,65,48],[65,49,65,52],[65,53,65,56],[65,57,65,60],[66,2,66,14],[66,15,66,17],[66,18,66,19],[66,20,66,22],[66,23,66,24],[66,25,66,27],[66,28,66,29],[66,30,66,32],[66,33,66,34],[66,35,66,37],[66,38,66,39],[66,40,66,42],[66,43,66,44],[66,45,66,48],[66,49,66,52],[66,53,66,56],[66,57,66,60],[67,2,67,14],[67,15,67,17],[67,18,67,19],[67,20,67,22],[67,23,67,24],[67,25,67,27],[67,28,67,29],[67,30,67,32],[67,33,67,34],[67,35,67,37],[67,38,67,39],[67,40,67,42],[67,43,67,44],[67,45,67,48],[67,49,67,52],[67,53,67,56],[67,57,67,60],[68,2,68,14],[68,15,68,17],[68,18,68,19],[68,20,68,22],[68,23,68,24],[68,25,68,27],[68,28,68,29],[68,30,68,32],[68,33,68,34],[68,35,68,37],[68,38,68,39],[68,40,68,42],[68,43,68,44],[68,45,68,48],[68,49,68,52],[68,53,68,56],[68,57,68,60],[69,2,69,14],[69,15,69,17],[69,18,69,19],[69,20,69,22],[69,23,69,24],[69,25,69,27],[69,28,69,29],[69,30,69,32],[69,33,69,34],[69,35,69,37],[69,38,69,39],[69,40,69,42],[69,43,69,44],[69,45,69,48],[69,49,69,52],[69,53,69,56],[69,57,69,60],[70,2,70,14],[70,15,70,17],[70,18,70,19],[70,20,70,22],[70,23,70,24],[70,25,70,27],[70,28,70,29],[70,30,70,32],[70,33,70,34],[70,35,70,37],[70,38,70,39],[70,40,70,42],[70,43,70,44],[70,45,70,48],[70,49,70,52],[70,53,70,56],[70,57,70,60],[71,2,71,14],[71,15,71,17],[71,18,71,19],[71,20,71,22],[71,23,71,24],[71,25,71,27],[71,28,71,29],[71,30,71,32],[71,33,71,34],[71,35,71,37],[71,38,71,39],[71,40,71,42],[71,43,71,44],[71,45,71,48],[71,49,71,52],[71,53,71,56],[71,57,71,60],[72,2,72,14],[72,15,72,17],[72,18,72,19],[72,20,72,22],[72,23,72,24],[72,25,72,27],[72,28,72,29],[72,30,72,32],[72,33,72,34],[72,35,72,37],[72,38,72,39],[72,40,72,42],[72,43,72,44],[72,45,72,48],[72,49,72,52],[72,53,72,56],[72,57,72,60],[73,2,73,14],[73,15,73,17],[73,18,73,19],[73,20,73,22],[73,23,73,24],[73,25,73,27],[73,28,73,29],[73,30,73,32],[73,33,73,34],[73,35,73,37],[73,38,73,39],[73,40,73,42],[73,43,73,44],[73,45,73,48],[73,49,73,52],[73,53,73,56],[73,57,73,60],[74,2,74,14],[74,15,74,17],[74,18,74,19],[74,20,74,22],[74,23,74,24],[74,25,74,27],[74,28,74,29],[74,30,74,32],[74,33,74,34],[74,35,74,37],[74,38,74,39],[74,40,74,42],[74,43,74,44],[74,45,74,48],[74,49,74,52],[74,53,74,56],[74,57,74,60],[75,2,75,14],[75,15,75,17],[75,18,75,19],[75,20,75,22],[75,23,75,24],[75,25,75,27],[75,28,75,29],[75,30,75,32],[75,33,75,34],[75,35,75,37],[75,38,75,39],[75,40,75,42],[75,43,75,44],[75,45,75,48],[75,49,75,52],[75,53,75,56],[75,57,75,60],[76,2,76,14],[76,15,76,17],[76,18,76,19],[76,20,76,22],[76,23,76,24],[76,25,76,27],[76,28,76,29],[76,30,76,32],[76,33,76,34],[76,35,76,37],[76,38,76,39],[76,40,76,42],[76,43,76,44],[76,45,76,48],[76,49,76,52],[76,53,76,56],[76,57,76,60],[77,2,77,14],[77,15,77,17],[77,18,77,19],[77,20,77,22],[77,23,77,24],[77,25,77,27],[77,28,77,29],[77,30,77,32],[77,33,77,34],[77,35,77,37],[77,38,77,39],[77,40,77,42],[77,43,77,44],[77,45,77,48],[77,49,77,52],[77,53,77,56],[77,57,77,60],[78,2,78,14],[78,15,78,17],[78,18,78,19],[78,20,78,22],[78,23,78,24],[78,25,78,27],[78,28,78,29],[78,30,78,32],[78,33,78,34],[78,35,78,37],[78,38,78,39],[78,40,78,42],[78,43,78,44],[78,45,78,48],[78,49,78,52],[78,53,78,56],[78,57,78,60],[79,2,79,14],[79,15,79,17],[79,18,79,19],[79,20,79,22],[79,23,79,24],[79,25,79,27],[79,28,79,29],[79,30,79,32],[79,33,79,34],[79,35,79,37],[79,38,79,39],[79,40,79,42],[79,43,79,44],[79,45,79,48],[79,49,79,52],[79,53,79,56],[79,57,79,60],[80,2,80,14],[80,15,80,17],[80,18,80,19],[80,20,80,22],[80,23,80,24],[80,25,80,27],[80,28,80,29],[80,30,80,32],[80,33,80,34],[80,35,80,37],[80,38,80,39],[80,40,80,42],[80,43,80,44],[80,45,80,48],[80,49,80,52],[80,53,80,56],[80,57,80,60],[81,2,81,14],[81,15,81,17],[81,18,81,19],[81,20,81,22],[81,23,81,24],[81,25,81,27],[81,28,81,29],[81,30,81,32],[81,33,81,34],[81,35,81,37],[81,38,81,39],[81,40,81,42],[81,43,81,44],[81,45,81,48],[81,49,81,52],[81,53,81,56],[81,57,81,60],[82,2,82,14],[82,15,82,17],[82,18,82,19],[82,20,82,22],[82,23,82,24],[82,25,82,27],[82,28,82,29],[82,30,82,32],[82,33,82,34],[82,35,82,37],[82,38,82,39],[82,40,82,42],[82,43,82,44],[82,45,82,48],[82,49,82,52],[82,53,82,56],[82,57,82,60],[83,2,83,14],[83,15,83,17],[83,18,83,19],[83,20,83,22],[83,23,83,24],[83,25,83,27],[83,28,83,29],[83,30,83,32],[83,33,83,34],[83,35,83,37],[83,38,83,39],[83,40,83,42],[83,43,83,44],[83,45,83,48],[83,49,83,52],[83,53,83,56],[83,57,83,60],[84,2,84,14],[84,15,84,17],[84,18,84,19],[84,20,84,22],[84,23,84,24],[84,25,84,27],[84,28,84,29],[84,30,84,32],[84,33,84,34],[84,35,84,37],[84,38,84,39],[84,40,84,42],[84,43,84,44],[84,45,84,48],[84,49,84,52],[84,53,84,56],[84,57,84,60],[85,2,85,14],[85,15,85,17],[85,18,85,19],[85,20,85,22],[85,23,85,24],[85,25,85,27],[85,28,85,29],[85,30,85,32],[85,33,85,34],[85,35,85,37],[85,38,85,39],[85,40,85,42],[85,43,85,44],[85,45,85,48],[85,49,85,52],[85,53,85,56],[85,57,85,60],[86,15,86,17],[86,20,86,22],[86,25,86,27],[86,30,86,32],[86,35,86,37],[86,40,86,42],[90,2,90,14],[90,15,90,17],[91,2,91,14],[91,15,91,17],[94,11,94,23],[94,24,94,26],[95,11,95,23],[95,24,95,26],[98,21,98,33],[98,34,98,36],[99,21,99,33],[99,34,99,36],[102,30,102,42],[102,43,102,45],[103,30,103,42],[103,43,103,45]]}
[{"$f":"'Check-In'!$B$1","v":"Midwest Senior Classic"}]
[{"$f":"'Check-In'!$B$2","v":"2022-04-24"}]
[{"$f":"'Check-In'!$B$3","v":"Cedarvale"}]
[{"$nulls":63},"Starting Lane",null,null,19]
[]
[null,null,"Game 1",{"$nulls":15},"B",{"$nulls":3},"Game 2",{"$nulls":15},"B",{"$nulls":3},"Game 3",{"$nulls":15},"B",{"$nulls":4},"Bowler","G1","G2","G3","G4","G5","G6",{"$nulls":4},"G1","B","G2","B","G3","B","G4","B","G5","B","G6","B","Qual","MP","B","GT","+ / -"]
[null,"1A",{"$f":"INDEX($BT$7:$BV$30,MATCH(B7,$BU$7:$BU$30,0),3)","v":"BIRKEDAHL, LARRY"},{"$nulls":12},200,null,null,{"$f":"IF(P7=\"\",0,IF(P7>P9,30,IF(P7=P9,15,0)))+IF(P7=\"\",0,IF(P7>P10,30,IF(P7=P10,15,0)))","v":0},null,null,"5A",{"$f":"INDEX($BT$7:$BV$30,MATCH(V7,$BU$7:$BU$30,0),3)","v":"HOMMES, JOHN"},{"$nulls":12},200,null,null,{"$f":"IF(AJ7=\"\",0,IF(AJ7>AJ9,30,IF(AJ7=AJ9,15,0)))+IF(AJ7=\"\",0,IF(AJ7>AJ10,30,IF(AJ7=AJ10,15,0)))","v":0},null,null,"6A",{"$f":"INDEX($BT$7:$BV$30,MATCH(AP7,$BU$7:$BU$30,0),3)","v":"SAVOY, TODD"},{"$nulls":12},200,null,null,{"$f":"IF(BD7=\"\",0,IF(BD7>BD9,30,IF(BD7=BD9,15,0)))+IF(BD7=\"\",0,IF(BD7>BD10,30,IF(BD7=BD10,15,0)))","v":0},{"$nulls":4},"1A",{"$f":"IF(ISNA(MATCH($BL7,$B$7:$B$30,0)),\"\",$BO$4-1+MATCH($BL7,$B$7:$B$30,0))","v":19},{"$f":"IF(ISNA(MATCH($BL7,$V$7:$V$30,0)),\"\",$BO$4-1+MATCH($BL7,$V$7:$V$30,0))+2","v":25},{"$f":"IF(ISNA(MATCH($BL7,$AP$7:$AP$30,0)),\"\",$BO$4-1+MATCH($BL7,$AP$7:$AP$30,0))","v":27},{"$f":"IF(ISNA(MATCH($BL7,$B$35:$B$58,0)),\"\",$BO$4-1+MATCH($BL7,$B$35:$B$58,0))+2","v":29},{"$f":"IF(ISNA(MATCH($BL7,$V$35:$V$58,0)),\"\",$BO$4-1+MATCH($BL7,$V$35:$V$58,0))-1","v":24},"P",null,1,"6B",{"$f":"IF(MPNo<>\"\", IF(MPNo<BT7,\"\",Qual!$C8),IF(MPNo<BT7,\"\",Qual!$C8))","v":"OULMAN, DAVE"},{"$f":"INDEX($B$7:$T$30,MATCH(BV7,$C$7:$C$30,0),15)","v":211},{"$f":"INDEX($B$7:$T$30,MATCH(BV7,$C$7:$C$30,0),18)","v":60},{"$f":"INDEX($V$7:$AN$30,MATCH(BV7,$W$7:$W$30,0),15)","v":207},{"$f":"INDEX($V$7:$AN$30,MATCH(BV7,$W$7:$W$30,0),18)","v":60},{"$f":"INDEX($AP$7:$BH$30,MATCH(BV7,$AQ$7:$AQ$30,0),15)","v":201},{"$f":"INDEX($AP$7:$BH$30,MATCH(BV7,$AQ$7:$AQ$30,0),18)","v":0},{"$f":"INDEX($B$35:$T$58,MATCH(BV7,$C$35:$C$58,0),15)","v":201},{"$f":"INDEX($B$35:$T$58,MATCH(BV7,$C$35:$C$58,0),18)","v":0},{"$f":"INDEX($V$35:$AN$58,MATCH(BV7,$W$35:$W$58,0),15)","v":211},{"$f":"INDEX($V$35:$AN$58,MATCH(BV7,$W$35:$W$58,0),18)","v":60},{"$f":"INDEX($AP$35:$BH$58,MATCH(BV7,$AQ$35:$AQ$58,0),15)","v":0},{"$f":"INDEX($AP$35:$BH$58,MATCH(BV7,$AQ$35:$AQ$58,0),18)","v":""},{"$f":"IF(Master!$B$4=\"Y\",INDEX(Qual!$C$8:$V$31,MATCH(BV7,Qual!$C$8:$C$31,0),20),0)","v":0},{"$f":"BW7+BY7+CA7+CC7+CE7+CG7","v":1031},{"$f":"IF(BX7=\"\",0,BX7)+IF(BZ7=\"\",0,BZ7)+IF(CB7=\"\",0,CB7)+IF(CD7=\"\",0,CD7)+IF(CF7=\"\",0,CF7)+IF(CH7=\"\",0,CH7)","v":180},{"$f":"CI7+CJ7+CK7","v":1211},{"$f":"IF($BO$34=\"Y\",(IF(CG7>0,CL7-2800,IF(CE7>0,CL7-2600,IF(CC7>0,CL7-2400,IF(CA7>0,CL7-2200,IF(BY7>0,CL7-2000,IF(BW7>0,CL7-3000,CL7-0))))))),(IF(CG7>0,CL7-1200,IF(CE7>0,CL7-1000,IF(CC7>0,CL7-800,IF(CA7>0,CL7-600,IF(BY7>0,CL7-400,IF(BW7>0,CL7-200,CL7-0))))))))","v":211}]
[null,"1B",{"$f":"INDEX($BT$7:$BV$30,MATCH(B8,$BU$7:$BU$30,0),3)","v":"DAVIS, SCOTT"},{"$nulls":12},201,null,null,{"$f":"IF(P8=\"\",0,IF(P8>P9,30,IF(P8=P9,15,0)))+IF(P8=\"\",0,IF(P8>P10,30,IF(P8=P10,15,0)))","v":0},null,null,"5B","CAUGHEY, STEVE",{"$nulls":12},201,null,null,{"$f":"IF(AJ8=\"\",0,IF(AJ8>AJ9,30,IF(AJ8=AJ9,15,0)))+IF(AJ8=\"\",0,IF(AJ8>AJ10,30,IF(AJ8=AJ10,15,0)))","v":0},null,null,"6B","OULMAN, DAVE",{"$nulls":12},201,null,null,{"$f":"IF(BD8=\"\",0,IF(BD8>BD9,30,IF(BD8=BD9,15,0)))+IF(BD8=\"\",0,IF(BD8>BD10,30,IF(BD8=BD10,15,0)))","v":0},{"$nulls":4},"1B",{"$f":"IF(ISNA(MATCH($BL8,$B$7:$B$30,0)),\"\",$BO$4-1+MATCH($BL8,$B$7:$B$30,0))-1","v":19},{"$f":"IF(ISNA(MATCH($BL8,$V$7:$V$30,0)),\"\",$BO$4-1+MATCH($BL8,$V$7:$V$30,0))+1","v":25},{"$f":"IF(ISNA(MATCH($BL8,$AP$7:$AP$30,0)),\"\",$BO$4-1+MATCH($BL8,$AP$7:$AP$30,0))-1","v":27},{"$f":"IF(ISNA(MATCH($BL8,$B$35:$B$58,0)),\"\",$BO$4-1+MATCH($BL8,$B$35:$B$58,0))+1","v":29},{"$f":"IF(ISNA(MATCH($BL8,$V$35:$V$58,0)),\"\",$BO$4-1+MATCH($BL8,$V$35:$V$58,0))-2","v":24},"P",null,2,"5B",{"$f":"IF(MPNo<>\"\", IF(MPNo<BT8,\"\",Qual!$C9),IF(MPNo<BT8,\"\",Qual!$C9))","v":"CAUGHEY, STEVE"},209,0,201,0,207,60,211,60,203,60,0,"",{"$f":"IF(Master!$B$4=\"Y\",INDEX(Qual!$C$8:$V$31,MATCH(BV8,Qual!$C$8:$C$31,0),20),0)","v":0},1031,180,1211,211]
[null,"2A","HAVLISH, TOM",{"$nulls":12},202,null,null,{"$f":"IF(P9=\"\",0,IF(P9>P7,30,IF(P9=P7,15,0)))+IF(P9=\"\",0,IF(P9>P8,30,IF(P9=P8,15,0)))","v":60},null,null,"4A","JONES, TOM",{"$nulls":12},202,null,null,{"$f":"IF(AJ9=\"\",0,IF(AJ9>AJ7,30,IF(AJ9=AJ7,15,0)))+IF(AJ9=\"\",0,IF(AJ9>AJ8,30,IF(AJ9=AJ8,15,0)))","v":60},null,null,"4A","JONES, TOM",{"$nulls":12},202,null,null,{"$f":"IF(BD9=\"\",0,IF(BD9>BD7,30,IF(BD9=BD7,15,0)))+IF(BD9=\"\",0,IF(BD9>BD8,30,IF(BD9=BD8,15,0)))","v":60},{"$nulls":4},"2A",{"$f":"IF(ISNA(MATCH($BL9,$B$7:$B$30,0)),\"\",$BO$4-1+MATCH($BL9,$B$7:$B$30,0))-1","v":20},{"$f":"IF(ISNA(MATCH($BL9,$V$7:$V$30,0)),\"\",$BO$4-1+MATCH($BL9,$V$7:$V$30,0))+2","v":29},{"$f":"IF(ISNA(MATCH($BL9,$AP$7:$AP$30,0)),\"\",$BO$4-1+MATCH($BL9,$AP$7:$AP$30,0))","v":23},{"$f":"IF(ISNA(MATCH($BL9,$B$35:$B$58,0)),\"\",$BO$4-1+MATCH($BL9,$B$35:$B$58,0))+1","v":26},{"$f":"IF(ISNA(MATCH($BL9,$V$35:$V$58,0)),\"\",$BO$4-1+MATCH($BL9,$V$35:$V$58,0))","v":27},"P",null,3,"3B",{"$f":"IF(MPNo<>\"\", IF(MPNo<BT9,\"\",Qual!$C10),IF(MPNo<BT9,\"\",Qual!$C10))","v":"JENSEN, WAYNE"},205,0,211,60,211,60,203,60,201,0,0,"",{"$f":"IF(Master!$B$4=\"Y\",INDEX(Qual!$C$8:$V$31,MATCH(BV9,Qual!$C$8:$C$31,0),20),0)","v":0},1031,180,1211,211]
[null,"2B","GREEN, GARY",{"$nulls":12},203,null,null,{"$f":"IF(P10=\"\",0,IF(P10>P7,30,IF(P10=P7,15,0)))+IF(P10=\"\",0,IF(P10>P8,30,IF(P10=P8,15,0)))","v":60},null,null,"4B","DOWNER, ROB",{"$nulls":12},203,null,null,{"$f":"IF(AJ10=\"\",0,IF(AJ10>AJ7,30,IF(AJ10=AJ7,15,0)))+IF(AJ10=\"\",0,IF(AJ10>AJ8,30,IF(AJ10=AJ8,15,0)))","v":60},null,null,"4B","DOWNER, ROB",{"$nulls":12},203,null,null,{"$f":"IF(BD10=\"\",0,IF(BD10>BD7,30,IF(BD10=BD7,15,0)))+IF(BD10=\"\",0,IF(BD10>BD8,30,IF(BD10=BD8,15,0)))","v":60},{"$nulls":4},"2B",{"$f":"IF(ISNA(MATCH($BL10,$B$7:$B$30,0)),\"\",$BO$4-1+MATCH($BL10,$B$7:$B$30,0))-2","v":20},{"$f":"IF(ISNA(MATCH($BL10,$V$7:$V$30,0)),\"\",$BO$4-1+MATCH($BL10,$V$7:$V$30,0))+1","v":29},{"$f":"IF(ISNA(MATCH($BL10,$AP$7:$AP$30,0)),\"\",$BO$4-1+MATCH($BL10,$AP$7:$AP$30,0))-1","v":23},{"$f":"IF(ISNA(MATCH($BL10,$B$35:$B$58,0)),\"\",$BO$4-1+MATCH($BL10,$B$35:$B$58,0))","v":26},{"$f":"IF(ISNA(MATCH($BL10,$V$35:$V$58,0)),\"\",$BO$4-1+MATCH($BL10,$V$35:$V$58,0))-1","v":27},"P",null,4,"6A",{"$f":"IF(MPNo<>\"\", IF(MPNo<BT10,\"\",Qual!$C11),IF(MPNo<BT10,\"\",Qual!$C11))","v":"SAVOY, TODD"},210,60,206,60,200,0,200,0,210,60,0,"",{"$f":"IF(Master!$B$4=\"Y\",INDEX(Qual!$C$8:$V$31,MATCH(BV10,Qual!$C$8:$C$31,0),20),0)","v":0},1026,180,1206,206]
[null,"3A","LANGER, DAVE",{"$nulls":12},204,null,null,{"$f":"IF(P11=\"\",0,IF(P11>P13,30,IF(P11=P13,15,0)))+IF(P11=\"\",0,IF(P11>P14,30,IF(P11=P14,15,0)))","v":0},null,null,"1A","BIRKEDAHL, LARRY",{"$nulls":12},204,null,null,{"$f":"IF(AJ11=\"\",0,IF(AJ11>AJ13,30,IF(AJ11=AJ13,15,0)))+IF(AJ11=\"\",0,IF(AJ11>AJ14,30,IF(AJ11=AJ14,15,0)))","v":0},null,null,"2A","HAVLISH, TOM",{"$nulls":12},204,null,null,{"$f":"IF(BD11=\"\",0,IF(BD11>BD13,30,IF(BD11=BD13,15,0)))+IF(BD11=\"\",0,IF(BD11>BD14,30,IF(BD11=BD14,15,0)))","v":0},{"$nulls":4},"3A",{"$f":"IF(ISNA(MATCH($BL11,$B$7:$B$30,0)),\"\",$BO$4-1+MATCH($BL11,$B$7:$B$30,0))","v":23},{"$f":"IF(ISNA(MATCH($BL11,$V$7:$V$30,0)),\"\",$BO$4-1+MATCH($BL11,$V$7:$V$30,0))+1","v":30},{"$f":"IF(ISNA(MATCH($BL11,$AP$7:$AP$30,0)),\"\",$BO$4-1+MATCH($BL11,$AP$7:$AP$30,0))-1","v":28},{"$f":"IF(ISNA(MATCH($BL11,$B$35:$B$58,0)),\"\",$BO$4-1+MATCH($BL11,$B$35:$B$58,0))+1","v":22},19,"P",null,5,"5A",{"$f":"IF(MPNo<>\"\", IF(MPNo<BT11,\"\",Qual!$C12),IF(MPNo<BT11,\"\",Qual!$C12))","v":"HOMMES, JOHN"},208,0,200,0,206,60,210,60,202,60,0,"",{"$f":"IF(Master!$B$4=\"Y\",INDEX(Qual!$C$8:$V$31,MATCH(BV11,Qual!$C$8:$C$31,0),20),0)","v":0},1026,180,1206,206]
[null,"3B","JENSEN, WAYNE",{"$nulls":12},205,null,null,{"$f":"IF(P12=\"\",0,IF(P12>P13,30,IF(P12=P13,15,0)))+IF(P12=\"\",0,IF(P12>P14,30,IF(P12=P14,15,0)))","v":0},null,null,"1B","DAVIS, SCOTT",{"$nulls":12},205,null,null,{"$f":"IF(AJ12=\"\",0,IF(AJ12>AJ13,30,IF(AJ12=AJ13,15,0)))+IF(AJ12=\"\",0,IF(AJ12>AJ14,30,IF(AJ12=AJ14,15,0)))","v":0},null,null,"2B","GREEN, GARY",{"$nulls":12},205,null,null,{"$f":"IF(BD12=\"\",0,IF(BD12>BD13,30,IF(BD12=BD13,15,0)))+IF(BD12=\"\",0,IF(BD12>BD14,30,IF(BD12=BD14,15,0)))","v":0},{"$nulls":4},"3B",{"$f":"IF(ISNA(MATCH($BL12,$B$7:$B$30,0)),\"\",$BO$4-1+MATCH($BL12,$B$7:$B$30,0))-1","v":23},{"$f":"IF(ISNA(MATCH($BL12,$V$7:$V$30,0)),\"\",$BO$4-1+MATCH($BL12,$V$7:$V$30,0))","v":30},{"$f":"IF(ISNA(MATCH($BL12,$AP$7:$AP$30,0)),\"\",$BO$4-1+MATCH($BL12,$AP$7:$AP$30,0))-2","v":28},22,{"$f":"IF(ISNA(MATCH($BL12,$V$35:$V$58,0)),\"\",$BO$4-1+MATCH($BL12,$V$35:$V$58,0))-1","v":19},"P",null,6,"3A",{"$f":"IF(MPNo<>\"\", IF(MPNo<BT12,\"\",Qual!$C13),IF(MPNo<BT12,\"\",Qual!$C13))","v":"LANGER, DAVE"},204,0,210,60,210,60,202,60,200,0,0,"",{"$f":"IF(Master!$B$4=\"Y\",INDEX(Qual!$C$8:$V$31,MATCH(BV12,Qual!$C$8:$C$31,0),20),0)","v":0},1026,180,1206,206]
[null,"4A","JONES, TOM",{"$nulls":12},206,null,null,{"$f":"IF(P13=\"\",0,IF(P13>P11,30,IF(P13=P11,15,0)))+IF(P13=\"\",0,IF(P13>P12,30,IF(P13=P12,15,0)))","v":60},null,null,"6A","SAVOY, TODD",{"$nulls":12},206,null,null,{"$f":"IF(AJ13=\"\",0,IF(AJ13>AJ11,30,IF(AJ13=AJ11,15,0)))+IF(AJ13=\"\",0,IF(AJ13>AJ12,30,IF(AJ13=AJ12,15,0)))","v":60},null,null,"5A","HOMMES, JOHN",{"$nulls":12},206,null,null,{"$f":"IF(BD13=\"\",0,IF(BD13>BD11,30,IF(BD13=BD11,15,0)))+IF(BD13=\"\",0,IF(BD13>BD12,30,IF(BD13=BD12,15,0)))","v":60},{"$nulls":4},"4A",{"$f":"IF(ISNA(MATCH($BL13,$B$7:$B$30,0)),\"\",$BO$4-1+MATCH($BL13,$B$7:$B$30,0))-1","v":24},{"$f":"IF(ISNA(MATCH($BL13,$V$7:$V$30,0)),\"\",$BO$4-1+MATCH($BL13,$V$7:$V$30,0))+1","v":22},{"$f":"IF(ISNA(MATCH($BL13,$AP$7:$AP$30,0)),\"\",$BO$4-1+MATCH($BL13,$AP$7:$AP$30,0))-1","v":20},{"$f":"IF(ISNA(MATCH($BL13,$B$35:$B$58,0)),\"\",$BO$4-1+MATCH($BL13,$B$35:$B$58,0))+2","v":25},23,"P",null,7,"4B",{"$f":"IF(MPNo<>\"\", IF(MPNo<BT13,\"\",Qual!$C14),IF(MPNo<BT13,\"\",Qual!$C14))","v":"DOWNER, ROB"},207,60,203,60,203,60,205,0,205,0,0,"",{"$f":"IF(Master!$B$4=\"Y\",INDEX(Qual!$C$8:$V$31,MATCH(BV13,Qual!$C$8:$C$31,0),20),0)","v":0},1023,180,1203,203]
[null,"4B","DOWNER, ROB",{"$nulls":12},207,null,null,{"$f":"IF(P14=\"\",0,IF(P14>P11,30,IF(P14=P11,15,0)))+IF(P14=\"\",0,IF(P14>P12,30,IF(P14=P12,15,0)))","v":60},null,null,"6B","OULMAN, DAVE",{"$nulls":12},207,null,null,{"$f":"IF(AJ14=\"\",0,IF(AJ14>AJ11,30,IF(AJ14=AJ11,15,0)))+IF(AJ14=\"\",0,IF(AJ14>AJ12,30,IF(AJ14=AJ12,15,0)))","v":60},null,null,"5B","CAUGHEY, STEVE",{"$nulls":12},207,null,null,{"$f":"IF(BD14=\"\",0,IF(BD14>BD11,30,IF(BD14=BD11,15,0)))+IF(BD14=\"\",0,IF(BD14>BD12,30,IF(BD14=BD12,15,0)))","v":60},{"$nulls":4},"4B",{"$f":"IF(ISNA(MATCH($BL14,$B$7:$B$30,0)),\"\",$BO$4-1+MATCH($BL14,$B$7:$B$30,0))-2","v":24},22,{"$f":"IF(ISNA(MATCH($BL14,$AP$7:$AP$30,0)),\"\",$BO$4-1+MATCH($BL14,$AP$7:$AP$30,0))-2","v":20},{"$f":"IF(ISNA(MATCH($BL14,$B$35:$B$58,0)),\"\",$BO$4-1+MATCH($BL14,$B$35:$B$58,0))+1","v":25},{"$f":"IF(ISNA(MATCH($BL14,$V$35:$V$58,0)),\"\",$BO$4-1+MATCH($BL14,$V$35:$V$58,0))-1","v":23},"P",null,8,"4A",{"$f":"IF(MPNo<>\"\", IF(MPNo<BT14,\"\",Qual!$C15),IF(MPNo<BT14,\"\",Qual!$C15))","v":"JONES, TOM"},206,60,202,60,202,60,204,0,204,0,0,"",{"$f":"IF(Master!$B$4=\"Y\",INDEX(Qual!$C$8:$V$31,MATCH(BV14,Qual!$C$8:$C$31,0),20),0)","v":0},1018,180,1198,198]
[null,"5A","HOMMES, JOHN",{"$nulls":12},208,null,null,{"$f":"IF(P15=\"\",0,IF(P15>P17,30,IF(P15=P17,15,0)))+IF(P15=\"\",0,IF(P15>P18,30,IF(P15=P18,15,0)))","v":0},null,null,"2A","HAVLISH, TOM",{"$nulls":12},208,null,null,{"$f":"IF(AJ15=\"\",0,IF(AJ15>AJ17,30,IF(AJ15=AJ17,15,0)))+IF(AJ15=\"\",0,IF(AJ15>AJ18,30,IF(AJ15=AJ18,15,0)))","v":0},null,null,"1A","BIRKEDAHL, LARRY",{"$nulls":12},208,null,null,{"$f":"IF(BD15=\"\",0,IF(BD15>BD17,30,IF(BD15=BD17,15,0)))+IF(BD15=\"\",0,IF(BD15>BD18,30,IF(BD15=BD18,15,0)))","v":0},{"$nulls":4},"5A",{"$f":"IF(ISNA(MATCH($BL15,$B$7:$B$30,0)),\"\",$BO$4-1+MATCH($BL15,$B$7:$B$30,0))","v":27},{"$f":"IF(ISNA(MATCH($BL15,$V$7:$V$30,0)),\"\",$BO$4-1+MATCH($BL15,$V$7:$V$30,0))+2","v":21},{"$f":"IF(ISNA(MATCH($BL15,$AP$7:$AP$30,0)),\"\",$BO$4-1+MATCH($BL15,$AP$7:$AP$30,0))-1","v":24},{"$f":"IF(ISNA(MATCH($BL15,$B$35:$B$58,0)),\"\",$BO$4-1+MATCH($BL15,$B$35:$B$58,0))+1","v":30},{"$f":"IF(ISNA(MATCH($BL15,$V$35:$V$58,0)),\"\",$BO$4-1+MATCH($BL15,$V$35:$V$58,0))-1","v":20},"P",null,9,"2B",{"$f":"IF(MPNo<>\"\", IF(MPNo<BT15,\"\",Qual!$C16),IF(MPNo<BT15,\"\",Qual!$C16))","v":"GREEN, GARY"},203,60,209,0,205,0,207,60,209,0,0,"",{"$f":"IF(Master!$B$4=\"Y\",INDEX(Qual!$C$8:$V$31,MATCH(BV15,Qual!$C$8:$C$31,0),20),0)","v":0},1033,120,1153,153]
[null,"5B","CAUGHEY, STEVE",{"$nulls":12},209,null,null,{"$f":"IF(P16=\"\",0,IF(P16>P17,30,IF(P16=P17,15,0)))+IF(P16=\"\",0,IF(P16>P18,30,IF(P16=P18,15,0)))","v":0},null,null,"2B","GREEN, GARY",{"$nulls":12},209,null,null,{"$f":"IF(AJ16=\"\",0,IF(AJ16>AJ17,30,IF(AJ16=AJ17,15,0)))+IF(AJ16=\"\",0,IF(AJ16>AJ18,30,IF(AJ16=AJ18,15,0)))","v":0},null,null,"1B","DAVIS, SCOTT",{"$nulls":12},209,null,null,{"$f":"IF(BD16=\"\",0,IF(BD16>BD17,30,IF(BD16=BD17,15,0)))+IF(BD16=\"\",0,IF(BD16>BD18,30,IF(BD16=BD18,15,0)))","v":0},{"$nulls":4},"5B",{"$f":"IF(ISNA(MATCH($BL16,$B$7:$B$30,0)),\"\",$BO$4-1+MATCH($BL16,$B$7:$B$30,0))-1","v":27},{"$f":"IF(ISNA(MATCH($BL16,$V$7:$V$30,0)),\"\",$BO$4-1+MATCH($BL16,$V$7:$V$30,0))+1","v":21},{"$f":"IF(ISNA(MATCH($BL16,$AP$7:$AP$30,0)),\"\",$BO$4-1+MATCH($BL16,$AP$7:$AP$30,0))-2","v":24},30,{"$f":"IF(ISNA(MATCH($BL16,$V$35:$V$58,0)),\"\",$BO$4-1+MATCH($BL16,$V$35:$V$58,0))-2","v":20},"P",null,10,"2A",{"$f":"IF(MPNo<>\"\", IF(MPNo<BT16,\"\",Qual!$C17),IF(MPNo<BT16,\"\",Qual!$C17))","v":"HAVLISH, TOM"},202,60,208,0,204,0,206,60,208,0,0,"",{"$f":"IF(Master!$B$4=\"Y\",INDEX(Qual!$C$8:$V$31,MATCH(BV16,Qual!$C$8:$C$31,0),20),0)","v":0},1028,120,1148,148]
[null,"6A","SAVOY, TODD",{"$nulls":12},210,null,null,{"$f":"IF(P17=\"\",0,IF(P17>P15,30,IF(P17=P15,15,0)))+IF(P17=\"\",0,IF(P17>P16,30,IF(P17=P16,15,0)))","v":60},null,null,"3A","LANGER, DAVE",{"$nulls":12},210,null,null,{"$f":"IF(AJ17=\"\",0,IF(AJ17>AJ15,30,IF(AJ17=AJ15,15,0)))+IF(AJ17=\"\",0,IF(AJ17>AJ16,30,IF(AJ17=AJ16,15,0)))","v":60},null,null,"3A","LANGER, DAVE",{"$nulls":12},210,null,null,{"$f":"IF(BD17=\"\",0,IF(BD17>BD15,30,IF(BD17=BD15,15,0)))+IF(BD17=\"\",0,IF(BD17>BD16,30,IF(BD17=BD16,15,0)))","v":60},{"$nulls":4},"6A",{"$f":"IF(ISNA(MATCH($BL17,$B$7:$B$30,0)),\"\",$BO$4-1+MATCH($BL17,$B$7:$B$30,0))-1","v":28},{"$f":"IF(ISNA(MATCH($BL17,$V$7:$V$30,0)),\"\",$BO$4-1+MATCH($BL17,$V$7:$V$30,0))+1","v":26},19,{"$f":"IF(ISNA(MATCH($BL17,$B$35:$B$58,0)),\"\",$BO$4-1+MATCH($BL17,$B$35:$B$58,0))+2","v":21},{"$f":"IF(ISNA(MATCH($BL17,$V$35:$V$58,0)),\"\",$BO$4-1+MATCH($BL17,$V$35:$V$58,0))-1","v":28},"P",null,11,"1B",{"$f":"IF(MPNo<>\"\", IF(MPNo<BT17,\"\",Qual!$C18),IF(MPNo<BT17,\"\",Qual!$C18))","v":"DAVIS, SCOTT"},201,0,205,0,209,0,209,0,207,60,0,"",{"$f":"IF(Master!$B$4=\"Y\",INDEX(Qual!$C$8:$V$31,MATCH(BV17,Qual!$C$8:$C$31,0),20),0)","v":0},1031,60,1091,91]
[null,"6B","OULMAN, DAVE",{"$nulls":12},211,null,null,{"$f":"IF(P18=\"\",0,IF(P18>P15,30,IF(P18=P15,15,0)))+IF(P18=\"\",0,IF(P18>P16,30,IF(P18=P16,15,0)))","v":60},null,null,"3B","JENSEN, WAYNE",{"$nulls":12},211,null,null,{"$f":"IF(AJ18=\"\",0,IF(AJ18>AJ15,30,IF(AJ18=AJ15,15,0)))+IF(AJ18=\"\",0,IF(AJ18>AJ16,30,IF(AJ18=AJ16,15,0)))","v":60},null,null,"3B","JENSEN, WAYNE",{"$nulls":12},211,null,null,{"$f":"IF(BD18=\"\",0,IF(BD18>BD15,30,IF(BD18=BD15,15,0)))+IF(BD18=\"\",0,IF(BD18>BD16,30,IF(BD18=BD16,15,0)))","v":60},{"$nulls":4},"6B",{"$f":"IF(ISNA(MATCH($BL18,$B$7:$B$30,0)),\"\",$BO$4-1+MATCH($BL18,$B$7:$B$30,0))-2","v":28},26,{"$f":"IF(ISNA(MATCH($BL18,$AP$7:$AP$30,0)),\"\",$BO$4-1+MATCH($BL18,$AP$7:$AP$30,0))-1","v":19},{"$f":"IF(ISNA(MATCH($BL18,$B$35:$B$58,0)),\"\",$BO$4-1+MATCH($BL18,$B$35:$B$58,0))+1","v":21},{"$f":"IF(ISNA(MATCH($BL18,$V$35:$V$58,0)),\"\",$BO$4-1+MATCH($BL18,$V$35:$V$58,0))-2","v":28},"P",null,12,"1A",{"$f":"IF(MPNo<>\"\", IF(MPNo<BT18,\"\",Qual!$C19),IF(MPNo<BT18,\"\",Qual!$C19))","v":"BIRKEDAHL, LARRY"},200,0,204,0,208,0,208,0,206,60,0,"",{"$f":"IF(Master!$B$4=\"Y\",INDEX(Qual!$C$8:$V$31,MATCH(BV18,Qual!$C$8:$C$31,0),20),0)","v":0},1026,60,1086,86]
[null,"",{"$error":"#N/A"},{"$nulls":15},{"$f":"IF(P19=\"\",\"\",IF(P19>P20,30,IF(P19=P20,15,0)))","v":""},null,null,"",{"$error":"#N/A"},{"$nulls":15},{"$f":"IF(AJ19=\"\",\"\",IF(AJ19>AJ20,30,IF(AJ19=AJ20,15,0)))","v":""},null,null,"",{"$error":"#N/A"},{"$nulls":15},{"$f":"IF(BD19=\"\",\"\",IF(BD19>BD20,30,IF(BD19=BD20,15,0)))","v":""},{"$nulls":4},13,{"$f":"IF(ISNA(MATCH($BL19,$B$7:$B$30,0)),\"\",$BO$4-1+MATCH($BL19,$B$7:$B$30,0))","v":""},"",{"$f":"IF(ISNA(MATCH($BL19,$AP$7:$AP$30,0)),\"\",$BO$4-1+MATCH($BL19,$AP$7:$AP$30,0))","v":""},{"$f":"IF(ISNA(MATCH($BL19,$B$35:$B$58,0)),\"\",$BO$4-1+MATCH($BL19,$B$35:$B$58,0))","v":""},{"$f":"IF(ISNA(MATCH($BL19,$V$35:$V$58,0)),\"\",$BO$4-1+MATCH($BL19,$V$35:$V$58,0))","v":""},"P",null,13,13,"",{"$f":"INDEX($B$7:$T$30,MATCH(BV19,$C$7:$C$30,0),15)","v":{"$error":"#N/A"}},{"$f":"INDEX($B$7:$T$30,MATCH(BV19,$C$7:$C$30,0),18)","v":{"$error":"#N/A"}},{"$f":"INDEX($V$7:$AN$30,MATCH(BV19,$W$7:$W$30,0),15)","v":{"$error":"#N/A"}},{"$f":"INDEX($V$7:$AN$30,MATCH(BV19,$W$7:$W$30,0),18)","v":{"$error":"#N/A"}},{"$f":"INDEX($AP$7:$BH$30,MATCH(BV19,$AQ$7:$AQ$30,0),15)","v":{"$error":"#N/A"}},{"$f":"INDEX($AP$7:$BH$30,MATCH(BV19,$AQ$7:$AQ$30,0),18)","v":{"$error":"#N/A"}},{"$f":"INDEX($B$35:$T$58,MATCH(BV19,$C$35:$C$58,0),15)","v":{"$error":"#N/A"}},{"$f":"INDEX($B$35:$T$58,MATCH(BV19,$C$35:$C$58,0),18)","v":{"$error":"#N/A"}},{"$f":"INDEX($V$35:$AN$58,MATCH(BV19,$W$35:$W$58,0),15)","v":{"$error":"#N/A"}},{"$f":"INDEX($V$35:$AN$58,MATCH(BV19,$W$35:$W$58,0),18)","v":{"$error":"#N/A"}},{"$f":"INDEX($AP$35:$BH$58,MATCH(BV19,$AQ$35:$AQ$58,0),15)","v":{"$error":"#N/A"}},{"$f":"INDEX($AP$35:$BH$58,MATCH(BV19,$AQ$35:$AQ$58,0),18)","v":{"$error":"#N/A"}},{"$f":"IF(Master!$B$4=\"Y\",INDEX(Qual!$B$8:$U$31,MATCH(BV19,Qual!$B$8:$B$31,0),19),0)","v":0},{"$f":"BW19+BY19+CA19+CC19+CE19+CG19","v":{"$error":"#N/A"}},{"$f":"IF(BX19=\"\",0,BX19)+IF(BZ19=\"\",0,BZ19)+IF(CB19=\"\",0,CB19)+IF(CD19=\"\",0,CD19)+IF(CF19=\"\",0,CF19)+IF(CH19=\"\",0,CH19)","v":{"$error":"#N/A"}},{"$f":"CI19+CJ19+CK19","v":{"$error":"#N/A"}},{"$f":"IF($BO$34=\"Y\",(IF(CG19>0,CL19-2800,IF(CE19>0,CL19-2600,IF(CC19>0,CL19-2400,IF(CA19>0,CL19-2200,IF(BY19>0,CL19-2000,IF(BW19>0,CL19-3000,CL19-0))))))),(IF(CG19>0,CL19-1200,IF(CE19>0,CL19-1000,IF(CC19>0,CL19-800,IF(CA19>0,CL19-600,IF(BY19>0,CL19-400,IF(BW19>0,CL19-200,CL19-0))))))))","v":{"$error":"#N/A"}}]
[null,"",{"$error":"#N/A"},{"$nulls":15},{"$f":"IF(P20=\"\",\"\",IF(P20>P19,30,IF(P20=P19,15,0)))","v":""},null,null,"",{"$error":"#N/A"},{"$nulls":15},{"$f":"IF(AJ20=\"\",\"\",IF(AJ20>AJ19,30,IF(AJ20=AJ19,15,0)))","v":""},null,null,"",{"$error":"#N/A"},{"$nulls":15},{"$f":"IF(BD20=\"\",\"\",IF(BD20>BD19,30,IF(BD20=BD19,15,0)))","v":""},{"$nulls":4},14,"","","","","","P",null,14,14,"",{"$error":"#N/A"},{"$error":"#N/A"},{"$error":"#N/A"},{"$error":"#N/A"},{"$error":"#N/A"},{"$error":"#N/A"},{"$error":"#N/A"},{"$error":"#N/A"},{"$error":"#N/A"},{"$error":"#N/A"},{"$error":"#N/A"},{"$error":"#N/A"},{"$f":"IF(Master!$B$4=\"Y\",INDEX(Qual!$B$8:$U$31,MATCH(BV20,Qual!$B$8:$B$31,0),19),0)","v":0},{"$error":"#N/A"},{"$error":"#N/A"},{"$error":"#N/A"},{"$error":"#N/A"}]
[null,"",{"$error":"#N/A"},{"$nulls":15},{"$f":"IF(P21=\"\",\"\",IF(P21>P22,30,IF(P21=P22,15,0)))","v":""},null,null,"",{"$error":"#N/A"},{"$nulls":15},{"$f":"IF(AJ21=\"\",\"\",IF(AJ21>AJ22,30,IF(AJ21=AJ22,15,0)))","v":""},null,null,"",{"$error":"#N/A"},{"$nulls":15},{"$f":"IF(BD21=\"\",\"\",IF(BD21>BD22,30,IF(BD21=BD22,15,0)))","v":""},{"$nulls":4},15,"","","","","","P",null,15,15,"",{"$error":"#N/A"},{"$error":"#N/A"},{"$error":"#N/A"},{"$error":"#N/A"},{"$error":"#N/A"},{"$error":"#N/A"},{"$error":"#N/A"},{"$error":"#N/A"},{"$error":"#N/A"},{"$error":"#N/A"},{"$error":"#N/A"},{"$error":"#N/A"},{"$f":"IF(Master!$B$4=\"Y\",INDEX(Qual!$B$8:$U$31,MATCH(BV21,Qual!$B$8:$B$31,0),19),0)","v":0},{"$error":"#N/A"},{"$error":"#N/A"},{"$error":"#N/A"},{"$error":"#N/A"}]
[null,"",{"$error":"#N/A"},{"$nulls":15},{"$f":"IF(P22=\"\",\"\",IF(P22>P21,30,IF(P22=P21,15,0)))","v":""},null,null,"",{"$error":"#N/A"},{"$nulls":15},{"$f":"IF(AJ22=\"\",\"\",IF(AJ22>AJ21,30,IF(AJ22=AJ21,15,0)))","v":""},null,null,"",{"$error":"#N/A"},{"$nulls":15},{"$f":"IF(BD22=\"\",\"\",IF(BD22>BD21,30,IF(BD22=BD21,15,0)))","v":""},{"$nulls":4},16,"","","","","","P",null,16,16,"",{"$error":"#N/A"},{"$error":"#N/A"},{"$error":"#N/A"},{"$error":"#N/A"},{"$error":"#N/A"},{"$error":"#N/A"},{"$error":"#N/A"},{"$error":"#N/A"},{"$error":"#N/A"},{"$error":"#N/A"},{"$error":"#N/A"},{"$error":"#N/A"},{"$f":"IF(Master!$B$4=\"Y\",INDEX(Qual!$B$8:$U$31,MATCH(BV22,Qual!$B$8:$B$31,0),19),0)","v":0},{"$error":"#N/A"},{"$error":"#N/A"},{"$error":"#N/A"},{"$error":"#N/A"}]
[null,"",{"$error":"#N/A"},{"$nulls":15},{"$f":"IF(P23=\"\",\"\",IF(P23>P24,30,IF(P23=P24,15,0)))","v":""},null,null,"",{"$error":"#N/A"},{"$nulls":15},{"$f":"IF(AJ23=\"\",\"\",IF(AJ23>AJ24,30,IF(AJ23=AJ24,15,0)))","v":""},null,null,"",{"$error":"#N/A"},{"$nulls":15},{"$f":"IF(BD23=\"\",\"\",IF(BD23>BD24,30,IF(BD23=BD24,15,0)))","v":""},{"$nulls":4},17,"","","","","","P",null,17,17,"",{"$error":"#N/A"},{"$error":"#N/A"},{"$error":"#N/A"},{"$error":"#N/A"},{"$error":"#N/A"},{"$error":"#N/A"},{"$error":"#N/A"},{"$error":"#N/A"},{"$error":"#N/A"},{"$error":"#N/A"},{"$error":"#N/A"},{"$error":"#N/A"},{"$f":"IF(Master!$B$4=\"Y\",INDEX(Qual!$B$8:$U$31,MATCH(BV23,Qual!$B$8:$B$31,0),19),0)","v":0},{"$error":"#N/A"},{"$error":"#N/A"},{"$error":"#N/A"},{"$error":"#N/A"}]
[null,"",{"$error":"#N/A"},{"$nulls":15},{"$f":"IF(P24=\"\",\"\",IF(P24>P23,30,IF(P24=P23,15,0)))","v":""},null,null,"",{"$error":"#N/A"},{"$nulls":15},{"$f":"IF(AJ24=\"\",\"\",IF(AJ24>AJ23,30,IF(AJ24=AJ23,15,0)))","v":""},null,null,"",{"$error":"#N/A"},{"$nulls":15},{"$f":"IF(BD24=\"\",\"\",IF(BD24>BD23,30,IF(BD24=BD23,15,0)))","v":""},{"$nulls":4},18,"","","","","","P",null,18,18,"",{"$error":"#N/A"},{"$error":"#N/A"},{"$error":"#N/A"},{"$error":"#N/A"},{"$error":"#N/A"},{"$error":"#N/A"},{"$error":"#N/A"},{"$error":"#N/A"},{"$error":"#N/A"},{"$error":"#N/A"},{"$error":"#N/A"},{"$error":"#N/A"},{"$f":"IF(Master!$B$4=\"Y\",INDEX(Qual!$B$8:$U$31,MATCH(BV24,Qual!$B$8:$B$31,0),19),0)","v":0},{"$error":"#N/A"},{"$error":"#N/A"},{"$error":"#N/A"},{"$error":"#N/A"}]
[null,"",{"$error":"#N/A"},{"$nulls":15},{"$f":"IF(P25=\"\",\"\",IF(P25>P26,30,IF(P25=P26,15,0)))","v":""},null,null,"",{"$error":"#N/A"},{"$nulls":15},{"$f":"IF(AJ25=\"\",\"\",IF(AJ25>AJ26,30,IF(AJ25=AJ26,15,0)))","v":""},null,null,"",{"$error":"#N/A"},{"$nulls":15},{"$f":"IF(BD25=\"\",\"\",IF(BD25>BD26,30,IF(BD25=BD26,15,0)))","v":""},{"$nulls":4},19,"","","","","","P",null,19,19,"",{"$error":"#N/A"},{"$error":"#N/A"},{"$error":"#N/A"},{"$error":"#N/A"},{"$error":"#N/A"},{"$error":"#N/A"},{"$error":"#N/A"},{"$error":"#N/A"},{"$error":"#N/A"},{"$error":"#N/A"},{"$error":"#N/A"},{"$error":"#N/A"},{"$f":"IF(Master!$B$4=\"Y\",INDEX(Qual!$B$8:$U$31,MATCH(BV25,Qual!$B$8:$B$31,0),19),0)","v":0},{"$error":"#N/A"},{"$error":"#N/A"},{"$error":"#N/A"},{"$error":"#N/A"}]
[null,"",{"$error":"#N/A"},{"$nulls":15},{"$f":"IF(P26=\"\",\"\",IF(P26>P25,30,IF(P26=P25,15,0)))","v":""},null,null,"",{"$error":"#N/A"},{"$nulls":15},{"$f":"IF(AJ26=\"\",\"\",IF(AJ26>AJ25,30,IF(AJ26=AJ25,15,0)))","v":""},null,null,"",{"$error":"#N/A"},{"$nulls":15},{"$f":"IF(BD26=\"\",\"\",IF(BD26>BD25,30,IF(BD26=BD25,15,0)))","v":""},{"$nulls":4},20,"","","","","","P",null,20,20,"",{"$error":"#N/A"},{"$error":"#N/A"},{"$error":"#N/A"},{"$error":"#N/A"},{"$error":"#N/A"},{"$error":"#N/A"},{"$error":"#N/A"},{"$error":"#N/A"},{"$error":"#N/A"},{"$error":"#N/A"},{"$error":"#N/A"},{"$error":"#N/A"},{"$f":"IF(Master!$B$4=\"Y\",INDEX(Qual!$B$8:$U$31,MATCH(BV26,Qual!$B$8:$B$31,0),19),0)","v":0},{"$error":"#N/A"},{"$error":"#N/A"},{"$error":"#N/A"},{"$error":"#N/A"}]
[null,"",{"$error":"#N/A"},{"$nulls":15},{"$f":"IF(P27=\"\",\"\",IF(P27>P28,30,IF(P27=P28,15,0)))","v":""},null,null,"",{"$error":"#N/A"},{"$nulls":15},{"$f":"IF(AJ27=\"\",\"\",IF(AJ27>AJ28,30,IF(AJ27=AJ28,15,0)))","v":""},null,null,"",{"$error":"#N/A"},{"$nulls":15},{"$f":"IF(BD27=\"\",\"\",IF(BD27>BD28,30,IF(BD27=BD28,15,0)))","v":""},{"$nulls":4},21,"","","","","","P",null,21,21,"",{"$error":"#N/A"},{"$error":"#N/A"},{"$error":"#N/A"},{"$error":"#N/A"},{"$error":"#N/A"},{"$error":"#N/A"},{"$error":"#N/A"},{"$error":"#N/A"},{"$error":"#N/A"},{"$error":"#N/A"},{"$error":"#N/A"},{"$error":"#N/A"},{"$f":"IF(Master!$B$4=\"Y\",INDEX(Qual!$B$8:$U$31,MATCH(BV27,Qual!$B$8:$B$31,0),19),0)","v":0},{"$error":"#N/A"},{"$error":"#N/A"},{"$error":"#N/A"},{"$error":"#N/A"}]
[null,"",{"$error":"#N/A"},{"$nulls":15},{"$f":"IF(P28=\"\",\"\",IF(P28>P27,30,IF(P28=P27,15,0)))","v":""},null,null,"",{"$error":"#N/A"},{"$nulls":15},{"$f":"IF(AJ28=\"\",\"\",IF(AJ28>AJ27,30,IF(AJ28=AJ27,15,0)))","v":""},null,null,"",{"$error":"#N/A"},{"$nulls":15},{"$f":"IF(BD28=\"\",\"\",IF(BD28>BD27,30,IF(BD28=BD27,15,0)))","v":""},{"$nulls":4},22,"","","","","","P",null,22,22,"",{"$error":"#N/A"},{"$error":"#N/A"},{"$error":"#N/A"},{"$error":"#N/A"},{"$error":"#N/A"},{"$error":"#N/A"},{"$error":"#N/A"},{"$error":"#N/A"},{"$error":"#N/A"},{"$error":"#N/A"},{"$error":"#N/A"},{"$error":"#N/A"},{"$f":"IF(Master!$B$4=\"Y\",INDEX(Qual!$B$8:$U$31,MATCH(BV28,Qual!$B$8:$B$31,0),19),0)","v":0},{"$error":"#N/A"},{"$error":"#N/A"},{"$error":"#N/A"},{"$error":"#N/A"}]
[null,"",{"$error":"#N/A"},{"$nulls":15},{"$f":"IF(P29=\"\",\"\",IF(P29>P30,30,IF(P29=P30,15,0)))","v":""},null,null,"",{"$error":"#N/A"},{"$nulls":15},{"$f":"IF(AJ29=\"\",\"\",IF(AJ29>AJ30,30,IF(AJ29=AJ30,15,0)))","v":""},null,null,"",{"$error":"#N/A"},{"$nulls":15},{"$f":"IF(BD29=\"\",\"\",IF(BD29>BD30,30,IF(BD29=BD30,15,0)))","v":""},{"$nulls":4},23,"","","","","","P",null,23,23,"",{"$error":"#N/A"},{"$error":"#N/A"},{"$error":"#N/A"},{"$error":"#N/A"},{"$error":"#N/A"},{"$error":"#N/A"},{"$error":"#N/A"},{"$error":"#N/A"},{"$error":"#N/A"},{"$error":"#N/A"},{"$error":"#N/A"},{"$error":"#N/A"},{"$f":"IF(Master!$B$4=\"Y\",INDEX(Qual!$B$8:$U$31,MATCH(BV29,Qual!$B$8:$B$31,0),19),0)","v":0},{"$error":"#N/A"},{"$error":"#N/A"},{"$error":"#N/A"},{"$error":"#N/A"}]
[null,"",{"$error":"#N/A"},{"$nulls":15},{"$f":"IF(P30=\"\",\"\",IF(P30>P29,30,IF(P30=P29,15,0)))","v":""},null,null,"",{"$error":"#N/A"},{"$nulls":15},{"$f":"IF(AJ30=\"\",\"\",IF(AJ30>AJ29,30,IF(AJ30=AJ29,15,0)))","v":""},null,null,"",{"$error":"#N/A"},{"$nulls":15},{"$f":"IF(BD30=\"\",\"\",IF(BD30>BD29,30,IF(BD30=BD29,15,0)))","v":""},{"$nulls":4},24,"","","","","","P",null,24,24,"",{"$error":"#N/A"},{"$error":"#N/A"},{"$error":"#N/A"},{"$error":"#N/A"},{"$error":"#N/A"},{"$error":"#N/A"},{"$error":"#N/A"},{"$error":"#N/A"},{"$error":"#N/A"},{"$error":"#N/A"},{"$error":"#N/A"},{"$error":"#N/A"},{"$f":"IF(Master!$B$4=\"Y\",INDEX(Qual!$B$8:$U$31,MATCH(BV30,Qual!$B$8:$B$31,0),19),0)","v":0},{"$error":"#N/A"},{"$error":"#N/A"},{"$error":"#N/A"},{"$error":"#N/A"}]
[]
[]
[]
[null,null,"Game 4",{"$nulls":15},"B",{"$nulls":3},"Game 5",{"$nulls":15},"B",{"$nulls":3},"Game 6",{"$nulls":15},"B",{"$nulls":15},"G1","B","G2","B","G3","B","G4","B","G5","B","G6","B","Qual","MP","B","GT","+ / -"]
[null,"6A",{"$f":"INDEX($BT$7:$BV$30,MATCH(B35,$BU$7:$BU$30,0),3)","v":"SAVOY, TODD"},{"$nulls":12},200,null,null,{"$f":"IF(P35=\"\",0,IF(P35>P37,30,IF(P35=P37,15,0)))+IF(P35=\"\",0,IF(P35>P38,30,IF(P35=P38,15,0)))","v":0},null,null,"3A",{"$f":"INDEX($BT$7:$BV$30,MATCH(V35,$BU$7:$BU$30,0),3)","v":"LANGER, DAVE"},{"$nulls":12},200,null,null,{"$f":"IF(AJ35=\"\",0,IF(AJ35>AJ37,30,IF(AJ35=AJ37,15,0)))+IF(AJ35=\"\",0,IF(AJ35>AJ38,30,IF(AJ35=AJ38,15,0)))","v":0},null,null,9,{"$f":"INDEX($BT$7:$BV$30,MATCH(AP35,$BT$7:$BT$30,0),3)","v":"GREEN, GARY"},{"$nulls":15},{"$f":"IF(BD35=\"\",\"\",IF(BD35>BD36,30,IF(BD35=BD36,15,0)))","v":""},{"$nulls":12},1,null,{"$f":"IF(MPNo<>\"\", IF(MPNo<BT35,\"\",Qual!$C8),IF(MPNo<BT35,\"\",Qual!$C8))","v":"OULMAN, DAVE"},{"$f":"INDEX($B$7:$T$30,MATCH(BV35,$C$7:$C$30,0),15)","v":211},{"$f":"INDEX($B$7:$T$30,MATCH(BV35,$C$7:$C$30,0),18)","v":60},{"$f":"INDEX($V$7:$AN$30,MATCH(BV35,$W$7:$W$30,0),15)","v":207},{"$f":"INDEX($V$7:$AN$30,MATCH(BV35,$W$7:$W$30,0),18)","v":60},{"$f":"INDEX($AP$7:$BH$30,MATCH(BV35,$AQ$7:$AQ$30,0),15)","v":201},{"$f":"INDEX($AP$7:$BH$30,MATCH(BV35,$AQ$7:$AQ$30,0),18)","v":0},{"$f":"INDEX($B$35:$T$58,MATCH(BV35,$C$35:$C$58,0),15)","v":201},{"$f":"INDEX($B$35:$T$58,MATCH(BV35,$C$35:$C$58,0),18)","v":0},{"$f":"INDEX($V$35:$AN$58,MATCH(BV35,$W$35:$W$58,0),15)","v":211},{"$f":"INDEX($V$35:$AN$58,MATCH(BV35,$W$35:$W$58,0),18)","v":60},{"$f":"INDEX($AP$35:$BH$58,MATCH(BV35,$AQ$35:$AQ$58,0),15)","v":0},{"$f":"INDEX($AP$35:$BH$58,MATCH(BV35,$AQ$35:$AQ$58,0),18)","v":""},{"$f":"IF(Master!$B$4=\"Y\",INDEX(Qual!$C$8:$V$31,MATCH(BV35,Qual!$C$8:$C$31,0),20),0)","v":0},{"$f":"BW35+BY35+CA35+CC35+CE35+CG35","v":1031},{"$f":"IF(BX35=\"\",0,BX35)+IF(BZ35=\"\",0,BZ35)+IF(CB35=\"\",0,CB35)+IF(CD35=\"\",0,CD35)+IF(CF35=\"\",0,CF35)+IF(CH35=\"\",0,CH35)","v":180},{"$f":"CI35+CJ35+CK35","v":1211},{"$f":"IF($BO$34=\"Y\",(IF(CG35>0,CL35-2800,IF(CE35>0,CL35-2600,IF(CC35>0,CL35-2400,IF(CA35>0,CL35-2200,IF(BY35>0,CL35-2000,IF(BW35>0,CL35-3000,CL35-0))))))),(IF(CG35>0,CL35-1200,IF(CE35>0,CL35-1000,IF(CC35>0,CL35-800,IF(CA35>0,CL35-600,IF(BY35>0,CL35-400,IF(BW35>0,CL35-200,CL35-0))))))))","v":211}]
[null,"6B","OULMAN, DAVE",{"$nulls":12},201,null,null,{"$f":"IF(P36=\"\",0,IF(P36>P37,30,IF(P36=P37,15,0)))+IF(P36=\"\",0,IF(P36>P38,30,IF(P36=P38,15,0)))","v":0},null,null,"3B","JENSEN, WAYNE",{"$nulls":12},201,null,null,{"$f":"IF(AJ36=\"\",0,IF(AJ36>AJ37,30,IF(AJ36=AJ37,15,0)))+IF(AJ36=\"\",0,IF(AJ36>AJ38,30,IF(AJ36=AJ38,15,0)))","v":0},null,null,10,{"$f":"INDEX($BT$7:$BV$30,MATCH(AP36,$BT$7:$BT$30,0),3)","v":"HAVLISH, TOM"},{"$nulls":15},{"$f":"IF(BD36=\"\",\"\",IF(BD36>BD35,30,IF(BD36=BD35,15,0)))","v":""},{"$nulls":12},2,null,{"$f":"IF(MPNo<>\"\", IF(MPNo<BT36,\"\",Qual!$C9),IF(MPNo<BT36,\"\",Qual!$C9))","v":"CAUGHEY, STEVE"},209,0,201,0,207,60,211,60,203,60,0,"",{"$f":"IF(Master!$B$4=\"Y\",INDEX(Qual!$C$8:$V$31,MATCH(BV36,Qual!$C$8:$C$31,0),20),0)","v":0},1031,180,1211,211]
[null,"3A","LANGER, DAVE",{"$nulls":12},202,null,null,{"$f":"IF(P37=\"\",0,IF(P37>P35,30,IF(P37=P35,15,0)))+IF(P37=\"\",0,IF(P37>P36,30,IF(P37=P36,15,0)))","v":60},null,null,"5A","HOMMES, JOHN",{"$nulls":12},202,null,null,{"$f":"IF(AJ37=\"\",0,IF(AJ37>AJ35,30,IF(AJ37=AJ35,15,0)))+IF(AJ37=\"\",0,IF(AJ37>AJ36,30,IF(AJ37=AJ36,15,0)))","v":60},null,null,5,"HOMMES, JOHN",{"$nulls":15},{"$f":"IF(BD37=\"\",\"\",IF(BD37>BD38,30,IF(BD37=BD38,15,0)))","v":""},{"$nulls":12},3,null,{"$f":"IF(MPNo<>\"\", IF(MPNo<BT37,\"\",Qual!$C10),IF(MPNo<BT37,\"\",Qual!$C10))","v":"JENSEN, WAYNE"},205,0,211,60,211,60,203,60,201,0,0,"",{"$f":"IF(Master!$B$4=\"Y\",INDEX(Qual!$C$8:$V$31,MATCH(BV37,Qual!$C$8:$C$31,0),20),0)","v":0},1031,180,1211,211]
[null,"3B","JENSEN, WAYNE",{"$nulls":12},203,null,null,{"$f":"IF(P38=\"\",0,IF(P38>P35,30,IF(P38=P35,15,0)))+IF(P38=\"\",0,IF(P38>P36,30,IF(P38=P36,15,0)))","v":60},null,null,"5B","CAUGHEY, STEVE",{"$nulls":12},203,null,null,{"$f":"IF(AJ38=\"\",0,IF(AJ38>AJ35,30,IF(AJ38=AJ35,15,0)))+IF(AJ38=\"\",0,IF(AJ38>AJ36,30,IF(AJ38=AJ36,15,0)))","v":60},null,null,6,"LANGER, DAVE",{"$nulls":15},{"$f":"IF(BD38=\"\",\"\",IF(BD38>BD37,30,IF(BD38=BD37,15,0)))","v":""},{"$nulls":12},4,null,{"$f":"IF(MPNo<>\"\", IF(MPNo<BT38,\"\",Qual!$C11),IF(MPNo<BT38,\"\",Qual!$C11))","v":"SAVOY, TODD"},210,60,206,60,200,0,200,0,210,60,0,"",{"$f":"IF(Master!$B$4=\"Y\",INDEX(Qual!$C$8:$V$31,MATCH(BV38,Qual!$C$8:$C$31,0),20),0)","v":0},1026,180,1206,206]
[null,"4A","JONES, TOM",{"$nulls":12},204,null,null,{"$f":"IF(P39=\"\",0,IF(P39>P41,30,IF(P39=P41,15,0)))+IF(P39=\"\",0,IF(P39>P42,30,IF(P39=P42,15,0)))","v":0},null,null,"4A","JONES, TOM",{"$nulls":12},204,null,null,{"$f":"IF(AJ39=\"\",0,IF(AJ39>AJ41,30,IF(AJ39=AJ41,15,0)))+IF(AJ39=\"\",0,IF(AJ39>AJ42,30,IF(AJ39=AJ42,15,0)))","v":0},null,null,1,"OULMAN, DAVE",{"$nulls":15},{"$f":"IF(BD39=\"\",\"\",IF(BD39>BD40,30,IF(BD39=BD40,15,0)))","v":""},{"$nulls":12},5,null,{"$f":"IF(MPNo<>\"\", IF(MPNo<BT39,\"\",Qual!$C12),IF(MPNo<BT39,\"\",Qual!$C12))","v":"HOMMES, JOHN"},208,0,200,0,206,60,210,60,202,60,0,"",{"$f":"IF(Master!$B$4=\"Y\",INDEX(Qual!$C$8:$V$31,MATCH(BV39,Qual!$C$8:$C$31,0),20),0)","v":0},1026,180,1206,206]
[null,"4B","DOWNER, ROB",{"$nulls":12},205,null,null,{"$f":"IF(P40=\"\",0,IF(P40>P41,30,IF(P40=P41,15,0)))+IF(P40=\"\",0,IF(P40>P42,30,IF(P40=P42,15,0)))","v":0},null,null,"4B","DOWNER, ROB",{"$nulls":12},205,null,null,{"$f":"IF(AJ40=\"\",0,IF(AJ40>AJ41,30,IF(AJ40=AJ41,15,0)))+IF(AJ40=\"\",0,IF(AJ40>AJ42,30,IF(AJ40=AJ42,15,0)))","v":0},null,null,2,"CAUGHEY, STEVE",{"$nulls":15},{"$f":"IF(BD40=\"\",\"\",IF(BD40>BD39,30,IF(BD40=BD39,15,0)))","v":""},{"$nulls":12},6,null,{"$f":"IF(MPNo<>\"\", IF(MPNo<BT40,\"\",Qual!$C13),IF(MPNo<BT40,\"\",Qual!$C13))","v":"LANGER, DAVE"},204,0,210,60,210,60,202,60,200,0,0,"",{"$f":"IF(Master!$B$4=\"Y\",INDEX(Qual!$C$8:$V$31,MATCH(BV40,Qual!$C$8:$C$31,0),20),0)","v":0},1026,180,1206,206]
[null,"2A","HAVLISH, TOM",{"$nulls":12},206,null,null,{"$f":"IF(P41=\"\",0,IF(P41>P39,30,IF(P41=P39,15,0)))+IF(P41=\"\",0,IF(P41>P40,30,IF(P41=P40,15,0)))","v":60},null,null,"1A","BIRKEDAHL, LARRY",{"$nulls":12},206,null,null,{"$f":"IF(AJ41=\"\",0,IF(AJ41>AJ39,30,IF(AJ41=AJ39,15,0)))+IF(AJ41=\"\",0,IF(AJ41>AJ40,30,IF(AJ41=AJ40,15,0)))","v":60},null,null,3,"JENSEN, WAYNE",{"$nulls":15},{"$f":"IF(BD41=\"\",\"\",IF(BD41>BD42,30,IF(BD41=BD42,15,0)))","v":""},{"$nulls":12},7,null,{"$f":"IF(MPNo<>\"\", IF(MPNo<BT41,\"\",Qual!$C14),IF(MPNo<BT41,\"\",Qual!$C14))","v":"DOWNER, ROB"},207,60,203,60,203,60,205,0,205,0,0,"",{"$f":"IF(Master!$B$4=\"Y\",INDEX(Qual!$C$8:$V$31,MATCH(BV41,Qual!$C$8:$C$31,0),20),0)","v":0},1023,180,1203,203]
[null,"2B","GREEN, GARY",{"$nulls":12},207,null,null,{"$f":"IF(P42=\"\",0,IF(P42>P39,30,IF(P42=P39,15,0)))+IF(P42=\"\",0,IF(P42>P40,30,IF(P42=P40,15,0)))","v":60},null,null,"1B","DAVIS, SCOTT",{"$nulls":12},207,null,null,{"$f":"IF(AJ42=\"\",0,IF(AJ42>AJ39,30,IF(AJ42=AJ39,15,0)))+IF(AJ42=\"\",0,IF(AJ42>AJ40,30,IF(AJ42=AJ40,15,0)))","v":60},null,null,4,"SAVOY, TODD",{"$nulls":15},{"$f":"IF(BD42=\"\",\"\",IF(BD42>BD41,30,IF(BD42=BD41,15,0)))","v":""},{"$nulls":12},8,null,{"$f":"IF(MPNo<>\"\", IF(MPNo<BT42,\"\",Qual!$C15),IF(MPNo<BT42,\"\",Qual!$C15))","v":"JONES, TOM"},206,60,202,60,202,60,204,0,204,0,0,"",{"$f":"IF(Master!$B$4=\"Y\",INDEX(Qual!$C$8:$V$31,MATCH(BV42,Qual!$C$8:$C$31,0),20),0)","v":0},1018,180,1198,198]
[null,"1A","BIRKEDAHL, LARRY",{"$nulls":12},208,null,null,{"$f":"IF(P43=\"\",0,IF(P43>P45,30,IF(P43=P45,15,0)))+IF(P43=\"\",0,IF(P43>P46,30,IF(P43=P46,15,0)))","v":0},null,null,"2A","HAVLISH, TOM",{"$nulls":12},208,null,null,{"$f":"IF(AJ43=\"\",0,IF(AJ43>AJ45,30,IF(AJ43=AJ45,15,0)))+IF(AJ43=\"\",0,IF(AJ43>AJ46,30,IF(AJ43=AJ46,15,0)))","v":0},null,null,7,"DOWNER, ROB",{"$nulls":15},{"$f":"IF(BD43=\"\",\"\",IF(BD43>BD44,30,IF(BD43=BD44,15,0)))","v":""},{"$nulls":12},9,null,{"$f":"IF(MPNo<>\"\", IF(MPNo<BT43,\"\",Qual!$C16),IF(MPNo<BT43,\"\",Qual!$C16))","v":"GREEN, GARY"},203,60,209,0,205,0,207,60,209,0,0,"",{"$f":"IF(Master!$B$4=\"Y\",INDEX(Qual!$C$8:$V$31,MATCH(BV43,Qual!$C$8:$C$31,0),20),0)","v":0},1033,120,1153,153]
[null,"1B","DAVIS, SCOTT",{"$nulls":12},209,null,null,{"$f":"IF(P44=\"\",0,IF(P44>P45,30,IF(P44=P45,15,0)))+IF(P44=\"\",0,IF(P44>P46,30,IF(P44=P46,15,0)))","v":0},null,null,"2B","GREEN, GARY",{"$nulls":12},209,null,null,{"$f":"IF(AJ44=\"\",0,IF(AJ44>AJ45,30,IF(AJ44=AJ45,15,0)))+IF(AJ44=\"\",0,IF(AJ44>AJ46,30,IF(AJ44=AJ46,15,0)))","v":0},null,null,8,"JONES, TOM",{"$nulls":15},{"$f":"IF(BD44=\"\",\"\",IF(BD44>BD43,30,IF(BD44=BD43,15,0)))","v":""},{"$nulls":12},10,null,{"$f":"IF(MPNo<>\"\", IF(MPNo<BT44,\"\",Qual!$C17),IF(MPNo<BT44,\"\",Qual!$C17))","v":"HAVLISH, TOM"},202,60,208,0,204,0,206,60,208,0,0,"",{"$f":"IF(Master!$B$4=\"Y\",INDEX(Qual!$C$8:$V$31,MATCH(BV44,Qual!$C$8:$C$31,0),20),0)","v":0},1028,120,1148,148]
[null,"5A","HOMMES, JOHN",{"$nulls":12},210,null,null,{"$f":"IF(P45=\"\",0,IF(P45>P43,30,IF(P45=P43,15,0)))+IF(P45=\"\",0,IF(P45>P44,30,IF(P45=P44,15,0)))","v":60},null,null,"6A","SAVOY, TODD",{"$nulls":12},210,null,null,{"$f":"IF(AJ45=\"\",0,IF(AJ45>AJ43,30,IF(AJ45=AJ43,15,0)))+IF(AJ45=\"\",0,IF(AJ45>AJ44,30,IF(AJ45=AJ44,15,0)))","v":60},null,null,11,"DAVIS, SCOTT",{"$nulls":15},{"$f":"IF(BD45=\"\",\"\",IF(BD45>BD46,30,IF(BD45=BD46,15,0)))","v":""},{"$nulls":12},11,null,{"$f":"IF(MPNo<>\"\", IF(MPNo<BT45,\"\",Qual!$C18),IF(MPNo<BT45,\"\",Qual!$C18))","v":"DAVIS, SCOTT"},201,0,205,0,209,0,209,0,207,60,0,"",{"$f":"IF(Master!$B$4=\"Y\",INDEX(Qual!$C$8:$V$31,MATCH(BV45,Qual!$C$8:$C$31,0),20),0)","v":0},1031,60,1091,91]
[null,"5B","CAUGHEY, STEVE",{"$nulls":12},211,null,null,{"$f":"IF(P46=\"\",0,IF(P46>P43,30,IF(P46=P43,15,0)))+IF(P46=\"\",0,IF(P46>P44,30,IF(P46=P44,15,0)))","v":60},null,null,"6B","OULMAN, DAVE",{"$nulls":12},211,null,null,{"$f":"IF(AJ46=\"\",0,IF(AJ46>AJ43,30,IF(AJ46=AJ43,15,0)))+IF(AJ46=\"\",0,IF(AJ46>AJ44,30,IF(AJ46=AJ44,15,0)))","v":60},null,null,12,"BIRKEDAHL, LARRY",{"$nulls":15},{"$f":"IF(BD46=\"\",\"\",IF(BD46>BD45,30,IF(BD46=BD45,15,0)))","v":""},{"$nulls":12},12,null,{"$f":"IF(MPNo<>\"\", IF(MPNo<BT46,\"\",Qual!$C19),IF(MPNo<BT46,\"\",Qual!$C19))","v":"BIRKEDAHL, LARRY"},200,0,204,0,208,0,208,0,206,60,0,"",{"$f":"IF(Master!$B$4=\"Y\",INDEX(Qual!$C$8:$V$31,MATCH(BV46,Qual!$C$8:$C$31,0),20),0)","v":0},1026,60,1086,86]
[null,"",{"$error":"#N/A"},{"$nulls":15},{"$f":"IF(P47=\"\",\"\",IF(P47>P48,30,IF(P47=P48,15,0)))","v":""},null,null,"",{"$error":"#N/A"},{"$nulls":15},{"$f":"IF(AJ47=\"\",\"\",IF(AJ47>AJ48,30,IF(AJ47=AJ48,15,0)))","v":""},null,null,"",{"$error":"#N/A"},{"$nulls":15},{"$f":"IF(BD47=\"\",\"\",IF(BD47>BD48,30,IF(BD47=BD48,15,0)))","v":""},{"$nulls":12},13,null,"",{"$f":"INDEX($B$7:$T$30,MATCH(BV47,$C$7:$C$30,0),15)","v":{"$error":"#N/A"}},{"$f":"INDEX($B$7:$T$30,MATCH(BV47,$C$7:$C$30,0),18)","v":{"$error":"#N/A"}},{"$f":"INDEX($V$7:$AN$30,MATCH(BV47,$W$7:$W$30,0),15)","v":{"$error":"#N/A"}},{"$f":"INDEX($V$7:$AN$30,MATCH(BV47,$W$7:$W$30,0),18)","v":{"$error":"#N/A"}},{"$f":"INDEX($AP$7:$BH$30,MATCH(BV47,$AQ$7:$AQ$30,0),15)","v":{"$error":"#N/A"}},{"$f":"INDEX($AP$7:$BH$30,MATCH(BV47,$AQ$7:$AQ$30,0),18)","v":{"$error":"#N/A"}},{"$f":"INDEX($B$35:$T$58,MATCH(BV47,$C$35:$C$58,0),15)","v":{"$error":"#N/A"}},{"$f":"INDEX($B$35:$T$58,MATCH(BV47,$C$35:$C$58,0),18)","v":{"$error":"#N/A"}},{"$f":"INDEX($V$35:$AN$58,MATCH(BV47,$W$35:$W$58,0),15)","v":{"$error":"#N/A"}},{"$f":"INDEX($V$35:$AN$58,MATCH(BV47,$W$35:$W$58,0),18)","v":{"$error":"#N/A"}},{"$f":"INDEX($AP$35:$BH$58,MATCH(BV47,$AQ$35:$AQ$58,0),15)","v":{"$error":"#N/A"}},{"$f":"INDEX($AP$35:$BH$58,MATCH(BV47,$AQ$35:$AQ$58,0),18)","v":{"$error":"#N/A"}},{"$f":"IF(Master!$B$4=\"Y\",INDEX(Qual!$B$8:$U$31,MATCH(BV47,Qual!$B$8:$B$31,0),19),0)","v":0},{"$f":"BW47+BY47+CA47+CC47+CE47+CG47","v":{"$error":"#N/A"}},{"$f":"IF(BX47=\"\",0,BX47)+IF(BZ47=\"\",0,BZ47)+IF(CB47=\"\",0,CB47)+IF(CD47=\"\",0,CD47)+IF(CF47=\"\",0,CF47)+IF(CH47=\"\",0,CH47)","v":{"$error":"#N/A"}},{"$f":"CI47+CJ47+CK47","v":{"$error":"#N/A"}},{"$f":"IF($BO$34=\"Y\",(IF(CG47>0,CL47-2800,IF(CE47>0,CL47-2600,IF(CC47>0,CL47-2400,IF(CA47>0,CL47-2200,IF(BY47>0,CL47-2000,IF(BW47>0,CL47-3000,CL47-0))))))),(IF(CG47>0,CL47-1200,IF(CE47>0,CL47-1000,IF(CC47>0,CL47-800,IF(CA47>0,CL47-600,IF(BY47>0,CL47-400,IF(BW47>0,CL47-200,CL47-0))))))))","v":{"$error":"#N/A"}}]
[null,"",{"$error":"#N/A"},{"$nulls":15},{"$f":"IF(P48=\"\",\"\",IF(P48>P47,30,IF(P48=P47,15,0)))","v":""},null,null,"",{"$error":"#N/A"},{"$nulls":15},{"$f":"IF(AJ48=\"\",\"\",IF(AJ48>AJ47,30,IF(AJ48=AJ47,15,0)))","v":""},null,null,"",{"$error":"#N/A"},{"$nulls":15},{"$f":"IF(BD48=\"\",\"\",IF(BD48>BD47,30,IF(BD48=BD47,15,0)))","v":""},{"$nulls":12},14,null,"",{"$error":"#N/A"},{"$error":"#N/A"},{"$error":"#N/A"},{"$error":"#N/A"},{"$error":"#N/A"},{"$error":"#N/A"},{"$error":"#N/A"},{"$error":"#N/A"},{"$error":"#N/A"},{"$error":"#N/A"},{"$error":"#N/A"},{"$error":"#N/A"},{"$f":"IF(Master!$B$4=\"Y\",INDEX(Qual!$B$8:$U$31,MATCH(BV48,Qual!$B$8:$B$31,0),19),0)","v":0},{"$error":"#N/A"},{"$error":"#N/A"},{"$error":"#N/A"},{"$error":"#N/A"}]
[null,"",{"$error":"#N/A"},{"$nulls":15},{"$f":"IF(P49=\"\",\"\",IF(P49>P50,30,IF(P49=P50,15,0)))","v":""},null,null,"",{"$error":"#N/A"},{"$nulls":15},{"$f":"IF(AJ49=\"\",\"\",IF(AJ49>AJ50,30,IF(AJ49=AJ50,15,0)))","v":""},null,null,"",{"$error":"#N/A"},{"$nulls":15},{"$f":"IF(BD49=\"\",\"\",IF(BD49>BD50,30,IF(BD49=BD50,15,0)))","v":""},{"$nulls":12},15,null,"",{"$error":"#N/A"},{"$error":"#N/A"},{"$error":"#N/A"},{"$error":"#N/A"},{"$error":"#N/A"},{"$error":"#N/A"},{"$error":"#N/A"},{"$error":"#N/A"},{"$error":"#N/A"},{"$error":"#N/A"},{"$error":"#N/A"},{"$error":"#N/A"},{"$f":"IF(Master!$B$4=\"Y\",INDEX(Qual!$B$8:$U$31,MATCH(BV49,Qual!$B$8:$B$31,0),19),0)","v":0},{"$error":"#N/A"},{"$error":"#N/A"},{"$error":"#N/A"},{"$error":"#N/A"}]
[null,"",{"$error":"#N/A"},{"$nulls":15},{"$f":"IF(P50=\"\",\"\",IF(P50>P49,30,IF(P50=P49,15,0)))","v":""},null,null,"",{"$error":"#N/A"},{"$nulls":15},{"$f":"IF(AJ50=\"\",\"\",IF(AJ50>AJ49,30,IF(AJ50=AJ49,15,0)))","v":""},null,null,"",{"$error":"#N/A"},{"$nulls":15},{"$f":"IF(BD50=\"\",\"\",IF(BD50>BD49,30,IF(BD50=BD49,15,0)))","v":""},{"$nulls":12},16,null,"",{"$error":"#N/A"},{"$error":"#N/A"},{"$error":"#N/A"},{"$error":"#N/A"},{"$error":"#N/A"},{"$error":"#N/A"},{"$error":"#N/A"},{"$error":"#N/A"},{"$error":"#N/A"},{"$error":"#N/A"},{"$error":"#N/A"},{"$error":"#N/A"},{"$f":"IF(Master!$B$4=\"Y\",INDEX(Qual!$B$8:$U$31,MATCH(BV50,Qual!$B$8:$B$31,0),19),0)","v":0},{"$error":"#N/A"},{"$error":"#N/A"},{"$error":"#N/A"},{"$error":"#N/A"}]
[null,"",{"$error":"#N/A"},{"$nulls":15},{"$f":"IF(P51=\"\",\"\",IF(P51>P52,30,IF(P51=P52,15,0)))","v":""},null,null,"",{"$error":"#N/A"},{"$nulls":15},{"$f":"IF(AJ51=\"\",\"\",IF(AJ51>AJ52,30,IF(AJ51=AJ52,15,0)))","v":""},null,null,"",{"$error":"#N/A"},{"$nulls":15},{"$f":"IF(BD51=\"\",\"\",IF(BD51>BD52,30,IF(BD51=BD52,15,0)))","v":""},{"$nulls":12},17,null,"",{"$error":"#N/A"},{"$error":"#N/A"},{"$error":"#N/A"},{"$error":"#N/A"},{"$error":"#N/A"},{"$error":"#N/A"},{"$error":"#N/A"},{"$error":"#N/A"},{"$error":"#N/A"},{"$error":"#N/A"},{"$error":"#N/A"},{"$error":"#N/A"},{"$f":"IF(Master!$B$4=\"Y\",INDEX(Qual!$B$8:$U$31,MATCH(BV51,Qual!$B$8:$B$31,0),19),0)","v":0},{"$error":"#N/A"},{"$error":"#N/A"},{"$error":"#N/A"},{"$error":"#N/A"}]
[null,"",{"$error":"#N/A"},{"$nulls":15},{"$f":"IF(P52=\"\",\"\",IF(P52>P51,30,IF(P52=P51,15,0)))","v":""},null,null,"",{"$error":"#N/A"},{"$nulls":15},{"$f":"IF(AJ52=\"\",\"\",IF(AJ52>AJ51,30,IF(AJ52=AJ51,15,0)))","v":""},null,null,"",{"$error":"#N/A"},{"$nulls":15},{"$f":"IF(BD52=\"\",\"\",IF(BD52>BD51,30,IF(BD52=BD51,15,0)))","v":""},{"$nulls":12},18,null,"",{"$error":"#N/A"},{"$error":"#N/A"},{"$error":"#N/A"},{"$error":"#N/A"},{"$error":"#N/A"},{"$error":"#N/A"},{"$error":"#N/A"},{"$error":"#N/A"},{"$error":"#N/A"},{"$error":"#N/A"},{"$error":"#N/A"},{"$error":"#N/A"},{"$f":"IF(Master!$B$4=\"Y\",INDEX(Qual!$B$8:$U$31,MATCH(BV52,Qual!$B$8:$B$31,0),19),0)","v":0},{"$error":"#N/A"},{"$error":"#N/A"},{"$error":"#N/A"},{"$error":"#N/A"}]
[null,"",{"$error":"#N/A"},{"$nulls":15},{"$f":"IF(P53=\"\",\"\",IF(P53>P54,30,IF(P53=P54,15,0)))","v":""},null,null,"",{"$error":"#N/A"},{"$nulls":15},{"$f":"IF(AJ53=\"\",\"\",IF(AJ53>AJ54,30,IF(AJ53=AJ54,15,0)))","v":""},null,null,"",{"$error":"#N/A"},{"$nulls":15},{"$f":"IF(BD53=\"\",\"\",IF(BD53>BD54,30,IF(BD53=BD54,15,0)))","v":""},{"$nulls":12},19,null,"",{"$error":"#N/A"},{"$error":"#N/A"},{"$error":"#N/A"},{"$error":"#N/A"},{"$error":"#N/A"},{"$error":"#N/A"},{"$error":"#N/A"},{"$error":"#N/A"},{"$error":"#N/A"},{"$error":"#N/A"},{"$error":"#N/A"},{"$error":"#N/A"},{"$f":"IF(Master!$B$4=\"Y\",INDEX(Qual!$B$8:$U$31,MATCH(BV53,Qual!$B$8:$B$31,0),19),0)","v":0},{"$error":"#N/A"},{"$error":"#N/A"},{"$error":"#N/A"},{"$error":"#N/A"}]
[null,"",{"$error":"#N/A"},{"$nulls":15},{"$f":"IF(P54=\"\",\"\",IF(P54>P53,30,IF(P54=P53,15,0)))","v":""},null,null,"",{"$error":"#N/A"},{"$nulls":15},{"$f":"IF(AJ54=\"\",\"\",IF(AJ54>AJ53,30,IF(AJ54=AJ53,15,0)))","v":""},null,null,"",{"$error":"#N/A"},{"$nulls":15},{"$f":"IF(BD54=\"\",\"\",IF(BD54>BD53,30,IF(BD54=BD53,15,0)))","v":""},{"$nulls":12},20,null,"",{"$error":"#N/A"},{"$error":"#N/A"},{"$error":"#N/A"},{"$error":"#N/A"},{"$error":"#N/A"},{"$error":"#N/A"},{"$error":"#N/A"},{"$error":"#N/A"},{"$error":"#N/A"},{"$error":"#N/A"},{"$error":"#N/A"},{"$error":"#N/A"},{"$f":"IF(Master!$B$4=\"Y\",INDEX(Qual!$B$8:$U$31,MATCH(BV54,Qual!$B$8:$B$31,0),19),0)","v":0},{"$error":"#N/A"},{"$error":"#N/A"},{"$error":"#N/A"},{"$error":"#N/A"}]
[null,"",{"$error":"#N/A"},{"$nulls":15},{"$f":"IF(P55=\"\",\"\",IF(P55>P56,30,IF(P55=P56,15,0)))","v":""},null,null,"",{"$error":"#N/A"},{"$nulls":15},{"$f":"IF(AJ55=\"\",\"\",IF(AJ55>AJ56,30,IF(AJ55=AJ56,15,0)))","v":""},null,null,"",{"$error":"#N/A"},{"$nulls":15},{"$f":"IF(BD55=\"\",\"\",IF(BD55>BD56,30,IF(BD55=BD56,15,0)))","v":""},{"$nulls":12},21,null,"",{"$error":"#N/A"},{"$error":"#N/A"},{"$error":"#N/A"},{"$error":"#N/A"},{"$error":"#N/A"},{"$error":"#N/A"},{"$error":"#N/A"},{"$error":"#N/A"},{"$error":"#N/A"},{"$error":"#N/A"},{"$error":"#N/A"},{"$error":"#N/A"},{"$f":"IF(Master!$B$4=\"Y\",INDEX(Qual!$B$8:$U$31,MATCH(BV55,Qual!$B$8:$B$31,0),19),0)","v":0},{"$error":"#N/A"},{"$error":"#N/A"},{"$error":"#N/A"},{"$error":"#N/A"}]
[null,"",{"$error":"#N/A"},{"$nulls":15},{"$f":"IF(P56=\"\",\"\",IF(P56>P55,30,IF(P56=P55,15,0)))","v":""},null,null,"",{"$error":"#N/A"},{"$nulls":15},{"$f":"IF(AJ56=\"\",\"\",IF(AJ56>AJ55,30,IF(AJ56=AJ55,15,0)))","v":""},null,null,"",{"$error":"#N/A"},{"$nulls":15},{"$f":"IF(BD56=\"\",\"\",IF(BD56>BD55,30,IF(BD56=BD55,15,0)))","v":""},{"$nulls":12},22,null,"",{"$error":"#N/A"},{"$error":"#N/A"},{"$error":"#N/A"},{"$error":"#N/A"},{"$error":"#N/A"},{"$error":"#N/A"},{"$error":"#N/A"},{"$error":"#N/A"},{"$error":"#N/A"},{"$error":"#N/A"},{"$error":"#N/A"},{"$error":"#N/A"},{"$f":"IF(Master!$B$4=\"Y\",INDEX(Qual!$B$8:$U$31,MATCH(BV56,Qual!$B$8:$B$31,0),19),0)","v":0},{"$error":"#N/A"},{"$error":"#N/A"},{"$error":"#N/A"},{"$error":"#N/A"}]
[null,"",{"$error":"#N/A"},{"$nulls":15},{"$f":"IF(P57=\"\",\"\",IF(P57>P58,30,IF(P57=P58,15,0)))","v":""},null,null,"",{"$error":"#N/A"},{"$nulls":15},{"$f":"IF(AJ57=\"\",\"\",IF(AJ57>AJ58,30,IF(AJ57=AJ58,15,0)))","v":""},null,null,"",{"$error":"#N/A"},{"$nulls":15},{"$f":"IF(BD57=\"\",\"\",IF(BD57>BD58,30,IF(BD57=BD58,15,0)))","v":""},{"$nulls":12},23,null,"",{"$error":"#N/A"},{"$error":"#N/A"},{"$error":"#N/A"},{"$error":"#N/A"},{"$error":"#N/A"},{"$error":"#N/A"},{"$error":"#N/A"},{"$error":"#N/A"},{"$error":"#N/A"},{"$error":"#N/A"},{"$error":"#N/A"},{"$error":"#N/A"},{"$f":"IF(Master!$B$4=\"Y\",INDEX(Qual!$B$8:$U$31,MATCH(BV57,Qual!$B$8:$B$31,0),19),0)","v":0},{"$error":"#N/A"},{"$error":"#N/A"},{"$error":"#N/A"},{"$error":"#N/A"}]
[null,"",{"$error":"#N/A"},{"$nulls":15},{"$f":"IF(P58=\"\",\"\",IF(P58>P57,30,IF(P58=P57,15,0)))","v":""},null,null,"",{"$error":"#N/A"},{"$nulls":15},{"$f":"IF(AJ58=\"\",\"\",IF(AJ58>AJ57,30,IF(AJ58=AJ57,15,0)))","v":""},null,null,"",{"$error":"#N/A"},{"$nulls":15},{"$f":"IF(BD58=\"\",\"\",IF(BD58>BD57,30,IF(BD58=BD57,15,0)))","v":""},{"$nulls":12},24,null,"",{"$error":"#N/A"},{"$error":"#N/A"},{"$error":"#N/A"},{"$error":"#N/A"},{"$error":"#N/A"},{"$error":"#N/A"},{"$error":"#N/A"},{"$error":"#N/A"},{"$error":"#N/A"},{"$error":"#N/A"},{"$error":"#N/A"},{"$error":"#N/A"},{"$f":"IF(Master!$B$4=\"Y\",INDEX(Qual!$B$8:$U$31,MATCH(BV58,Qual!$B$8:$B$31,0),19),0)","v":0},{"$error":"#N/A"},{"$error":"#N/A"},{"$error":"#N/A"},{"$error":"#N/A"}]
[]
[]
[{"$nulls":45},"Qual Total",{"$nulls":3},"MP Act Pins",{"$nulls":3},"MP B Pins",{"$nulls":3},"Total Pins",{"$nulls":3},"+ / -"]
[{"$nulls":15},"G1",null,null,"B",null,"G2",null,null,"B",null,"G3",null,null,"B",null,"G4",null,null,"B",null,"G5",null,null,"B",null,"G6",null,null,"B"]
[null,1,{"$f":"IF($BD$35=\"\",BV7,BV35)","v":"OULMAN, DAVE"},{"$nulls":12},{"$f":"IF($BD$35=\"\",BW7,BW35)","v":211},null,null,{"$f":"IF($BD$35=\"\",BX7,BX35)","v":60},null,{"$f":"IF($BD$35=\"\",BY7,BY35)","v":207},null,null,{"$f":"IF($BD$35=\"\",BZ7,BZ35)","v":60},null,{"$f":"IF($BD$35=\"\",CA7,CA35)","v":201},null,null,{"$f":"IF($BD$35=\"\",CB7,CB35)","v":0},null,{"$f":"IF($BD$35=\"\",CC7,CC35)","v":201},null,null,{"$f":"IF($BD$35=\"\",CD7,CD35)","v":0},null,{"$f":"IF($BD$35=\"\",CE7,CE35)","v":211},null,null,{"$f":"IF($BD$35=\"\",CF7,CF35)","v":60},null,{"$f":"IF($BD$35=\"\",CG7,CG35)","v":0},null,null,{"$f":"IF($BD$35=\"\",CH7,CH35)","v":""},null,{"$f":"IF(Master!$B$4=\"Y\",INDEX(Qual!$B$8:$U$19,MATCH(C63,Qual!$B$8:$B$19,0),19),0)","v":0},{"$f":"IF($BO$34=\"Y\",INDEX([2]Qual!$B$8:$U$19,MATCH(AH63,[2]Qual!$B$8:$B$19,0),11),0)","v":0},{"$f":"IF($BO$34=\"Y\",INDEX([2]Qual!$B$8:$U$19,MATCH(AI63,[2]Qual!$B$8:$B$19,0),11),0)","v":0},{"$f":"IF($BO$34=\"Y\",INDEX([2]Qual!$B$8:$U$19,MATCH(AJ63,[2]Qual!$B$8:$B$19,0),11),0)","v":0},{"$f":"IF($BD$35=\"\",CJ7,CJ35)","v":1031},{"$nulls":3},{"$f":"IF($BD$35=\"\",CK7,CK35)","v":180},{"$nulls":3},{"$f":"IF($BD$35=\"\",CL7,CL35)","v":1211},{"$nulls":3},{"$f":"IF($BD$35=\"\",CM7,CM35)","v":211},{"$nulls":3},{"$f":"BF63-16*200","v":-1989}]
[null,2,"CAUGHEY, STEVE",{"$nulls":12},209,null,null,0,null,201,null,null,0,null,207,null,null,60,null,211,null,null,60,null,203,null,null,60,null,0,null,null,"",null,{"$f":"IF(Master!$B$4=\"Y\",INDEX(Qual!$B$8:$U$19,MATCH(C64,Qual!$B$8:$B$19,0),19),0)","v":0},{"$f":"IF($BO$34=\"Y\",INDEX([2]Qual!$B$8:$U$19,MATCH(AH64,[2]Qual!$B$8:$B$19,0),11),0)","v":0},{"$f":"IF($BO$34=\"Y\",INDEX([2]Qual!$B$8:$U$19,MATCH(AI64,[2]Qual!$B$8:$B$19,0),11),0)","v":0},{"$f":"IF($BO$34=\"Y\",INDEX([2]Qual!$B$8:$U$19,MATCH(AJ64,[2]Qual!$B$8:$B$19,0),11),0)","v":0},1031,{"$nulls":3},180,{"$nulls":3},1211,{"$nulls":3},211,{"$nulls":3},{"$f":"BF64-16*200","v":-1989}]
[null,3,"JENSEN, WAYNE",{"$nulls":12},205,null,null,0,null,211,null,null,60,null,211,null,null,60,null,203,null,null,60,null,201,null,null,0,null,0,null,null,"",null,{"$f":"IF(Master!$B$4=\"Y\",INDEX(Qual!$B$8:$U$19,MATCH(C65,Qual!$B$8:$B$19,0),19),0)","v":0},{"$f":"IF($BO$34=\"Y\",INDEX([2]Qual!$B$8:$U$19,MATCH(AH65,[2]Qual!$B$8:$B$19,0),11),0)","v":0},{"$f":"IF($BO$34=\"Y\",INDEX([2]Qual!$B$8:$U$19,MATCH(AI65,[2]Qual!$B$8:$B$19,0),11),0)","v":0},{"$f":"IF($BO$34=\"Y\",INDEX([2]Qual!$B$8:$U$19,MATCH(AJ65,[2]Qual!$B$8:$B$19,0),11),0)","v":0},1031,{"$nulls":3},180,{"$nulls":3},1211,{"$nulls":3},211,{"$nulls":3},-1989]
[null,4,"SAVOY, TODD",{"$nulls":12},210,null,null,60,null,206,null,null,60,null,200,null,null,0,null,200,null,null,0,null,210,null,null,60,null,0,null,null,"",null,{"$f":"IF(Master!$B$4=\"Y\",INDEX(Qual!$B$8:$U$19,MATCH(C66,Qual!$B$8:$B$19,0),19),0)","v":0},{"$f":"IF($BO$34=\"Y\",INDEX([2]Qual!$B$8:$U$19,MATCH(AH66,[2]Qual!$B$8:$B$19,0),11),0)","v":0},{"$f":"IF($BO$34=\"Y\",INDEX([2]Qual!$B$8:$U$19,MATCH(AI66,[2]Qual!$B$8:$B$19,0),11),0)","v":0},{"$f":"IF($BO$34=\"Y\",INDEX([2]Qual!$B$8:$U$19,MATCH(AJ66,[2]Qual!$B$8:$B$19,0),11),0)","v":0},1026,{"$nulls":3},180,{"$nulls":3},1206,{"$nulls":3},206,{"$nulls":3},-1994]
[null,5,"HOMMES, JOHN",{"$nulls":12},208,null,null,0,null,200,null,null,0,null,206,null,null,60,null,210,null,null,60,null,202,null,null,60,null,0,null,null,"",null,{"$f":"IF(Master!$B$4=\"Y\",INDEX(Qual!$B$8:$U$19,MATCH(C67,Qual!$B$8:$B$19,0),19),0)","v":0},{"$f":"IF($BO$34=\"Y\",INDEX([2]Qual!$B$8:$U$19,MATCH(AH67,[2]Qual!$B$8:$B$19,0),11),0)","v":0},{"$f":"IF($BO$34=\"Y\",INDEX([2]Qual!$B$8:$U$19,MATCH(AI67,[2]Qual!$B$8:$B$19,0),11),0)","v":0},{"$f":"IF($BO$34=\"Y\",INDEX([2]Qual!$B$8:$U$19,MATCH(AJ67,[2]Qual!$B$8:$B$19,0),11),0)","v":0},1026,{"$nulls":3},180,{"$nulls":3},1206,{"$nulls":3},206,{"$nulls":3},-1994]
[null,6,"LANGER, DAVE",{"$nulls":12},204,null,null,0,null,210,null,null,60,null,210,null,null,60,null,202,null,null,60,null,200,null,null,0,null,0,null,null,"",null,{"$f":"IF(Master!$B$4=\"Y\",INDEX(Qual!$B$8:$U$19,MATCH(C68,Qual!$B$8:$B$19,0),19),0)","v":0},{"$f":"IF($BO$34=\"Y\",INDEX([2]Qual!$B$8:$U$19,MATCH(AH68,[2]Qual!$B$8:$B$19,0),11),0)","v":0},{"$f":"IF($BO$34=\"Y\",INDEX([2]Qual!$B$8:$U$19,MATCH(AI68,[2]Qual!$B$8:$B$19,0),11),0)","v":0},{"$f":"IF($BO$34=\"Y\",INDEX([2]Qual!$B$8:$U$19,MATCH(AJ68,[2]Qual!$B$8:$B$19,0),11),0)","v":0},1026,{"$nulls":3},180,{"$nulls":3},1206,{"$nulls":3},206,{"$nulls":3},-1994]
[null,7,"DOWNER, ROB",{"$nulls":12},207,null,null,60,null,203,null,null,60,null,203,null,null,60,null,205,null,null,0,null,205,null,null,0,null,0,null,null,"",null,{"$f":"IF(Master!$B$4=\"Y\",INDEX(Qual!$B$8:$U$19,MATCH(C69,Qual!$B$8:$B$19,0),19),0)","v":0},{"$f":"IF($BO$34=\"Y\",INDEX([2]Qual!$B$8:$U$19,MATCH(AH69,[2]Qual!$B$8:$B$19,0),11),0)","v":0},{"$f":"IF($BO$34=\"Y\",INDEX([2]Qual!$B$8:$U$19,MATCH(AI69,[2]Qual!$B$8:$B$19,0),11),0)","v":0},{"$f":"IF($BO$34=\"Y\",INDEX([2]Qual!$B$8:$U$19,MATCH(AJ69,[2]Qual!$B$8:$B$19,0),11),0)","v":0},1023,{"$nulls":3},180,{"$nulls":3},1203,{"$nulls":3},203,{"$nulls":3},-1997]
[null,8,"JONES, TOM",{"$nulls":12},206,null,null,60,null,202,null,null,60,null,202,null,null,60,null,204,null,null,0,null,204,null,null,0,null,0,null,null,"",null,{"$f":"IF(Master!$B$4=\"Y\",INDEX(Qual!$B$8:$U$19,MATCH(C70,Qual!$B$8:$B$19,0),19),0)","v":0},{"$f":"IF($BO$34=\"Y\",INDEX([2]Qual!$B$8:$U$19,MATCH(AH70,[2]Qual!$B$8:$B$19,0),11),0)","v":0},{"$f":"IF($BO$34=\"Y\",INDEX([2]Qual!$B$8:$U$19,MATCH(AI70,[2]Qual!$B$8:$B$19,0),11),0)","v":0},{"$f":"IF($BO$34=\"Y\",INDEX([2]Qual!$B$8:$U$19,MATCH(AJ70,[2]Qual!$B$8:$B$19,0),11),0)","v":0},1018,{"$nulls":3},180,{"$nulls":3},1198,{"$nulls":3},198,{"$nulls":3},-2002]
[null,9,"GREEN, GARY",{"$nulls":12},203,null,null,60,null,209,null,null,0,null,205,null,null,0,null,207,null,null,60,null,209,null,null,0,null,0,null,null,"",null,{"$f":"IF(Master!$B$4=\"Y\",INDEX(Qual!$B$8:$U$19,MATCH(C71,Qual!$B$8:$B$19,0),19),0)","v":0},{"$f":"IF($BO$34=\"Y\",INDEX([2]Qual!$B$8:$U$19,MATCH(AH71,[2]Qual!$B$8:$B$19,0),11),0)","v":0},{"$f":"IF($BO$34=\"Y\",INDEX([2]Qual!$B$8:$U$19,MATCH(AI71,[2]Qual!$B$8:$B$19,0),11),0)","v":0},{"$f":"IF($BO$34=\"Y\",INDEX([2]Qual!$B$8:$U$19,MATCH(AJ71,[2]Qual!$B$8:$B$19,0),11),0)","v":0},1033,{"$nulls":3},120,{"$nulls":3},1153,{"$nulls":3},153,{"$nulls":3},-2047]
[null,10,"HAVLISH, TOM",{"$nulls":12},202,null,null,60,null,208,null,null,0,null,204,null,null,0,null,206,null,null,60,null,208,null,null,0,null,0,null,null,"",null,{"$f":"IF(Master!$B$4=\"Y\",INDEX(Qual!$B$8:$U$19,MATCH(C72,Qual!$B$8:$B$19,0),19),0)","v":0},{"$f":"IF($BO$34=\"Y\",INDEX([2]Qual!$B$8:$U$19,MATCH(AH72,[2]Qual!$B$8:$B$19,0),11),0)","v":0},{"$f":"IF($BO$34=\"Y\",INDEX([2]Qual!$B$8:$U$19,MATCH(AI72,[2]Qual!$B$8:$B$19,0),11),0)","v":0},{"$f":"IF($BO$34=\"Y\",INDEX([2]Qual!$B$8:$U$19,MATCH(AJ72,[2]Qual!$B$8:$B$19,0),11),0)","v":0},1028,{"$nulls":3},120,{"$nulls":3},1148,{"$nulls":3},148,{"$nulls":3},-2052]
[null,11,"DAVIS, SCOTT",{"$nulls":12},201,null,null,0,null,205,null,null,0,null,209,null,null,0,null,209,null,null,0,null,207,null,null,60,null,0,null,null,"",null,{"$f":"IF(Master!$B$4=\"Y\",INDEX(Qual!$B$8:$U$19,MATCH(C73,Qual!$B$8:$B$19,0),19),0)","v":0},{"$f":"IF($BO$34=\"Y\",INDEX([2]Qual!$B$8:$U$19,MATCH(AH73,[2]Qual!$B$8:$B$19,0),11),0)","v":0},{"$f":"IF($BO$34=\"Y\",INDEX([2]Qual!$B$8:$U$19,MATCH(AI73,[2]Qual!$B$8:$B$19,0),11),0)","v":0},{"$f":"IF($BO$34=\"Y\",INDEX([2]Qual!$B$8:$U$19,MATCH(AJ73,[2]Qual!$B$8:$B$19,0),11),0)","v":0},1031,{"$nulls":3},60,{"$nulls":3},1091,{"$nulls":3},91,{"$nulls":3},-2109]
[null,12,"BIRKEDAHL, LARRY",{"$nulls":12},200,null,null,0,null,204,null,null,0,null,208,null,null,0,null,208,null,null,0,null,206,null,null,60,null,0,null,null,"",null,{"$f":"IF(Master!$B$4=\"Y\",INDEX(Qual!$B$8:$U$19,MATCH(C74,Qual!$B$8:$B$19,0),19),0)","v":0},{"$f":"IF($BO$34=\"Y\",INDEX([2]Qual!$B$8:$U$19,MATCH(AH74,[2]Qual!$B$8:$B$19,0),11),0)","v":0},{"$f":"IF($BO$34=\"Y\",INDEX([2]Qual!$B$8:$U$19,MATCH(AI74,[2]Qual!$B$8:$B$19,0),11),0)","v":0},{"$f":"IF($BO$34=\"Y\",INDEX([2]Qual!$B$8:$U$19,MATCH(AJ74,[2]Qual!$B$8:$B$19,0),11),0)","v":0},1026,{"$nulls":3},60,{"$nulls":3},1086,{"$nulls":3},86,{"$nulls":3},-2114]
[null,13,"",{"$nulls":12},{"$error":"#N/A"},null,null,{"$error":"#N/A"},null,{"$error":"#N/A"},null,null,{"$error":"#N/A"},null,{"$error":"#N/A"},null,null,{"$error":"#N/A"},null,{"$error":"#N/A"},null,null,{"$error":"#N/A"},null,{"$error":"#N/A"},null,null,{"$error":"#N/A"},null,{"$error":"#N/A"},null,null,{"$error":"#N/A"},null,{"$f":"IF($BO$34=\"Y\",INDEX(Qual!$B$8:$U$19,MATCH(C75,Qual!$B$8:$B$19,0),19),0)","v":0},{"$f":"IF($BO$34=\"Y\",INDEX([2]Qual!$B$8:$U$19,MATCH(AH75,[2]Qual!$B$8:$B$19,0),11),0)","v":0},{"$f":"IF($BO$34=\"Y\",INDEX([2]Qual!$B$8:$U$19,MATCH(AI75,[2]Qual!$B$8:$B$19,0),11),0)","v":0},{"$f":"IF($BO$34=\"Y\",INDEX([2]Qual!$B$8:$U$19,MATCH(AJ75,[2]Qual!$B$8:$B$19,0),11),0)","v":0},{"$error":"#N/A"},{"$nulls":3},{"$error":"#N/A"},{"$nulls":3},{"$error":"#N/A"},{"$nulls":3},{"$error":"#N/A"},{"$nulls":3},{"$f":"BF75-16*200","v":{"$error":"#N/A"}}]
[null,14,"",{"$nulls":12},{"$error":"#N/A"},null,null,{"$error":"#N/A"},null,{"$error":"#N/A"},null,null,{"$error":"#N/A"},null,{"$error":"#N/A"},null,null,{"$error":"#N/A"},null,{"$error":"#N/A"},null,null,{"$error":"#N/A"},null,{"$error":"#N/A"},null,null,{"$error":"#N/A"},null,{"$error":"#N/A"},null,null,{"$error":"#N/A"},null,{"$f":"IF($BO$34=\"Y\",INDEX(Qual!$B$8:$U$19,MATCH(C76,Qual!$B$8:$B$19,0),19),0)","v":0},{"$f":"IF($BO$34=\"Y\",INDEX([2]Qual!$B$8:$U$19,MATCH(AH76,[2]Qual!$B$8:$B$19,0),11),0)","v":0},{"$f":"IF($BO$34=\"Y\",INDEX([2]Qual!$B$8:$U$19,MATCH(AI76,[2]Qual!$B$8:$B$19,0),11),0)","v":0},{"$f":"IF($BO$34=\"Y\",INDEX([2]Qual!$B$8:$U$19,MATCH(AJ76,[2]Qual!$B$8:$B$19,0),11),0)","v":0},{"$error":"#N/A"},{"$nulls":3},{"$error":"#N/A"},{"$nulls":3},{"$error":"#N/A"},{"$nulls":3},{"$error":"#N/A"},{"$nulls":3},{"$f":"BF76-16*200","v":{"$error":"#N/A"}}]
[null,15,"",{"$nulls":12},{"$error":"#N/A"},null,null,{"$error":"#N/A"},null,{"$error":"#N/A"},null,null,{"$error":"#N/A"},null,{"$error":"#N/A"},null,null,{"$error":"#N/A"},null,{"$error":"#N/A"},null,null,{"$error":"#N/A"},null,{"$error":"#N/A"},null,null,{"$error":"#N/A"},null,{"$error":"#N/A"},null,null,{"$error":"#N/A"},null,{"$f":"IF($BO$34=\"Y\",INDEX(Qual!$B$8:$U$19,MATCH(C77,Qual!$B$8:$B$19,0),19),0)","v":0},{"$f":"IF($BO$34=\"Y\",INDEX([2]Qual!$B$8:$U$19,MATCH(AH77,[2]Qual!$B$8:$B$19,0),11),0)","v":0},{"$f":"IF($BO$34=\"Y\",INDEX([2]Qual!$B$8:$U$19,MATCH(AI77,[2]Qual!$B$8:$B$19,0),11),0)","v":0},{"$f":"IF($BO$34=\"Y\",INDEX([2]Qual!$B$8:$U$19,MATCH(AJ77,[2]Qual!$B$8:$B$19,0),11),0)","v":0},{"$error":"#N/A"},{"$nulls":3},{"$error":"#N/A"},{"$nulls":3},{"$error":"#N/A"},{"$nulls":3},{"$error":"#N/A"},{"$nulls":3},{"$error":"#N/A"}]
[null,16,"",{"$nulls":12},{"$error":"#N/A"},null,null,{"$error":"#N/A"},null,{"$error":"#N/A"},null,null,{"$error":"#N/A"},null,{"$error":"#N/A"},null,null,{"$error":"#N/A"},null,{"$error":"#N/A"},null,null,{"$error":"#N/A"},null,{"$error":"#N/A"},null,null,{"$error":"#N/A"},null,{"$error":"#N/A"},null,null,{"$error":"#N/A"},null,{"$f":"IF($BO$34=\"Y\",INDEX(Qual!$B$8:$U$19,MATCH(C78,Qual!$B$8:$B$19,0),19),0)","v":0},{"$f":"IF($BO$34=\"Y\",INDEX([2]Qual!$B$8:$U$19,MATCH(AH78,[2]Qual!$B$8:$B$19,0),11),0)","v":0},{"$f":"IF($BO$34=\"Y\",INDEX([2]Qual!$B$8:$U$19,MATCH(AI78,[2]Qual!$B$8:$B$19,0),11),0)","v":0},{"$f":"IF($BO$34=\"Y\",INDEX([2]Qual!$B$8:$U$19,MATCH(AJ78,[2]Qual!$B$8:$B$19,0),11),0)","v":0},{"$error":"#N/A"},{"$nulls":3},{"$error":"#N/A"},{"$nulls":3},{"$error":"#N/A"},{"$nulls":3},{"$error":"#N/A"},{"$nulls":3},{"$error":"#N/A"}]
[null,17,"",{"$nulls":12},{"$error":"#N/A"},null,null,{"$error":"#N/A"},null,{"$error":"#N/A"},null,null,{"$error":"#N/A"},null,{"$error":"#N/A"},null,null,{"$error":"#N/A"},null,{"$error":"#N/A"},null,null,{"$error":"#N/A"},null,{"$error":"#N/A"},null,null,{"$error":"#N/A"},null,{"$error":"#N/A"},null,null,{"$error":"#N/A"},null,{"$f":"IF($BO$34=\"Y\",INDEX(Qual!$B$8:$U$19,MATCH(C79,Qual!$B$8:$B$19,0),19),0)","v":0},{"$f":"IF($BO$34=\"Y\",INDEX([2]Qual!$B$8:$U$19,MATCH(AH79,[2]Qual!$B$8:$B$19,0),11),0)","v":0},{"$f":"IF($BO$34=\"Y\",INDEX([2]Qual!$B$8:$U$19,MATCH(AI79,[2]Qual!$B$8:$B$19,0),11),0)","v":0},{"$f":"IF($BO$34=\"Y\",INDEX([2]Qual!$B$8:$U$19,MATCH(AJ79,[2]Qual!$B$8:$B$19,0),11),0)","v":0},{"$error":"#N/A"},{"$nulls":3},{"$error":"#N/A"},{"$nulls":3},{"$error":"#N/A"},{"$nulls":3},{"$error":"#N/A"},{"$nulls":3},{"$error":"#N/A"}]
[null,18,"",{"$nulls":12},{"$error":"#N/A"},null,null,{"$error":"#N/A"},null,{"$error":"#N/A"},null,null,{"$error":"#N/A"},null,{"$error":"#N/A"},null,null,{"$error":"#N/A"},null,{"$error":"#N/A"},null,null,{"$error":"#N/A"},null,{"$error":"#N/A"},null,null,{"$error":"#N/A"},null,{"$error":"#N/A"},null,null,{"$error":"#N/A"},null,{"$f":"IF($BO$34=\"Y\",INDEX(Qual!$B$8:$U$19,MATCH(C80,Qual!$B$8:$B$19,0),19),0)","v":0},{"$f":"IF($BO$34=\"Y\",INDEX([2]Qual!$B$8:$U$19,MATCH(AH80,[2]Qual!$B$8:$B$19,0),11),0)","v":0},{"$f":"IF($BO$34=\"Y\",INDEX([2]Qual!$B$8:$U$19,MATCH(AI80,[2]Qual!$B$8:$B$19,0),11),0)","v":0},{"$f":"IF($BO$34=\"Y\",INDEX([2]Qual!$B$8:$U$19,MATCH(AJ80,[2]Qual!$B$8:$B$19,0),11),0)","v":0},{"$error":"#N/A"},{"$nulls":3},{"$error":"#N/A"},{"$nulls":3},{"$error":"#N/A"},{"$nulls":3},{"$error":"#N/A"},{"$nulls":3},{"$error":"#N/A"}]
[null,19,"",{"$nulls":12},{"$error":"#N/A"},null,null,{"$error":"#N/A"},null,{"$error":"#N/A"},null,null,{"$error":"#N/A"},null,{"$error":"#N/A"},null,null,{"$error":"#N/A"},null,{"$error":"#N/A"},null,null,{"$error":"#N/A"},null,{"$error":"#N/A"},null,null,{"$error":"#N/A"},null,{"$error":"#N/A"},null,null,{"$error":"#N/A"},null,{"$f":"IF($BO$34=\"Y\",INDEX(Qual!$B$8:$U$19,MATCH(C81,Qual!$B$8:$B$19,0),19),0)","v":0},{"$f":"IF($BO$34=\"Y\",INDEX([2]Qual!$B$8:$U$19,MATCH(AH81,[2]Qual!$B$8:$B$19,0),11),0)","v":0},{"$f":"IF($BO$34=\"Y\",INDEX([2]Qual!$B$8:$U$19,MATCH(AI81,[2]Qual!$B$8:$B$19,0),11),0)","v":0},{"$f":"IF($BO$34=\"Y\",INDEX([2]Qual!$B$8:$U$19,MATCH(AJ81,[2]Qual!$B$8:$B$19,0),11),0)","v":0},{"$error":"#N/A"},{"$nulls":3},{"$error":"#N/A"},{"$nulls":3},{"$error":"#N/A"},{"$nulls":3},{"$error":"#N/A"},{"$nulls":3},{"$error":"#N/A"}]
[null,20,"",{"$nulls":12},{"$error":"#N/A"},null,null,{"$error":"#N/A"},null,{"$error":"#N/A"},null,null,{"$error":"#N/A"},null,{"$error":"#N/A"},null,null,{"$error":"#N/A"},null,{"$error":"#N/A"},null,null,{"$error":"#N/A"},null,{"$error":"#N/A"},null,null,{"$error":"#N/A"},null,{"$error":"#N/A"},null,null,{"$error":"#N/A"},null,{"$f":"IF($BO$34=\"Y\",INDEX(Qual!$B$8:$U$19,MATCH(C82,Qual!$B$8:$B$19,0),19),0)","v":0},{"$f":"IF($BO$34=\"Y\",INDEX([2]Qual!$B$8:$U$19,MATCH(AH82,[2]Qual!$B$8:$B$19,0),11),0)","v":0},{"$f":"IF($BO$34=\"Y\",INDEX([2]Qual!$B$8:$U$19,MATCH(AI82,[2]Qual!$B$8:$B$19,0),11),0)","v":0},{"$f":"IF($BO$34=\"Y\",INDEX([2]Qual!$B$8:$U$19,MATCH(AJ82,[2]Qual!$B$8:$B$19,0),11),0)","v":0},{"$error":"#N/A"},{"$nulls":3},{"$error":"#N/A"},{"$nulls":3},{"$error":"#N/A"},{"$nulls":3},{"$error":"#N/A"},{"$nulls":3},{"$error":"#N/A"}]
[null,21,"",{"$nulls":12},{"$error":"#N/A"},null,null,{"$error":"#N/A"},null,{"$error":"#N/A"},null,null,{"$error":"#N/A"},null,{"$error":"#N/A"},null,null,{"$error":"#N/A"},null,{"$error":"#N/A"},null,null,{"$error":"#N/A"},null,{"$error":"#N/A"},null,null,{"$error":"#N/A"},null,{"$error":"#N/A"},null,null,{"$error":"#N/A"},null,{"$f":"IF($BO$34=\"Y\",INDEX(Qual!$B$8:$U$19,MATCH(C83,Qual!$B$8:$B$19,0),19),0)","v":0},{"$f":"IF($BO$34=\"Y\",INDEX([2]Qual!$B$8:$U$19,MATCH(AH83,[2]Qual!$B$8:$B$19,0),11),0)","v":0},{"$f":"IF($BO$34=\"Y\",INDEX([2]Qual!$B$8:$U$19,MATCH(AI83,[2]Qual!$B$8:$B$19,0),11),0)","v":0},{"$f":"IF($BO$34=\"Y\",INDEX([2]Qual!$B$8:$U$19,MATCH(AJ83,[2]Qual!$B$8:$B$19,0),11),0)","v":0},{"$error":"#N/A"},{"$nulls":3},{"$error":"#N/A"},{"$nulls":3},{"$error":"#N/A"},{"$nulls":3},{"$error":"#N/A"},{"$nulls":3},{"$error":"#N/A"}]
[null,22,"",{"$nulls":12},{"$error":"#N/A"},null,null,{"$error":"#N/A"},null,{"$error":"#N/A"},null,null,{"$error":"#N/A"},null,{"$error":"#N/A"},null,null,{"$error":"#N/A"},null,{"$error":"#N/A"},null,null,{"$error":"#N/A"},null,{"$error":"#N/A"},null,null,{"$error":"#N/A"},null,{"$error":"#N/A"},null,null,{"$error":"#N/A"},null,{"$f":"IF($BO$34=\"Y\",INDEX(Qual!$B$8:$U$19,MATCH(C84,Qual!$B$8:$B$19,0),19),0)","v":0},{"$f":"IF($BO$34=\"Y\",INDEX([2]Qual!$B$8:$U$19,MATCH(AH84,[2]Qual!$B$8:$B$19,0),11),0)","v":0},{"$f":"IF($BO$34=\"Y\",INDEX([2]Qual!$B$8:$U$19,MATCH(AI84,[2]Qual!$B$8:$B$19,0),11),0)","v":0},{"$f":"IF($BO$34=\"Y\",INDEX([2]Qual!$B$8:$U$19,MATCH(AJ84,[2]Qual!$B$8:$B$19,0),11),0)","v":0},{"$error":"#N/A"},{"$nulls":3},{"$error":"#N/A"},{"$nulls":3},{"$error":"#N/A"},{"$nulls":3},{"$error":"#N/A"},{"$nulls":3},{"$error":"#N/A"}]
[null,23,"",{"$nulls":12},{"$error":"#N/A"},null,null,{"$error":"#N/A"},null,{"$error":"#N/A"},null,null,{"$error":"#N/A"},null,{"$error":"#N/A"},null,null,{"$error":"#N/A"},null,{"$error":"#N/A"},null,null,{"$error":"#N/A"},null,{"$error":"#N/A"},null,null,{"$error":"#N/A"},null,{"$error":"#N/A"},null,null,{"$error":"#N/A"},null,{"$f":"IF($BO$34=\"Y\",INDEX(Qual!$B$8:$U$19,MATCH(C85,Qual!$B$8:$B$19,0),19),0)","v":0},{"$f":"IF($BO$34=\"Y\",INDEX([2]Qual!$B$8:$U$19,MATCH(AH85,[2]Qual!$B$8:$B$19,0),11),0)","v":0},{"$f":"IF($BO$34=\"Y\",INDEX([2]Qual!$B$8:$U$19,MATCH(AI85,[2]Qual!$B$8:$B$19,0),11),0)","v":0},{"$f":"IF($BO$34=\"Y\",INDEX([2]Qual!$B$8:$U$19,MATCH(AJ85,[2]Qual!$B$8:$B$19,0),11),0)","v":0},{"$error":"#N/A"},{"$nulls":3},{"$error":"#N/A"},{"$nulls":3},{"$error":"#N/A"},{"$nulls":3},{"$error":"#N/A"},{"$nulls":3},{"$error":"#N/A"}]
[null,24,"",{"$nulls":12},{"$error":"#N/A"},null,null,{"$error":"#N/A"},null,{"$error":"#N/A"},null,null,{"$error":"#N/A"},null,{"$error":"#N/A"},null,null,{"$error":"#N/A"},null,{"$error":"#N/A"},null,null,{"$error":"#N/A"},null,{"$error":"#N/A"},null,null,{"$error":"#N/A"},null,{"$error":"#N/A"},null,null,{"$error":"#N/A"},null,{"$f":"IF($BO$34=\"Y\",INDEX(Qual!$B$8:$U$19,MATCH(C86,Qual!$B$8:$B$19,0),19),0)","v":0},{"$f":"IF($BO$34=\"Y\",INDEX([2]Qual!$B$8:$U$19,MATCH(AH86,[2]Qual!$B$8:$B$19,0),11),0)","v":0},{"$f":"IF($BO$34=\"Y\",INDEX([2]Qual!$B$8:$U$19,MATCH(AI86,[2]Qual!$B$8:$B$19,0),11),0)","v":0},{"$f":"IF($BO$34=\"Y\",INDEX([2]Qual!$B$8:$U$19,MATCH(AJ86,[2]Qual!$B$8:$B$19,0),11),0)","v":0},{"$error":"#N/A"},{"$nulls":3},{"$error":"#N/A"},{"$nulls":3},{"$error":"#N/A"},{"$nulls":3},{"$error":"#N/A"},{"$nulls":3},{"$error":"#N/A"}]
[{"$nulls":14},"Average ",{"$f":"AVERAGE(P63:R86)","v":{"$error":"#N/A"}},{"$nulls":4},{"$f":"AVERAGE(U63:W86)","v":{"$error":"#N/A"}},{"$nulls":4},{"$f":"AVERAGE(Z63:AB86)","v":{"$error":"#N/A"}},{"$nulls":4},{"$f":"AVERAGE(AE63:AG86)","v":{"$error":"#N/A"}},{"$nulls":4},{"$f":"AVERAGE(AJ63:AL86)","v":{"$error":"#N/A"}},{"$nulls":4},{"$f":"AVERAGE(AO63:AQ86)","v":{"$error":"#N/A"}}]
[]
[null,"Stepladder Finals"]
[null,"Match 1"]
[null,null,{"$f":"IF(AO63=0,\"\",C67)","v":""}]
[null,null,{"$f":"IF(AO63=0,\"\",C66)","v":""}]
[]
[{"$nulls":11},"Match 2"]
[{"$nulls":11},{"$f":"IF(AO63=0,\"\",C65)","v":""}]
[{"$nulls":11},{"$f":"IF(P92=\"\",\"\",IF(P91>P92,C91,C92))","v":""}]
[]
[{"$nulls":21},"Match 3"]
[{"$nulls":21},{"$f":"IF(AO63=0,\"\",C64)","v":""}]
[null,null,{"$f":"IF(AR104>AR103,AE104,AE103)","v":""},{"$f":"IF(P92=\"\",\"\",IF(P91>P92,CONCATENATE(LEFT(C91,(FIND(\",\",C91,1)-1)),\" def. \",LEFT(C92,(FIND(\",\",C92,1)-1)),\" \",P91,\"-\",P92),CONCATENATE(LEFT(C92,(FIND(\",\",C92,1)-1)),\" def. \",LEFT(C91,(FIND(\",\",C91,1)-1)),\" \",P92,\"-\",P91)))","v":""},{"$nulls":17},{"$f":"IF(Y96=\"\",\"\",IF(Y95>Y96,L95,L96))","v":""}]
[null,null,{"$f":"IF(AR104<AR103,AE104,AE103)","v":""},{"$f":"IF(Y95=\"\",\"\",IF(Y95>Y96,CONCATENATE(LEFT(L95,(FIND(\",\",L95,1)-1)),\" def. \",LEFT(L96,(FIND(\",\",L96,1)-1)),\" \",Y95,\"-\",Y96),CONCATENATE(LEFT(L96,(FIND(\",\",L96,1)-1)),\" def. \",LEFT(L95,(FIND(\",\",L95,1)-1)),\" \",Y96,\"-\",Y95)))","v":""}]
[null,null,{"$f":"IF(AI100=\"\",\"\",IF(AI99<AI100,V99,V100))","v":""},{"$f":"IF(AI99=\"\",\"\",IF(AI99>AI100,CONCATENATE(LEFT(V99,(FIND(\",\",V99,1)-1)),\" def. \",LEFT(V100,(FIND(\",\",V100,1)-1)),\" \",AI99,\"-\",AI100),CONCATENATE(LEFT(V100,(FIND(\",\",V100,1)-1)),\" def. \",LEFT(V99,(FIND(\",\",V99,1)-1)),\" \",AI100,\"-\",AI99)))","v":""},{"$nulls":26},"Match 4"]
[null,null,{"$f":"IF(Y96=\"\",\"\",IF(Y95<Y96,L95,L96))","v":""},{"$f":"IF(AR103=\"\",\"\",IF(AR103>AR104,CONCATENATE(LEFT(AE103,(FIND(\",\",AE103,1)-1)),\" def. \",LEFT(AE104,(FIND(\",\",AE104,1)-1)),\" \",AR103,\"-\",AR104),CONCATENATE(LEFT(AE104,(FIND(\",\",AE104,1)-1)),\" def. \",LEFT(AE103,(FIND(\",\",AE103,1)-1)),\" \",AR104,\"-\",AR103)))","v":""},{"$nulls":26},{"$f":"IF(AO63=0,\"\",C63)","v":""}]
[null,null,{"$f":"IF(P92=\"\",\"\",IF(P91<P92,C91,C92))","v":""},{"$nulls":27},{"$f":"IF(AI100=\"\",\"\",IF(AI99>AI100,V99,V100))","v":""}]

{"sheet":"MSCPots","index":13,"n_rows":127,"n_cols":42,"rows_kept":127,"merged":[[0,1,0,15],[1,1,1,15],[2,1,2,15],[4,1,4,4],[4,6,4,9],[4,11,4,15],[4,18,4,20],[5,21,5,22],[5,23,5,24],[16,1,16,4]]}
[null,{"$f":"Elim!AD1","v":"Midwest Senior Classic"},{"$nulls":26},"High Game",null,1,2,3,4,5,6,7,8,null,"H/L Dbls"]
[null,{"$f":"Elim!AD2","v":"2022-04-24"},{"$nulls":26},{"$f":"IF(AD2=0,\"\",'Check-In'!$B7)","v":""},{"$f":"'Check-In'!I7","v":0},{"$f":"IF(AC2=\"\",\"\",INDEX(Qual!$C$8:$U$133,MATCH($AC2,Qual!$C$8:$C$133,0),4))","v":""},{"$f":"IF(AC2=\"\",\"\",INDEX(Qual!$C$8:$U$133,MATCH($AC2,Qual!$C$8:$C$133,0),6))","v":""},{"$f":"IF(AC2=\"\",\"\",INDEX(Qual!$C$8:$U$133,MATCH($AC2,Qual!$C$8:$C$133,0),8))","v":""},{"$f":"IF(AC2=\"\",\"\",INDEX(Qual!$C$8:$U$133,MATCH($AC2,Qual!$C$8:$C$133,0),10))","v":""},{"$f":"IF(AC2=\"\",\"\",INDEX(Qual!$C$8:$U$133,MATCH($AC2,Qual!$C$8:$C$133,0),12))","v":""},{"$f":"IF(AC2=\"\",\"\",INDEX(Qual!$C$8:$U$133,MATCH($AC2,Qual!$C$8:$C$133,0),14))","v":""},{"$f":"IF(AC2=\"\",\"\",INDEX(Qual!$C$8:$U$133,MATCH($AC2,Qual!$C$8:$C$133,0),16))","v":""},{"$f":"IF(AC2=\"\",\"\",INDEX(Qual!$C$8:$U$133,MATCH($AC2,Qual!$C$8:$C$133,0),18))","v":""},null,{"$f":"IF(AO2=0,\"\",'Check-In'!$B7)","v":"OULMAN, DAVE"},{"$f":"'Check-In'!V7","v":"X"},{"$f":"IF(AO2=0,\"\",INDEX(Qual!$C$8:$M$133,MATCH($AN2,Qual!$C$8:$C$133,0),4)+INDEX(Qual!$C$8:$M$133,MATCH($AN2,Qual!$C$8:$C$133,0),5)+INDEX(Qual!$C$8:$M$133,MATCH($AN2,Qual!$C$8:$C$133,0),6)+INDEX(Qual!$C$8:$M$133,MATCH($AN2,Qual!$C$8:$C$133,0),7)+INDEX(Qual!$C$8:$M$133,MATCH($AN2,Qual!$C$8:$C$133,0),8)+INDEX(Qual!$C$8:$M$133,MATCH($AN2,Qual!$C$8:$C$133,0),9)+INDEX(Qual!$C$8:$M$133,MATCH($AN2,Qual!$C$8:$C$133,0),10)+INDEX(Qual!$C$8:$M$133,MATCH($AN2,Qual!$C$8:$C$133,0),11))","v":1079}]
[null,{"$f":"Elim!AD3","v":"Cedarvale"},{"$nulls":26},{"$f":"IF(AD3=0,\"\",'Check-In'!$B8)","v":""},{"$f":"'Check-In'!I8","v":0},{"$f":"IF(AC3=\"\",\"\",INDEX(Qual!$C$8:$U$133,MATCH($AC3,Qual!$C$8:$C$133,0),4))","v":""},{"$f":"IF(AC3=\"\",\"\",INDEX(Qual!$C$8:$U$133,MATCH($AC3,Qual!$C$8:$C$133,0),6))","v":""},{"$f":"IF(AC3=\"\",\"\",INDEX(Qual!$C$8:$U$133,MATCH($AC3,Qual!$C$8:$C$133,0),8))","v":""},{"$f":"IF(AC3=\"\",\"\",INDEX(Qual!$C$8:$U$133,MATCH($AC3,Qual!$C$8:$C$133,0),10))","v":""},{"$f":"IF(AC3=\"\",\"\",INDEX(Qual!$C$8:$U$133,MATCH($AC3,Qual!$C$8:$C$133,0),12))","v":""},{"$f":"IF(AC3=\"\",\"\",INDEX(Qual!$C$8:$U$133,MATCH($AC3,Qual!$C$8:$C$133,0),14))","v":""},{"$f":"IF(AC3=\"\",\"\",INDEX(Qual!$C$8:$U$133,MATCH($AC3,Qual!$C$8:$C$133,0),16))","v":""},{"$f":"IF(AC3=\"\",\"\",INDEX(Qual!$C$8:$U$133,MATCH($AC3,Qual!$C$8:$C$133,0),18))","v":""},null,{"$f":"IF(AO3=0,\"\",'Check-In'!$B8)","v":"DAVIS, SCOTT"},{"$f":"'Check-In'!V8","v":"X"},{"$f":"IF(AO3=0,\"\",INDEX(Qual!$C$8:$M$133,MATCH($AN3,Qual!$C$8:$C$133,0),4)+INDEX(Qual!$C$8:$M$133,MATCH($AN3,Qual!$C$8:$C$133,0),5)+INDEX(Qual!$C$8:$M$133,MATCH($AN3,Qual!$C$8:$C$133,0),6)+INDEX(Qual!$C$8:$M$133,MATCH($AN3,Qual!$C$8:$C$133,0),7)+INDEX(Qual!$C$8:$M$133,MATCH($AN3,Qual!$C$8:$C$133,0),8)+INDEX(Qual!$C$8:$M$133,MATCH($AN3,Qual!$C$8:$C$133,0),9)+INDEX(Qual!$C$8:$M$133,MATCH($AN3,Qual!$C$8:$C$133,0),10)+INDEX(Qual!$C$8:$M$133,MATCH($AN3,Qual!$C$8:$C$133,0),11))","v":877}]
[{"$nulls":28},{"$f":"IF(AD4=0,\"\",'Check-In'!$B9)","v":""},{"$f":"'Check-In'!I9","v":0},{"$f":"IF(AC4=\"\",\"\",INDEX(Qual!$C$8:$U$133,MATCH($AC4,Qual!$C$8:$C$133,0),4))","v":""},{"$f":"IF(AC4=\"\",\"\",INDEX(Qual!$C$8:$U$133,MATCH($AC4,Qual!$C$8:$C$133,0),6))","v":""},{"$f":"IF(AC4=\"\",\"\",INDEX(Qual!$C$8:$U$133,MATCH($AC4,Qual!$C$8:$C$133,0),8))","v":""},{"$f":"IF(AC4=\"\",\"\",INDEX(Qual!$C$8:$U$133,MATCH($AC4,Qual!$C$8:$C$133,0),10))","v":""},{"$f":"IF(AC4=\"\",\"\",INDEX(Qual!$C$8:$U$133,MATCH($AC4,Qual!$C$8:$C$133,0),12))","v":""},{"$f":"IF(AC4=\"\",\"\",INDEX(Qual!$C$8:$U$133,MATCH($AC4,Qual!$C$8:$C$133,0),14))","v":""},{"$f":"IF(AC4=\"\",\"\",INDEX(Qual!$C$8:$U$133,MATCH($AC4,Qual!$C$8:$C$133,0),16))","v":""},{"$f":"IF(AC4=\"\",\"\",INDEX(Qual!$C$8:$U$133,MATCH($AC4,Qual!$C$8:$C$133,0),18))","v":""},null,{"$f":"IF(AO4=0,\"\",'Check-In'!$B9)","v":"PESCH, JOHN"},{"$f":"'Check-In'!V9","v":"X"},{"$f":"IF(AO4=0,\"\",INDEX(Qual!$C$8:$M$133,MATCH($AN4,Qual!$C$8:$C$133,0),4)+INDEX(Qual!$C$8:$M$133,MATCH($AN4,Qual!$C$8:$C$133,0),5)+INDEX(Qual!$C$8:$M$133,MATCH($AN4,Qual!$C$8:$C$133,0),6)+INDEX(Qual!$C$8:$M$133,MATCH($AN4,Qual!$C$8:$C$133,0),7)+INDEX(Qual!$C$8:$M$133,MATCH($AN4,Qual!$C$8:$C$133,0),8)+INDEX(Qual!$C$8:$M$133,MATCH($AN4,Qual!$C$8:$C$133,0),9)+INDEX(Qual!$C$8:$M$133,MATCH($AN4,Qual!$C$8:$C$133,0),10)+INDEX(Qual!$C$8:$M$133,MATCH($AN4,Qual!$C$8:$C$133,0),11))","v":898}]
[null,{"$f":"IF(Master!$B$1=\"Dbls\",\"Mini-Eliminator 4-5-6\",IF(Master!$B$1=\"2-Day\",\"Mini-Eliminator 3-4-5\",\"Mini-Eliminator 2-3-4\"))","v":"Mini-Eliminator 2-3-4"},{"$nulls":4},"High Game",{"$nulls":4},"High/Low Doubles",{"$nulls":6},"High/Low Doubles",{"$nulls":9},{"$f":"IF(AD5=0,\"\",'Check-In'!$B10)","v":""},{"$f":"'Check-In'!I10","v":0},{"$f":"IF(AC5=\"\",\"\",INDEX(Qual!$C$8:$U$133,MATCH($AC5,Qual!$C$8:$C$133,0),4))","v":""},{"$f":"IF(AC5=\"\",\"\",INDEX(Qual!$C$8:$U$133,MATCH($AC5,Qual!$C$8:$C$133,0),6))","v":""},{"$f":"IF(AC5=\"\",\"\",INDEX(Qual!$C$8:$U$133,MATCH($AC5,Qual!$C$8:$C$133,0),8))","v":""},{"$f":"IF(AC5=\"\",\"\",INDEX(Qual!$C$8:$U$133,MATCH($AC5,Qual!$C$8:$C$133,0),10))","v":""},{"$f":"IF(AC5=\"\",\"\",INDEX(Qual!$C$8:$U$133,MATCH($AC5,Qual!$C$8:$C$133,0),12))","v":""},{"$f":"IF(AC5=\"\",\"\",INDEX(Qual!$C$8:$U$133,MATCH($AC5,Qual!$C$8:$C$133,0),14))","v":""},{"$f":"IF(AC5=\"\",\"\",INDEX(Qual!$C$8:$U$133,MATCH($AC5,Qual!$C$8:$C$133,0),16))","v":""},{"$f":"IF(AC5=\"\",\"\",INDEX(Qual!$C$8:$U$133,MATCH($AC5,Qual!$C$8:$C$133,0),18))","v":""},null,{"$f":"IF(AO5=0,\"\",'Check-In'!$B10)","v":"NELSON, BILL"},{"$f":"'Check-In'!V10","v":"X"},{"$f":"IF(AO5=0,\"\",INDEX(Qual!$C$8:$M$133,MATCH($AN5,Qual!$C$8:$C$133,0),4)+INDEX(Qual!$C$8:$M$133,MATCH($AN5,Qual!$C$8:$C$133,0),5)+INDEX(Qual!$C$8:$M$133,MATCH($AN5,Qual!$C$8:$C$133,0),6)+INDEX(Qual!$C$8:$M$133,MATCH($AN5,Qual!$C$8:$C$133,0),7)+INDEX(Qual!$C$8:$M$133,MATCH($AN5,Qual!$C$8:$C$133,0),8)+INDEX(Qual!$C$8:$M$133,MATCH($AN5,Qual!$C$8:$C$133,0),9)+INDEX(Qual!$C$8:$M$133,MATCH($AN5,Qual!$C$8:$C$133,0),10)+INDEX(Qual!$C$8:$M$133,MATCH($AN5,Qual!$C$8:$C$133,0),11))","v":851}]
[null,null,"Bowler","Game","Amount",null,null,"Bowler","Game","Amount",null,null,"Bowler 1","Bowler 2","Ttl","Amount",{"$nulls":3},"High","Low","G4",null,"After G4",{"$nulls":4},{"$f":"IF(AD6=0,\"\",'Check-In'!$B11)","v":""},{"$f":"'Check-In'!I11","v":0},{"$f":"IF(AC6=\"\",\"\",INDEX(Qual!$C$8:$U$133,MATCH($AC6,Qual!$C$8:$C$133,0),4))","v":""},{"$f":"IF(AC6=\"\",\"\",INDEX(Qual!$C$8:$U$133,MATCH($AC6,Qual!$C$8:$C$133,0),6))","v":""},{"$f":"IF(AC6=\"\",\"\",INDEX(Qual!$C$8:$U$133,MATCH($AC6,Qual!$C$8:$C$133,0),8))","v":""},{"$f":"IF(AC6=\"\",\"\",INDEX(Qual!$C$8:$U$133,MATCH($AC6,Qual!$C$8:$C$133,0),10))","v":""},{"$f":"IF(AC6=\"\",\"\",INDEX(Qual!$C$8:$U$133,MATCH($AC6,Qual!$C$8:$C$133,0),12))","v":""},{"$f":"IF(AC6=\"\",\"\",INDEX(Qual!$C$8:$U$133,MATCH($AC6,Qual!$C$8:$C$133,0),14))","v":""},{"$f":"IF(AC6=\"\",\"\",INDEX(Qual!$C$8:$U$133,MATCH($AC6,Qual!$C$8:$C$133,0),16))","v":""},{"$f":"IF(AC6=\"\",\"\",INDEX(Qual!$C$8:$U$133,MATCH($AC6,Qual!$C$8:$C$133,0),18))","v":""},null,{"$f":"IF(AO6=0,\"\",'Check-In'!$B11)","v":"SCHOSSOW, FRED"},{"$f":"'Check-In'!V11","v":"X"},{"$f":"IF(AO6=0,\"\",INDEX(Qual!$C$8:$M$133,MATCH($AN6,Qual!$C$8:$C$133,0),4)+INDEX(Qual!$C$8:$M$133,MATCH($AN6,Qual!$C$8:$C$133,0),5)+INDEX(Qual!$C$8:$M$133,MATCH($AN6,Qual!$C$8:$C$133,0),6)+INDEX(Qual!$C$8:$M$133,MATCH($AN6,Qual!$C$8:$C$133,0),7)+INDEX(Qual!$C$8:$M$133,MATCH($AN6,Qual!$C$8:$C$133,0),8)+INDEX(Qual!$C$8:$M$133,MATCH($AN6,Qual!$C$8:$C$133,0),9)+INDEX(Qual!$C$8:$M$133,MATCH($AN6,Qual!$C$8:$C$133,0),10)+INDEX(Qual!$C$8:$M$133,MATCH($AN6,Qual!$C$8:$C$133,0),11))","v":808}]
[null,1,{"$f":"Elim!AE7","v":"LANGER, DAVE"},{"$f":"Elim!AF7","v":255},{"$f":"Elim!AG7","v":{"v":125,"d":"$125.00"}},null,1,{"$f":"INDEX($AC$2:$AL$127,MATCH(I7,$AE$2:$AE$127,0),1)","v":{"$error":"#N/A"}},{"$f":"Qual!F140","v":0},{"$f":"IF(LARGE($AE$2:$AE$127,2)=LARGE($AE$2:$AE$127,1),ROUNDDOWN('Check-In'!$I$145,0)/2,ROUNDDOWN('Check-In'!$I$145,0))","v":{"$error":"#N/A"}},null,{"$f":"S7","v":1},{"$f":"INDEX($T$7:$Z$23,MATCH(O7,$Z$7:$Z$23,0),1)","v":{"$error":"#NUM!"}},{"$f":"INDEX($T$7:$Z$23,MATCH(O7,$Z$7:$Z$23,0),2)","v":{"$error":"#NUM!"}},{"$f":"IF(L7=\"\",\"\",LARGE($Z$7:$Z$26,L7))","v":{"$error":"#NUM!"}},{"$f":"'[3]Check-In'!V145","v":{"v":96,"d":"$96.00"}},null,1,1,{"$f":"(IF(S7=\"\",\"\",INDEX($AN$2:$AP$127,MATCH(LARGE($AP$2:$AP$127,R7),$AP$2:$AP$127,0),1)))","v":"OULMAN, DAVE"},{"$f":"(IF(S7=\"\",\"\",INDEX($AN$2:$AP$127,MATCH(SMALL($AP$2:$AP$127,R7),$AP$2:$AP$127,0),1)))","v":"DAVIS, BOB"},{"$nulls":7},{"$f":"IF(AD7=0,\"\",'Check-In'!$B12)","v":""},{"$f":"'Check-In'!I12","v":0},{"$f":"IF(AC7=\"\",\"\",INDEX(Qual!$C$8:$U$133,MATCH($AC7,Qual!$C$8:$C$133,0),4))","v":""},{"$f":"IF(AC7=\"\",\"\",INDEX(Qual!$C$8:$U$133,MATCH($AC7,Qual!$C$8:$C$133,0),6))","v":""},{"$f":"IF(AC7=\"\",\"\",INDEX(Qual!$C$8:$U$133,MATCH($AC7,Qual!$C$8:$C$133,0),8))","v":""},{"$f":"IF(AC7=\"\",\"\",INDEX(Qual!$C$8:$U$133,MATCH($AC7,Qual!$C$8:$C$133,0),10))","v":""},{"$f":"IF(AC7=\"\",\"\",INDEX(Qual!$C$8:$U$133,MATCH($AC7,Qual!$C$8:$C$133,0),12))","v":""},{"$f":"IF(AC7=\"\",\"\",INDEX(Qual!$C$8:$U$133,MATCH($AC7,Qual!$C$8:$C$133,0),14))","v":""},{"$f":"IF(AC7=\"\",\"\",INDEX(Qual!$C$8:$U$133,MATCH($AC7,Qual!$C$8:$C$133,0),16))","v":""},{"$f":"IF(AC7=\"\",\"\",INDEX(Qual!$C$8:$U$133,MATCH($AC7,Qual!$C$8:$C$133,0),18))","v":""},null,{"$f":"IF(AO7=0,\"\",'Check-In'!$B12)","v":"POELZER, CLARK"},{"$f":"'Check-In'!V12","v":"X"},{"$f":"IF(AO7=0,\"\",INDEX(Qual!$C$8:$M$133,MATCH($AN7,Qual!$C$8:$C$133,0),4)+INDEX(Qual!$C$8:$M$133,MATCH($AN7,Qual!$C$8:$C$133,0),5)+INDEX(Qual!$C$8:$M$133,MATCH($AN7,Qual!$C$8:$C$133,0),6)+INDEX(Qual!$C$8:$M$133,MATCH($AN7,Qual!$C$8:$C$133,0),7)+INDEX(Qual!$C$8:$M$133,MATCH($AN7,Qual!$C$8:$C$133,0),8)+INDEX(Qual!$C$8:$M$133,MATCH($AN7,Qual!$C$8:$C$133,0),9)+INDEX(Qual!$C$8:$M$133,MATCH($AN7,Qual!$C$8:$C$133,0),10)+INDEX(Qual!$C$8:$M$133,MATCH($AN7,Qual!$C$8:$C$133,0),11))","v":882}]
[null,2,{"$f":"Elim!AE8","v":"DOWNER, ROB"},{"$f":"Elim!AF8","v":236},{"$f":"Elim!AG8","v":{"v":90,"d":"$90.00"}},null,null,{"$f":"IF(I7<>I8,INDEX($AC$2:$AL$127,MATCH(I8,$AE$2:$AE$127,0),1),INDEX($AC$2:$AC$127,MATCH(H7,$AC$2:$AC$127,0)+MATCH(I7,INDIRECT(\"ae\"&(2+MATCH(I7,$AE$2:$AE$127,0)&\":ae127\")),0),1))","v":{"$error":"#N/A"}},{"$f":"IF(LARGE(AE$2:AE$127,2)=LARGE(AE$2:AE$127,1),LARGE(AE$2:AE$127,2),IF(Qual!F141=1,\"\",Qual!F141))","v":{"$error":"#N/A"}},{"$f":"IF(LARGE($AE$2:$AE$127,2)=LARGE($AE$2:$AE$127,1),ROUNDDOWN('Check-In'!$I$145,0)/2,IF('Check-In'!$I$146=0,\"\",ROUNDDOWN('Check-In'!$I$146,0)))","v":{"$error":"#N/A"}},null,{"$f":"S8","v":2},{"$f":"IF(O7<>O8,INDEX($T$7:$Z$23,MATCH(O8,$Z$7:$Z$23,0),1),INDEX(INDIRECT(\"t\"&(7+MATCH(M7,$T$7:$T$23,0)&\":z23\")),MATCH(O8,INDIRECT(\"z\"&(7+MATCH(M7,$T4:$T$23,0)&\":z23\")),0),1))","v":{"$error":"#NUM!"}},{"$f":"IF(O7<>O8,INDEX($T$7:$Z$23,MATCH(O8,$Z$7:$Z$23,0),2),INDEX(INDIRECT(\"u\"&(7+MATCH(N7,$U$7:$U$23,0)&\":z23\")),MATCH(O8,INDIRECT(\"z\"&(7+MATCH(N7,$U4:$U$23,0)&\":z23\")),0),1))","v":{"$error":"#NUM!"}},{"$f":"IF(L8=\"\",\"\",LARGE($Z$7:$Z$26,L8))","v":{"$error":"#NUM!"}},{"$f":"'[3]Check-In'!V146","v":{"v":64,"d":"$64.00"}},null,2,{"$f":"IF(R8<='[3]Check-In'!$V$136,R8,\"\")","v":2},{"$f":"(IF(S8=\"\",\"\",INDEX($AN$2:$AP$127,MATCH(LARGE($AP$2:$AP$127,R8),$AP$2:$AP$127,0),1)))","v":"HOMMES, JOHN"},{"$f":"(IF(S8=\"\",\"\",INDEX($AN$2:$AP$127,MATCH(SMALL($AP$2:$AP$127,R8),$AP$2:$AP$127,0),1)))","v":"MAGNUSON, TRACEY"},{"$nulls":7},{"$f":"IF(AD8=0,\"\",'Check-In'!$B13)","v":""},{"$f":"'Check-In'!I13","v":0},{"$f":"IF(AC8=\"\",\"\",INDEX(Qual!$C$8:$U$133,MATCH($AC8,Qual!$C$8:$C$133,0),4))","v":""},{"$f":"IF(AC8=\"\",\"\",INDEX(Qual!$C$8:$U$133,MATCH($AC8,Qual!$C$8:$C$133,0),6))","v":""},{"$f":"IF(AC8=\"\",\"\",INDEX(Qual!$C$8:$U$133,MATCH($AC8,Qual!$C$8:$C$133,0),8))","v":""},{"$f":"IF(AC8=\"\",\"\",INDEX(Qual!$C$8:$U$133,MATCH($AC8,Qual!$C$8:$C$133,0),10))","v":""},{"$f":"IF(AC8=\"\",\"\",INDEX(Qual!$C$8:$U$133,MATCH($AC8,Qual!$C$8:$C$133,0),12))","v":""},{"$f":"IF(AC8=\"\",\"\",INDEX(Qual!$C$8:$U$133,MATCH($AC8,Qual!$C$8:$C$133,0),14))","v":""},{"$f":"IF(AC8=\"\",\"\",INDEX(Qual!$C$8:$U$133,MATCH($AC8,Qual!$C$8:$C$133,0),16))","v":""},{"$f":"IF(AC8=\"\",\"\",INDEX(Qual!$C$8:$U$133,MATCH($AC8,Qual!$C$8:$C$133,0),18))","v":""},null,{"$f":"IF(AO8=0,\"\",'Check-In'!$B13)","v":"MAGNUSON, TRACEY"},{"$f":"'Check-In'!V13","v":"X"},{"$f":"IF(AO8=0,\"\",INDEX(Qual!$C$8:$M$133,MATCH($AN8,Qual!$C$8:$C$133,0),4)+INDEX(Qual!$C$8:$M$133,MATCH($AN8,Qual!$C$8:$C$133,0),5)+INDEX(Qual!$C$8:$M$133,MATCH($AN8,Qual!$C$8:$C$133,0),6)+INDEX(Qual!$C$8:$M$133,MATCH($AN8,Qual!$C$8:$C$133,0),7)+INDEX(Qual!$C$8:$M$133,MATCH($AN8,Qual!$C$8:$C$133,0),8)+INDEX(Qual!$C$8:$M$133,MATCH($AN8,Qual!$C$8:$C$133,0),9)+INDEX(Qual!$C$8:$M$133,MATCH($AN8,Qual!$C$8:$C$133,0),10)+INDEX(Qual!$C$8:$M$133,MATCH($AN8,Qual!$C$8:$C$133,0),11))","v":760}]
[null,{"$f":"IF(E9=\"\",\"\",3)","v":3},{"$f":"Elim!AE9","v":"WRIGHT, DANA"},{"$f":"Elim!AF9","v":219},{"$f":"Elim!AG9","v":{"v":35,"d":"$35.00"}},null,2,{"$f":"INDEX($AC$2:$AL$127,MATCH(I9,$AF$2:$AF$127,0),1)","v":{"$error":"#N/A"}},{"$f":"Qual!H140","v":0},{"$f":"IF(LARGE($AF$2:$AF$127,2)=LARGE($AF$2:$AF$127,1),ROUNDDOWN('Check-In'!$I$145,0)/2,ROUNDDOWN('Check-In'!$I$145,0))","v":{"$error":"#N/A"}},null,3,{"$f":"IF(O8<>O9,INDEX($T$7:$Z$23,MATCH(O9,$Z$7:$Z$23,0),1),INDEX(INDIRECT(\"t\"&(7+MATCH(M8,$T$7:$T$23,0)&\":z23\")),MATCH(O9,INDIRECT(\"z\"&(7+MATCH(M8,$T5:$T$23,0)&\":z23\")),0),1))","v":{"$error":"#NUM!"}},{"$f":"IF(O8<>O9,INDEX($T$7:$Z$23,MATCH(O9,$Z$7:$Z$23,0),2),INDEX(INDIRECT(\"u\"&(7+MATCH(N8,$U$7:$U$23,0)&\":z23\")),MATCH(O9,INDIRECT(\"z\"&(7+MATCH(N8,$U5:$U$23,0)&\":z23\")),0),1))","v":{"$error":"#NUM!"}},{"$error":"#NUM!"},null,null,3,{"$f":"IF(R9<='[3]Check-In'!$V$136,R9,\"\")","v":3},"SAVOY, TODD","BRUINSMA, DEAN",{"$nulls":7},{"$f":"IF(AD9=0,\"\",'Check-In'!$B14)","v":""},{"$f":"'Check-In'!I14","v":0},{"$f":"IF(AC9=\"\",\"\",INDEX(Qual!$C$8:$U$133,MATCH($AC9,Qual!$C$8:$C$133,0),4))","v":""},{"$f":"IF(AC9=\"\",\"\",INDEX(Qual!$C$8:$U$133,MATCH($AC9,Qual!$C$8:$C$133,0),6))","v":""},{"$f":"IF(AC9=\"\",\"\",INDEX(Qual!$C$8:$U$133,MATCH($AC9,Qual!$C$8:$C$133,0),8))","v":""},{"$f":"IF(AC9=\"\",\"\",INDEX(Qual!$C$8:$U$133,MATCH($AC9,Qual!$C$8:$C$133,0),10))","v":""},{"$f":"IF(AC9=\"\",\"\",INDEX(Qual!$C$8:$U$133,MATCH($AC9,Qual!$C$8:$C$133,0),12))","v":""},{"$f":"IF(AC9=\"\",\"\",INDEX(Qual!$C$8:$U$133,MATCH($AC9,Qual!$C$8:$C$133,0),14))","v":""},{"$f":"IF(AC9=\"\",\"\",INDEX(Qual!$C$8:$U$133,MATCH($AC9,Qual!$C$8:$C$133,0),16))","v":""},{"$f":"IF(AC9=\"\",\"\",INDEX(Qual!$C$8:$U$133,MATCH($AC9,Qual!$C$8:$C$133,0),18))","v":""},null,{"$f":"IF(AO9=0,\"\",'Check-In'!$B14)","v":""},{"$f":"'Check-In'!V14","v":0},{"$f":"IF(AO9=0,\"\",INDEX(Qual!$C$8:$M$133,MATCH($AN9,Qual!$C$8:$C$133,0),4)+INDEX(Qual!$C$8:$M$133,MATCH($AN9,Qual!$C$8:$C$133,0),5)+INDEX(Qual!$C$8:$M$133,MATCH($AN9,Qual!$C$8:$C$133,0),6)+INDEX(Qual!$C$8:$M$133,MATCH($AN9,Qual!$C$8:$C$133,0),7)+INDEX(Qual!$C$8:$M$133,MATCH($AN9,Qual!$C$8:$C$133,0),8)+INDEX(Qual!$C$8:$M$133,MATCH($AN9,Qual!$C$8:$C$133,0),9)+INDEX(Qual!$C$8:$M$133,MATCH($AN9,Qual!$C$8:$C$133,0),10)+INDEX(Qual!$C$8:$M$133,MATCH($AN9,Qual!$C$8:$C$133,0),11))","v":""}]
[null,{"$f":"IF(E10=\"\",\"\",4)","v":4},{"$f":"Elim!AE10","v":"WIRZ, MIKE"},{"$f":"Elim!AF10","v":216},{"$f":"Elim!AG10","v":{"v":35,"d":"$35.00"}},null,null,{"$f":"IF(I9<>I10,INDEX($AC$2:$AL$127,MATCH(I10,$AF$2:$AF$127,0),1),INDEX($AC$2:$AC$127,MATCH(H9,$AC$2:$AC$127,0)+MATCH(I9,INDIRECT(\"af\"&(2+MATCH(I9,$AF$2:$AF$127,0)&\":af127\")),0),1))","v":{"$error":"#N/A"}},{"$f":"IF(LARGE(AF$2:AF$127,2)=LARGE(AF$2:AF$127,1),LARGE(AF$2:AF$127,2),IF(Qual!H141=1,\"\",Qual!H141))","v":{"$error":"#N/A"}},{"$f":"IF(LARGE($AF$2:$AF$127,2)=LARGE($AF$2:$AF$127,1),ROUNDDOWN('Check-In'!$I$145,0)/2,IF('Check-In'!$I$146=0,\"\",ROUNDDOWN('Check-In'!$I$146,0)))","v":{"$error":"#N/A"}},null,4,{"$f":"IF(O9<>O10,INDEX($T$7:$Z$23,MATCH(O10,$Z$7:$Z$23,0),1),INDEX(INDIRECT(\"t\"&(7+MATCH(M9,$T$7:$T$23,0)&\":z23\")),MATCH(O10,INDIRECT(\"z\"&(7+MATCH(M9,$T6:$T$23,0)&\":z23\")),0),1))","v":{"$error":"#NUM!"}},{"$f":"IF(O9<>O10,INDEX($T$7:$Z$23,MATCH(O10,$Z$7:$Z$23,0),2),INDEX(INDIRECT(\"u\"&(7+MATCH(N9,$U$7:$U$23,0)&\":z23\")),MATCH(O10,INDIRECT(\"z\"&(7+MATCH(N9,$U6:$U$23,0)&\":z23\")),0),1))","v":{"$error":"#NUM!"}},{"$error":"#NUM!"},null,null,4,{"$f":"IF(R10<='[3]Check-In'!$V$136,R10,\"\")","v":4},"DOWNER, ROB","WINTER, JIM",{"$nulls":7},{"$f":"IF(AD10=0,\"\",'Check-In'!$B15)","v":""},{"$f":"'Check-In'!I15","v":0},{"$f":"IF(AC10=\"\",\"\",INDEX(Qual!$C$8:$U$133,MATCH($AC10,Qual!$C$8:$C$133,0),4))","v":""},{"$f":"IF(AC10=\"\",\"\",INDEX(Qual!$C$8:$U$133,MATCH($AC10,Qual!$C$8:$C$133,0),6))","v":""},{"$f":"IF(AC10=\"\",\"\",INDEX(Qual!$C$8:$U$133,MATCH($AC10,Qual!$C$8:$C$133,0),8))","v":""},{"$f":"IF(AC10=\"\",\"\",INDEX(Qual!$C$8:$U$133,MATCH($AC10,Qual!$C$8:$C$133,0),10))","v":""},{"$f":"IF(AC10=\"\",\"\",INDEX(Qual!$C$8:$U$133,MATCH($AC10,Qual!$C$8:$C$133,0),12))","v":""},{"$f":"IF(AC10=\"\",\"\",INDEX(Qual!$C$8:$U$133,MATCH($AC10,Qual!$C$8:$C$133,0),14))","v":""},{"$f":"IF(AC10=\"\",\"\",INDEX(Qual!$C$8:$U$133,MATCH($AC10,Qual!$C$8:$C$133,0),16))","v":""},{"$f":"IF(AC10=\"\",\"\",INDEX(Qual!$C$8:$U$133,MATCH($AC10,Qual!$C$8:$C$133,0),18))","v":""},null,{"$f":"IF(AO10=0,\"\",'Check-In'!$B15)","v":""},{"$f":"'Check-In'!V15","v":0},{"$f":"IF(AO10=0,\"\",INDEX(Qual!$C$8:$M$133,MATCH($AN10,Qual!$C$8:$C$133,0),4)+INDEX(Qual!$C$8:$M$133,MATCH($AN10,Qual!$C$8:$C$133,0),5)+INDEX(Qual!$C$8:$M$133,MATCH($AN10,Qual!$C$8:$C$133,0),6)+INDEX(Qual!$C$8:$M$133,MATCH($AN10,Qual!$C$8:$C$133,0),7)+INDEX(Qual!$C$8:$M$133,MATCH($AN10,Qual!$C$8:$C$133,0),8)+INDEX(Qual!$C$8:$M$133,MATCH($AN10,Qual!$C$8:$C$133,0),9)+INDEX(Qual!$C$8:$M$133,MATCH($AN10,Qual!$C$8:$C$133,0),10)+INDEX(Qual!$C$8:$M$133,MATCH($AN10,Qual!$C$8:$C$133,0),11))","v":""}]
[null,{"$f":"IF(E11=\"\",\"\",5)","v":5},{"$f":"Elim!AE11","v":0},{"$f":"Elim!AF11","v":0},{"$f":"Elim!AG11","v":{"v":20,"d":"$20.00"}},null,3,{"$f":"INDEX($AC$2:$AL$127,MATCH(I11,$AG$2:$AG$127,0),1)","v":{"$error":"#N/A"}},{"$f":"Qual!J140","v":0},{"$f":"IF(LARGE($AG$2:$AG$127,2)=LARGE($AG$2:$AG$127,1),ROUNDDOWN('Check-In'!$I$145,0)/2,ROUNDDOWN('Check-In'!$I$145,0))","v":{"$error":"#N/A"}},null,5,{"$f":"IF(O10<>O11,INDEX($T$7:$Z$23,MATCH(O11,$Z$7:$Z$23,0),1),INDEX(INDIRECT(\"t\"&(7+MATCH(M10,$T$7:$T$23,0)&\":z23\")),MATCH(O11,INDIRECT(\"z\"&(7+MATCH(M10,$T7:$T$23,0)&\":z23\")),0),1))","v":{"$error":"#NUM!"}},{"$f":"IF(O10<>O11,INDEX($T$7:$Z$23,MATCH(O11,$Z$7:$Z$23,0),2),INDEX(INDIRECT(\"u\"&(7+MATCH(N10,$U$7:$U$23,0)&\":z23\")),MATCH(O11,INDIRECT(\"z\"&(7+MATCH(N10,$U7:$U$23,0)&\":z23\")),0),1))","v":{"$error":"#NUM!"}},{"$error":"#NUM!"},null,null,5,{"$f":"IF(R11<='[3]Check-In'!$V$136,R11,\"\")","v":5},"JENSEN, WAYNE","SCHOSSOW, FRED",{"$nulls":7},{"$f":"IF(AD11=0,\"\",'Check-In'!$B16)","v":""},{"$f":"'Check-In'!I16","v":0},{"$f":"IF(AC11=\"\",\"\",INDEX(Qual!$C$8:$U$133,MATCH($AC11,Qual!$C$8:$C$133,0),4))","v":""},{"$f":"IF(AC11=\"\",\"\",INDEX(Qual!$C$8:$U$133,MATCH($AC11,Qual!$C$8:$C$133,0),6))","v":""},{"$f":"IF(AC11=\"\",\"\",INDEX(Qual!$C$8:$U$133,MATCH($AC11,Qual!$C$8:$C$133,0),8))","v":""},{"$f":"IF(AC11=\"\",\"\",INDEX(Qual!$C$8:$U$133,MATCH($AC11,Qual!$C$8:$C$133,0),10))","v":""},{"$f":"IF(AC11=\"\",\"\",INDEX(Qual!$C$8:$U$133,MATCH($AC11,Qual!$C$8:$C$133,0),12))","v":""},{"$f":"IF(AC11=\"\",\"\",INDEX(Qual!$C$8:$U$133,MATCH($AC11,Qual!$C$8:$C$133,0),14))","v":""},{"$f":"IF(AC11=\"\",\"\",INDEX(Qual!$C$8:$U$133,MATCH($AC11,Qual!$C$8:$C$133,0),16))","v":""},{"$f":"IF(AC11=\"\",\"\",INDEX(Qual!$C$8:$U$133,MATCH($AC11,Qual!$C$8:$C$133,0),18))","v":""},null,{"$f":"IF(AO11=0,\"\",'Check-In'!$B16)","v":"WRIGHT, DANA"},{"$f":"'Check-In'!V16","v":"X"},{"$f":"IF(AO11=0,\"\",INDEX(Qual!$C$8:$M$133,MATCH($AN11,Qual!$C$8:$C$133,0),4)+INDEX(Qual!$C$8:$M$133,MATCH($AN11,Qual!$C$8:$C$133,0),5)+INDEX(Qual!$C$8:$M$133,MATCH($AN11,Qual!$C$8:$C$133,0),6)+INDEX(Qual!$C$8:$M$133,MATCH($AN11,Qual!$C$8:$C$133,0),7)+INDEX(Qual!$C$8:$M$133,MATCH($AN11,Qual!$C$8:$C$133,0),8)+INDEX(Qual!$C$8:$M$133,MATCH($AN11,Qual!$C$8:$C$133,0),9)+INDEX(Qual!$C$8:$M$133,MATCH($AN11,Qual!$C$8:$C$133,0),10)+INDEX(Qual!$C$8:$M$133,MATCH($AN11,Qual!$C$8:$C$133,0),11))","v":981}]
[null,{"$f":"IF(E12=\"\",\"\",6)","v":6},{"$f":"Elim!AE12","v":0},{"$f":"Elim!AF12","v":0},{"$f":"Elim!AG12","v":0},null,null,{"$f":"IF(I11<>I12,INDEX($AC$2:$AL$127,MATCH(I12,$AG$2:$AG$127,0),1),INDEX($AC$2:$AC$127,MATCH(H11,$AC$2:$AC$127,0)+MATCH(I11,INDIRECT(\"ag\"&(2+MATCH(I11,$AG$2:$AG$127,0)&\":ag127\")),0),1))","v":{"$error":"#N/A"}},{"$f":"IF(LARGE(AG$2:AG$127,2)=LARGE(AG$2:AG$127,1),LARGE(AG$2:AG$127,2),IF(Qual!$J$141=1,\"\",Qual!$J$141))","v":{"$error":"#N/A"}},{"$f":"IF(LARGE($AG$2:$AG$127,2)=LARGE($AG$2:$AG$127,1),ROUNDDOWN('Check-In'!$I$145,0)/2,IF('Check-In'!$I$146=0,\"\",ROUNDDOWN('Check-In'!$I$146,0)))","v":{"$error":"#N/A"}},null,6,{"$f":"IF(O11<>O12,INDEX($T$7:$Z$23,MATCH(O12,$Z$7:$Z$23,0),1),INDEX(INDIRECT(\"t\"&(7+MATCH(M11,$T$7:$T$23,0)&\":z23\")),MATCH(O12,INDIRECT(\"z\"&(7+MATCH(M11,$T8:$T$23,0)&\":z23\")),0),1))","v":{"$error":"#NUM!"}},{"$f":"IF(O11<>O12,INDEX($T$7:$Z$23,MATCH(O12,$Z$7:$Z$23,0),2),INDEX(INDIRECT(\"u\"&(7+MATCH(N11,$U$7:$U$23,0)&\":z23\")),MATCH(O12,INDIRECT(\"z\"&(7+MATCH(N11,$U8:$U$23,0)&\":z23\")),0),1))","v":{"$error":"#NUM!"}},{"$error":"#NUM!"},null,null,6,{"$f":"IF(R12<='[3]Check-In'!$V$136,R12,\"\")","v":6},"JONES, TOM","JENSEN, ROBERT",{"$nulls":7},{"$f":"IF(AD12=0,\"\",'Check-In'!$B17)","v":""},{"$f":"'Check-In'!I17","v":0},{"$f":"IF(AC12=\"\",\"\",INDEX(Qual!$C$8:$U$133,MATCH($AC12,Qual!$C$8:$C$133,0),4))","v":""},{"$f":"IF(AC12=\"\",\"\",INDEX(Qual!$C$8:$U$133,MATCH($AC12,Qual!$C$8:$C$133,0),6))","v":""},{"$f":"IF(AC12=\"\",\"\",INDEX(Qual!$C$8:$U$133,MATCH($AC12,Qual!$C$8:$C$133,0),8))","v":""},{"$f":"IF(AC12=\"\",\"\",INDEX(Qual!$C$8:$U$133,MATCH($AC12,Qual!$C$8:$C$133,0),10))","v":""},{"$f":"IF(AC12=\"\",\"\",INDEX(Qual!$C$8:$U$133,MATCH($AC12,Qual!$C$8:$C$133,0),12))","v":""},{"$f":"IF(AC12=\"\",\"\",INDEX(Qual!$C$8:$U$133,MATCH($AC12,Qual!$C$8:$C$133,0),14))","v":""},{"$f":"IF(AC12=\"\",\"\",INDEX(Qual!$C$8:$U$133,MATCH($AC12,Qual!$C$8:$C$133,0),16))","v":""},{"$f":"IF(AC12=\"\",\"\",INDEX(Qual!$C$8:$U$133,MATCH($AC12,Qual!$C$8:$C$133,0),18))","v":""},null,{"$f":"IF(AO12=0,\"\",'Check-In'!$B17)","v":"DAVIS, BOB"},{"$f":"'Check-In'!V17","v":"X"},{"$f":"IF(AO12=0,\"\",INDEX(Qual!$C$8:$M$133,MATCH($AN12,Qual!$C$8:$C$133,0),4)+INDEX(Qual!$C$8:$M$133,MATCH($AN12,Qual!$C$8:$C$133,0),5)+INDEX(Qual!$C$8:$M$133,MATCH($AN12,Qual!$C$8:$C$133,0),6)+INDEX(Qual!$C$8:$M$133,MATCH($AN12,Qual!$C$8:$C$133,0),7)+INDEX(Qual!$C$8:$M$133,MATCH($AN12,Qual!$C$8:$C$133,0),8)+INDEX(Qual!$C$8:$M$133,MATCH($AN12,Qual!$C$8:$C$133,0),9)+INDEX(Qual!$C$8:$M$133,MATCH($AN12,Qual!$C$8:$C$133,0),10)+INDEX(Qual!$C$8:$M$133,MATCH($AN12,Qual!$C$8:$C$133,0),11))","v":748}]
[null,{"$f":"IF(E13=\"\",\"\",7)","v":7},{"$f":"Elim!AE13","v":""},{"$f":"Elim!AF13","v":""},{"$f":"Elim!AG13","v":0},null,4,{"$f":"INDEX($AC$2:$AL$127,MATCH(I13,$AH$2:$AH$127,0),1)","v":{"$error":"#N/A"}},{"$f":"Qual!L140","v":0},{"$f":"IF(LARGE($AH$2:$AH$127,2)=LARGE($AH$2:$AH$127,1),ROUNDDOWN('Check-In'!$I$145,0)/2,ROUNDDOWN('Check-In'!$I$145,0))","v":{"$error":"#N/A"}},null,7,{"$f":"IF(O12<>O13,INDEX($T$7:$Z$23,MATCH(O13,$Z$7:$Z$23,0),1),INDEX(INDIRECT(\"t\"&(7+MATCH(M12,$T$7:$T$23,0)&\":z23\")),MATCH(O13,INDIRECT(\"z\"&(7+MATCH(M12,$T9:$T$23,0)&\":z23\")),0),1))","v":{"$error":"#NUM!"}},{"$f":"IF(O12<>O13,INDEX($T$7:$Z$23,MATCH(O13,$Z$7:$Z$23,0),2),INDEX(INDIRECT(\"u\"&(7+MATCH(N12,$U$7:$U$23,0)&\":z23\")),MATCH(O13,INDIRECT(\"z\"&(7+MATCH(N12,$U9:$U$23,0)&\":z23\")),0),1))","v":{"$error":"#NUM!"}},{"$error":"#NUM!"},null,null,7,{"$f":"IF(R13<='[3]Check-In'!$V$136,R13,\"\")","v":7},"PETERSON, ED","GOODWIN, CRAIG",{"$nulls":7},{"$f":"IF(AD13=0,\"\",'Check-In'!$B18)","v":""},{"$f":"'Check-In'!I18","v":0},{"$f":"IF(AC13=\"\",\"\",INDEX(Qual!$C$8:$U$133,MATCH($AC13,Qual!$C$8:$C$133,0),4))","v":""},{"$f":"IF(AC13=\"\",\"\",INDEX(Qual!$C$8:$U$133,MATCH($AC13,Qual!$C$8:$C$133,0),6))","v":""},{"$f":"IF(AC13=\"\",\"\",INDEX(Qual!$C$8:$U$133,MATCH($AC13,Qual!$C$8:$C$133,0),8))","v":""},{"$f":"IF(AC13=\"\",\"\",INDEX(Qual!$C$8:$U$133,MATCH($AC13,Qual!$C$8:$C$133,0),10))","v":""},{"$f":"IF(AC13=\"\",\"\",INDEX(Qual!$C$8:$U$133,MATCH($AC13,Qual!$C$8:$C$133,0),12))","v":""},{"$f":"IF(AC13=\"\",\"\",INDEX(Qual!$C$8:$U$133,MATCH($AC13,Qual!$C$8:$C$133,0),14))","v":""},{"$f":"IF(AC13=\"\",\"\",INDEX(Qual!$C$8:$U$133,MATCH($AC13,Qual!$C$8:$C$133,0),16))","v":""},{"$f":"IF(AC13=\"\",\"\",INDEX(Qual!$C$8:$U$133,MATCH($AC13,Qual!$C$8:$C$133,0),18))","v":""},null,{"$f":"IF(AO13=0,\"\",'Check-In'!$B18)","v":""},{"$f":"'Check-In'!V18","v":0},{"$f":"IF(AO13=0,\"\",INDEX(Qual!$C$8:$M$133,MATCH($AN13,Qual!$C$8:$C$133,0),4)+INDEX(Qual!$C$8:$M$133,MATCH($AN13,Qual!$C$8:$C$133,0),5)+INDEX(Qual!$C$8:$M$133,MATCH($AN13,Qual!$C$8:$C$133,0),6)+INDEX(Qual!$C$8:$M$133,MATCH($AN13,Qual!$C$8:$C$133,0),7)+INDEX(Qual!$C$8:$M$133,MATCH($AN13,Qual!$C$8:$C$133,0),8)+INDEX(Qual!$C$8:$M$133,MATCH($AN13,Qual!$C$8:$C$133,0),9)+INDEX(Qual!$C$8:$M$133,MATCH($AN13,Qual!$C$8:$C$133,0),10)+INDEX(Qual!$C$8:$M$133,MATCH($AN13,Qual!$C$8:$C$133,0),11))","v":""}]
[null,{"$f":"IF(E14=\"\",\"\",8)","v":8},{"$f":"Elim!AE14","v":""},{"$f":"Elim!AF14","v":""},{"$f":"Elim!AG14","v":0},null,null,{"$f":"IF(I13<>I14,INDEX($AC$2:$AL$127,MATCH(I14,$AH$2:$AH$127,0),1),INDEX($AC$2:$AC$127,MATCH(H13,$AC$2:$AC$127,0)+MATCH(I13,INDIRECT(\"ah\"&(2+MATCH(I13,$AH$2:$AH$127,0)&\":ah127\")),0),1))","v":{"$error":"#N/A"}},{"$f":"IF(LARGE(AH$2:AH$127,2)=LARGE(AH$2:AH$127,1),LARGE(AH$2:AH$127,2),IF(Qual!$L$141=1,\"\",Qual!$L$141))","v":{"$error":"#N/A"}},{"$f":"IF(LARGE($AH$2:$AH$127,2)=LARGE($AH$2:$AH$127,1),ROUNDDOWN('Check-In'!$I$145,0)/2,IF('Check-In'!$I$146=0,\"\",ROUNDDOWN('Check-In'!$I$146,0)))","v":{"$error":"#N/A"}},null,8,{"$f":"IF(O13<>O14,INDEX($T$7:$Z$23,MATCH(O14,$Z$7:$Z$23,0),1),INDEX(INDIRECT(\"t\"&(7+MATCH(M13,$T$7:$T$23,0)&\":z23\")),MATCH(O14,INDIRECT(\"z\"&(7+MATCH(M13,$T10:$T$23,0)&\":z23\")),0),1))","v":{"$error":"#NUM!"}},{"$f":"IF(O13<>O14,INDEX($T$7:$Z$23,MATCH(O14,$Z$7:$Z$23,0),2),INDEX(INDIRECT(\"u\"&(7+MATCH(N13,$U$7:$U$23,0)&\":z23\")),MATCH(O14,INDIRECT(\"z\"&(7+MATCH(N13,$U10:$U$23,0)&\":z23\")),0),1))","v":{"$error":"#NUM!"}},{"$error":"#NUM!"},null,null,8,{"$f":"IF(R14<='[3]Check-In'!$V$136,R14,\"\")","v":8},"WRIGHT, DANA","BOHN, STEVE",{"$nulls":7},{"$f":"IF(AD14=0,\"\",'Check-In'!$B19)","v":""},{"$f":"'Check-In'!I19","v":0},{"$f":"IF(AC14=\"\",\"\",INDEX(Qual!$C$8:$U$133,MATCH($AC14,Qual!$C$8:$C$133,0),4))","v":""},{"$f":"IF(AC14=\"\",\"\",INDEX(Qual!$C$8:$U$133,MATCH($AC14,Qual!$C$8:$C$133,0),6))","v":""},{"$f":"IF(AC14=\"\",\"\",INDEX(Qual!$C$8:$U$133,MATCH($AC14,Qual!$C$8:$C$133,0),8))","v":""},{"$f":"IF(AC14=\"\",\"\",INDEX(Qual!$C$8:$U$133,MATCH($AC14,Qual!$C$8:$C$133,0),10))","v":""},{"$f":"IF(AC14=\"\",\"\",INDEX(Qual!$C$8:$U$133,MATCH($AC14,Qual!$C$8:$C$133,0),12))","v":""},{"$f":"IF(AC14=\"\",\"\",INDEX(Qual!$C$8:$U$133,MATCH($AC14,Qual!$C$8:$C$133,0),14))","v":""},{"$f":"IF(AC14=\"\",\"\",INDEX(Qual!$C$8:$U$133,MATCH($AC14,Qual!$C$8:$C$133,0),16))","v":""},{"$f":"IF(AC14=\"\",\"\",INDEX(Qual!$C$8:$U$133,MATCH($AC14,Qual!$C$8:$C$133,0),18))","v":""},null,{"$f":"IF(AO14=0,\"\",'Check-In'!$B19)","v":""},{"$f":"'Check-In'!V19","v":0},{"$f":"IF(AO14=0,\"\",INDEX(Qual!$C$8:$M$133,MATCH($AN14,Qual!$C$8:$C$133,0),4)+INDEX(Qual!$C$8:$M$133,MATCH($AN14,Qual!$C$8:$C$133,0),5)+INDEX(Qual!$C$8:$M$133,MATCH($AN14,Qual!$C$8:$C$133,0),6)+INDEX(Qual!$C$8:$M$133,MATCH($AN14,Qual!$C$8:$C$133,0),7)+INDEX(Qual!$C$8:$M$133,MATCH($AN14,Qual!$C$8:$C$133,0),8)+INDEX(Qual!$C$8:$M$133,MATCH($AN14,Qual!$C$8:$C$133,0),9)+INDEX(Qual!$C$8:$M$133,MATCH($AN14,Qual!$C$8:$C$133,0),10)+INDEX(Qual!$C$8:$M$133,MATCH($AN14,Qual!$C$8:$C$133,0),11))","v":""}]
[{"$nulls":4},{"$f":"SUM(E7:E14)","v":{"v":305,"d":"$305.00"}},null,5,{"$f":"INDEX($AC$2:$AL$127,MATCH(I15,$AI$2:$AI$127,0),1)","v":{"$error":"#N/A"}},{"$f":"Qual!N140","v":0},{"$f":"IF(LARGE($AI$2:$AI$127,2)=LARGE($AI$2:$AI$127,1),ROUNDDOWN('Check-In'!$I$145,0)/2,ROUNDDOWN('Check-In'!$I$145,0))","v":{"$error":"#N/A"}},null,9,{"$f":"IF(O14<>O15,INDEX($T$7:$Z$23,MATCH(O15,$Z$7:$Z$23,0),1),INDEX(INDIRECT(\"t\"&(7+MATCH(M14,$T$7:$T$23,0)&\":z23\")),MATCH(O15,INDIRECT(\"z\"&(7+MATCH(M14,$T11:$T$23,0)&\":z23\")),0),1))","v":{"$error":"#NUM!"}},{"$f":"IF(O14<>O15,INDEX($T$7:$Z$23,MATCH(O15,$Z$7:$Z$23,0),2),INDEX(INDIRECT(\"u\"&(7+MATCH(N14,$U$7:$U$23,0)&\":z23\")),MATCH(O15,INDIRECT(\"z\"&(7+MATCH(N14,$U11:$U$23,0)&\":z23\")),0),1))","v":{"$error":"#NUM!"}},{"$error":"#NUM!"},{"$f":"IF(L15=\"\",\"\",LARGE($Z$7:$Z$26,L15))","v":{"$error":"#NUM!"}},null,9,9,"IRVIN, BRAD","HAUGAN, ERIC",{"$nulls":7},{"$f":"IF(AD15=0,\"\",'Check-In'!$B20)","v":""},{"$f":"'Check-In'!I20","v":0},{"$f":"IF(AC15=\"\",\"\",INDEX(Qual!$C$8:$U$133,MATCH($AC15,Qual!$C$8:$C$133,0),4))","v":""},{"$f":"IF(AC15=\"\",\"\",INDEX(Qual!$C$8:$U$133,MATCH($AC15,Qual!$C$8:$C$133,0),6))","v":""},{"$f":"IF(AC15=\"\",\"\",INDEX(Qual!$C$8:$U$133,MATCH($AC15,Qual!$C$8:$C$133,0),8))","v":""},{"$f":"IF(AC15=\"\",\"\",INDEX(Qual!$C$8:$U$133,MATCH($AC15,Qual!$C$8:$C$133,0),10))","v":""},{"$f":"IF(AC15=\"\",\"\",INDEX(Qual!$C$8:$U$133,MATCH($AC15,Qual!$C$8:$C$133,0),12))","v":""},{"$f":"IF(AC15=\"\",\"\",INDEX(Qual!$C$8:$U$133,MATCH($AC15,Qual!$C$8:$C$133,0),14))","v":""},{"$f":"IF(AC15=\"\",\"\",INDEX(Qual!$C$8:$U$133,MATCH($AC15,Qual!$C$8:$C$133,0),16))","v":""},{"$f":"IF(AC15=\"\",\"\",INDEX(Qual!$C$8:$U$133,MATCH($AC15,Qual!$C$8:$C$133,0),18))","v":""},null,{"$f":"IF(AO15=0,\"\",'Check-In'!$B20)","v":"JENSEN, ROBERT"},{"$f":"'Check-In'!V20","v":"X"},{"$f":"IF(AO15=0,\"\",INDEX(Qual!$C$8:$M$133,MATCH($AN15,Qual!$C$8:$C$133,0),4)+INDEX(Qual!$C$8:$M$133,MATCH($AN15,Qual!$C$8:$C$133,0),5)+INDEX(Qual!$C$8:$M$133,MATCH($AN15,Qual!$C$8:$C$133,0),6)+INDEX(Qual!$C$8:$M$133,MATCH($AN15,Qual!$C$8:$C$133,0),7)+INDEX(Qual!$C$8:$M$133,MATCH($AN15,Qual!$C$8:$C$133,0),8)+INDEX(Qual!$C$8:$M$133,MATCH($AN15,Qual!$C$8:$C$133,0),9)+INDEX(Qual!$C$8:$M$133,MATCH($AN15,Qual!$C$8:$C$133,0),10)+INDEX(Qual!$C$8:$M$133,MATCH($AN15,Qual!$C$8:$C$133,0),11))","v":821}]
[{"$nulls":7},{"$f":"IF(I15<>I16,INDEX($AC$2:$AL$127,MATCH(I16,$AI$2:$AI$127,0),1),INDEX($AC$2:$AC$127,MATCH(H15,$AC$2:$AC$127,0)+MATCH(I15,INDIRECT(\"ai\"&(2+MATCH(I15,$AI$2:$AI$127,0)&\":ai127\")),0),1))","v":{"$error":"#N/A"}},{"$f":"IF(LARGE(AI$2:AI$127,2)=LARGE(AI$2:AI$127,1),LARGE(AI$2:AI$127,2),IF(Qual!$N$141=1,\"\",Qual!$N$141))","v":{"$error":"#N/A"}},{"$f":"IF(LARGE($AI$2:$AI$127,2)=LARGE($AI$2:$AI$127,1),ROUNDDOWN('Check-In'!$I$145,0)/2,IF('Check-In'!$I$146=0,\"\",ROUNDDOWN('Check-In'!$I$146,0)))","v":{"$error":"#N/A"}},null,10,{"$f":"IF(O15<>O16,INDEX($T$7:$Z$23,MATCH(O16,$Z$7:$Z$23,0),1),INDEX(INDIRECT(\"t\"&(7+MATCH(M15,$T$7:$T$23,0)&\":z23\")),MATCH(O16,INDIRECT(\"z\"&(7+MATCH(M15,$T12:$T$23,0)&\":z23\")),0),1))","v":{"$error":"#NUM!"}},{"$f":"IF(O15<>O16,INDEX($T$7:$Z$23,MATCH(O16,$Z$7:$Z$23,0),2),INDEX(INDIRECT(\"u\"&(7+MATCH(N15,$U$7:$U$23,0)&\":z23\")),MATCH(O16,INDIRECT(\"z\"&(7+MATCH(N15,$U12:$U$23,0)&\":z23\")),0),1))","v":{"$error":"#NUM!"}},{"$error":"#NUM!"},{"$error":"#NUM!"},null,10,10,"BIRKEDAHL, LARRY","NELSON, BILL",{"$nulls":7},{"$f":"IF(AD16=0,\"\",'Check-In'!$B21)","v":""},{"$f":"'Check-In'!I21","v":0},{"$f":"IF(AC16=\"\",\"\",INDEX(Qual!$C$8:$U$133,MATCH($AC16,Qual!$C$8:$C$133,0),4))","v":""},{"$f":"IF(AC16=\"\",\"\",INDEX(Qual!$C$8:$U$133,MATCH($AC16,Qual!$C$8:$C$133,0),6))","v":""},{"$f":"IF(AC16=\"\",\"\",INDEX(Qual!$C$8:$U$133,MATCH($AC16,Qual!$C$8:$C$133,0),8))","v":""},{"$f":"IF(AC16=\"\",\"\",INDEX(Qual!$C$8:$U$133,MATCH($AC16,Qual!$C$8:$C$133,0),10))","v":""},{"$f":"IF(AC16=\"\",\"\",INDEX(Qual!$C$8:$U$133,MATCH($AC16,Qual!$C$8:$C$133,0),12))","v":""},{"$f":"IF(AC16=\"\",\"\",INDEX(Qual!$C$8:$U$133,MATCH($AC16,Qual!$C$8:$C$133,0),14))","v":""},{"$f":"IF(AC16=\"\",\"\",INDEX(Qual!$C$8:$U$133,MATCH($AC16,Qual!$C$8:$C$133,0),16))","v":""},{"$f":"IF(AC16=\"\",\"\",INDEX(Qual!$C$8:$U$133,MATCH($AC16,Qual!$C$8:$C$133,0),18))","v":""},null,{"$f":"IF(AO16=0,\"\",'Check-In'!$B21)","v":""},{"$f":"'Check-In'!V21","v":0},{"$f":"IF(AO16=0,\"\",INDEX(Qual!$C$8:$M$133,MATCH($AN16,Qual!$C$8:$C$133,0),4)+INDEX(Qual!$C$8:$M$133,MATCH($AN16,Qual!$C$8:$C$133,0),5)+INDEX(Qual!$C$8:$M$133,MATCH($AN16,Qual!$C$8:$C$133,0),6)+INDEX(Qual!$C$8:$M$133,MATCH($AN16,Qual!$C$8:$C$133,0),7)+INDEX(Qual!$C$8:$M$133,MATCH($AN16,Qual!$C$8:$C$133,0),8)+INDEX(Qual!$C$8:$M$133,MATCH($AN16,Qual!$C$8:$C$133,0),9)+INDEX(Qual!$C$8:$M$133,MATCH($AN16,Qual!$C$8:$C$133,0),10)+INDEX(Qual!$C$8:$M$133,MATCH($AN16,Qual!$C$8:$C$133,0),11))","v":""}]
[null,{"$f":"IF(Master!$B$1=\"Dbls\",\"Mini-Eliminator 12-13-14\",IF(Master!$B$1=\"2-Day\",\"Mini-Eliminator 7-8-9\",\"Mini-Eliminator 5-6-7\"))","v":"Mini-Eliminator 5-6-7"},{"$nulls":4},6,{"$f":"INDEX($AC$2:$AL$127,MATCH(I17,$AJ$2:$AJ$127,0),1)","v":{"$error":"#N/A"}},{"$f":"Qual!P140","v":0},{"$f":"IF(LARGE($AJ$2:$AJ$127,2)=LARGE($AJ$2:$AJ$127,1),ROUNDDOWN('Check-In'!$I$145,0)/2,ROUNDDOWN('Check-In'!$I$145,0))","v":{"$error":"#N/A"}},null,11,{"$f":"IF(O16<>O17,INDEX($T$7:$Z$23,MATCH(O17,$Z$7:$Z$23,0),1),INDEX(INDIRECT(\"t\"&(7+MATCH(M16,$T$7:$T$23,0)&\":z23\")),MATCH(O17,INDIRECT(\"z\"&(7+MATCH(M16,$T13:$T$23,0)&\":z23\")),0),1))","v":{"$error":"#NUM!"}},{"$f":"IF(O16<>O17,INDEX($T$7:$Z$23,MATCH(O17,$Z$7:$Z$23,0),2),INDEX(INDIRECT(\"u\"&(7+MATCH(N16,$U$7:$U$23,0)&\":z23\")),MATCH(O17,INDIRECT(\"z\"&(7+MATCH(N16,$U13:$U$23,0)&\":z23\")),0),1))","v":{"$error":"#NUM!"}},{"$error":"#NUM!"},{"$error":"#NUM!"},null,11,11,"JONES, DAVE","BORDSON, DAVE",{"$nulls":7},{"$f":"IF(AD17=0,\"\",'Check-In'!$B22)","v":""},{"$f":"'Check-In'!I22","v":0},{"$f":"IF(AC17=\"\",\"\",INDEX(Qual!$C$8:$U$133,MATCH($AC17,Qual!$C$8:$C$133,0),4))","v":""},{"$f":"IF(AC17=\"\",\"\",INDEX(Qual!$C$8:$U$133,MATCH($AC17,Qual!$C$8:$C$133,0),6))","v":""},{"$f":"IF(AC17=\"\",\"\",INDEX(Qual!$C$8:$U$133,MATCH($AC17,Qual!$C$8:$C$133,0),8))","v":""},{"$f":"IF(AC17=\"\",\"\",INDEX(Qual!$C$8:$U$133,MATCH($AC17,Qual!$C$8:$C$133,0),10))","v":""},{"$f":"IF(AC17=\"\",\"\",INDEX(Qual!$C$8:$U$133,MATCH($AC17,Qual!$C$8:$C$133,0),12))","v":""},{"$f":"IF(AC17=\"\",\"\",INDEX(Qual!$C$8:$U$133,MATCH($AC17,Qual!$C$8:$C$133,0),14))","v":""},{"$f":"IF(AC17=\"\",\"\",INDEX(Qual!$C$8:$U$133,MATCH($AC17,Qual!$C$8:$C$133,0),16))","v":""},{"$f":"IF(AC17=\"\",\"\",INDEX(Qual!$C$8:$U$133,MATCH($AC17,Qual!$C$8:$C$133,0),18))","v":""},null,{"$f":"IF(AO17=0,\"\",'Check-In'!$B22)","v":""},{"$f":"'Check-In'!V22","v":0},{"$f":"IF(AO17=0,\"\",INDEX(Qual!$C$8:$M$133,MATCH($AN17,Qual!$C$8:$C$133,0),4)+INDEX(Qual!$C$8:$M$133,MATCH($AN17,Qual!$C$8:$C$133,0),5)+INDEX(Qual!$C$8:$M$133,MATCH($AN17,Qual!$C$8:$C$133,0),6)+INDEX(Qual!$C$8:$M$133,MATCH($AN17,Qual!$C$8:$C$133,0),7)+INDEX(Qual!$C$8:$M$133,MATCH($AN17,Qual!$C$8:$C$133,0),8)+INDEX(Qual!$C$8:$M$133,MATCH($AN17,Qual!$C$8:$C$133,0),9)+INDEX(Qual!$C$8:$M$133,MATCH($AN17,Qual!$C$8:$C$133,0),10)+INDEX(Qual!$C$8:$M$133,MATCH($AN17,Qual!$C$8:$C$133,0),11))","v":""}]
[null,null,"Bowler","Game","Amount",null,null,{"$f":"IF(I17<>I18,INDEX($AC$2:$AL$127,MATCH(I18,$AJ$2:$AJ$127,0),1),INDEX($AC$2:$AC$127,MATCH(H17,$AC$2:$AC$127,0)+MATCH(I17,INDIRECT(\"ai\"&(2+MATCH(I17,$AJ$2:$AJ$127,0)&\":ai127\")),0),1))","v":{"$error":"#N/A"}},{"$f":"IF(LARGE(AJ$2:AJ$127,2)=LARGE(AJ$2:AJ$127,1),LARGE(AJ$2:AJ$127,2),IF(Qual!$P$141=1,\"\",Qual!$P$141))","v":{"$error":"#N/A"}},{"$f":"IF(LARGE($AJ$2:$AJ$127,2)=LARGE($AJ$2:$AJ$127,1),ROUNDDOWN('Check-In'!$I$145,0)/2,IF('Check-In'!$I$146=0,\"\",ROUNDDOWN('Check-In'!$I$146,0)))","v":{"$error":"#N/A"}},null,12,{"$f":"IF(O17<>O18,INDEX($T$7:$Z$23,MATCH(O18,$Z$7:$Z$23,0),1),INDEX(INDIRECT(\"t\"&(7+MATCH(M17,$T$7:$T$23,0)&\":z23\")),MATCH(O18,INDIRECT(\"z\"&(7+MATCH(M17,$T14:$T$23,0)&\":z23\")),0),1))","v":{"$error":"#NUM!"}},{"$f":"IF(O17<>O18,INDEX($T$7:$Z$23,MATCH(O18,$Z$7:$Z$23,0),2),INDEX(INDIRECT(\"u\"&(7+MATCH(N17,$U$7:$U$23,0)&\":z23\")),MATCH(O18,INDIRECT(\"z\"&(7+MATCH(N17,$U14:$U$23,0)&\":z23\")),0),1))","v":{"$error":"#NUM!"}},{"$error":"#NUM!"},{"$error":"#NUM!"},null,12,12,"WORM, KEN","WORM, KEN",{"$nulls":7},{"$f":"IF(AD18=0,\"\",'Check-In'!$B23)","v":""},{"$f":"'Check-In'!I23","v":0},{"$f":"IF(AC18=\"\",\"\",INDEX(Qual!$C$8:$U$133,MATCH($AC18,Qual!$C$8:$C$133,0),4))","v":""},{"$f":"IF(AC18=\"\",\"\",INDEX(Qual!$C$8:$U$133,MATCH($AC18,Qual!$C$8:$C$133,0),6))","v":""},{"$f":"IF(AC18=\"\",\"\",INDEX(Qual!$C$8:$U$133,MATCH($AC18,Qual!$C$8:$C$133,0),8))","v":""},{"$f":"IF(AC18=\"\",\"\",INDEX(Qual!$C$8:$U$133,MATCH($AC18,Qual!$C$8:$C$133,0),10))","v":""},{"$f":"IF(AC18=\"\",\"\",INDEX(Qual!$C$8:$U$133,MATCH($AC18,Qual!$C$8:$C$133,0),12))","v":""},{"$f":"IF(AC18=\"\",\"\",INDEX(Qual!$C$8:$U$133,MATCH($AC18,Qual!$C$8:$C$133,0),14))","v":""},{"$f":"IF(AC18=\"\",\"\",INDEX(Qual!$C$8:$U$133,MATCH($AC18,Qual!$C$8:$C$133,0),16))","v":""},{"$f":"IF(AC18=\"\",\"\",INDEX(Qual!$C$8:$U$133,MATCH($AC18,Qual!$C$8:$C$133,0),18))","v":""},null,{"$f":"IF(AO18=0,\"\",'Check-In'!$B23)","v":""},{"$f":"'Check-In'!V23","v":0},{"$f":"IF(AO18=0,\"\",INDEX(Qual!$C$8:$M$133,MATCH($AN18,Qual!$C$8:$C$133,0),4)+INDEX(Qual!$C$8:$M$133,MATCH($AN18,Qual!$C$8:$C$133,0),5)+INDEX(Qual!$C$8:$M$133,MATCH($AN18,Qual!$C$8:$C$133,0),6)+INDEX(Qual!$C$8:$M$133,MATCH($AN18,Qual!$C$8:$C$133,0),7)+INDEX(Qual!$C$8:$M$133,MATCH($AN18,Qual!$C$8:$C$133,0),8)+INDEX(Qual!$C$8:$M$133,MATCH($AN18,Qual!$C$8:$C$133,0),9)+INDEX(Qual!$C$8:$M$133,MATCH($AN18,Qual!$C$8:$C$133,0),10)+INDEX(Qual!$C$8:$M$133,MATCH($AN18,Qual!$C$8:$C$133,0),11))","v":""}]
[null,1,{"$f":"Elim!AE21","v":"BORDSON, DAVE"},{"$f":"Elim!AF21","v":238},{"$f":"Elim!AG21","v":{"v":130,"d":"$130.00"}},null,7,{"$f":"INDEX($AC$2:$AL$127,MATCH(I19,$AK$2:$AK$127,0),1)","v":{"$error":"#N/A"}},{"$f":"Qual!R140","v":0},{"$f":"IF(LARGE($AK$2:$AK$127,2)=LARGE($AK$2:$AK$127,1),ROUNDDOWN('Check-In'!$I$145,0)/2,ROUNDDOWN('Check-In'!$I$145,0))","v":{"$error":"#N/A"}},null,13,{"$f":"IF(O18<>O19,INDEX($T$7:$Z$23,MATCH(O19,$Z$7:$Z$23,0),1),INDEX(INDIRECT(\"t\"&(7+MATCH(M18,$T$7:$T$23,0)&\":z23\")),MATCH(O19,INDIRECT(\"z\"&(7+MATCH(M18,$T15:$T$23,0)&\":z23\")),0),1))","v":{"$error":"#NUM!"}},{"$f":"IF(O18<>O19,INDEX($T$7:$Z$23,MATCH(O19,$Z$7:$Z$23,0),2),INDEX(INDIRECT(\"u\"&(7+MATCH(N18,$U$7:$U$23,0)&\":z23\")),MATCH(O19,INDIRECT(\"z\"&(7+MATCH(N18,$U15:$U$23,0)&\":z23\")),0),1))","v":{"$error":"#NUM!"}},{"$error":"#NUM!"},{"$error":"#NUM!"},null,13,13,"SCHMID, MIKE","POELZER, CLARK",{"$nulls":7},{"$f":"IF(AD19=0,\"\",'Check-In'!$B24)","v":""},{"$f":"'Check-In'!I24","v":0},{"$f":"IF(AC19=\"\",\"\",INDEX(Qual!$C$8:$U$133,MATCH($AC19,Qual!$C$8:$C$133,0),4))","v":""},{"$f":"IF(AC19=\"\",\"\",INDEX(Qual!$C$8:$U$133,MATCH($AC19,Qual!$C$8:$C$133,0),6))","v":""},{"$f":"IF(AC19=\"\",\"\",INDEX(Qual!$C$8:$U$133,MATCH($AC19,Qual!$C$8:$C$133,0),8))","v":""},{"$f":"IF(AC19=\"\",\"\",INDEX(Qual!$C$8:$U$133,MATCH($AC19,Qual!$C$8:$C$133,0),10))","v":""},{"$f":"IF(AC19=\"\",\"\",INDEX(Qual!$C$8:$U$133,MATCH($AC19,Qual!$C$8:$C$133,0),12))","v":""},{"$f":"IF(AC19=\"\",\"\",INDEX(Qual!$C$8:$U$133,MATCH($AC19,Qual!$C$8:$C$133,0),14))","v":""},{"$f":"IF(AC19=\"\",\"\",INDEX(Qual!$C$8:$U$133,MATCH($AC19,Qual!$C$8:$C$133,0),16))","v":""},{"$f":"IF(AC19=\"\",\"\",INDEX(Qual!$C$8:$U$133,MATCH($AC19,Qual!$C$8:$C$133,0),18))","v":""},null,{"$f":"IF(AO19=0,\"\",'Check-In'!$B24)","v":""},{"$f":"'Check-In'!V24","v":0},{"$f":"IF(AO19=0,\"\",INDEX(Qual!$C$8:$M$133,MATCH($AN19,Qual!$C$8:$C$133,0),4)+INDEX(Qual!$C$8:$M$133,MATCH($AN19,Qual!$C$8:$C$133,0),5)+INDEX(Qual!$C$8:$M$133,MATCH($AN19,Qual!$C$8:$C$133,0),6)+INDEX(Qual!$C$8:$M$133,MATCH($AN19,Qual!$C$8:$C$133,0),7)+INDEX(Qual!$C$8:$M$133,MATCH($AN19,Qual!$C$8:$C$133,0),8)+INDEX(Qual!$C$8:$M$133,MATCH($AN19,Qual!$C$8:$C$133,0),9)+INDEX(Qual!$C$8:$M$133,MATCH($AN19,Qual!$C$8:$C$133,0),10)+INDEX(Qual!$C$8:$M$133,MATCH($AN19,Qual!$C$8:$C$133,0),11))","v":""}]
[null,2,{"$f":"Elim!AE22","v":"JENSEN, WAYNE"},{"$f":"Elim!AF22","v":238},{"$f":"Elim!AG22","v":{"v":95,"d":"$95.00"}},null,null,{"$f":"IF(I19<>I20,INDEX($AC$2:$AL$127,MATCH(I20,$AK$2:$AK$127,0),1),INDEX($AC$2:$AC$127,MATCH(H19,$AC$2:$AC$127,0)+MATCH(I19,INDIRECT(\"aj\"&(2+MATCH(I19,$AK$2:$AK$127,0)&\":aj127\")),0),1))","v":{"$error":"#N/A"}},{"$f":"IF(LARGE(AK$2:AK$127,2)=LARGE(AK$2:AK$127,1),LARGE(AK$2:AK$127,2),IF(Qual!$R$141=1,\"\",Qual!$R$141))","v":{"$error":"#N/A"}},{"$f":"IF(LARGE($AK$2:$AK$127,2)=LARGE($AK$2:$AK$127,1),ROUNDDOWN('Check-In'!$I$145,0)/2,IF('Check-In'!$I$146=0,\"\",ROUNDDOWN('Check-In'!$I$146,0)))","v":{"$error":"#N/A"}},null,14,{"$f":"IF(O19<>O20,INDEX($T$7:$Z$23,MATCH(O20,$Z$7:$Z$23,0),1),INDEX(INDIRECT(\"t\"&(7+MATCH(M19,$T$7:$T$23,0)&\":z23\")),MATCH(O20,INDIRECT(\"z\"&(7+MATCH(M19,$T16:$T$23,0)&\":z23\")),0),1))","v":{"$error":"#NUM!"}},{"$f":"IF(O19<>O20,INDEX($T$7:$Z$23,MATCH(O20,$Z$7:$Z$23,0),2),INDEX(INDIRECT(\"u\"&(7+MATCH(N19,$U$7:$U$23,0)&\":z23\")),MATCH(O20,INDIRECT(\"z\"&(7+MATCH(N19,$U16:$U$23,0)&\":z23\")),0),1))","v":{"$error":"#NUM!"}},{"$error":"#NUM!"},{"$error":"#NUM!"},null,14,14,"PESCH, JOHN","RYAN, MIKE",{"$nulls":7},{"$f":"IF(AD20=0,\"\",'Check-In'!$B25)","v":""},{"$f":"'Check-In'!I25","v":0},{"$f":"IF(AC20=\"\",\"\",INDEX(Qual!$C$8:$U$133,MATCH($AC20,Qual!$C$8:$C$133,0),4))","v":""},{"$f":"IF(AC20=\"\",\"\",INDEX(Qual!$C$8:$U$133,MATCH($AC20,Qual!$C$8:$C$133,0),6))","v":""},{"$f":"IF(AC20=\"\",\"\",INDEX(Qual!$C$8:$U$133,MATCH($AC20,Qual!$C$8:$C$133,0),8))","v":""},{"$f":"IF(AC20=\"\",\"\",INDEX(Qual!$C$8:$U$133,MATCH($AC20,Qual!$C$8:$C$133,0),10))","v":""},{"$f":"IF(AC20=\"\",\"\",INDEX(Qual!$C$8:$U$133,MATCH($AC20,Qual!$C$8:$C$133,0),12))","v":""},{"$f":"IF(AC20=\"\",\"\",INDEX(Qual!$C$8:$U$133,MATCH($AC20,Qual!$C$8:$C$133,0),14))","v":""},{"$f":"IF(AC20=\"\",\"\",INDEX(Qual!$C$8:$U$133,MATCH($AC20,Qual!$C$8:$C$133,0),16))","v":""},{"$f":"IF(AC20=\"\",\"\",INDEX(Qual!$C$8:$U$133,MATCH($AC20,Qual!$C$8:$C$133,0),18))","v":""},null,{"$f":"IF(AO20=0,\"\",'Check-In'!$B25)","v":"IRVIN, BRAD"},{"$f":"'Check-In'!V25","v":"X"},{"$f":"IF(AO20=0,\"\",INDEX(Qual!$C$8:$M$133,MATCH($AN20,Qual!$C$8:$C$133,0),4)+INDEX(Qual!$C$8:$M$133,MATCH($AN20,Qual!$C$8:$C$133,0),5)+INDEX(Qual!$C$8:$M$133,MATCH($AN20,Qual!$C$8:$C$133,0),6)+INDEX(Qual!$C$8:$M$133,MATCH($AN20,Qual!$C$8:$C$133,0),7)+INDEX(Qual!$C$8:$M$133,MATCH($AN20,Qual!$C$8:$C$133,0),8)+INDEX(Qual!$C$8:$M$133,MATCH($AN20,Qual!$C$8:$C$133,0),9)+INDEX(Qual!$C$8:$M$133,MATCH($AN20,Qual!$C$8:$C$133,0),10)+INDEX(Qual!$C$8:$M$133,MATCH($AN20,Qual!$C$8:$C$133,0),11))","v":953}]
[null,{"$f":"IF(E21=\"\",\"\",3)","v":3},{"$f":"Elim!AE23","v":"HOMMES, JOHN"},{"$f":"Elim!AF23","v":235},{"$f":"Elim!AG23","v":{"v":75,"d":"$75.00"}},null,8,{"$f":"INDEX($AC$2:$AL$127,MATCH(I21,$AL$2:$AL$127,0),1)","v":{"$error":"#N/A"}},{"$f":"Qual!T140","v":0},{"$f":"ROUNDDOWN('Check-In'!$I$145,0)","v":0},null,15,{"$f":"IF(O20<>O21,INDEX($T$7:$Z$23,MATCH(O21,$Z$7:$Z$23,0),1),INDEX(INDIRECT(\"t\"&(7+MATCH(M20,$T$7:$T$23,0)&\":z23\")),MATCH(O21,INDIRECT(\"z\"&(7+MATCH(M20,$T17:$T$23,0)&\":z23\")),0),1))","v":{"$error":"#NUM!"}},{"$f":"IF(O20<>O21,INDEX($T$7:$Z$23,MATCH(O21,$Z$7:$Z$23,0),2),INDEX(INDIRECT(\"u\"&(7+MATCH(N20,$U$7:$U$23,0)&\":z23\")),MATCH(O21,INDIRECT(\"z\"&(7+MATCH(N20,$U17:$U$23,0)&\":z23\")),0),1))","v":{"$error":"#NUM!"}},{"$error":"#NUM!"},{"$error":"#NUM!"},null,15,15,"STOEBNER, JOHN","RACETTE, TIM",{"$nulls":7},{"$f":"IF(AD21=0,\"\",'Check-In'!$B26)","v":""},{"$f":"'Check-In'!I26","v":0},{"$f":"IF(AC21=\"\",\"\",INDEX(Qual!$C$8:$U$133,MATCH($AC21,Qual!$C$8:$C$133,0),4))","v":""},{"$f":"IF(AC21=\"\",\"\",INDEX(Qual!$C$8:$U$133,MATCH($AC21,Qual!$C$8:$C$133,0),6))","v":""},{"$f":"IF(AC21=\"\",\"\",INDEX(Qual!$C$8:$U$133,MATCH($AC21,Qual!$C$8:$C$133,0),8))","v":""},{"$f":"IF(AC21=\"\",\"\",INDEX(Qual!$C$8:$U$133,MATCH($AC21,Qual!$C$8:$C$133,0),10))","v":""},{"$f":"IF(AC21=\"\",\"\",INDEX(Qual!$C$8:$U$133,MATCH($AC21,Qual!$C$8:$C$133,0),12))","v":""},{"$f":"IF(AC21=\"\",\"\",INDEX(Qual!$C$8:$U$133,MATCH($AC21,Qual!$C$8:$C$133,0),14))","v":""},{"$f":"IF(AC21=\"\",\"\",INDEX(Qual!$C$8:$U$133,MATCH($AC21,Qual!$C$8:$C$133,0),16))","v":""},{"$f":"IF(AC21=\"\",\"\",INDEX(Qual!$C$8:$U$133,MATCH($AC21,Qual!$C$8:$C$133,0),18))","v":""},null,{"$f":"IF(AO21=0,\"\",'Check-In'!$B26)","v":""},{"$f":"'Check-In'!V26","v":0},{"$f":"IF(AO21=0,\"\",INDEX(Qual!$C$8:$M$133,MATCH($AN21,Qual!$C$8:$C$133,0),4)+INDEX(Qual!$C$8:$M$133,MATCH($AN21,Qual!$C$8:$C$133,0),5)+INDEX(Qual!$C$8:$M$133,MATCH($AN21,Qual!$C$8:$C$133,0),6)+INDEX(Qual!$C$8:$M$133,MATCH($AN21,Qual!$C$8:$C$133,0),7)+INDEX(Qual!$C$8:$M$133,MATCH($AN21,Qual!$C$8:$C$133,0),8)+INDEX(Qual!$C$8:$M$133,MATCH($AN21,Qual!$C$8:$C$133,0),9)+INDEX(Qual!$C$8:$M$133,MATCH($AN21,Qual!$C$8:$C$133,0),10)+INDEX(Qual!$C$8:$M$133,MATCH($AN21,Qual!$C$8:$C$133,0),11))","v":""}]
[null,{"$f":"IF(E22=\"\",\"\",4)","v":4},{"$f":"Elim!AE24","v":"MCKINNEY, TERRY"},{"$f":"Elim!AF24","v":225},{"$f":"Elim!AG24","v":{"v":40,"d":"$40.00"}},null,null,{"$f":"IF(I21<>I22,INDEX($AC$2:$AL$127,MATCH(I22,$AL$2:$AL$127,0),1),INDEX($AC$2:$AC$127,MATCH(H21,$AC$2:$AC$127,0)+MATCH(I21,INDIRECT(\"ak\"&(2+MATCH(I21,$AL$2:$AL$127,0)&\":ak127\")),0),1))","v":{"$error":"#N/A"}},{"$f":"IF(LARGE(AL$2:AL$127,2)=LARGE(AL$2:AL$127,1),LARGE(AL$2:AL$127,2),IF(Qual!$T$141=1,\"\",Qual!$T$141))","v":{"$error":"#N/A"}},{"$f":"IF(LARGE($AL$2:$AL$127,2)=LARGE($AL$2:$AL$127,1),ROUNDDOWN('Check-In'!$I$145,0)/2,IF('Check-In'!$I$146=0,\"\",ROUNDDOWN('Check-In'!$I$146,0)))","v":{"$error":"#N/A"}},null,"",{"$f":"IF(O21<>O22,INDEX($T$7:$Z$23,MATCH(O22,$Z$7:$Z$23,0),1),INDEX(INDIRECT(\"t\"&(7+MATCH(M21,$T$7:$T$23,0)&\":z23\")),MATCH(O22,INDIRECT(\"z\"&(7+MATCH(M21,$T18:$T$23,0)&\":z23\")),0),1))","v":{"$error":"#NUM!"}},{"$f":"IF(O21<>O22,INDEX($T$7:$Z$23,MATCH(O22,$Z$7:$Z$23,0),2),INDEX(INDIRECT(\"u\"&(7+MATCH(N21,$U$7:$U$23,0)&\":z23\")),MATCH(O22,INDIRECT(\"z\"&(7+MATCH(N21,$U18:$U$23,0)&\":z23\")),0),1))","v":{"$error":"#NUM!"}},"","",null,16,{"$f":"IF(R22<='[3]Check-In'!$V$136,R22,\"\")","v":""},"","",{"$f":"INDEX($AN$2:$AP$127,MATCH(T22,$AN$2:$AN$127,0),3)","v":""},"",{"$nulls":5},{"$f":"IF(AD22=0,\"\",'Check-In'!$B27)","v":""},{"$f":"'Check-In'!I27","v":0},{"$f":"IF(AC22=\"\",\"\",INDEX(Qual!$C$8:$U$133,MATCH($AC22,Qual!$C$8:$C$133,0),4))","v":""},{"$f":"IF(AC22=\"\",\"\",INDEX(Qual!$C$8:$U$133,MATCH($AC22,Qual!$C$8:$C$133,0),6))","v":""},{"$f":"IF(AC22=\"\",\"\",INDEX(Qual!$C$8:$U$133,MATCH($AC22,Qual!$C$8:$C$133,0),8))","v":""},{"$f":"IF(AC22=\"\",\"\",INDEX(Qual!$C$8:$U$133,MATCH($AC22,Qual!$C$8:$C$133,0),10))","v":""},{"$f":"IF(AC22=\"\",\"\",INDEX(Qual!$C$8:$U$133,MATCH($AC22,Qual!$C$8:$C$133,0),12))","v":""},{"$f":"IF(AC22=\"\",\"\",INDEX(Qual!$C$8:$U$133,MATCH($AC22,Qual!$C$8:$C$133,0),14))","v":""},{"$f":"IF(AC22=\"\",\"\",INDEX(Qual!$C$8:$U$133,MATCH($AC22,Qual!$C$8:$C$133,0),16))","v":""},{"$f":"IF(AC22=\"\",\"\",INDEX(Qual!$C$8:$U$133,MATCH($AC22,Qual!$C$8:$C$133,0),18))","v":""},null,{"$f":"IF(AO22=0,\"\",'Check-In'!$B27)","v":""},{"$f":"'Check-In'!V27","v":0},{"$f":"IF(AO22=0,\"\",INDEX(Qual!$C$8:$M$133,MATCH($AN22,Qual!$C$8:$C$133,0),4)+INDEX(Qual!$C$8:$M$133,MATCH($AN22,Qual!$C$8:$C$133,0),5)+INDEX(Qual!$C$8:$M$133,MATCH($AN22,Qual!$C$8:$C$133,0),6)+INDEX(Qual!$C$8:$M$133,MATCH($AN22,Qual!$C$8:$C$133,0),7)+INDEX(Qual!$C$8:$M$133,MATCH($AN22,Qual!$C$8:$C$133,0),8)+INDEX(Qual!$C$8:$M$133,MATCH($AN22,Qual!$C$8:$C$133,0),9)+INDEX(Qual!$C$8:$M$133,MATCH($AN22,Qual!$C$8:$C$133,0),10)+INDEX(Qual!$C$8:$M$133,MATCH($AN22,Qual!$C$8:$C$133,0),11))","v":""}]
[null,{"$f":"IF(E23=\"\",\"\",5)","v":5},{"$f":"Elim!AE25","v":0},{"$f":"Elim!AF25","v":0},{"$f":"Elim!AG25","v":{"v":20,"d":"$20.00"}},{"$nulls":12},17,{"$f":"IF(R23<='[3]Check-In'!$V$136,R23,\"\")","v":""},"","","","",{"$nulls":5},{"$f":"IF(AD23=0,\"\",'Check-In'!$B28)","v":""},{"$f":"'Check-In'!I28","v":0},{"$f":"IF(AC23=\"\",\"\",INDEX(Qual!$C$8:$U$133,MATCH($AC23,Qual!$C$8:$C$133,0),4))","v":""},{"$f":"IF(AC23=\"\",\"\",INDEX(Qual!$C$8:$U$133,MATCH($AC23,Qual!$C$8:$C$133,0),6))","v":""},{"$f":"IF(AC23=\"\",\"\",INDEX(Qual!$C$8:$U$133,MATCH($AC23,Qual!$C$8:$C$133,0),8))","v":""},{"$f":"IF(AC23=\"\",\"\",INDEX(Qual!$C$8:$U$133,MATCH($AC23,Qual!$C$8:$C$133,0),10))","v":""},{"$f":"IF(AC23=\"\",\"\",INDEX(Qual!$C$8:$U$133,MATCH($AC23,Qual!$C$8:$C$133,0),12))","v":""},{"$f":"IF(AC23=\"\",\"\",INDEX(Qual!$C$8:$U$133,MATCH($AC23,Qual!$C$8:$C$133,0),14))","v":""},{"$f":"IF(AC23=\"\",\"\",INDEX(Qual!$C$8:$U$133,MATCH($AC23,Qual!$C$8:$C$133,0),16))","v":""},{"$f":"IF(AC23=\"\",\"\",INDEX(Qual!$C$8:$U$133,MATCH($AC23,Qual!$C$8:$C$133,0),18))","v":""},null,{"$f":"IF(AO23=0,\"\",'Check-In'!$B28)","v":""},{"$f":"'Check-In'!V28","v":0},{"$f":"IF(AO23=0,\"\",INDEX(Qual!$C$8:$M$133,MATCH($AN23,Qual!$C$8:$C$133,0),4)+INDEX(Qual!$C$8:$M$133,MATCH($AN23,Qual!$C$8:$C$133,0),5)+INDEX(Qual!$C$8:$M$133,MATCH($AN23,Qual!$C$8:$C$133,0),6)+INDEX(Qual!$C$8:$M$133,MATCH($AN23,Qual!$C$8:$C$133,0),7)+INDEX(Qual!$C$8:$M$133,MATCH($AN23,Qual!$C$8:$C$133,0),8)+INDEX(Qual!$C$8:$M$133,MATCH($AN23,Qual!$C$8:$C$133,0),9)+INDEX(Qual!$C$8:$M$133,MATCH($AN23,Qual!$C$8:$C$133,0),10)+INDEX(Qual!$C$8:$M$133,MATCH($AN23,Qual!$C$8:$C$133,0),11))","v":""}]
[null,{"$f":"IF(E24=\"\",\"\",6)","v":6},{"$f":"Elim!AE26","v":0},{"$f":"Elim!AF26","v":0},{"$f":"Elim!AG26","v":0},{"$nulls":12},18,{"$f":"IF(R24<='Check-In'!$V$136,#REF!,\"\")","v":""},{"$f":"(IF(S24=\"\",\"\",INDEX($AN$2:$AP$127,MATCH(LARGE($AP$2:$AP$127,R24),$AP$2:$AP$127,0),1)))","v":""},{"$f":"(IF(S24=\"\",\"\",INDEX($AN$2:$AP$127,MATCH(SMALL($AP$2:$AP$127,R24),$AP$2:$AP$127,0),1)))","v":""},null,null,{"$f":"INDEX(Qual!$C$8:$X$133,MATCH(T24,Qual!$C$8:$C$133,0),22)","v":""},{"$f":"INDEX(Qual!$C$8:$X$133,MATCH(U24,Qual!$C$8:$C$133,0),22)","v":""},{"$f":"IF(X24=\"\",\"\",X24+Y24)","v":""},null,null,{"$f":"IF(AD24=0,\"\",'Check-In'!$B29)","v":""},{"$f":"'Check-In'!I29","v":0},{"$f":"IF(AC24=\"\",\"\",INDEX(Qual!$C$8:$U$133,MATCH($AC24,Qual!$C$8:$C$133,0),4))","v":""},{"$f":"IF(AC24=\"\",\"\",INDEX(Qual!$C$8:$U$133,MATCH($AC24,Qual!$C$8:$C$133,0),6))","v":""},{"$f":"IF(AC24=\"\",\"\",INDEX(Qual!$C$8:$U$133,MATCH($AC24,Qual!$C$8:$C$133,0),8))","v":""},{"$f":"IF(AC24=\"\",\"\",INDEX(Qual!$C$8:$U$133,MATCH($AC24,Qual!$C$8:$C$133,0),10))","v":""},{"$f":"IF(AC24=\"\",\"\",INDEX(Qual!$C$8:$U$133,MATCH($AC24,Qual!$C$8:$C$133,0),12))","v":""},{"$f":"IF(AC24=\"\",\"\",INDEX(Qual!$C$8:$U$133,MATCH($AC24,Qual!$C$8:$C$133,0),14))","v":""},{"$f":"IF(AC24=\"\",\"\",INDEX(Qual!$C$8:$U$133,MATCH($AC24,Qual!$C$8:$C$133,0),16))","v":""},{"$f":"IF(AC24=\"\",\"\",INDEX(Qual!$C$8:$U$133,MATCH($AC24,Qual!$C$8:$C$133,0),18))","v":""},null,{"$f":"IF(AO24=0,\"\",'Check-In'!$B29)","v":""},{"$f":"'Check-In'!V29","v":0},{"$f":"IF(AO24=0,\"\",INDEX(Qual!$C$8:$M$133,MATCH($AN24,Qual!$C$8:$C$133,0),4)+INDEX(Qual!$C$8:$M$133,MATCH($AN24,Qual!$C$8:$C$133,0),5)+INDEX(Qual!$C$8:$M$133,MATCH($AN24,Qual!$C$8:$C$133,0),6)+INDEX(Qual!$C$8:$M$133,MATCH($AN24,Qual!$C$8:$C$133,0),7)+INDEX(Qual!$C$8:$M$133,MATCH($AN24,Qual!$C$8:$C$133,0),8)+INDEX(Qual!$C$8:$M$133,MATCH($AN24,Qual!$C$8:$C$133,0),9)+INDEX(Qual!$C$8:$M$133,MATCH($AN24,Qual!$C$8:$C$133,0),10)+INDEX(Qual!$C$8:$M$133,MATCH($AN24,Qual!$C$8:$C$133,0),11))","v":""}]
[null,{"$f":"IF(E25=\"\",\"\",7)","v":7},{"$f":"Elim!AE27","v":""},{"$f":"Elim!AF27","v":""},{"$f":"Elim!AG27","v":0},{"$nulls":12},19,{"$f":"IF(R25<='Check-In'!$V$136,#REF!,\"\")","v":""},"","",null,null,{"$f":"INDEX(Qual!$C$8:$X$133,MATCH(T25,Qual!$C$8:$C$133,0),22)","v":""},{"$f":"INDEX(Qual!$C$8:$X$133,MATCH(U25,Qual!$C$8:$C$133,0),22)","v":""},"",null,null,{"$f":"IF(AD25=0,\"\",'Check-In'!$B30)","v":""},{"$f":"'Check-In'!I30","v":0},{"$f":"IF(AC25=\"\",\"\",INDEX(Qual!$C$8:$U$133,MATCH($AC25,Qual!$C$8:$C$133,0),4))","v":""},{"$f":"IF(AC25=\"\",\"\",INDEX(Qual!$C$8:$U$133,MATCH($AC25,Qual!$C$8:$C$133,0),6))","v":""},{"$f":"IF(AC25=\"\",\"\",INDEX(Qual!$C$8:$U$133,MATCH($AC25,Qual!$C$8:$C$133,0),8))","v":""},{"$f":"IF(AC25=\"\",\"\",INDEX(Qual!$C$8:$U$133,MATCH($AC25,Qual!$C$8:$C$133,0),10))","v":""},{"$f":"IF(AC25=\"\",\"\",INDEX(Qual!$C$8:$U$133,MATCH($AC25,Qual!$C$8:$C$133,0),12))","v":""},{"$f":"IF(AC25=\"\",\"\",INDEX(Qual!$C$8:$U$133,MATCH($AC25,Qual!$C$8:$C$133,0),14))","v":""},{"$f":"IF(AC25=\"\",\"\",INDEX(Qual!$C$8:$U$133,MATCH($AC25,Qual!$C$8:$C$133,0),16))","v":""},{"$f":"IF(AC25=\"\",\"\",INDEX(Qual!$C$8:$U$133,MATCH($AC25,Qual!$C$8:$C$133,0),18))","v":""},null,{"$f":"IF(AO25=0,\"\",'Check-In'!$B30)","v":""},{"$f":"'Check-In'!V30","v":0},{"$f":"IF(AO25=0,\"\",INDEX(Qual!$C$8:$M$133,MATCH($AN25,Qual!$C$8:$C$133,0),4)+INDEX(Qual!$C$8:$M$133,MATCH($AN25,Qual!$C$8:$C$133,0),5)+INDEX(Qual!$C$8:$M$133,MATCH($AN25,Qual!$C$8:$C$133,0),6)+INDEX(Qual!$C$8:$M$133,MATCH($AN25,Qual!$C$8:$C$133,0),7)+INDEX(Qual!$C$8:$M$133,MATCH($AN25,Qual!$C$8:$C$133,0),8)+INDEX(Qual!$C$8:$M$133,MATCH($AN25,Qual!$C$8:$C$133,0),9)+INDEX(Qual!$C$8:$M$133,MATCH($AN25,Qual!$C$8:$C$133,0),10)+INDEX(Qual!$C$8:$M$133,MATCH($AN25,Qual!$C$8:$C$133,0),11))","v":""}]
[null,{"$f":"IF(E26=\"\",\"\",8)","v":8},{"$f":"Elim!AE28","v":""},{"$f":"Elim!AF28","v":""},{"$f":"Elim!AG28","v":0},{"$nulls":12},20,{"$f":"IF(R26<='Check-In'!$V$136,#REF!,\"\")","v":""},"","",null,null,{"$f":"INDEX(Qual!$C$8:$X$133,MATCH(T26,Qual!$C$8:$C$133,0),22)","v":""},{"$f":"INDEX(Qual!$C$8:$X$133,MATCH(U26,Qual!$C$8:$C$133,0),22)","v":""},"",null,null,{"$f":"IF(AD26=0,\"\",'Check-In'!$B31)","v":""},{"$f":"'Check-In'!I31","v":0},{"$f":"IF(AC26=\"\",\"\",INDEX(Qual!$C$8:$U$133,MATCH($AC26,Qual!$C$8:$C$133,0),4))","v":""},{"$f":"IF(AC26=\"\",\"\",INDEX(Qual!$C$8:$U$133,MATCH($AC26,Qual!$C$8:$C$133,0),6))","v":""},{"$f":"IF(AC26=\"\",\"\",INDEX(Qual!$C$8:$U$133,MATCH($AC26,Qual!$C$8:$C$133,0),8))","v":""},{"$f":"IF(AC26=\"\",\"\",INDEX(Qual!$C$8:$U$133,MATCH($AC26,Qual!$C$8:$C$133,0),10))","v":""},{"$f":"IF(AC26=\"\",\"\",INDEX(Qual!$C$8:$U$133,MATCH($AC26,Qual!$C$8:$C$133,0),12))","v":""},{"$f":"IF(AC26=\"\",\"\",INDEX(Qual!$C$8:$U$133,MATCH($AC26,Qual!$C$8:$C$133,0),14))","v":""},{"$f":"IF(AC26=\"\",\"\",INDEX(Qual!$C$8:$U$133,MATCH($AC26,Qual!$C$8:$C$133,0),16))","v":""},{"$f":"IF(AC26=\"\",\"\",INDEX(Qual!$C$8:$U$133,MATCH($AC26,Qual!$C$8:$C$133,0),18))","v":""},null,{"$f":"IF(AO26=0,\"\",'Check-In'!$B31)","v":""},{"$f":"'Check-In'!V31","v":0},{"$f":"IF(AO26=0,\"\",INDEX(Qual!$C$8:$M$133,MATCH($AN26,Qual!$C$8:$C$133,0),4)+INDEX(Qual!$C$8:$M$133,MATCH($AN26,Qual!$C$8:$C$133,0),5)+INDEX(Qual!$C$8:$M$133,MATCH($AN26,Qual!$C$8:$C$133,0),6)+INDEX(Qual!$C$8:$M$133,MATCH($AN26,Qual!$C$8:$C$133,0),7)+INDEX(Qual!$C$8:$M$133,MATCH($AN26,Qual!$C$8:$C$133,0),8)+INDEX(Qual!$C$8:$M$133,MATCH($AN26,Qual!$C$8:$C$133,0),9)+INDEX(Qual!$C$8:$M$133,MATCH($AN26,Qual!$C$8:$C$133,0),10)+INDEX(Qual!$C$8:$M$133,MATCH($AN26,Qual!$C$8:$C$133,0),11))","v":""}]
[{"$nulls":4},{"$f":"SUM(E19:E26)","v":{"v":360,"d":"$360.00"}},{"$nulls":23},{"$f":"IF(AD27=0,\"\",'Check-In'!$B32)","v":""},{"$f":"'Check-In'!I32","v":0},{"$f":"IF(AC27=\"\",\"\",INDEX(Qual!$C$8:$U$133,MATCH($AC27,Qual!$C$8:$C$133,0),4))","v":""},{"$f":"IF(AC27=\"\",\"\",INDEX(Qual!$C$8:$U$133,MATCH($AC27,Qual!$C$8:$C$133,0),6))","v":""},{"$f":"IF(AC27=\"\",\"\",INDEX(Qual!$C$8:$U$133,MATCH($AC27,Qual!$C$8:$C$133,0),8))","v":""},{"$f":"IF(AC27=\"\",\"\",INDEX(Qual!$C$8:$U$133,MATCH($AC27,Qual!$C$8:$C$133,0),10))","v":""},{"$f":"IF(AC27=\"\",\"\",INDEX(Qual!$C$8:$U$133,MATCH($AC27,Qual!$C$8:$C$133,0),12))","v":""},{"$f":"IF(AC27=\"\",\"\",INDEX(Qual!$C$8:$U$133,MATCH($AC27,Qual!$C$8:$C$133,0),14))","v":""},{"$f":"IF(AC27=\"\",\"\",INDEX(Qual!$C$8:$U$133,MATCH($AC27,Qual!$C$8:$C$133,0),16))","v":""},{"$f":"IF(AC27=\"\",\"\",INDEX(Qual!$C$8:$U$133,MATCH($AC27,Qual!$C$8:$C$133,0),18))","v":""},null,{"$f":"IF(AO27=0,\"\",'Check-In'!$B32)","v":"HOMMES, JOHN"},{"$f":"'Check-In'!V32","v":"X"},{"$f":"IF(AO27=0,\"\",INDEX(Qual!$C$8:$M$133,MATCH($AN27,Qual!$C$8:$C$133,0),4)+INDEX(Qual!$C$8:$M$133,MATCH($AN27,Qual!$C$8:$C$133,0),5)+INDEX(Qual!$C$8:$M$133,MATCH($AN27,Qual!$C$8:$C$133,0),6)+INDEX(Qual!$C$8:$M$133,MATCH($AN27,Qual!$C$8:$C$133,0),7)+INDEX(Qual!$C$8:$M$133,MATCH($AN27,Qual!$C$8:$C$133,0),8)+INDEX(Qual!$C$8:$M$133,MATCH($AN27,Qual!$C$8:$C$133,0),9)+INDEX(Qual!$C$8:$M$133,MATCH($AN27,Qual!$C$8:$C$133,0),10)+INDEX(Qual!$C$8:$M$133,MATCH($AN27,Qual!$C$8:$C$133,0),11))","v":1056}]
[{"$nulls":28},{"$f":"IF(AD28=0,\"\",'Check-In'!$B33)","v":""},{"$f":"'Check-In'!I33","v":0},{"$f":"IF(AC28=\"\",\"\",INDEX(Qual!$C$8:$U$133,MATCH($AC28,Qual!$C$8:$C$133,0),4))","v":""},{"$f":"IF(AC28=\"\",\"\",INDEX(Qual!$C$8:$U$133,MATCH($AC28,Qual!$C$8:$C$133,0),6))","v":""},{"$f":"IF(AC28=\"\",\"\",INDEX(Qual!$C$8:$U$133,MATCH($AC28,Qual!$C$8:$C$133,0),8))","v":""},{"$f":"IF(AC28=\"\",\"\",INDEX(Qual!$C$8:$U$133,MATCH($AC28,Qual!$C$8:$C$133,0),10))","v":""},{"$f":"IF(AC28=\"\",\"\",INDEX(Qual!$C$8:$U$133,MATCH($AC28,Qual!$C$8:$C$133,0),12))","v":""},{"$f":"IF(AC28=\"\",\"\",INDEX(Qual!$C$8:$U$133,MATCH($AC28,Qual!$C$8:$C$133,0),14))","v":""},{"$f":"IF(AC28=\"\",\"\",INDEX(Qual!$C$8:$U$133,MATCH($AC28,Qual!$C$8:$C$133,0),16))","v":""},{"$f":"IF(AC28=\"\",\"\",INDEX(Qual!$C$8:$U$133,MATCH($AC28,Qual!$C$8:$C$133,0),18))","v":""},null,{"$f":"IF(AO28=0,\"\",'Check-In'!$B33)","v":"JONES, TOM"},{"$f":"'Check-In'!V33","v":"X"},{"$f":"IF(AO28=0,\"\",INDEX(Qual!$C$8:$M$133,MATCH($AN28,Qual!$C$8:$C$133,0),4)+INDEX(Qual!$C$8:$M$133,MATCH($AN28,Qual!$C$8:$C$133,0),5)+INDEX(Qual!$C$8:$M$133,MATCH($AN28,Qual!$C$8:$C$133,0),6)+INDEX(Qual!$C$8:$M$133,MATCH($AN28,Qual!$C$8:$C$133,0),7)+INDEX(Qual!$C$8:$M$133,MATCH($AN28,Qual!$C$8:$C$133,0),8)+INDEX(Qual!$C$8:$M$133,MATCH($AN28,Qual!$C$8:$C$133,0),9)+INDEX(Qual!$C$8:$M$133,MATCH($AN28,Qual!$C$8:$C$133,0),10)+INDEX(Qual!$C$8:$M$133,MATCH($AN28,Qual!$C$8:$C$133,0),11))","v":994}]
[{"$nulls":28},{"$f":"IF(AD29=0,\"\",'Check-In'!$B34)","v":""},{"$f":"'Check-In'!I34","v":0},{"$f":"IF(AC29=\"\",\"\",INDEX(Qual!$C$8:$U$133,MATCH($AC29,Qual!$C$8:$C$133,0),4))","v":""},{"$f":"IF(AC29=\"\",\"\",INDEX(Qual!$C$8:$U$133,MATCH($AC29,Qual!$C$8:$C$133,0),6))","v":""},{"$f":"IF(AC29=\"\",\"\",INDEX(Qual!$C$8:$U$133,MATCH($AC29,Qual!$C$8:$C$133,0),8))","v":""},{"$f":"IF(AC29=\"\",\"\",INDEX(Qual!$C$8:$U$133,MATCH($AC29,Qual!$C$8:$C$133,0),10))","v":""},{"$f":"IF(AC29=\"\",\"\",INDEX(Qual!$C$8:$U$133,MATCH($AC29,Qual!$C$8:$C$133,0),12))","v":""},{"$f":"IF(AC29=\"\",\"\",INDEX(Qual!$C$8:$U$133,MATCH($AC29,Qual!$C$8:$C$133,0),14))","v":""},{"$f":"IF(AC29=\"\",\"\",INDEX(Qual!$C$8:$U$133,MATCH($AC29,Qual!$C$8:$C$133,0),16))","v":""},{"$f":"IF(AC29=\"\",\"\",INDEX(Qual!$C$8:$U$133,MATCH($AC29,Qual!$C$8:$C$133,0),18))","v":""},null,{"$f":"IF(AO29=0,\"\",'Check-In'!$B34)","v":""},{"$f":"'Check-In'!V34","v":0},{"$f":"IF(AO29=0,\"\",INDEX(Qual!$C$8:$M$133,MATCH($AN29,Qual!$C$8:$C$133,0),4)+INDEX(Qual!$C$8:$M$133,MATCH($AN29,Qual!$C$8:$C$133,0),5)+INDEX(Qual!$C$8:$M$133,MATCH($AN29,Qual!$C$8:$C$133,0),6)+INDEX(Qual!$C$8:$M$133,MATCH($AN29,Qual!$C$8:$C$133,0),7)+INDEX(Qual!$C$8:$M$133,MATCH($AN29,Qual!$C$8:$C$133,0),8)+INDEX(Qual!$C$8:$M$133,MATCH($AN29,Qual!$C$8:$C$133,0),9)+INDEX(Qual!$C$8:$M$133,MATCH($AN29,Qual!$C$8:$C$133,0),10)+INDEX(Qual!$C$8:$M$133,MATCH($AN29,Qual!$C$8:$C$133,0),11))","v":""}]
[{"$nulls":28},{"$f":"IF(AD30=0,\"\",'Check-In'!$B35)","v":""},{"$f":"'Check-In'!I35","v":0},{"$f":"IF(AC30=\"\",\"\",INDEX(Qual!$C$8:$U$133,MATCH($AC30,Qual!$C$8:$C$133,0),4))","v":""},{"$f":"IF(AC30=\"\",\"\",INDEX(Qual!$C$8:$U$133,MATCH($AC30,Qual!$C$8:$C$133,0),6))","v":""},{"$f":"IF(AC30=\"\",\"\",INDEX(Qual!$C$8:$U$133,MATCH($AC30,Qual!$C$8:$C$133,0),8))","v":""},{"$f":"IF(AC30=\"\",\"\",INDEX(Qual!$C$8:$U$133,MATCH($AC30,Qual!$C$8:$C$133,0),10))","v":""},{"$f":"IF(AC30=\"\",\"\",INDEX(Qual!$C$8:$U$133,MATCH($AC30,Qual!$C$8:$C$133,0),12))","v":""},{"$f":"IF(AC30=\"\",\"\",INDEX(Qual!$C$8:$U$133,MATCH($AC30,Qual!$C$8:$C$133,0),14))","v":""},{"$f":"IF(AC30=\"\",\"\",INDEX(Qual!$C$8:$U$133,MATCH($AC30,Qual!$C$8:$C$133,0),16))","v":""},{"$f":"IF(AC30=\"\",\"\",INDEX(Qual!$C$8:$U$133,MATCH($AC30,Qual!$C$8:$C$133,0),18))","v":""},null,{"$f":"IF(AO30=0,\"\",'Check-In'!$B35)","v":"BORDSON, DAVE"},{"$f":"'Check-In'!V35","v":"X"},{"$f":"IF(AO30=0,\"\",INDEX(Qual!$C$8:$M$133,MATCH($AN30,Qual!$C$8:$C$133,0),4)+INDEX(Qual!$C$8:$M$133,MATCH($AN30,Qual!$C$8:$C$133,0),5)+INDEX(Qual!$C$8:$M$133,MATCH($AN30,Qual!$C$8:$C$133,0),6)+INDEX(Qual!$C$8:$M$133,MATCH($AN30,Qual!$C$8:$C$133,0),7)+INDEX(Qual!$C$8:$M$133,MATCH($AN30,Qual!$C$8:$C$133,0),8)+INDEX(Qual!$C$8:$M$133,MATCH($AN30,Qual!$C$8:$C$133,0),9)+INDEX(Qual!$C$8:$M$133,MATCH($AN30,Qual!$C$8:$C$133,0),10)+INDEX(Qual!$C$8:$M$133,MATCH($AN30,Qual!$C$8:$C$133,0),11))","v":854}]
[{"$nulls":28},{"$f":"IF(AD31=0,\"\",'Check-In'!$B36)","v":""},{"$f":"'Check-In'!I36","v":0},{"$f":"IF(AC31=\"\",\"\",INDEX(Qual!$C$8:$U$133,MATCH($AC31,Qual!$C$8:$C$133,0),4))","v":""},{"$f":"IF(AC31=\"\",\"\",INDEX(Qual!$C$8:$U$133,MATCH($AC31,Qual!$C$8:$C$133,0),6))","v":""},{"$f":"IF(AC31=\"\",\"\",INDEX(Qual!$C$8:$U$133,MATCH($AC31,Qual!$C$8:$C$133,0),8))","v":""},{"$f":"IF(AC31=\"\",\"\",INDEX(Qual!$C$8:$U$133,MATCH($AC31,Qual!$C$8:$C$133,0),10))","v":""},{"$f":"IF(AC31=\"\",\"\",INDEX(Qual!$C$8:$U$133,MATCH($AC31,Qual!$C$8:$C$133,0),12))","v":""},{"$f":"IF(AC31=\"\",\"\",INDEX(Qual!$C$8:$U$133,MATCH($AC31,Qual!$C$8:$C$133,0),14))","v":""},{"$f":"IF(AC31=\"\",\"\",INDEX(Qual!$C$8:$U$133,MATCH($AC31,Qual!$C$8:$C$133,0),16))","v":""},{"$f":"IF(AC31=\"\",\"\",INDEX(Qual!$C$8:$U$133,MATCH($AC31,Qual!$C$8:$C$133,0),18))","v":""},null,{"$f":"IF(AO31=0,\"\",'Check-In'!$B36)","v":"HAUGAN, ERIC"},{"$f":"'Check-In'!V36","v":"X"},{"$f":"IF(AO31=0,\"\",INDEX(Qual!$C$8:$M$133,MATCH($AN31,Qual!$C$8:$C$133,0),4)+INDEX(Qual!$C$8:$M$133,MATCH($AN31,Qual!$C$8:$C$133,0),5)+INDEX(Qual!$C$8:$M$133,MATCH($AN31,Qual!$C$8:$C$133,0),6)+INDEX(Qual!$C$8:$M$133,MATCH($AN31,Qual!$C$8:$C$133,0),7)+INDEX(Qual!$C$8:$M$133,MATCH($AN31,Qual!$C$8:$C$133,0),8)+INDEX(Qual!$C$8:$M$133,MATCH($AN31,Qual!$C$8:$C$133,0),9)+INDEX(Qual!$C$8:$M$133,MATCH($AN31,Qual!$C$8:$C$133,0),10)+INDEX(Qual!$C$8:$M$133,MATCH($AN31,Qual!$C$8:$C$133,0),11))","v":835}]
[{"$nulls":28},{"$f":"IF(AD32=0,\"\",'Check-In'!$B37)","v":""},{"$f":"'Check-In'!I37","v":0},{"$f":"IF(AC32=\"\",\"\",INDEX(Qual!$C$8:$U$133,MATCH($AC32,Qual!$C$8:$C$133,0),4))","v":""},{"$f":"IF(AC32=\"\",\"\",INDEX(Qual!$C$8:$U$133,MATCH($AC32,Qual!$C$8:$C$133,0),6))","v":""},{"$f":"IF(AC32=\"\",\"\",INDEX(Qual!$C$8:$U$133,MATCH($AC32,Qual!$C$8:$C$133,0),8))","v":""},{"$f":"IF(AC32=\"\",\"\",INDEX(Qual!$C$8:$U$133,MATCH($AC32,Qual!$C$8:$C$133,0),10))","v":""},{"$f":"IF(AC32=\"\",\"\",INDEX(Qual!$C$8:$U$133,MATCH($AC32,Qual!$C$8:$C$133,0),12))","v":""},{"$f":"IF(AC32=\"\",\"\",INDEX(Qual!$C$8:$U$133,MATCH($AC32,Qual!$C$8:$C$133,0),14))","v":""},{"$f":"IF(AC32=\"\",\"\",INDEX(Qual!$C$8:$U$133,MATCH($AC32,Qual!$C$8:$C$133,0),16))","v":""},{"$f":"IF(AC32=\"\",\"\",INDEX(Qual!$C$8:$U$133,MATCH($AC32,Qual!$C$8:$C$133,0),18))","v":""},null,{"$f":"IF(AO32=0,\"\",'Check-In'!$B37)","v":"JENSEN, WAYNE"},{"$f":"'Check-In'!V37","v":"X"},{"$f":"IF(AO32=0,\"\",INDEX(Qual!$C$8:$M$133,MATCH($AN32,Qual!$C$8:$C$133,0),4)+INDEX(Qual!$C$8:$M$133,MATCH($AN32,Qual!$C$8:$C$133,0),5)+INDEX(Qual!$C$8:$M$133,MATCH($AN32,Qual!$C$8:$C$133,0),6)+INDEX(Qual!$C$8:$M$133,MATCH($AN32,Qual!$C$8:$C$133,0),7)+INDEX(Qual!$C$8:$M$133,MATCH($AN32,Qual!$C$8:$C$133,0),8)+INDEX(Qual!$C$8:$M$133,MATCH($AN32,Qual!$C$8:$C$133,0),9)+INDEX(Qual!$C$8:$M$133,MATCH($AN32,Qual!$C$8:$C$133,0),10)+INDEX(Qual!$C$8:$M$133,MATCH($AN32,Qual!$C$8:$C$133,0),11))","v":1009}]
[{"$nulls":28},{"$f":"IF(AD33=0,\"\",'Check-In'!$B38)","v":""},{"$f":"'Check-In'!I38","v":0},{"$f":"IF(AC33=\"\",\"\",INDEX(Qual!$C$8:$U$133,MATCH($AC33,Qual!$C$8:$C$133,0),4))","v":""},{"$f":"IF(AC33=\"\",\"\",INDEX(Qual!$C$8:$U$133,MATCH($AC33,Qual!$C$8:$C$133,0),6))","v":""},{"$f":"IF(AC33=\"\",\"\",INDEX(Qual!$C$8:$U$133,MATCH($AC33,Qual!$C$8:$C$133,0),8))","v":""},{"$f":"IF(AC33=\"\",\"\",INDEX(Qual!$C$8:$U$133,MATCH($AC33,Qual!$C$8:$C$133,0),10))","v":""},{"$f":"IF(AC33=\"\",\"\",INDEX(Qual!$C$8:$U$133,MATCH($AC33,Qual!$C$8:$C$133,0),12))","v":""},{"$f":"IF(AC33=\"\",\"\",INDEX(Qual!$C$8:$U$133,MATCH($AC33,Qual!$C$8:$C$133,0),14))","v":""},{"$f":"IF(AC33=\"\",\"\",INDEX(Qual!$C$8:$U$133,MATCH($AC33,Qual!$C$8:$C$133,0),16))","v":""},{"$f":"IF(AC33=\"\",\"\",INDEX(Qual!$C$8:$U$133,MATCH($AC33,Qual!$C$8:$C$133,0),18))","v":""},null,{"$f":"IF(AO33=0,\"\",'Check-In'!$B38)","v":""},{"$f":"'Check-In'!V38","v":0},{"$f":"IF(AO33=0,\"\",INDEX(Qual!$C$8:$M$133,MATCH($AN33,Qual!$C$8:$C$133,0),4)+INDEX(Qual!$C$8:$M$133,MATCH($AN33,Qual!$C$8:$C$133,0),5)+INDEX(Qual!$C$8:$M$133,MATCH($AN33,Qual!$C$8:$C$133,0),6)+INDEX(Qual!$C$8:$M$133,MATCH($AN33,Qual!$C$8:$C$133,0),7)+INDEX(Qual!$C$8:$M$133,MATCH($AN33,Qual!$C$8:$C$133,0),8)+INDEX(Qual!$C$8:$M$133,MATCH($AN33,Qual!$C$8:$C$133,0),9)+INDEX(Qual!$C$8:$M$133,MATCH($AN33,Qual!$C$8:$C$133,0),10)+INDEX(Qual!$C$8:$M$133,MATCH($AN33,Qual!$C$8:$C$133,0),11))","v":""}]
[{"$nulls":28},{"$f":"IF(AD34=0,\"\",'Check-In'!$B39)","v":""},{"$f":"'Check-In'!I39","v":0},{"$f":"IF(AC34=\"\",\"\",INDEX(Qual!$C$8:$U$133,MATCH($AC34,Qual!$C$8:$C$133,0),4))","v":""},{"$f":"IF(AC34=\"\",\"\",INDEX(Qual!$C$8:$U$133,MATCH($AC34,Qual!$C$8:$C$133,0),6))","v":""},{"$f":"IF(AC34=\"\",\"\",INDEX(Qual!$C$8:$U$133,MATCH($AC34,Qual!$C$8:$C$133,0),8))","v":""},{"$f":"IF(AC34=\"\",\"\",INDEX(Qual!$C$8:$U$133,MATCH($AC34,Qual!$C$8:$C$133,0),10))","v":""},{"$f":"IF(AC34=\"\",\"\",INDEX(Qual!$C$8:$U$133,MATCH($AC34,Qual!$C$8:$C$133,0),12))","v":""},{"$f":"IF(AC34=\"\",\"\",INDEX(Qual!$C$8:$U$133,MATCH($AC34,Qual!$C$8:$C$133,0),14))","v":""},{"$f":"IF(AC34=\"\",\"\",INDEX(Qual!$C$8:$U$133,MATCH($AC34,Qual!$C$8:$C$133,0),16))","v":""},{"$f":"IF(AC34=\"\",\"\",INDEX(Qual!$C$8:$U$133,MATCH($AC34,Qual!$C$8:$C$133,0),18))","v":""},null,{"$f":"IF(AO34=0,\"\",'Check-In'!$B39)","v":"GOODWIN, CRAIG"},{"$f":"'Check-In'!V39","v":"X"},{"$f":"IF(AO34=0,\"\",INDEX(Qual!$C$8:$M$133,MATCH($AN34,Qual!$C$8:$C$133,0),4)+INDEX(Qual!$C$8:$M$133,MATCH($AN34,Qual!$C$8:$C$133,0),5)+INDEX(Qual!$C$8:$M$133,MATCH($AN34,Qual!$C$8:$C$133,0),6)+INDEX(Qual!$C$8:$M$133,MATCH($AN34,Qual!$C$8:$C$133,0),7)+INDEX(Qual!$C$8:$M$133,MATCH($AN34,Qual!$C$8:$C$133,0),8)+INDEX(Qual!$C$8:$M$133,MATCH($AN34,Qual!$C$8:$C$133,0),9)+INDEX(Qual!$C$8:$M$133,MATCH($AN34,Qual!$C$8:$C$133,0),10)+INDEX(Qual!$C$8:$M$133,MATCH($AN34,Qual!$C$8:$C$133,0),11))","v":829}]
[{"$nulls":28},{"$f":"IF(AD35=0,\"\",'Check-In'!$B40)","v":""},{"$f":"'Check-In'!I40","v":0},{"$f":"IF(AC35=\"\",\"\",INDEX(Qual!$C$8:$U$133,MATCH($AC35,Qual!$C$8:$C$133,0),4))","v":""},{"$f":"IF(AC35=\"\",\"\",INDEX(Qual!$C$8:$U$133,MATCH($AC35,Qual!$C$8:$C$133,0),6))","v":""},{"$f":"IF(AC35=\"\",\"\",INDEX(Qual!$C$8:$U$133,MATCH($AC35,Qual!$C$8:$C$133,0),8))","v":""},{"$f":"IF(AC35=\"\",\"\",INDEX(Qual!$C$8:$U$133,MATCH($AC35,Qual!$C$8:$C$133,0),10))","v":""},{"$f":"IF(AC35=\"\",\"\",INDEX(Qual!$C$8:$U$133,MATCH($AC35,Qual!$C$8:$C$133,0),12))","v":""},{"$f":"IF(AC35=\"\",\"\",INDEX(Qual!$C$8:$U$133,MATCH($AC35,Qual!$C$8:$C$133,0),14))","v":""},{"$f":"IF(AC35=\"\",\"\",INDEX(Qual!$C$8:$U$133,MATCH($AC35,Qual!$C$8:$C$133,0),16))","v":""},{"$f":"IF(AC35=\"\",\"\",INDEX(Qual!$C$8:$U$133,MATCH($AC35,Qual!$C$8:$C$133,0),18))","v":""},null,{"$f":"IF(AO35=0,\"\",'Check-In'!$B40)","v":""},{"$f":"'Check-In'!V40","v":0},{"$f":"IF(AO35=0,\"\",INDEX(Qual!$C$8:$M$133,MATCH($AN35,Qual!$C$8:$C$133,0),4)+INDEX(Qual!$C$8:$M$133,MATCH($AN35,Qual!$C$8:$C$133,0),5)+INDEX(Qual!$C$8:$M$133,MATCH($AN35,Qual!$C$8:$C$133,0),6)+INDEX(Qual!$C$8:$M$133,MATCH($AN35,Qual!$C$8:$C$133,0),7)+INDEX(Qual!$C$8:$M$133,MATCH($AN35,Qual!$C$8:$C$133,0),8)+INDEX(Qual!$C$8:$M$133,MATCH($AN35,Qual!$C$8:$C$133,0),9)+INDEX(Qual!$C$8:$M$133,MATCH($AN35,Qual!$C$8:$C$133,0),10)+INDEX(Qual!$C$8:$M$133,MATCH($AN35,Qual!$C$8:$C$133,0),11))","v":""}]
[{"$nulls":28},{"$f":"IF(AD36=0,\"\",'Check-In'!$B41)","v":""},{"$f":"'Check-In'!I41","v":0},{"$f":"IF(AC36=\"\",\"\",INDEX(Qual!$C$8:$U$133,MATCH($AC36,Qual!$C$8:$C$133,0),4))","v":""},{"$f":"IF(AC36=\"\",\"\",INDEX(Qual!$C$8:$U$133,MATCH($AC36,Qual!$C$8:$C$133,0),6))","v":""},{"$f":"IF(AC36=\"\",\"\",INDEX(Qual!$C$8:$U$133,MATCH($AC36,Qual!$C$8:$C$133,0),8))","v":""},{"$f":"IF(AC36=\"\",\"\",INDEX(Qual!$C$8:$U$133,MATCH($AC36,Qual!$C$8:$C$133,0),10))","v":""},{"$f":"IF(AC36=\"\",\"\",INDEX(Qual!$C$8:$U$133,MATCH($AC36,Qual!$C$8:$C$133,0),12))","v":""},{"$f":"IF(AC36=\"\",\"\",INDEX(Qual!$C$8:$U$133,MATCH($AC36,Qual!$C$8:$C$133,0),14))","v":""},{"$f":"IF(AC36=\"\",\"\",INDEX(Qual!$C$8:$U$133,MATCH($AC36,Qual!$C$8:$C$133,0),16))","v":""},{"$f":"IF(AC36=\"\",\"\",INDEX(Qual!$C$8:$U$133,MATCH($AC36,Qual!$C$8:$C$133,0),18))","v":""},null,{"$f":"IF(AO36=0,\"\",'Check-In'!$B41)","v":"STOEBNER, JOHN"},{"$f":"'Check-In'!V41","v":"X"},{"$f":"IF(AO36=0,\"\",INDEX(Qual!$C$8:$M$133,MATCH($AN36,Qual!$C$8:$C$133,0),4)+INDEX(Qual!$C$8:$M$133,MATCH($AN36,Qual!$C$8:$C$133,0),5)+INDEX(Qual!$C$8:$M$133,MATCH($AN36,Qual!$C$8:$C$133,0),6)+INDEX(Qual!$C$8:$M$133,MATCH($AN36,Qual!$C$8:$C$133,0),7)+INDEX(Qual!$C$8:$M$133,MATCH($AN36,Qual!$C$8:$C$133,0),8)+INDEX(Qual!$C$8:$M$133,MATCH($AN36,Qual!$C$8:$C$133,0),9)+INDEX(Qual!$C$8:$M$133,MATCH($AN36,Qual!$C$8:$C$133,0),10)+INDEX(Qual!$C$8:$M$133,MATCH($AN36,Qual!$C$8:$C$133,0),11))","v":894}]
[{"$nulls":28},{"$f":"IF(AD37=0,\"\",'Check-In'!$B42)","v":""},{"$f":"'Check-In'!I42","v":0},{"$f":"IF(AC37=\"\",\"\",INDEX(Qual!$C$8:$U$133,MATCH($AC37,Qual!$C$8:$C$133,0),4))","v":""},{"$f":"IF(AC37=\"\",\"\",INDEX(Qual!$C$8:$U$133,MATCH($AC37,Qual!$C$8:$C$133,0),6))","v":""},{"$f":"IF(AC37=\"\",\"\",INDEX(Qual!$C$8:$U$133,MATCH($AC37,Qual!$C$8:$C$133,0),8))","v":""},{"$f":"IF(AC37=\"\",\"\",INDEX(Qual!$C$8:$U$133,MATCH($AC37,Qual!$C$8:$C$133,0),10))","v":""},{"$f":"IF(AC37=\"\",\"\",INDEX(Qual!$C$8:$U$133,MATCH($AC37,Qual!$C$8:$C$133,0),12))","v":""},{"$f":"IF(AC37=\"\",\"\",INDEX(Qual!$C$8:$U$133,MATCH($AC37,Qual!$C$8:$C$133,0),14))","v":""},{"$f":"IF(AC37=\"\",\"\",INDEX(Qual!$C$8:$U$133,MATCH($AC37,Qual!$C$8:$C$133,0),16))","v":""},{"$f":"IF(AC37=\"\",\"\",INDEX(Qual!$C$8:$U$133,MATCH($AC37,Qual!$C$8:$C$133,0),18))","v":""},null,{"$f":"IF(AO37=0,\"\",'Check-In'!$B42)","v":""},{"$f":"'Check-In'!V42","v":0},{"$f":"IF(AO37=0,\"\",INDEX(Qual!$C$8:$M$133,MATCH($AN37,Qual!$C$8:$C$133,0),4)+INDEX(Qual!$C$8:$M$133,MATCH($AN37,Qual!$C$8:$C$133,0),5)+INDEX(Qual!$C$8:$M$133,MATCH($AN37,Qual!$C$8:$C$133,0),6)+INDEX(Qual!$C$8:$M$133,MATCH($AN37,Qual!$C$8:$C$133,0),7)+INDEX(Qual!$C$8:$M$133,MATCH($AN37,Qual!$C$8:$C$133,0),8)+INDEX(Qual!$C$8:$M$133,MATCH($AN37,Qual!$C$8:$C$133,0),9)+INDEX(Qual!$C$8:$M$133,MATCH($AN37,Qual!$C$8:$C$133,0),10)+INDEX(Qual!$C$8:$M$133,MATCH($AN37,Qual!$C$8:$C$133,0),11))","v":""}]
[{"$nulls":28},{"$f":"IF(AD38=0,\"\",'Check-In'!$B43)","v":""},{"$f":"'Check-In'!I43","v":0},{"$f":"IF(AC38=\"\",\"\",INDEX(Qual!$C$8:$U$133,MATCH($AC38,Qual!$C$8:$C$133,0),4))","v":""},{"$f":"IF(AC38=\"\",\"\",INDEX(Qual!$C$8:$U$133,MATCH($AC38,Qual!$C$8:$C$133,0),6))","v":""},{"$f":"IF(AC38=\"\",\"\",INDEX(Qual!$C$8:$U$133,MATCH($AC38,Qual!$C$8:$C$133,0),8))","v":""},{"$f":"IF(AC38=\"\",\"\",INDEX(Qual!$C$8:$U$133,MATCH($AC38,Qual!$C$8:$C$133,0),10))","v":""},{"$f":"IF(AC38=\"\",\"\",INDEX(Qual!$C$8:$U$133,MATCH($AC38,Qual!$C$8:$C$133,0),12))","v":""},{"$f":"IF(AC38=\"\",\"\",INDEX(Qual!$C$8:$U$133,MATCH($AC38,Qual!$C$8:$C$133,0),14))","v":""},{"$f":"IF(AC38=\"\",\"\",INDEX(Qual!$C$8:$U$133,MATCH($AC38,Qual!$C$8:$C$133,0),16))","v":""},{"$f":"IF(AC38=\"\",\"\",INDEX(Qual!$C$8:$U$133,MATCH($AC38,Qual!$C$8:$C$133,0),18))","v":""},null,{"$f":"IF(AO38=0,\"\",'Check-In'!$B43)","v":""},{"$f":"'Check-In'!V43","v":0},{"$f":"IF(AO38=0,\"\",INDEX(Qual!$C$8:$M$133,MATCH($AN38,Qual!$C$8:$C$133,0),4)+INDEX(Qual!$C$8:$M$133,MATCH($AN38,Qual!$C$8:$C$133,0),5)+INDEX(Qual!$C$8:$M$133,MATCH($AN38,Qual!$C$8:$C$133,0),6)+INDEX(Qual!$C$8:$M$133,MATCH($AN38,Qual!$C$8:$C$133,0),7)+INDEX(Qual!$C$8:$M$133,MATCH($AN38,Qual!$C$8:$C$133,0),8)+INDEX(Qual!$C$8:$M$133,MATCH($AN38,Qual!$C$8:$C$133,0),9)+INDEX(Qual!$C$8:$M$133,MATCH($AN38,Qual!$C$8:$C$133,0),10)+INDEX(Qual!$C$8:$M$133,MATCH($AN38,Qual!$C$8:$C$133,0),11))","v":""}]
[{"$nulls":28},{"$f":"IF(AD39=0,\"\",'Check-In'!$B44)","v":""},{"$f":"'Check-In'!I44","v":0},{"$f":"IF(AC39=\"\",\"\",INDEX(Qual!$C$8:$U$133,MATCH($AC39,Qual!$C$8:$C$133,0),4))","v":""},{"$f":"IF(AC39=\"\",\"\",INDEX(Qual!$C$8:$U$133,MATCH($AC39,Qual!$C$8:$C$133,0),6))","v":""},{"$f":"IF(AC39=\"\",\"\",INDEX(Qual!$C$8:$U$133,MATCH($AC39,Qual!$C$8:$C$133,0),8))","v":""},{"$f":"IF(AC39=\"\",\"\",INDEX(Qual!$C$8:$U$133,MATCH($AC39,Qual!$C$8:$C$133,0),10))","v":""},{"$f":"IF(AC39=\"\",\"\",INDEX(Qual!$C$8:$U$133,MATCH($AC39,Qual!$C$8:$C$133,0),12))","v":""},{"$f":"IF(AC39=\"\",\"\",INDEX(Qual!$C$8:$U$133,MATCH($AC39,Qual!$C$8:$C$133,0),14))","v":""},{"$f":"IF(AC39=\"\",\"\",INDEX(Qual!$C$8:$U$133,MATCH($AC39,Qual!$C$8:$C$133,0),16))","v":""},{"$f":"IF(AC39=\"\",\"\",INDEX(Qual!$C$8:$U$133,MATCH($AC39,Qual!$C$8:$C$133,0),18))","v":""},null,{"$f":"IF(AO39=0,\"\",'Check-In'!$B44)","v":"SCHMID, MIKE"},{"$f":"'Check-In'!V44","v":"X"},{"$f":"IF(AO39=0,\"\",INDEX(Qual!$C$8:$M$133,MATCH($AN39,Qual!$C$8:$C$133,0),4)+INDEX(Qual!$C$8:$M$133,MATCH($AN39,Qual!$C$8:$C$133,0),5)+INDEX(Qual!$C$8:$M$133,MATCH($AN39,Qual!$C$8:$C$133,0),6)+INDEX(Qual!$C$8:$M$133,MATCH($AN39,Qual!$C$8:$C$133,0),7)+INDEX(Qual!$C$8:$M$133,MATCH($AN39,Qual!$C$8:$C$133,0),8)+INDEX(Qual!$C$8:$M$133,MATCH($AN39,Qual!$C$8:$C$133,0),9)+INDEX(Qual!$C$8:$M$133,MATCH($AN39,Qual!$C$8:$C$133,0),10)+INDEX(Qual!$C$8:$M$133,MATCH($AN39,Qual!$C$8:$C$133,0),11))","v":903}]
[{"$nulls":28},{"$f":"IF(AD40=0,\"\",'Check-In'!$B45)","v":""},{"$f":"'Check-In'!I45","v":0},{"$f":"IF(AC40=\"\",\"\",INDEX(Qual!$C$8:$U$133,MATCH($AC40,Qual!$C$8:$C$133,0),4))","v":""},{"$f":"IF(AC40=\"\",\"\",INDEX(Qual!$C$8:$U$133,MATCH($AC40,Qual!$C$8:$C$133,0),6))","v":""},{"$f":"IF(AC40=\"\",\"\",INDEX(Qual!$C$8:$U$133,MATCH($AC40,Qual!$C$8:$C$133,0),8))","v":""},{"$f":"IF(AC40=\"\",\"\",INDEX(Qual!$C$8:$U$133,MATCH($AC40,Qual!$C$8:$C$133,0),10))","v":""},{"$f":"IF(AC40=\"\",\"\",INDEX(Qual!$C$8:$U$133,MATCH($AC40,Qual!$C$8:$C$133,0),12))","v":""},{"$f":"IF(AC40=\"\",\"\",INDEX(Qual!$C$8:$U$133,MATCH($AC40,Qual!$C$8:$C$133,0),14))","v":""},{"$f":"IF(AC40=\"\",\"\",INDEX(Qual!$C$8:$U$133,MATCH($AC40,Qual!$C$8:$C$133,0),16))","v":""},{"$f":"IF(AC40=\"\",\"\",INDEX(Qual!$C$8:$U$133,MATCH($AC40,Qual!$C$8:$C$133,0),18))","v":""},null,{"$f":"IF(AO40=0,\"\",'Check-In'!$B45)","v":"JONES, DAVE"},{"$f":"'Check-In'!V45","v":"X"},{"$f":"IF(AO40=0,\"\",INDEX(Qual!$C$8:$M$133,MATCH($AN40,Qual!$C$8:$C$133,0),4)+INDEX(Qual!$C$8:$M$133,MATCH($AN40,Qual!$C$8:$C$133,0),5)+INDEX(Qual!$C$8:$M$133,MATCH($AN40,Qual!$C$8:$C$133,0),6)+INDEX(Qual!$C$8:$M$133,MATCH($AN40,Qual!$C$8:$C$133,0),7)+INDEX(Qual!$C$8:$M$133,MATCH($AN40,Qual!$C$8:$C$133,0),8)+INDEX(Qual!$C$8:$M$133,MATCH($AN40,Qual!$C$8:$C$133,0),9)+INDEX(Qual!$C$8:$M$133,MATCH($AN40,Qual!$C$8:$C$133,0),10)+INDEX(Qual!$C$8:$M$133,MATCH($AN40,Qual!$C$8:$C$133,0),11))","v":918}]
[{"$nulls":28},{"$f":"IF(AD41=0,\"\",'Check-In'!$B46)","v":""},{"$f":"'Check-In'!I46","v":0},{"$f":"IF(AC41=\"\",\"\",INDEX(Qual!$C$8:$U$133,MATCH($AC41,Qual!$C$8:$C$133,0),4))","v":""},{"$f":"IF(AC41=\"\",\"\",INDEX(Qual!$C$8:$U$133,MATCH($AC41,Qual!$C$8:$C$133,0),6))","v":""},{"$f":"IF(AC41=\"\",\"\",INDEX(Qual!$C$8:$U$133,MATCH($AC41,Qual!$C$8:$C$133,0),8))","v":""},{"$f":"IF(AC41=\"\",\"\",INDEX(Qual!$C$8:$U$133,MATCH($AC41,Qual!$C$8:$C$133,0),10))","v":""},{"$f":"IF(AC41=\"\",\"\",INDEX(Qual!$C$8:$U$133,MATCH($AC41,Qual!$C$8:$C$133,0),12))","v":""},{"$f":"IF(AC41=\"\",\"\",INDEX(Qual!$C$8:$U$133,MATCH($AC41,Qual!$C$8:$C$133,0),14))","v":""},{"$f":"IF(AC41=\"\",\"\",INDEX(Qual!$C$8:$U$133,MATCH($AC41,Qual!$C$8:$C$133,0),16))","v":""},{"$f":"IF(AC41=\"\",\"\",INDEX(Qual!$C$8:$U$133,MATCH($AC41,Qual!$C$8:$C$133,0),18))","v":""},null,{"$f":"IF(AO41=0,\"\",'Check-In'!$B46)","v":"PETERSON, ED"},{"$f":"'Check-In'!V46","v":"X"},{"$f":"IF(AO41=0,\"\",INDEX(Qual!$C$8:$M$133,MATCH($AN41,Qual!$C$8:$C$133,0),4)+INDEX(Qual!$C$8:$M$133,MATCH($AN41,Qual!$C$8:$C$133,0),5)+INDEX(Qual!$C$8:$M$133,MATCH($AN41,Qual!$C$8:$C$133,0),6)+INDEX(Qual!$C$8:$M$133,MATCH($AN41,Qual!$C$8:$C$133,0),7)+INDEX(Qual!$C$8:$M$133,MATCH($AN41,Qual!$C$8:$C$133,0),8)+INDEX(Qual!$C$8:$M$133,MATCH($AN41,Qual!$C$8:$C$133,0),9)+INDEX(Qual!$C$8:$M$133,MATCH($AN41,Qual!$C$8:$C$133,0),10)+INDEX(Qual!$C$8:$M$133,MATCH($AN41,Qual!$C$8:$C$133,0),11))","v":981}]
[{"$nulls":28},{"$f":"IF(AD42=0,\"\",'Check-In'!$B47)","v":""},{"$f":"'Check-In'!I47","v":0},{"$f":"IF(AC42=\"\",\"\",INDEX(Qual!$C$8:$U$133,MATCH($AC42,Qual!$C$8:$C$133,0),4))","v":""},{"$f":"IF(AC42=\"\",\"\",INDEX(Qual!$C$8:$U$133,MATCH($AC42,Qual!$C$8:$C$133,0),6))","v":""},{"$f":"IF(AC42=\"\",\"\",INDEX(Qual!$C$8:$U$133,MATCH($AC42,Qual!$C$8:$C$133,0),8))","v":""},{"$f":"IF(AC42=\"\",\"\",INDEX(Qual!$C$8:$U$133,MATCH($AC42,Qual!$C$8:$C$133,0),10))","v":""},{"$f":"IF(AC42=\"\",\"\",INDEX(Qual!$C$8:$U$133,MATCH($AC42,Qual!$C$8:$C$133,0),12))","v":""},{"$f":"IF(AC42=\"\",\"\",INDEX(Qual!$C$8:$U$133,MATCH($AC42,Qual!$C$8:$C$133,0),14))","v":""},{"$f":"IF(AC42=\"\",\"\",INDEX(Qual!$C$8:$U$133,MATCH($AC42,Qual!$C$8:$C$133,0),16))","v":""},{"$f":"IF(AC42=\"\",\"\",INDEX(Qual!$C$8:$U$133,MATCH($AC42,Qual!$C$8:$C$133,0),18))","v":""},null,{"$f":"IF(AO42=0,\"\",'Check-In'!$B47)","v":"BRUINSMA, DEAN"},{"$f":"'Check-In'!V47","v":"X"},{"$f":"IF(AO42=0,\"\",INDEX(Qual!$C$8:$M$133,MATCH($AN42,Qual!$C$8:$C$133,0),4)+INDEX(Qual!$C$8:$M$133,MATCH($AN42,Qual!$C$8:$C$133,0),5)+INDEX(Qual!$C$8:$M$133,MATCH($AN42,Qual!$C$8:$C$133,0),6)+INDEX(Qual!$C$8:$M$133,MATCH($AN42,Qual!$C$8:$C$133,0),7)+INDEX(Qual!$C$8:$M$133,MATCH($AN42,Qual!$C$8:$C$133,0),8)+INDEX(Qual!$C$8:$M$133,MATCH($AN42,Qual!$C$8:$C$133,0),9)+INDEX(Qual!$C$8:$M$133,MATCH($AN42,Qual!$C$8:$C$133,0),10)+INDEX(Qual!$C$8:$M$133,MATCH($AN42,Qual!$C$8:$C$133,0),11))","v":762}]
[{"$nulls":28},{"$f":"IF(AD43=0,\"\",'Check-In'!$B48)","v":""},{"$f":"'Check-In'!I48","v":0},{"$f":"IF(AC43=\"\",\"\",INDEX(Qual!$C$8:$U$133,MATCH($AC43,Qual!$C$8:$C$133,0),4))","v":""},{"$f":"IF(AC43=\"\",\"\",INDEX(Qual!$C$8:$U$133,MATCH($AC43,Qual!$C$8:$C$133,0),6))","v":""},{"$f":"IF(AC43=\"\",\"\",INDEX(Qual!$C$8:$U$133,MATCH($AC43,Qual!$C$8:$C$133,0),8))","v":""},{"$f":"IF(AC43=\"\",\"\",INDEX(Qual!$C$8:$U$133,MATCH($AC43,Qual!$C$8:$C$133,0),10))","v":""},{"$f":"IF(AC43=\"\",\"\",INDEX(Qual!$C$8:$U$133,MATCH($AC43,Qual!$C$8:$C$133,0),12))","v":""},{"$f":"IF(AC43=\"\",\"\",INDEX(Qual!$C$8:$U$133,MATCH($AC43,Qual!$C$8:$C$133,0),14))","v":""},{"$f":"IF(AC43=\"\",\"\",INDEX(Qual!$C$8:$U$133,MATCH($AC43,Qual!$C$8:$C$133,0),16))","v":""},{"$f":"IF(AC43=\"\",\"\",INDEX(Qual!$C$8:$U$133,MATCH($AC43,Qual!$C$8:$C$133,0),18))","v":""},null,{"$f":"IF(AO43=0,\"\",'Check-In'!$B48)","v":""},{"$f":"'Check-In'!V48","v":0},{"$f":"IF(AO43=0,\"\",INDEX(Qual!$C$8:$M$133,MATCH($AN43,Qual!$C$8:$C$133,0),4)+INDEX(Qual!$C$8:$M$133,MATCH($AN43,Qual!$C$8:$C$133,0),5)+INDEX(Qual!$C$8:$M$133,MATCH($AN43,Qual!$C$8:$C$133,0),6)+INDEX(Qual!$C$8:$M$133,MATCH($AN43,Qual!$C$8:$C$133,0),7)+INDEX(Qual!$C$8:$M$133,MATCH($AN43,Qual!$C$8:$C$133,0),8)+INDEX(Qual!$C$8:$M$133,MATCH($AN43,Qual!$C$8:$C$133,0),9)+INDEX(Qual!$C$8:$M$133,MATCH($AN43,Qual!$C$8:$C$133,0),10)+INDEX(Qual!$C$8:$M$133,MATCH($AN43,Qual!$C$8:$C$133,0),11))","v":""}]
[{"$nulls":28},{"$f":"IF(AD44=0,\"\",'Check-In'!$B49)","v":""},{"$f":"'Check-In'!I49","v":0},{"$f":"IF(AC44=\"\",\"\",INDEX(Qual!$C$8:$U$133,MATCH($AC44,Qual!$C$8:$C$133,0),4))","v":""},{"$f":"IF(AC44=\"\",\"\",INDEX(Qual!$C$8:$U$133,MATCH($AC44,Qual!$C$8:$C$133,0),6))","v":""},{"$f":"IF(AC44=\"\",\"\",INDEX(Qual!$C$8:$U$133,MATCH($AC44,Qual!$C$8:$C$133,0),8))","v":""},{"$f":"IF(AC44=\"\",\"\",INDEX(Qual!$C$8:$U$133,MATCH($AC44,Qual!$C$8:$C$133,0),10))","v":""},{"$f":"IF(AC44=\"\",\"\",INDEX(Qual!$C$8:$U$133,MATCH($AC44,Qual!$C$8:$C$133,0),12))","v":""},{"$f":"IF(AC44=\"\",\"\",INDEX(Qual!$C$8:$U$133,MATCH($AC44,Qual!$C$8:$C$133,0),14))","v":""},{"$f":"IF(AC44=\"\",\"\",INDEX(Qual!$C$8:$U$133,MATCH($AC44,Qual!$C$8:$C$133,0),16))","v":""},{"$f":"IF(AC44=\"\",\"\",INDEX(Qual!$C$8:$U$133,MATCH($AC44,Qual!$C$8:$C$133,0),18))","v":""},null,{"$f":"IF(AO44=0,\"\",'Check-In'!$B49)","v":""},{"$f":"'Check-In'!V49","v":0},{"$f":"IF(AO44=0,\"\",INDEX(Qual!$C$8:$M$133,MATCH($AN44,Qual!$C$8:$C$133,0),4)+INDEX(Qual!$C$8:$M$133,MATCH($AN44,Qual!$C$8:$C$133,0),5)+INDEX(Qual!$C$8:$M$133,MATCH($AN44,Qual!$C$8:$C$133,0),6)+INDEX(Qual!$C$8:$M$133,MATCH($AN44,Qual!$C$8:$C$133,0),7)+INDEX(Qual!$C$8:$M$133,MATCH($AN44,Qual!$C$8:$C$133,0),8)+INDEX(Qual!$C$8:$M$133,MATCH($AN44,Qual!$C$8:$C$133,0),9)+INDEX(Qual!$C$8:$M$133,MATCH($AN44,Qual!$C$8:$C$133,0),10)+INDEX(Qual!$C$8:$M$133,MATCH($AN44,Qual!$C$8:$C$133,0),11))","v":""}]
[{"$nulls":28},{"$f":"IF(AD45=0,\"\",'Check-In'!$B50)","v":""},{"$f":"'Check-In'!I50","v":0},{"$f":"IF(AC45=\"\",\"\",INDEX(Qual!$C$8:$U$133,MATCH($AC45,Qual!$C$8:$C$133,0),4))","v":""},{"$f":"IF(AC45=\"\",\"\",INDEX(Qual!$C$8:$U$133,MATCH($AC45,Qual!$C$8:$C$133,0),6))","v":""},{"$f":"IF(AC45=\"\",\"\",INDEX(Qual!$C$8:$U$133,MATCH($AC45,Qual!$C$8:$C$133,0),8))","v":""},{"$f":"IF(AC45=\"\",\"\",INDEX(Qual!$C$8:$U$133,MATCH($AC45,Qual!$C$8:$C$133,0),10))","v":""},{"$f":"IF(AC45=\"\",\"\",INDEX(Qual!$C$8:$U$133,MATCH($AC45,Qual!$C$8:$C$133,0),12))","v":""},{"$f":"IF(AC45=\"\",\"\",INDEX(Qual!$C$8:$U$133,MATCH($AC45,Qual!$C$8:$C$133,0),14))","v":""},{"$f":"IF(AC45=\"\",\"\",INDEX(Qual!$C$8:$U$133,MATCH($AC45,Qual!$C$8:$C$133,0),16))","v":""},{"$f":"IF(AC45=\"\",\"\",INDEX(Qual!$C$8:$U$133,MATCH($AC45,Qual!$C$8:$C$133,0),18))","v":""},null,{"$f":"IF(AO45=0,\"\",'Check-In'!$B50)","v":""},{"$f":"'Check-In'!V50","v":0},{"$f":"IF(AO45=0,\"\",INDEX(Qual!$C$8:$M$133,MATCH($AN45,Qual!$C$8:$C$133,0),4)+INDEX(Qual!$C$8:$M$133,MATCH($AN45,Qual!$C$8:$C$133,0),5)+INDEX(Qual!$C$8:$M$133,MATCH($AN45,Qual!$C$8:$C$133,0),6)+INDEX(Qual!$C$8:$M$133,MATCH($AN45,Qual!$C$8:$C$133,0),7)+INDEX(Qual!$C$8:$M$133,MATCH($AN45,Qual!$C$8:$C$133,0),8)+INDEX(Qual!$C$8:$M$133,MATCH($AN45,Qual!$C$8:$C$133,0),9)+INDEX(Qual!$C$8:$M$133,MATCH($AN45,Qual!$C$8:$C$133,0),10)+INDEX(Qual!$C$8:$M$133,MATCH($AN45,Qual!$C$8:$C$133,0),11))","v":""}]
[{"$nulls":28},{"$f":"IF(AD46=0,\"\",'Check-In'!$B51)","v":""},{"$f":"'Check-In'!I51","v":0},{"$f":"IF(AC46=\"\",\"\",INDEX(Qual!$C$8:$U$133,MATCH($AC46,Qual!$C$8:$C$133,0),4))","v":""},{"$f":"IF(AC46=\"\",\"\",INDEX(Qual!$C$8:$U$133,MATCH($AC46,Qual!$C$8:$C$133,0),6))","v":""},{"$f":"IF(AC46=\"\",\"\",INDEX(Qual!$C$8:$U$133,MATCH($AC46,Qual!$C$8:$C$133,0),8))","v":""},{"$f":"IF(AC46=\"\",\"\",INDEX(Qual!$C$8:$U$133,MATCH($AC46,Qual!$C$8:$C$133,0),10))","v":""},{"$f":"IF(AC46=\"\",\"\",INDEX(Qual!$C$8:$U$133,MATCH($AC46,Qual!$C$8:$C$133,0),12))","v":""},{"$f":"IF(AC46=\"\",\"\",INDEX(Qual!$C$8:$U$133,MATCH($AC46,Qual!$C$8:$C$133,0),14))","v":""},{"$f":"IF(AC46=\"\",\"\",INDEX(Qual!$C$8:$U$133,MATCH($AC46,Qual!$C$8:$C$133,0),16))","v":""},{"$f":"IF(AC46=\"\",\"\",INDEX(Qual!$C$8:$U$133,MATCH($AC46,Qual!$C$8:$C$133,0),18))","v":""},null,{"$f":"IF(AO46=0,\"\",'Check-In'!$B51)","v":""},{"$f":"'Check-In'!V51","v":0},{"$f":"IF(AO46=0,\"\",INDEX(Qual!$C$8:$M$133,MATCH($AN46,Qual!$C$8:$C$133,0),4)+INDEX(Qual!$C$8:$M$133,MATCH($AN46,Qual!$C$8:$C$133,0),5)+INDEX(Qual!$C$8:$M$133,MATCH($AN46,Qual!$C$8:$C$133,0),6)+INDEX(Qual!$C$8:$M$133,MATCH($AN46,Qual!$C$8:$C$133,0),7)+INDEX(Qual!$C$8:$M$133,MATCH($AN46,Qual!$C$8:$C$133,0),8)+INDEX(Qual!$C$8:$M$133,MATCH($AN46,Qual!$C$8:$C$133,0),9)+INDEX(Qual!$C$8:$M$133,MATCH($AN46,Qual!$C$8:$C$133,0),10)+INDEX(Qual!$C$8:$M$133,MATCH($AN46,Qual!$C$8:$C$133,0),11))","v":""}]
[{"$nulls":28},{"$f":"IF(AD47=0,\"\",'Check-In'!$B52)","v":""},{"$f":"'Check-In'!I52","v":0},{"$f":"IF(AC47=\"\",\"\",INDEX(Qual!$C$8:$U$133,MATCH($AC47,Qual!$C$8:$C$133,0),4))","v":""},{"$f":"IF(AC47=\"\",\"\",INDEX(Qual!$C$8:$U$133,MATCH($AC47,Qual!$C$8:$C$133,0),6))","v":""},{"$f":"IF(AC47=\"\",\"\",INDEX(Qual!$C$8:$U$133,MATCH($AC47,Qual!$C$8:$C$133,0),8))","v":""},{"$f":"IF(AC47=\"\",\"\",INDEX(Qual!$C$8:$U$133,MATCH($AC47,Qual!$C$8:$C$133,0),10))","v":""},{"$f":"IF(AC47=\"\",\"\",INDEX(Qual!$C$8:$U$133,MATCH($AC47,Qual!$C$8:$C$133,0),12))","v":""},{"$f":"IF(AC47=\"\",\"\",INDEX(Qual!$C$8:$U$133,MATCH($AC47,Qual!$C$8:$C$133,0),14))","v":""},{"$f":"IF(AC47=\"\",\"\",INDEX(Qual!$C$8:$U$133,MATCH($AC47,Qual!$C$8:$C$133,0),16))","v":""},{"$f":"IF(AC47=\"\",\"\",INDEX(Qual!$C$8:$U$133,MATCH($AC47,Qual!$C$8:$C$133,0),18))","v":""},null,{"$f":"IF(AO47=0,\"\",'Check-In'!$B52)","v":"BIRKEDAHL, LARRY"},{"$f":"'Check-In'!V52","v":"X"},{"$f":"IF(AO47=0,\"\",INDEX(Qual!$C$8:$M$133,MATCH($AN47,Qual!$C$8:$C$133,0),4)+INDEX(Qual!$C$8:$M$133,MATCH($AN47,Qual!$C$8:$C$133,0),5)+INDEX(Qual!$C$8:$M$133,MATCH($AN47,Qual!$C$8:$C$133,0),6)+INDEX(Qual!$C$8:$M$133,MATCH($AN47,Qual!$C$8:$C$133,0),7)+INDEX(Qual!$C$8:$M$133,MATCH($AN47,Qual!$C$8:$C$133,0),8)+INDEX(Qual!$C$8:$M$133,MATCH($AN47,Qual!$C$8:$C$133,0),9)+INDEX(Qual!$C$8:$M$133,MATCH($AN47,Qual!$C$8:$C$133,0),10)+INDEX(Qual!$C$8:$M$133,MATCH($AN47,Qual!$C$8:$C$133,0),11))","v":944}]
[{"$nulls":28},{"$f":"IF(AD48=0,\"\",'Check-In'!$B53)","v":""},{"$f":"'Check-In'!I53","v":0},{"$f":"IF(AC48=\"\",\"\",INDEX(Qual!$C$8:$U$133,MATCH($AC48,Qual!$C$8:$C$133,0),4))","v":""},{"$f":"IF(AC48=\"\",\"\",INDEX(Qual!$C$8:$U$133,MATCH($AC48,Qual!$C$8:$C$133,0),6))","v":""},{"$f":"IF(AC48=\"\",\"\",INDEX(Qual!$C$8:$U$133,MATCH($AC48,Qual!$C$8:$C$133,0),8))","v":""},{"$f":"IF(AC48=\"\",\"\",INDEX(Qual!$C$8:$U$133,MATCH($AC48,Qual!$C$8:$C$133,0),10))","v":""},{"$f":"IF(AC48=\"\",\"\",INDEX(Qual!$C$8:$U$133,MATCH($AC48,Qual!$C$8:$C$133,0),12))","v":""},{"$f":"IF(AC48=\"\",\"\",INDEX(Qual!$C$8:$U$133,MATCH($AC48,Qual!$C$8:$C$133,0),14))","v":""},{"$f":"IF(AC48=\"\",\"\",INDEX(Qual!$C$8:$U$133,MATCH($AC48,Qual!$C$8:$C$133,0),16))","v":""},{"$f":"IF(AC48=\"\",\"\",INDEX(Qual!$C$8:$U$133,MATCH($AC48,Qual!$C$8:$C$133,0),18))","v":""},null,{"$f":"IF(AO48=0,\"\",'Check-In'!$B53)","v":""},{"$f":"'Check-In'!V53","v":0},{"$f":"IF(AO48=0,\"\",INDEX(Qual!$C$8:$M$133,MATCH($AN48,Qual!$C$8:$C$133,0),4)+INDEX(Qual!$C$8:$M$133,MATCH($AN48,Qual!$C$8:$C$133,0),5)+INDEX(Qual!$C$8:$M$133,MATCH($AN48,Qual!$C$8:$C$133,0),6)+INDEX(Qual!$C$8:$M$133,MATCH($AN48,Qual!$C$8:$C$133,0),7)+INDEX(Qual!$C$8:$M$133,MATCH($AN48,Qual!$C$8:$C$133,0),8)+INDEX(Qual!$C$8:$M$133,MATCH($AN48,Qual!$C$8:$C$133,0),9)+INDEX(Qual!$C$8:$M$133,MATCH($AN48,Qual!$C$8:$C$133,0),10)+INDEX(Qual!$C$8:$M$133,MATCH($AN48,Qual!$C$8:$C$133,0),11))","v":""}]
[{"$nulls":28},{"$f":"IF(AD49=0,\"\",'Check-In'!$B54)","v":""},{"$f":"'Check-In'!I54","v":0},{"$f":"IF(AC49=\"\",\"\",INDEX(Qual!$C$8:$U$133,MATCH($AC49,Qual!$C$8:$C$133,0),4))","v":""},{"$f":"IF(AC49=\"\",\"\",INDEX(Qual!$C$8:$U$133,MATCH($AC49,Qual!$C$8:$C$133,0),6))","v":""},{"$f":"IF(AC49=\"\",\"\",INDEX(Qual!$C$8:$U$133,MATCH($AC49,Qual!$C$8:$C$133,0),8))","v":""},{"$f":"IF(AC49=\"\",\"\",INDEX(Qual!$C$8:$U$133,MATCH($AC49,Qual!$C$8:$C$133,0),10))","v":""},{"$f":"IF(AC49=\"\",\"\",INDEX(Qual!$C$8:$U$133,MATCH($AC49,Qual!$C$8:$C$133,0),12))","v":""},{"$f":"IF(AC49=\"\",\"\",INDEX(Qual!$C$8:$U$133,MATCH($AC49,Qual!$C$8:$C$133,0),14))","v":""},{"$f":"IF(AC49=\"\",\"\",INDEX(Qual!$C$8:$U$133,MATCH($AC49,Qual!$C$8:$C$133,0),16))","v":""},{"$f":"IF(AC49=\"\",\"\",INDEX(Qual!$C$8:$U$133,MATCH($AC49,Qual!$C$8:$C$133,0),18))","v":""},null,{"$f":"IF(AO49=0,\"\",'Check-In'!$B54)","v":""},{"$f":"'Check-In'!V54","v":0},{"$f":"IF(AO49=0,\"\",INDEX(Qual!$C$8:$M$133,MATCH($AN49,Qual!$C$8:$C$133,0),4)+INDEX(Qual!$C$8:$M$133,MATCH($AN49,Qual!$C$8:$C$133,0),5)+INDEX(Qual!$C$8:$M$133,MATCH($AN49,Qual!$C$8:$C$133,0),6)+INDEX(Qual!$C$8:$M$133,MATCH($AN49,Qual!$C$8:$C$133,0),7)+INDEX(Qual!$C$8:$M$133,MATCH($AN49,Qual!$C$8:$C$133,0),8)+INDEX(Qual!$C$8:$M$133,MATCH($AN49,Qual!$C$8:$C$133,0),9)+INDEX(Qual!$C$8:$M$133,MATCH($AN49,Qual!$C$8:$C$133,0),10)+INDEX(Qual!$C$8:$M$133,MATCH($AN49,Qual!$C$8:$C$133,0),11))","v":""}]
[{"$nulls":28},{"$f":"IF(AD50=0,\"\",'Check-In'!$B55)","v":""},{"$f":"'Check-In'!I55","v":0},{"$f":"IF(AC50=\"\",\"\",INDEX(Qual!$C$8:$U$133,MATCH($AC50,Qual!$C$8:$C$133,0),4))","v":""},{"$f":"IF(AC50=\"\",\"\",INDEX(Qual!$C$8:$U$133,MATCH($AC50,Qual!$C$8:$C$133,0),6))","v":""},{"$f":"IF(AC50=\"\",\"\",INDEX(Qual!$C$8:$U$133,MATCH($AC50,Qual!$C$8:$C$133,0),8))","v":""},{"$f":"IF(AC50=\"\",\"\",INDEX(Qual!$C$8:$U$133,MATCH($AC50,Qual!$C$8:$C$133,0),10))","v":""},{"$f":"IF(AC50=\"\",\"\",INDEX(Qual!$C$8:$U$133,MATCH($AC50,Qual!$C$8:$C$133,0),12))","v":""},{"$f":"IF(AC50=\"\",\"\",INDEX(Qual!$C$8:$U$133,MATCH($AC50,Qual!$C$8:$C$133,0),14))","v":""},{"$f":"IF(AC50=\"\",\"\",INDEX(Qual!$C$8:$U$133,MATCH($AC50,Qual!$C$8:$C$133,0),16))","v":""},{"$f":"IF(AC50=\"\",\"\",INDEX(Qual!$C$8:$U$133,MATCH($AC50,Qual!$C$8:$C$133,0),18))","v":""},null,{"$f":"IF(AO50=0,\"\",'Check-In'!$B55)","v":""},{"$f":"'Check-In'!V55","v":0},{"$f":"IF(AO50=0,\"\",INDEX(Qual!$C$8:$M$133,MATCH($AN50,Qual!$C$8:$C$133,0),4)+INDEX(Qual!$C$8:$M$133,MATCH($AN50,Qual!$C$8:$C$133,0),5)+INDEX(Qual!$C$8:$M$133,MATCH($AN50,Qual!$C$8:$C$133,0),6)+INDEX(Qual!$C$8:$M$133,MATCH($AN50,Qual!$C$8:$C$133,0),7)+INDEX(Qual!$C$8:$M$133,MATCH($AN50,Qual!$C$8:$C$133,0),8)+INDEX(Qual!$C$8:$M$133,MATCH($AN50,Qual!$C$8:$C$133,0),9)+INDEX(Qual!$C$8:$M$133,MATCH($AN50,Qual!$C$8:$C$133,0),10)+INDEX(Qual!$C$8:$M$133,MATCH($AN50,Qual!$C$8:$C$133,0),11))","v":""}]
[{"$nulls":28},{"$f":"IF(AD51=0,\"\",'Check-In'!$B56)","v":""},{"$f":"'Check-In'!I56","v":0},{"$f":"IF(AC51=\"\",\"\",INDEX(Qual!$C$8:$U$133,MATCH($AC51,Qual!$C$8:$C$133,0),4))","v":""},{"$f":"IF(AC51=\"\",\"\",INDEX(Qual!$C$8:$U$133,MATCH($AC51,Qual!$C$8:$C$133,0),6))","v":""},{"$f":"IF(AC51=\"\",\"\",INDEX(Qual!$C$8:$U$133,MATCH($AC51,Qual!$C$8:$C$133,0),8))","v":""},{"$f":"IF(AC51=\"\",\"\",INDEX(Qual!$C$8:$U$133,MATCH($AC51,Qual!$C$8:$C$133,0),10))","v":""},{"$f":"IF(AC51=\"\",\"\",INDEX(Qual!$C$8:$U$133,MATCH($AC51,Qual!$C$8:$C$133,0),12))","v":""},{"$f":"IF(AC51=\"\",\"\",INDEX(Qual!$C$8:$U$133,MATCH($AC51,Qual!$C$8:$C$133,0),14))","v":""},{"$f":"IF(AC51=\"\",\"\",INDEX(Qual!$C$8:$U$133,MATCH($AC51,Qual!$C$8:$C$133,0),16))","v":""},{"$f":"IF(AC51=\"\",\"\",INDEX(Qual!$C$8:$U$133,MATCH($AC51,Qual!$C$8:$C$133,0),18))","v":""},null,{"$f":"IF(AO51=0,\"\",'Check-In'!$B56)","v":""},{"$f":"'Check-In'!V56","v":0},{"$f":"IF(AO51=0,\"\",INDEX(Qual!$C$8:$M$133,MATCH($AN51,Qual!$C$8:$C$133,0),4)+INDEX(Qual!$C$8:$M$133,MATCH($AN51,Qual!$C$8:$C$133,0),5)+INDEX(Qual!$C$8:$M$133,MATCH($AN51,Qual!$C$8:$C$133,0),6)+INDEX(Qual!$C$8:$M$133,MATCH($AN51,Qual!$C$8:$C$133,0),7)+INDEX(Qual!$C$8:$M$133,MATCH($AN51,Qual!$C$8:$C$133,0),8)+INDEX(Qual!$C$8:$M$133,MATCH($AN51,Qual!$C$8:$C$133,0),9)+INDEX(Qual!$C$8:$M$133,MATCH($AN51,Qual!$C$8:$C$133,0),10)+INDEX(Qual!$C$8:$M$133,MATCH($AN51,Qual!$C$8:$C$133,0),11))","v":""}]
[{"$nulls":28},{"$f":"IF(AD52=0,\"\",'Check-In'!$B57)","v":""},{"$f":"'Check-In'!I57","v":0},{"$f":"IF(AC52=\"\",\"\",INDEX(Qual!$C$8:$U$133,MATCH($AC52,Qual!$C$8:$C$133,0),4))","v":""},{"$f":"IF(AC52=\"\",\"\",INDEX(Qual!$C$8:$U$133,MATCH($AC52,Qual!$C$8:$C$133,0),6))","v":""},{"$f":"IF(AC52=\"\",\"\",INDEX(Qual!$C$8:$U$133,MATCH($AC52,Qual!$C$8:$C$133,0),8))","v":""},{"$f":"IF(AC52=\"\",\"\",INDEX(Qual!$C$8:$U$133,MATCH($AC52,Qual!$C$8:$C$133,0),10))","v":""},{"$f":"IF(AC52=\"\",\"\",INDEX(Qual!$C$8:$U$133,MATCH($AC52,Qual!$C$8:$C$133,0),12))","v":""},{"$f":"IF(AC52=\"\",\"\",INDEX(Qual!$C$8:$U$133,MATCH($AC52,Qual!$C$8:$C$133,0),14))","v":""},{"$f":"IF(AC52=\"\",\"\",INDEX(Qual!$C$8:$U$133,MATCH($AC52,Qual!$C$8:$C$133,0),16))","v":""},{"$f":"IF(AC52=\"\",\"\",INDEX(Qual!$C$8:$U$133,MATCH($AC52,Qual!$C$8:$C$133,0),18))","v":""},null,{"$f":"IF(AO52=0,\"\",'Check-In'!$B57)","v":"SAVOY, TODD"},{"$f":"'Check-In'!V57","v":"X"},{"$f":"IF(AO52=0,\"\",INDEX(Qual!$C$8:$M$133,MATCH($AN52,Qual!$C$8:$C$133,0),4)+INDEX(Qual!$C$8:$M$133,MATCH($AN52,Qual!$C$8:$C$133,0),5)+INDEX(Qual!$C$8:$M$133,MATCH($AN52,Qual!$C$8:$C$133,0),6)+INDEX(Qual!$C$8:$M$133,MATCH($AN52,Qual!$C$8:$C$133,0),7)+INDEX(Qual!$C$8:$M$133,MATCH($AN52,Qual!$C$8:$C$133,0),8)+INDEX(Qual!$C$8:$M$133,MATCH($AN52,Qual!$C$8:$C$133,0),9)+INDEX(Qual!$C$8:$M$133,MATCH($AN52,Qual!$C$8:$C$133,0),10)+INDEX(Qual!$C$8:$M$133,MATCH($AN52,Qual!$C$8:$C$133,0),11))","v":1047}]
[{"$nulls":28},{"$f":"IF(AD53=0,\"\",'Check-In'!$B58)","v":""},{"$f":"'Check-In'!I58","v":0},{"$f":"IF(AC53=\"\",\"\",INDEX(Qual!$C$8:$U$133,MATCH($AC53,Qual!$C$8:$C$133,0),4))","v":""},{"$f":"IF(AC53=\"\",\"\",INDEX(Qual!$C$8:$U$133,MATCH($AC53,Qual!$C$8:$C$133,0),6))","v":""},{"$f":"IF(AC53=\"\",\"\",INDEX(Qual!$C$8:$U$133,MATCH($AC53,Qual!$C$8:$C$133,0),8))","v":""},{"$f":"IF(AC53=\"\",\"\",INDEX(Qual!$C$8:$U$133,MATCH($AC53,Qual!$C$8:$C$133,0),10))","v":""},{"$f":"IF(AC53=\"\",\"\",INDEX(Qual!$C$8:$U$133,MATCH($AC53,Qual!$C$8:$C$133,0),12))","v":""},{"$f":"IF(AC53=\"\",\"\",INDEX(Qual!$C$8:$U$133,MATCH($AC53,Qual!$C$8:$C$133,0),14))","v":""},{"$f":"IF(AC53=\"\",\"\",INDEX(Qual!$C$8:$U$133,MATCH($AC53,Qual!$C$8:$C$133,0),16))","v":""},{"$f":"IF(AC53=\"\",\"\",INDEX(Qual!$C$8:$U$133,MATCH($AC53,Qual!$C$8:$C$133,0),18))","v":""},null,{"$f":"IF(AO53=0,\"\",'Check-In'!$B58)","v":""},{"$f":"'Check-In'!V58","v":0},{"$f":"IF(AO53=0,\"\",INDEX(Qual!$C$8:$M$133,MATCH($AN53,Qual!$C$8:$C$133,0),4)+INDEX(Qual!$C$8:$M$133,MATCH($AN53,Qual!$C$8:$C$133,0),5)+INDEX(Qual!$C$8:$M$133,MATCH($AN53,Qual!$C$8:$C$133,0),6)+INDEX(Qual!$C$8:$M$133,MATCH($AN53,Qual!$C$8:$C$133,0),7)+INDEX(Qual!$C$8:$M$133,MATCH($AN53,Qual!$C$8:$C$133,0),8)+INDEX(Qual!$C$8:$M$133,MATCH($AN53,Qual!$C$8:$C$133,0),9)+INDEX(Qual!$C$8:$M$133,MATCH($AN53,Qual!$C$8:$C$133,0),10)+INDEX(Qual!$C$8:$M$133,MATCH($AN53,Qual!$C$8:$C$133,0),11))","v":""}]
[{"$nulls":28},{"$f":"IF(AD54=0,\"\",'Check-In'!$B59)","v":""},{"$f":"'Check-In'!I59","v":0},{"$f":"IF(AC54=\"\",\"\",INDEX(Qual!$C$8:$U$133,MATCH($AC54,Qual!$C$8:$C$133,0),4))","v":""},{"$f":"IF(AC54=\"\",\"\",INDEX(Qual!$C$8:$U$133,MATCH($AC54,Qual!$C$8:$C$133,0),6))","v":""},{"$f":"IF(AC54=\"\",\"\",INDEX(Qual!$C$8:$U$133,MATCH($AC54,Qual!$C$8:$C$133,0),8))","v":""},{"$f":"IF(AC54=\"\",\"\",INDEX(Qual!$C$8:$U$133,MATCH($AC54,Qual!$C$8:$C$133,0),10))","v":""},{"$f":"IF(AC54=\"\",\"\",INDEX(Qual!$C$8:$U$133,MATCH($AC54,Qual!$C$8:$C$133,0),12))","v":""},{"$f":"IF(AC54=\"\",\"\",INDEX(Qual!$C$8:$U$133,MATCH($AC54,Qual!$C$8:$C$133,0),14))","v":""},{"$f":"IF(AC54=\"\",\"\",INDEX(Qual!$C$8:$U$133,MATCH($AC54,Qual!$C$8:$C$133,0),16))","v":""},{"$f":"IF(AC54=\"\",\"\",INDEX(Qual!$C$8:$U$133,MATCH($AC54,Qual!$C$8:$C$133,0),18))","v":""},null,{"$f":"IF(AO54=0,\"\",'Check-In'!$B59)","v":"DOWNER, ROB"},{"$f":"'Check-In'!V59","v":"X"},{"$f":"IF(AO54=0,\"\",INDEX(Qual!$C$8:$M$133,MATCH($AN54,Qual!$C$8:$C$133,0),4)+INDEX(Qual!$C$8:$M$133,MATCH($AN54,Qual!$C$8:$C$133,0),5)+INDEX(Qual!$C$8:$M$133,MATCH($AN54,Qual!$C$8:$C$133,0),6)+INDEX(Qual!$C$8:$M$133,MATCH($AN54,Qual!$C$8:$C$133,0),7)+INDEX(Qual!$C$8:$M$133,MATCH($AN54,Qual!$C$8:$C$133,0),8)+INDEX(Qual!$C$8:$M$133,MATCH($AN54,Qual!$C$8:$C$133,0),9)+INDEX(Qual!$C$8:$M$133,MATCH($AN54,Qual!$C$8:$C$133,0),10)+INDEX(Qual!$C$8:$M$133,MATCH($AN54,Qual!$C$8:$C$133,0),11))","v":1017}]
[{"$nulls":28},{"$f":"IF(AD55=0,\"\",'Check-In'!$B60)","v":""},{"$f":"'Check-In'!I60","v":0},{"$f":"IF(AC55=\"\",\"\",INDEX(Qual!$C$8:$U$133,MATCH($AC55,Qual!$C$8:$C$133,0),4))","v":""},{"$f":"IF(AC55=\"\",\"\",INDEX(Qual!$C$8:$U$133,MATCH($AC55,Qual!$C$8:$C$133,0),6))","v":""},{"$f":"IF(AC55=\"\",\"\",INDEX(Qual!$C$8:$U$133,MATCH($AC55,Qual!$C$8:$C$133,0),8))","v":""},{"$f":"IF(AC55=\"\",\"\",INDEX(Qual!$C$8:$U$133,MATCH($AC55,Qual!$C$8:$C$133,0),10))","v":""},{"$f":"IF(AC55=\"\",\"\",INDEX(Qual!$C$8:$U$133,MATCH($AC55,Qual!$C$8:$C$133,0),12))","v":""},{"$f":"IF(AC55=\"\",\"\",INDEX(Qual!$C$8:$U$133,MATCH($AC55,Qual!$C$8:$C$133,0),14))","v":""},{"$f":"IF(AC55=\"\",\"\",INDEX(Qual!$C$8:$U$133,MATCH($AC55,Qual!$C$8:$C$133,0),16))","v":""},{"$f":"IF(AC55=\"\",\"\",INDEX(Qual!$C$8:$U$133,MATCH($AC55,Qual!$C$8:$C$133,0),18))","v":""},null,{"$f":"IF(AO55=0,\"\",'Check-In'!$B60)","v":"BOHN, STEVE"},{"$f":"'Check-In'!V60","v":"X"},{"$f":"IF(AO55=0,\"\",INDEX(Qual!$C$8:$M$133,MATCH($AN55,Qual!$C$8:$C$133,0),4)+INDEX(Qual!$C$8:$M$133,MATCH($AN55,Qual!$C$8:$C$133,0),5)+INDEX(Qual!$C$8:$M$133,MATCH($AN55,Qual!$C$8:$C$133,0),6)+INDEX(Qual!$C$8:$M$133,MATCH($AN55,Qual!$C$8:$C$133,0),7)+INDEX(Qual!$C$8:$M$133,MATCH($AN55,Qual!$C$8:$C$133,0),8)+INDEX(Qual!$C$8:$M$133,MATCH($AN55,Qual!$C$8:$C$133,0),9)+INDEX(Qual!$C$8:$M$133,MATCH($AN55,Qual!$C$8:$C$133,0),10)+INDEX(Qual!$C$8:$M$133,MATCH($AN55,Qual!$C$8:$C$133,0),11))","v":834}]
[{"$nulls":28},{"$f":"IF(AD56=0,\"\",'Check-In'!$B61)","v":""},{"$f":"'Check-In'!I61","v":0},{"$f":"IF(AC56=\"\",\"\",INDEX(Qual!$C$8:$U$133,MATCH($AC56,Qual!$C$8:$C$133,0),4))","v":""},{"$f":"IF(AC56=\"\",\"\",INDEX(Qual!$C$8:$U$133,MATCH($AC56,Qual!$C$8:$C$133,0),6))","v":""},{"$f":"IF(AC56=\"\",\"\",INDEX(Qual!$C$8:$U$133,MATCH($AC56,Qual!$C$8:$C$133,0),8))","v":""},{"$f":"IF(AC56=\"\",\"\",INDEX(Qual!$C$8:$U$133,MATCH($AC56,Qual!$C$8:$C$133,0),10))","v":""},{"$f":"IF(AC56=\"\",\"\",INDEX(Qual!$C$8:$U$133,MATCH($AC56,Qual!$C$8:$C$133,0),12))","v":""},{"$f":"IF(AC56=\"\",\"\",INDEX(Qual!$C$8:$U$133,MATCH($AC56,Qual!$C$8:$C$133,0),14))","v":""},{"$f":"IF(AC56=\"\",\"\",INDEX(Qual!$C$8:$U$133,MATCH($AC56,Qual!$C$8:$C$133,0),16))","v":""},{"$f":"IF(AC56=\"\",\"\",INDEX(Qual!$C$8:$U$133,MATCH($AC56,Qual!$C$8:$C$133,0),18))","v":""},null,{"$f":"IF(AO56=0,\"\",'Check-In'!$B61)","v":""},{"$f":"'Check-In'!V61","v":0},{"$f":"IF(AO56=0,\"\",INDEX(Qual!$C$8:$M$133,MATCH($AN56,Qual!$C$8:$C$133,0),4)+INDEX(Qual!$C$8:$M$133,MATCH($AN56,Qual!$C$8:$C$133,0),5)+INDEX(Qual!$C$8:$M$133,MATCH($AN56,Qual!$C$8:$C$133,0),6)+INDEX(Qual!$C$8:$M$133,MATCH($AN56,Qual!$C$8:$C$133,0),7)+INDEX(Qual!$C$8:$M$133,MATCH($AN56,Qual!$C$8:$C$133,0),8)+INDEX(Qual!$C$8:$M$133,MATCH($AN56,Qual!$C$8:$C$133,0),9)+INDEX(Qual!$C$8:$M$133,MATCH($AN56,Qual!$C$8:$C$133,0),10)+INDEX(Qual!$C$8:$M$133,MATCH($AN56,Qual!$C$8:$C$133,0),11))","v":""}]
[{"$nulls":28},{"$f":"IF(AD57=0,\"\",'Check-In'!$B62)","v":""},{"$f":"'Check-In'!I62","v":0},{"$f":"IF(AC57=\"\",\"\",INDEX(Qual!$C$8:$U$133,MATCH($AC57,Qual!$C$8:$C$133,0),4))","v":""},{"$f":"IF(AC57=\"\",\"\",INDEX(Qual!$C$8:$U$133,MATCH($AC57,Qual!$C$8:$C$133,0),6))","v":""},{"$f":"IF(AC57=\"\",\"\",INDEX(Qual!$C$8:$U$133,MATCH($AC57,Qual!$C$8:$C$133,0),8))","v":""},{"$f":"IF(AC57=\"\",\"\",INDEX(Qual!$C$8:$U$133,MATCH($AC57,Qual!$C$8:$C$133,0),10))","v":""},{"$f":"IF(AC57=\"\",\"\",INDEX(Qual!$C$8:$U$133,MATCH($AC57,Qual!$C$8:$C$133,0),12))","v":""},{"$f":"IF(AC57=\"\",\"\",INDEX(Qual!$C$8:$U$133,MATCH($AC57,Qual!$C$8:$C$133,0),14))","v":""},{"$f":"IF(AC57=\"\",\"\",INDEX(Qual!$C$8:$U$133,MATCH($AC57,Qual!$C$8:$C$133,0),16))","v":""},{"$f":"IF(AC57=\"\",\"\",INDEX(Qual!$C$8:$U$133,MATCH($AC57,Qual!$C$8:$C$133,0),18))","v":""},null,{"$f":"IF(AO57=0,\"\",'Check-In'!$B62)","v":""},{"$f":"'Check-In'!V62","v":0},{"$f":"IF(AO57=0,\"\",INDEX(Qual!$C$8:$M$133,MATCH($AN57,Qual!$C$8:$C$133,0),4)+INDEX(Qual!$C$8:$M$133,MATCH($AN57,Qual!$C$8:$C$133,0),5)+INDEX(Qual!$C$8:$M$133,MATCH($AN57,Qual!$C$8:$C$133,0),6)+INDEX(Qual!$C$8:$M$133,MATCH($AN57,Qual!$C$8:$C$133,0),7)+INDEX(Qual!$C$8:$M$133,MATCH($AN57,Qual!$C$8:$C$133,0),8)+INDEX(Qual!$C$8:$M$133,MATCH($AN57,Qual!$C$8:$C$133,0),9)+INDEX(Qual!$C$8:$M$133,MATCH($AN57,Qual!$C$8:$C$133,0),10)+INDEX(Qual!$C$8:$M$133,MATCH($AN57,Qual!$C$8:$C$133,0),11))","v":""}]
[{"$nulls":28},{"$f":"IF(AD58=0,\"\",'Check-In'!$B63)","v":""},{"$f":"'Check-In'!I63","v":0},{"$f":"IF(AC58=\"\",\"\",INDEX(Qual!$C$8:$U$133,MATCH($AC58,Qual!$C$8:$C$133,0),4))","v":""},{"$f":"IF(AC58=\"\",\"\",INDEX(Qual!$C$8:$U$133,MATCH($AC58,Qual!$C$8:$C$133,0),6))","v":""},{"$f":"IF(AC58=\"\",\"\",INDEX(Qual!$C$8:$U$133,MATCH($AC58,Qual!$C$8:$C$133,0),8))","v":""},{"$f":"IF(AC58=\"\",\"\",INDEX(Qual!$C$8:$U$133,MATCH($AC58,Qual!$C$8:$C$133,0),10))","v":""},{"$f":"IF(AC58=\"\",\"\",INDEX(Qual!$C$8:$U$133,MATCH($AC58,Qual!$C$8:$C$133,0),12))","v":""},{"$f":"IF(AC58=\"\",\"\",INDEX(Qual!$C$8:$U$133,MATCH($AC58,Qual!$C$8:$C$133,0),14))","v":""},{"$f":"IF(AC58=\"\",\"\",INDEX(Qual!$C$8:$U$133,MATCH($AC58,Qual!$C$8:$C$133,0),16))","v":""},{"$f":"IF(AC58=\"\",\"\",INDEX(Qual!$C$8:$U$133,MATCH($AC58,Qual!$C$8:$C$133,0),18))","v":""},null,{"$f":"IF(AO58=0,\"\",'Check-In'!$B63)","v":""},{"$f":"'Check-In'!V63","v":0},{"$f":"IF(AO58=0,\"\",INDEX(Qual!$C$8:$M$133,MATCH($AN58,Qual!$C$8:$C$133,0),4)+INDEX(Qual!$C$8:$M$133,MATCH($AN58,Qual!$C$8:$C$133,0),5)+INDEX(Qual!$C$8:$M$133,MATCH($AN58,Qual!$C$8:$C$133,0),6)+INDEX(Qual!$C$8:$M$133,MATCH($AN58,Qual!$C$8:$C$133,0),7)+INDEX(Qual!$C$8:$M$133,MATCH($AN58,Qual!$C$8:$C$133,0),8)+INDEX(Qual!$C$8:$M$133,MATCH($AN58,Qual!$C$8:$C$133,0),9)+INDEX(Qual!$C$8:$M$133,MATCH($AN58,Qual!$C$8:$C$133,0),10)+INDEX(Qual!$C$8:$M$133,MATCH($AN58,Qual!$C$8:$C$133,0),11))","v":""}]
[{"$nulls":28},{"$f":"IF(AD59=0,\"\",'Check-In'!$B64)","v":""},{"$f":"'Check-In'!I64","v":0},{"$f":"IF(AC59=\"\",\"\",INDEX(Qual!$C$8:$U$133,MATCH($AC59,Qual!$C$8:$C$133,0),4))","v":""},{"$f":"IF(AC59=\"\",\"\",INDEX(Qual!$C$8:$U$133,MATCH($AC59,Qual!$C$8:$C$133,0),6))","v":""},{"$f":"IF(AC59=\"\",\"\",INDEX(Qual!$C$8:$U$133,MATCH($AC59,Qual!$C$8:$C$133,0),8))","v":""},{"$f":"IF(AC59=\"\",\"\",INDEX(Qual!$C$8:$U$133,MATCH($AC59,Qual!$C$8:$C$133,0),10))","v":""},{"$f":"IF(AC59=\"\",\"\",INDEX(Qual!$C$8:$U$133,MATCH($AC59,Qual!$C$8:$C$133,0),12))","v":""},{"$f":"IF(AC59=\"\",\"\",INDEX(Qual!$C$8:$U$133,MATCH($AC59,Qual!$C$8:$C$133,0),14))","v":""},{"$f":"IF(AC59=\"\",\"\",INDEX(Qual!$C$8:$U$133,MATCH($AC59,Qual!$C$8:$C$133,0),16))","v":""},{"$f":"IF(AC59=\"\",\"\",INDEX(Qual!$C$8:$U$133,MATCH($AC59,Qual!$C$8:$C$133,0),18))","v":""},null,{"$f":"IF(AO59=0,\"\",'Check-In'!$B64)","v":""},{"$f":"'Check-In'!V64","v":0},{"$f":"IF(AO59=0,\"\",INDEX(Qual!$C$8:$M$133,MATCH($AN59,Qual!$C$8:$C$133,0),4)+INDEX(Qual!$C$8:$M$133,MATCH($AN59,Qual!$C$8:$C$133,0),5)+INDEX(Qual!$C$8:$M$133,MATCH($AN59,Qual!$C$8:$C$133,0),6)+INDEX(Qual!$C$8:$M$133,MATCH($AN59,Qual!$C$8:$C$133,0),7)+INDEX(Qual!$C$8:$M$133,MATCH($AN59,Qual!$C$8:$C$133,0),8)+INDEX(Qual!$C$8:$M$133,MATCH($AN59,Qual!$C$8:$C$133,0),9)+INDEX(Qual!$C$8:$M$133,MATCH($AN59,Qual!$C$8:$C$133,0),10)+INDEX(Qual!$C$8:$M$133,MATCH($AN59,Qual!$C$8:$C$133,0),11))","v":""}]
[{"$nulls":28},{"$f":"IF(AD60=0,\"\",'Check-In'!$B65)","v":""},{"$f":"'Check-In'!I65","v":0},{"$f":"IF(AC60=\"\",\"\",INDEX(Qual!$C$8:$U$133,MATCH($AC60,Qual!$C$8:$C$133,0),4))","v":""},{"$f":"IF(AC60=\"\",\"\",INDEX(Qual!$C$8:$U$133,MATCH($AC60,Qual!$C$8:$C$133,0),6))","v":""},{"$f":"IF(AC60=\"\",\"\",INDEX(Qual!$C$8:$U$133,MATCH($AC60,Qual!$C$8:$C$133,0),8))","v":""},{"$f":"IF(AC60=\"\",\"\",INDEX(Qual!$C$8:$U$133,MATCH($AC60,Qual!$C$8:$C$133,0),10))","v":""},{"$f":"IF(AC60=\"\",\"\",INDEX(Qual!$C$8:$U$133,MATCH($AC60,Qual!$C$8:$C$133,0),12))","v":""},{"$f":"IF(AC60=\"\",\"\",INDEX(Qual!$C$8:$U$133,MATCH($AC60,Qual!$C$8:$C$133,0),14))","v":""},{"$f":"IF(AC60=\"\",\"\",INDEX(Qual!$C$8:$U$133,MATCH($AC60,Qual!$C$8:$C$133,0),16))","v":""},{"$f":"IF(AC60=\"\",\"\",INDEX(Qual!$C$8:$U$133,MATCH($AC60,Qual!$C$8:$C$133,0),18))","v":""},null,{"$f":"IF(AO60=0,\"\",'Check-In'!$B65)","v":"RYAN, MIKE"},{"$f":"'Check-In'!V65","v":"X"},{"$f":"IF(AO60=0,\"\",INDEX(Qual!$C$8:$M$133,MATCH($AN60,Qual!$C$8:$C$133,0),4)+INDEX(Qual!$C$8:$M$133,MATCH($AN60,Qual!$C$8:$C$133,0),5)+INDEX(Qual!$C$8:$M$133,MATCH($AN60,Qual!$C$8:$C$133,0),6)+INDEX(Qual!$C$8:$M$133,MATCH($AN60,Qual!$C$8:$C$133,0),7)+INDEX(Qual!$C$8:$M$133,MATCH($AN60,Qual!$C$8:$C$133,0),8)+INDEX(Qual!$C$8:$M$133,MATCH($AN60,Qual!$C$8:$C$133,0),9)+INDEX(Qual!$C$8:$M$133,MATCH($AN60,Qual!$C$8:$C$133,0),10)+INDEX(Qual!$C$8:$M$133,MATCH($AN60,Qual!$C$8:$C$133,0),11))","v":890}]
[{"$nulls":28},{"$f":"IF(AD61=0,\"\",'Check-In'!$B66)","v":""},{"$f":"'Check-In'!I66","v":0},{"$f":"IF(AC61=\"\",\"\",INDEX(Qual!$C$8:$U$133,MATCH($AC61,Qual!$C$8:$C$133,0),4))","v":""},{"$f":"IF(AC61=\"\",\"\",INDEX(Qual!$C$8:$U$133,MATCH($AC61,Qual!$C$8:$C$133,0),6))","v":""},{"$f":"IF(AC61=\"\",\"\",INDEX(Qual!$C$8:$U$133,MATCH($AC61,Qual!$C$8:$C$133,0),8))","v":""},{"$f":"IF(AC61=\"\",\"\",INDEX(Qual!$C$8:$U$133,MATCH($AC61,Qual!$C$8:$C$133,0),10))","v":""},{"$f":"IF(AC61=\"\",\"\",INDEX(Qual!$C$8:$U$133,MATCH($AC61,Qual!$C$8:$C$133,0),12))","v":""},{"$f":"IF(AC61=\"\",\"\",INDEX(Qual!$C$8:$U$133,MATCH($AC61,Qual!$C$8:$C$133,0),14))","v":""},{"$f":"IF(AC61=\"\",\"\",INDEX(Qual!$C$8:$U$133,MATCH($AC61,Qual!$C$8:$C$133,0),16))","v":""},{"$f":"IF(AC61=\"\",\"\",INDEX(Qual!$C$8:$U$133,MATCH($AC61,Qual!$C$8:$C$133,0),18))","v":""},null,{"$f":"IF(AO61=0,\"\",'Check-In'!$B66)","v":"RACETTE, TIM"},{"$f":"'Check-In'!V66","v":"X"},{"$f":"IF(AO61=0,\"\",INDEX(Qual!$C$8:$M$133,MATCH($AN61,Qual!$C$8:$C$133,0),4)+INDEX(Qual!$C$8:$M$133,MATCH($AN61,Qual!$C$8:$C$133,0),5)+INDEX(Qual!$C$8:$M$133,MATCH($AN61,Qual!$C$8:$C$133,0),6)+INDEX(Qual!$C$8:$M$133,MATCH($AN61,Qual!$C$8:$C$133,0),7)+INDEX(Qual!$C$8:$M$133,MATCH($AN61,Qual!$C$8:$C$133,0),8)+INDEX(Qual!$C$8:$M$133,MATCH($AN61,Qual!$C$8:$C$133,0),9)+INDEX(Qual!$C$8:$M$133,MATCH($AN61,Qual!$C$8:$C$133,0),10)+INDEX(Qual!$C$8:$M$133,MATCH($AN61,Qual!$C$8:$C$133,0),11))","v":893}]
[{"$nulls":28},{"$f":"IF(AD62=0,\"\",'Check-In'!$B67)","v":""},{"$f":"'Check-In'!I67","v":0},{"$f":"IF(AC62=\"\",\"\",INDEX(Qual!$C$8:$U$133,MATCH($AC62,Qual!$C$8:$C$133,0),4))","v":""},{"$f":"IF(AC62=\"\",\"\",INDEX(Qual!$C$8:$U$133,MATCH($AC62,Qual!$C$8:$C$133,0),6))","v":""},{"$f":"IF(AC62=\"\",\"\",INDEX(Qual!$C$8:$U$133,MATCH($AC62,Qual!$C$8:$C$133,0),8))","v":""},{"$f":"IF(AC62=\"\",\"\",INDEX(Qual!$C$8:$U$133,MATCH($AC62,Qual!$C$8:$C$133,0),10))","v":""},{"$f":"IF(AC62=\"\",\"\",INDEX(Qual!$C$8:$U$133,MATCH($AC62,Qual!$C$8:$C$133,0),12))","v":""},{"$f":"IF(AC62=\"\",\"\",INDEX(Qual!$C$8:$U$133,MATCH($AC62,Qual!$C$8:$C$133,0),14))","v":""},{"$f":"IF(AC62=\"\",\"\",INDEX(Qual!$C$8:$U$133,MATCH($AC62,Qual!$C$8:$C$133,0),16))","v":""},{"$f":"IF(AC62=\"\",\"\",INDEX(Qual!$C$8:$U$133,MATCH($AC62,Qual!$C$8:$C$133,0),18))","v":""},null,{"$f":"IF(AO62=0,\"\",'Check-In'!$B67)","v":"WINTER, JIM"},{"$f":"'Check-In'!V67","v":"X"},{"$f":"IF(AO62=0,\"\",INDEX(Qual!$C$8:$M$133,MATCH($AN62,Qual!$C$8:$C$133,0),4)+INDEX(Qual!$C$8:$M$133,MATCH($AN62,Qual!$C$8:$C$133,0),5)+INDEX(Qual!$C$8:$M$133,MATCH($AN62,Qual!$C$8:$C$133,0),6)+INDEX(Qual!$C$8:$M$133,MATCH($AN62,Qual!$C$8:$C$133,0),7)+INDEX(Qual!$C$8:$M$133,MATCH($AN62,Qual!$C$8:$C$133,0),8)+INDEX(Qual!$C$8:$M$133,MATCH($AN62,Qual!$C$8:$C$133,0),9)+INDEX(Qual!$C$8:$M$133,MATCH($AN62,Qual!$C$8:$C$133,0),10)+INDEX(Qual!$C$8:$M$133,MATCH($AN62,Qual!$C$8:$C$133,0),11))","v":795}]
[{"$nulls":28},{"$f":"IF(AD63=0,\"\",'Check-In'!$B68)","v":""},{"$f":"'Check-In'!I68","v":0},{"$f":"IF(AC63=\"\",\"\",INDEX(Qual!$C$8:$U$133,MATCH($AC63,Qual!$C$8:$C$133,0),4))","v":""},{"$f":"IF(AC63=\"\",\"\",INDEX(Qual!$C$8:$U$133,MATCH($AC63,Qual!$C$8:$C$133,0),6))","v":""},{"$f":"IF(AC63=\"\",\"\",INDEX(Qual!$C$8:$U$133,MATCH($AC63,Qual!$C$8:$C$133,0),8))","v":""},{"$f":"IF(AC63=\"\",\"\",INDEX(Qual!$C$8:$U$133,MATCH($AC63,Qual!$C$8:$C$133,0),10))","v":""},{"$f":"IF(AC63=\"\",\"\",INDEX(Qual!$C$8:$U$133,MATCH($AC63,Qual!$C$8:$C$133,0),12))","v":""},{"$f":"IF(AC63=\"\",\"\",INDEX(Qual!$C$8:$U$133,MATCH($AC63,Qual!$C$8:$C$133,0),14))","v":""},{"$f":"IF(AC63=\"\",\"\",INDEX(Qual!$C$8:$U$133,MATCH($AC63,Qual!$C$8:$C$133,0),16))","v":""},{"$f":"IF(AC63=\"\",\"\",INDEX(Qual!$C$8:$U$133,MATCH($AC63,Qual!$C$8:$C$133,0),18))","v":""},null,{"$f":"IF(AO63=0,\"\",'Check-In'!$B68)","v":"WORM, KEN"},{"$f":"'Check-In'!V68","v":"X"},{"$f":"IF(AO63=0,\"\",INDEX(Qual!$C$8:$M$133,MATCH($AN63,Qual!$C$8:$C$133,0),4)+INDEX(Qual!$C$8:$M$133,MATCH($AN63,Qual!$C$8:$C$133,0),5)+INDEX(Qual!$C$8:$M$133,MATCH($AN63,Qual!$C$8:$C$133,0),6)+INDEX(Qual!$C$8:$M$133,MATCH($AN63,Qual!$C$8:$C$133,0),7)+INDEX(Qual!$C$8:$M$133,MATCH($AN63,Qual!$C$8:$C$133,0),8)+INDEX(Qual!$C$8:$M$133,MATCH($AN63,Qual!$C$8:$C$133,0),9)+INDEX(Qual!$C$8:$M$133,MATCH($AN63,Qual!$C$8:$C$133,0),10)+INDEX(Qual!$C$8:$M$133,MATCH($AN63,Qual!$C$8:$C$133,0),11))","v":917}]
[{"$nulls":28},{"$f":"IF(AD64=0,\"\",'Check-In'!$B69)","v":""},{"$f":"'Check-In'!I69","v":0},{"$f":"IF(AC64=\"\",\"\",INDEX(Qual!$C$8:$U$133,MATCH($AC64,Qual!$C$8:$C$133,0),4))","v":""},{"$f":"IF(AC64=\"\",\"\",INDEX(Qual!$C$8:$U$133,MATCH($AC64,Qual!$C$8:$C$133,0),6))","v":""},{"$f":"IF(AC64=\"\",\"\",INDEX(Qual!$C$8:$U$133,MATCH($AC64,Qual!$C$8:$C$133,0),8))","v":""},{"$f":"IF(AC64=\"\",\"\",INDEX(Qual!$C$8:$U$133,MATCH($AC64,Qual!$C$8:$C$133,0),10))","v":""},{"$f":"IF(AC64=\"\",\"\",INDEX(Qual!$C$8:$U$133,MATCH($AC64,Qual!$C$8:$C$133,0),12))","v":""},{"$f":"IF(AC64=\"\",\"\",INDEX(Qual!$C$8:$U$133,MATCH($AC64,Qual!$C$8:$C$133,0),14))","v":""},{"$f":"IF(AC64=\"\",\"\",INDEX(Qual!$C$8:$U$133,MATCH($AC64,Qual!$C$8:$C$133,0),16))","v":""},{"$f":"IF(AC64=\"\",\"\",INDEX(Qual!$C$8:$U$133,MATCH($AC64,Qual!$C$8:$C$133,0),18))","v":""},null,{"$f":"IF(AO64=0,\"\",'Check-In'!$B69)","v":""},{"$f":"'Check-In'!V69","v":0},{"$f":"IF(AO64=0,\"\",INDEX(Qual!$C$8:$M$133,MATCH($AN64,Qual!$C$8:$C$133,0),4)+INDEX(Qual!$C$8:$M$133,MATCH($AN64,Qual!$C$8:$C$133,0),5)+INDEX(Qual!$C$8:$M$133,MATCH($AN64,Qual!$C$8:$C$133,0),6)+INDEX(Qual!$C$8:$M$133,MATCH($AN64,Qual!$C$8:$C$133,0),7)+INDEX(Qual!$C$8:$M$133,MATCH($AN64,Qual!$C$8:$C$133,0),8)+INDEX(Qual!$C$8:$M$133,MATCH($AN64,Qual!$C$8:$C$133,0),9)+INDEX(Qual!$C$8:$M$133,MATCH($AN64,Qual!$C$8:$C$133,0),10)+INDEX(Qual!$C$8:$M$133,MATCH($AN64,Qual!$C$8:$C$133,0),11))","v":""}]
[{"$nulls":28},{"$f":"IF(AD65=0,\"\",'Check-In'!$B70)","v":""},{"$f":"'Check-In'!I70","v":0},{"$f":"IF(AC65=\"\",\"\",INDEX(Qual!$C$8:$U$133,MATCH($AC65,Qual!$C$8:$C$133,0),4))","v":""},{"$f":"IF(AC65=\"\",\"\",INDEX(Qual!$C$8:$U$133,MATCH($AC65,Qual!$C$8:$C$133,0),6))","v":""},{"$f":"IF(AC65=\"\",\"\",INDEX(Qual!$C$8:$U$133,MATCH($AC65,Qual!$C$8:$C$133,0),8))","v":""},{"$f":"IF(AC65=\"\",\"\",INDEX(Qual!$C$8:$U$133,MATCH($AC65,Qual!$C$8:$C$133,0),10))","v":""},{"$f":"IF(AC65=\"\",\"\",INDEX(Qual!$C$8:$U$133,MATCH($AC65,Qual!$C$8:$C$133,0),12))","v":""},{"$f":"IF(AC65=\"\",\"\",INDEX(Qual!$C$8:$U$133,MATCH($AC65,Qual!$C$8:$C$133,0),14))","v":""},{"$f":"IF(AC65=\"\",\"\",INDEX(Qual!$C$8:$U$133,MATCH($AC65,Qual!$C$8:$C$133,0),16))","v":""},{"$f":"IF(AC65=\"\",\"\",INDEX(Qual!$C$8:$U$133,MATCH($AC65,Qual!$C$8:$C$133,0),18))","v":""},null,{"$f":"IF(AO65=0,\"\",'Check-In'!$B70)","v":""},{"$f":"'Check-In'!V70","v":0},{"$f":"IF(AO65=0,\"\",INDEX(Qual!$C$8:$M$133,MATCH($AN65,Qual!$C$8:$C$133,0),4)+INDEX(Qual!$C$8:$M$133,MATCH($AN65,Qual!$C$8:$C$133,0),5)+INDEX(Qual!$C$8:$M$133,MATCH($AN65,Qual!$C$8:$C$133,0),6)+INDEX(Qual!$C$8:$M$133,MATCH($AN65,Qual!$C$8:$C$133,0),7)+INDEX(Qual!$C$8:$M$133,MATCH($AN65,Qual!$C$8:$C$133,0),8)+INDEX(Qual!$C$8:$M$133,MATCH($AN65,Qual!$C$8:$C$133,0),9)+INDEX(Qual!$C$8:$M$133,MATCH($AN65,Qual!$C$8:$C$133,0),10)+INDEX(Qual!$C$8:$M$133,MATCH($AN65,Qual!$C$8:$C$133,0),11))","v":""}]
[{"$nulls":28},{"$f":"IF(AD66=0,\"\",'Check-In'!$B71)","v":""},{"$f":"'Check-In'!I71","v":0},{"$f":"IF(AC66=\"\",\"\",INDEX(Qual!$C$8:$U$133,MATCH($AC66,Qual!$C$8:$C$133,0),4))","v":""},{"$f":"IF(AC66=\"\",\"\",INDEX(Qual!$C$8:$U$133,MATCH($AC66,Qual!$C$8:$C$133,0),6))","v":""},{"$f":"IF(AC66=\"\",\"\",INDEX(Qual!$C$8:$U$133,MATCH($AC66,Qual!$C$8:$C$133,0),8))","v":""},{"$f":"IF(AC66=\"\",\"\",INDEX(Qual!$C$8:$U$133,MATCH($AC66,Qual!$C$8:$C$133,0),10))","v":""},{"$f":"IF(AC66=\"\",\"\",INDEX(Qual!$C$8:$U$133,MATCH($AC66,Qual!$C$8:$C$133,0),12))","v":""},{"$f":"IF(AC66=\"\",\"\",INDEX(Qual!$C$8:$U$133,MATCH($AC66,Qual!$C$8:$C$133,0),14))","v":""},{"$f":"IF(AC66=\"\",\"\",INDEX(Qual!$C$8:$U$133,MATCH($AC66,Qual!$C$8:$C$133,0),16))","v":""},{"$f":"IF(AC66=\"\",\"\",INDEX(Qual!$C$8:$U$133,MATCH($AC66,Qual!$C$8:$C$133,0),18))","v":""},null,{"$f":"IF(AO66=0,\"\",'Check-In'!$B71)","v":""},{"$f":"'Check-In'!V71","v":0},{"$f":"IF(AO66=0,\"\",INDEX(Qual!$C$8:$M$133,MATCH($AN66,Qual!$C$8:$C$133,0),4)+INDEX(Qual!$C$8:$M$133,MATCH($AN66,Qual!$C$8:$C$133,0),5)+INDEX(Qual!$C$8:$M$133,MATCH($AN66,Qual!$C$8:$C$133,0),6)+INDEX(Qual!$C$8:$M$133,MATCH($AN66,Qual!$C$8:$C$133,0),7)+INDEX(Qual!$C$8:$M$133,MATCH($AN66,Qual!$C$8:$C$133,0),8)+INDEX(Qual!$C$8:$M$133,MATCH($AN66,Qual!$C$8:$C$133,0),9)+INDEX(Qual!$C$8:$M$133,MATCH($AN66,Qual!$C$8:$C$133,0),10)+INDEX(Qual!$C$8:$M$133,MATCH($AN66,Qual!$C$8:$C$133,0),11))","v":""}]
[{"$nulls":28},{"$f":"IF(AD67=0,\"\",'Check-In'!$B72)","v":""},{"$f":"'Check-In'!I72","v":0},{"$f":"IF(AC67=\"\",\"\",INDEX(Qual!$C$8:$U$133,MATCH($AC67,Qual!$C$8:$C$133,0),4))","v":""},{"$f":"IF(AC67=\"\",\"\",INDEX(Qual!$C$8:$U$133,MATCH($AC67,Qual!$C$8:$C$133,0),6))","v":""},{"$f":"IF(AC67=\"\",\"\",INDEX(Qual!$C$8:$U$133,MATCH($AC67,Qual!$C$8:$C$133,0),8))","v":""},{"$f":"IF(AC67=\"\",\"\",INDEX(Qual!$C$8:$U$133,MATCH($AC67,Qual!$C$8:$C$133,0),10))","v":""},{"$f":"IF(AC67=\"\",\"\",INDEX(Qual!$C$8:$U$133,MATCH($AC67,Qual!$C$8:$C$133,0),12))","v":""},{"$f":"IF(AC67=\"\",\"\",INDEX(Qual!$C$8:$U$133,MATCH($AC67,Qual!$C$8:$C$133,0),14))","v":""},{"$f":"IF(AC67=\"\",\"\",INDEX(Qual!$C$8:$U$133,MATCH($AC67,Qual!$C$8:$C$133,0),16))","v":""},{"$f":"IF(AC67=\"\",\"\",INDEX(Qual!$C$8:$U$133,MATCH($AC67,Qual!$C$8:$C$133,0),18))","v":""},null,{"$f":"IF(AO67=0,\"\",'Check-In'!$B72)","v":""},{"$f":"'Check-In'!V72","v":0},{"$f":"IF(AO67=0,\"\",INDEX(Qual!$C$8:$M$133,MATCH($AN67,Qual!$C$8:$C$133,0),4)+INDEX(Qual!$C$8:$M$133,MATCH($AN67,Qual!$C$8:$C$133,0),5)+INDEX(Qual!$C$8:$M$133,MATCH($AN67,Qual!$C$8:$C$133,0),6)+INDEX(Qual!$C$8:$M$133,MATCH($AN67,Qual!$C$8:$C$133,0),7)+INDEX(Qual!$C$8:$M$133,MATCH($AN67,Qual!$C$8:$C$133,0),8)+INDEX(Qual!$C$8:$M$133,MATCH($AN67,Qual!$C$8:$C$133,0),9)+INDEX(Qual!$C$8:$M$133,MATCH($AN67,Qual!$C$8:$C$133,0),10)+INDEX(Qual!$C$8:$M$133,MATCH($AN67,Qual!$C$8:$C$133,0),11))","v":""}]
[{"$nulls":28},{"$f":"IF(AD68=0,\"\",'Check-In'!$B73)","v":""},{"$f":"'Check-In'!I73","v":0},{"$f":"IF(AC68=\"\",\"\",INDEX(Qual!$C$8:$U$133,MATCH($AC68,Qual!$C$8:$C$133,0),4))","v":""},{"$f":"IF(AC68=\"\",\"\",INDEX(Qual!$C$8:$U$133,MATCH($AC68,Qual!$C$8:$C$133,0),6))","v":""},{"$f":"IF(AC68=\"\",\"\",INDEX(Qual!$C$8:$U$133,MATCH($AC68,Qual!$C$8:$C$133,0),8))","v":""},{"$f":"IF(AC68=\"\",\"\",INDEX(Qual!$C$8:$U$133,MATCH($AC68,Qual!$C$8:$C$133,0),10))","v":""},{"$f":"IF(AC68=\"\",\"\",INDEX(Qual!$C$8:$U$133,MATCH($AC68,Qual!$C$8:$C$133,0),12))","v":""},{"$f":"IF(AC68=\"\",\"\",INDEX(Qual!$C$8:$U$133,MATCH($AC68,Qual!$C$8:$C$133,0),14))","v":""},{"$f":"IF(AC68=\"\",\"\",INDEX(Qual!$C$8:$U$133,MATCH($AC68,Qual!$C$8:$C$133,0),16))","v":""},{"$f":"IF(AC68=\"\",\"\",INDEX(Qual!$C$8:$U$133,MATCH($AC68,Qual!$C$8:$C$133,0),18))","v":""},null,{"$f":"IF(AO68=0,\"\",'Check-In'!$B73)","v":""},{"$f":"'Check-In'!V73","v":0},{"$f":"IF(AO68=0,\"\",INDEX(Qual!$C$8:$M$133,MATCH($AN68,Qual!$C$8:$C$133,0),4)+INDEX(Qual!$C$8:$M$133,MATCH($AN68,Qual!$C$8:$C$133,0),5)+INDEX(Qual!$C$8:$M$133,MATCH($AN68,Qual!$C$8:$C$133,0),6)+INDEX(Qual!$C$8:$M$133,MATCH($AN68,Qual!$C$8:$C$133,0),7)+INDEX(Qual!$C$8:$M$133,MATCH($AN68,Qual!$C$8:$C$133,0),8)+INDEX(Qual!$C$8:$M$133,MATCH($AN68,Qual!$C$8:$C$133,0),9)+INDEX(Qual!$C$8:$M$133,MATCH($AN68,Qual!$C$8:$C$133,0),10)+INDEX(Qual!$C$8:$M$133,MATCH($AN68,Qual!$C$8:$C$133,0),11))","v":""}]
[{"$nulls":28},{"$f":"IF(AD69=0,\"\",'Check-In'!$B74)","v":""},{"$f":"'Check-In'!I74","v":0},{"$f":"IF(AC69=\"\",\"\",INDEX(Qual!$C$8:$U$133,MATCH($AC69,Qual!$C$8:$C$133,0),4))","v":""},{"$f":"IF(AC69=\"\",\"\",INDEX(Qual!$C$8:$U$133,MATCH($AC69,Qual!$C$8:$C$133,0),6))","v":""},{"$f":"IF(AC69=\"\",\"\",INDEX(Qual!$C$8:$U$133,MATCH($AC69,Qual!$C$8:$C$133,0),8))","v":""},{"$f":"IF(AC69=\"\",\"\",INDEX(Qual!$C$8:$U$133,MATCH($AC69,Qual!$C$8:$C$133,0),10))","v":""},{"$f":"IF(AC69=\"\",\"\",INDEX(Qual!$C$8:$U$133,MATCH($AC69,Qual!$C$8:$C$133,0),12))","v":""},{"$f":"IF(AC69=\"\",\"\",INDEX(Qual!$C$8:$U$133,MATCH($AC69,Qual!$C$8:$C$133,0),14))","v":""},{"$f":"IF(AC69=\"\",\"\",INDEX(Qual!$C$8:$U$133,MATCH($AC69,Qual!$C$8:$C$133,0),16))","v":""},{"$f":"IF(AC69=\"\",\"\",INDEX(Qual!$C$8:$U$133,MATCH($AC69,Qual!$C$8:$C$133,0),18))","v":""},null,{"$f":"IF(AO69=0,\"\",'Check-In'!$B74)","v":""},{"$f":"'Check-In'!V74","v":0},{"$f":"IF(AO69=0,\"\",INDEX(Qual!$C$8:$M$133,MATCH($AN69,Qual!$C$8:$C$133,0),4)+INDEX(Qual!$C$8:$M$133,MATCH($AN69,Qual!$C$8:$C$133,0),5)+INDEX(Qual!$C$8:$M$133,MATCH($AN69,Qual!$C$8:$C$133,0),6)+INDEX(Qual!$C$8:$M$133,MATCH($AN69,Qual!$C$8:$C$133,0),7)+INDEX(Qual!$C$8:$M$133,MATCH($AN69,Qual!$C$8:$C$133,0),8)+INDEX(Qual!$C$8:$M$133,MATCH($AN69,Qual!$C$8:$C$133,0),9)+INDEX(Qual!$C$8:$M$133,MATCH($AN69,Qual!$C$8:$C$133,0),10)+INDEX(Qual!$C$8:$M$133,MATCH($AN69,Qual!$C$8:$C$133,0),11))","v":""}]
[{"$nulls":28},{"$f":"IF(AD70=0,\"\",'Check-In'!$B75)","v":""},{"$f":"'Check-In'!I75","v":0},{"$f":"IF(AC70=\"\",\"\",INDEX(Qual!$C$8:$U$133,MATCH($AC70,Qual!$C$8:$C$133,0),4))","v":""},{"$f":"IF(AC70=\"\",\"\",INDEX(Qual!$C$8:$U$133,MATCH($AC70,Qual!$C$8:$C$133,0),6))","v":""},{"$f":"IF(AC70=\"\",\"\",INDEX(Qual!$C$8:$U$133,MATCH($AC70,Qual!$C$8:$C$133,0),8))","v":""},{"$f":"IF(AC70=\"\",\"\",INDEX(Qual!$C$8:$U$133,MATCH($AC70,Qual!$C$8:$C$133,0),10))","v":""},{"$f":"IF(AC70=\"\",\"\",INDEX(Qual!$C$8:$U$133,MATCH($AC70,Qual!$C$8:$C$133,0),12))","v":""},{"$f":"IF(AC70=\"\",\"\",INDEX(Qual!$C$8:$U$133,MATCH($AC70,Qual!$C$8:$C$133,0),14))","v":""},{"$f":"IF(AC70=\"\",\"\",INDEX(Qual!$C$8:$U$133,MATCH($AC70,Qual!$C$8:$C$133,0),16))","v":""},{"$f":"IF(AC70=\"\",\"\",INDEX(Qual!$C$8:$U$133,MATCH($AC70,Qual!$C$8:$C$133,0),18))","v":""},null,{"$f":"IF(AO70=0,\"\",'Check-In'!$B75)","v":""},{"$f":"'Check-In'!V75","v":0},{"$f":"IF(AO70=0,\"\",INDEX(Qual!$C$8:$M$133,MATCH($AN70,Qual!$C$8:$C$133,0),4)+INDEX(Qual!$C$8:$M$133,MATCH($AN70,Qual!$C$8:$C$133,0),5)+INDEX(Qual!$C$8:$M$133,MATCH($AN70,Qual!$C$8:$C$133,0),6)+INDEX(Qual!$C$8:$M$133,MATCH($AN70,Qual!$C$8:$C$133,0),7)+INDEX(Qual!$C$8:$M$133,MATCH($AN70,Qual!$C$8:$C$133,0),8)+INDEX(Qual!$C$8:$M$133,MATCH($AN70,Qual!$C$8:$C$133,0),9)+INDEX(Qual!$C$8:$M$133,MATCH($AN70,Qual!$C$8:$C$133,0),10)+INDEX(Qual!$C$8:$M$133,MATCH($AN70,Qual!$C$8:$C$133,0),11))","v":""}]
[{"$nulls":28},{"$f":"IF(AD71=0,\"\",'Check-In'!$B76)","v":""},{"$f":"'Check-In'!I76","v":0},{"$f":"IF(AC71=\"\",\"\",INDEX(Qual!$C$8:$U$133,MATCH($AC71,Qual!$C$8:$C$133,0),4))","v":""},{"$f":"IF(AC71=\"\",\"\",INDEX(Qual!$C$8:$U$133,MATCH($AC71,Qual!$C$8:$C$133,0),6))","v":""},{"$f":"IF(AC71=\"\",\"\",INDEX(Qual!$C$8:$U$133,MATCH($AC71,Qual!$C$8:$C$133,0),8))","v":""},{"$f":"IF(AC71=\"\",\"\",INDEX(Qual!$C$8:$U$133,MATCH($AC71,Qual!$C$8:$C$133,0),10))","v":""},{"$f":"IF(AC71=\"\",\"\",INDEX(Qual!$C$8:$U$133,MATCH($AC71,Qual!$C$8:$C$133,0),12))","v":""},{"$f":"IF(AC71=\"\",\"\",INDEX(Qual!$C$8:$U$133,MATCH($AC71,Qual!$C$8:$C$133,0),14))","v":""},{"$f":"IF(AC71=\"\",\"\",INDEX(Qual!$C$8:$U$133,MATCH($AC71,Qual!$C$8:$C$133,0),16))","v":""},{"$f":"IF(AC71=\"\",\"\",INDEX(Qual!$C$8:$U$133,MATCH($AC71,Qual!$C$8:$C$133,0),18))","v":""},null,{"$f":"IF(AO71=0,\"\",'Check-In'!$B76)","v":""},{"$f":"'Check-In'!V76","v":0},{"$f":"IF(AO71=0,\"\",INDEX(Qual!$C$8:$M$133,MATCH($AN71,Qual!$C$8:$C$133,0),4)+INDEX(Qual!$C$8:$M$133,MATCH($AN71,Qual!$C$8:$C$133,0),5)+INDEX(Qual!$C$8:$M$133,MATCH($AN71,Qual!$C$8:$C$133,0),6)+INDEX(Qual!$C$8:$M$133,MATCH($AN71,Qual!$C$8:$C$133,0),7)+INDEX(Qual!$C$8:$M$133,MATCH($AN71,Qual!$C$8:$C$133,0),8)+INDEX(Qual!$C$8:$M$133,MATCH($AN71,Qual!$C$8:$C$133,0),9)+INDEX(Qual!$C$8:$M$133,MATCH($AN71,Qual!$C$8:$C$133,0),10)+INDEX(Qual!$C$8:$M$133,MATCH($AN71,Qual!$C$8:$C$133,0),11))","v":""}]
[{"$nulls":28},{"$f":"IF(AD72=0,\"\",'Check-In'!$B77)","v":""},{"$f":"'Check-In'!I77","v":0},{"$f":"IF(AC72=\"\",\"\",INDEX(Qual!$C$8:$U$133,MATCH($AC72,Qual!$C$8:$C$133,0),4))","v":""},{"$f":"IF(AC72=\"\",\"\",INDEX(Qual!$C$8:$U$133,MATCH($AC72,Qual!$C$8:$C$133,0),6))","v":""},{"$f":"IF(AC72=\"\",\"\",INDEX(Qual!$C$8:$U$133,MATCH($AC72,Qual!$C$8:$C$133,0),8))","v":""},{"$f":"IF(AC72=\"\",\"\",INDEX(Qual!$C$8:$U$133,MATCH($AC72,Qual!$C$8:$C$133,0),10))","v":""},{"$f":"IF(AC72=\"\",\"\",INDEX(Qual!$C$8:$U$133,MATCH($AC72,Qual!$C$8:$C$133,0),12))","v":""},{"$f":"IF(AC72=\"\",\"\",INDEX(Qual!$C$8:$U$133,MATCH($AC72,Qual!$C$8:$C$133,0),14))","v":""},{"$f":"IF(AC72=\"\",\"\",INDEX(Qual!$C$8:$U$133,MATCH($AC72,Qual!$C$8:$C$133,0),16))","v":""},{"$f":"IF(AC72=\"\",\"\",INDEX(Qual!$C$8:$U$133,MATCH($AC72,Qual!$C$8:$C$133,0),18))","v":""},null,{"$f":"IF(AO72=0,\"\",'Check-In'!$B77)","v":""},{"$f":"'Check-In'!V77","v":0},{"$f":"IF(AO72=0,\"\",INDEX(Qual!$C$8:$M$133,MATCH($AN72,Qual!$C$8:$C$133,0),4)+INDEX(Qual!$C$8:$M$133,MATCH($AN72,Qual!$C$8:$C$133,0),5)+INDEX(Qual!$C$8:$M$133,MATCH($AN72,Qual!$C$8:$C$133,0),6)+INDEX(Qual!$C$8:$M$133,MATCH($AN72,Qual!$C$8:$C$133,0),7)+INDEX(Qual!$C$8:$M$133,MATCH($AN72,Qual!$C$8:$C$133,0),8)+INDEX(Qual!$C$8:$M$133,MATCH($AN72,Qual!$C$8:$C$133,0),9)+INDEX(Qual!$C$8:$M$133,MATCH($AN72,Qual!$C$8:$C$133,0),10)+INDEX(Qual!$C$8:$M$133,MATCH($AN72,Qual!$C$8:$C$133,0),11))","v":""}]
[{"$nulls":28},{"$f":"IF(AD73=0,\"\",'Check-In'!$B78)","v":""},{"$f":"'Check-In'!I78","v":0},{"$f":"IF(AC73=\"\",\"\",INDEX(Qual!$C$8:$U$133,MATCH($AC73,Qual!$C$8:$C$133,0),4))","v":""},{"$f":"IF(AC73=\"\",\"\",INDEX(Qual!$C$8:$U$133,MATCH($AC73,Qual!$C$8:$C$133,0),6))","v":""},{"$f":"IF(AC73=\"\",\"\",INDEX(Qual!$C$8:$U$133,MATCH($AC73,Qual!$C$8:$C$133,0),8))","v":""},{"$f":"IF(AC73=\"\",\"\",INDEX(Qual!$C$8:$U$133,MATCH($AC73,Qual!$C$8:$C$133,0),10))","v":""},{"$f":"IF(AC73=\"\",\"\",INDEX(Qual!$C$8:$U$133,MATCH($AC73,Qual!$C$8:$C$133,0),12))","v":""},{"$f":"IF(AC73=\"\",\"\",INDEX(Qual!$C$8:$U$133,MATCH($AC73,Qual!$C$8:$C$133,0),14))","v":""},{"$f":"IF(AC73=\"\",\"\",INDEX(Qual!$C$8:$U$133,MATCH($AC73,Qual!$C$8:$C$133,0),16))","v":""},{"$f":"IF(AC73=\"\",\"\",INDEX(Qual!$C$8:$U$133,MATCH($AC73,Qual!$C$8:$C$133,0),18))","v":""},null,{"$f":"IF(AO73=0,\"\",'Check-In'!$B78)","v":""},{"$f":"'Check-In'!V78","v":0},{"$f":"IF(AO73=0,\"\",INDEX(Qual!$C$8:$M$133,MATCH($AN73,Qual!$C$8:$C$133,0),4)+INDEX(Qual!$C$8:$M$133,MATCH($AN73,Qual!$C$8:$C$133,0),5)+INDEX(Qual!$C$8:$M$133,MATCH($AN73,Qual!$C$8:$C$133,0),6)+INDEX(Qual!$C$8:$M$133,MATCH($AN73,Qual!$C$8:$C$133,0),7)+INDEX(Qual!$C$8:$M$133,MATCH($AN73,Qual!$C$8:$C$133,0),8)+INDEX(Qual!$C$8:$M$133,MATCH($AN73,Qual!$C$8:$C$133,0),9)+INDEX(Qual!$C$8:$M$133,MATCH($AN73,Qual!$C$8:$C$133,0),10)+INDEX(Qual!$C$8:$M$133,MATCH($AN73,Qual!$C$8:$C$133,0),11))","v":""}]
[{"$nulls":28},{"$f":"IF(AD74=0,\"\",'Check-In'!$B79)","v":""},{"$f":"'Check-In'!I79","v":0},{"$f":"IF(AC74=\"\",\"\",INDEX(Qual!$C$8:$U$133,MATCH($AC74,Qual!$C$8:$C$133,0),4))","v":""},{"$f":"IF(AC74=\"\",\"\",INDEX(Qual!$C$8:$U$133,MATCH($AC74,Qual!$C$8:$C$133,0),6))","v":""},{"$f":"IF(AC74=\"\",\"\",INDEX(Qual!$C$8:$U$133,MATCH($AC74,Qual!$C$8:$C$133,0),8))","v":""},{"$f":"IF(AC74=\"\",\"\",INDEX(Qual!$C$8:$U$133,MATCH($AC74,Qual!$C$8:$C$133,0),10))","v":""},{"$f":"IF(AC74=\"\",\"\",INDEX(Qual!$C$8:$U$133,MATCH($AC74,Qual!$C$8:$C$133,0),12))","v":""},{"$f":"IF(AC74=\"\",\"\",INDEX(Qual!$C$8:$U$133,MATCH($AC74,Qual!$C$8:$C$133,0),14))","v":""},{"$f":"IF(AC74=\"\",\"\",INDEX(Qual!$C$8:$U$133,MATCH($AC74,Qual!$C$8:$C$133,0),16))","v":""},{"$f":"IF(AC74=\"\",\"\",INDEX(Qual!$C$8:$U$133,MATCH($AC74,Qual!$C$8:$C$133,0),18))","v":""},null,{"$f":"IF(AO74=0,\"\",'Check-In'!$B79)","v":""},{"$f":"'Check-In'!V79","v":0},{"$f":"IF(AO74=0,\"\",INDEX(Qual!$C$8:$M$133,MATCH($AN74,Qual!$C$8:$C$133,0),4)+INDEX(Qual!$C$8:$M$133,MATCH($AN74,Qual!$C$8:$C$133,0),5)+INDEX(Qual!$C$8:$M$133,MATCH($AN74,Qual!$C$8:$C$133,0),6)+INDEX(Qual!$C$8:$M$133,MATCH($AN74,Qual!$C$8:$C$133,0),7)+INDEX(Qual!$C$8:$M$133,MATCH($AN74,Qual!$C$8:$C$133,0),8)+INDEX(Qual!$C$8:$M$133,MATCH($AN74,Qual!$C$8:$C$133,0),9)+INDEX(Qual!$C$8:$M$133,MATCH($AN74,Qual!$C$8:$C$133,0),10)+INDEX(Qual!$C$8:$M$133,MATCH($AN74,Qual!$C$8:$C$133,0),11))","v":""}]
[{"$nulls":28},{"$f":"IF(AD75=0,\"\",'Check-In'!$B80)","v":""},{"$f":"'Check-In'!I80","v":0},{"$f":"IF(AC75=\"\",\"\",INDEX(Qual!$C$8:$U$133,MATCH($AC75,Qual!$C$8:$C$133,0),4))","v":""},{"$f":"IF(AC75=\"\",\"\",INDEX(Qual!$C$8:$U$133,MATCH($AC75,Qual!$C$8:$C$133,0),6))","v":""},{"$f":"IF(AC75=\"\",\"\",INDEX(Qual!$C$8:$U$133,MATCH($AC75,Qual!$C$8:$C$133,0),8))","v":""},{"$f":"IF(AC75=\"\",\"\",INDEX(Qual!$C$8:$U$133,MATCH($AC75,Qual!$C$8:$C$133,0),10))","v":""},{"$f":"IF(AC75=\"\",\"\",INDEX(Qual!$C$8:$U$133,MATCH($AC75,Qual!$C$8:$C$133,0),12))","v":""},{"$f":"IF(AC75=\"\",\"\",INDEX(Qual!$C$8:$U$133,MATCH($AC75,Qual!$C$8:$C$133,0),14))","v":""},{"$f":"IF(AC75=\"\",\"\",INDEX(Qual!$C$8:$U$133,MATCH($AC75,Qual!$C$8:$C$133,0),16))","v":""},{"$f":"IF(AC75=\"\",\"\",INDEX(Qual!$C$8:$U$133,MATCH($AC75,Qual!$C$8:$C$133,0),18))","v":""},null,{"$f":"IF(AO75=0,\"\",'Check-In'!$B80)","v":""},{"$f":"'Check-In'!V80","v":0},{"$f":"IF(AO75=0,\"\",INDEX(Qual!$C$8:$M$133,MATCH($AN75,Qual!$C$8:$C$133,0),4)+INDEX(Qual!$C$8:$M$133,MATCH($AN75,Qual!$C$8:$C$133,0),5)+INDEX(Qual!$C$8:$M$133,MATCH($AN75,Qual!$C$8:$C$133,0),6)+INDEX(Qual!$C$8:$M$133,MATCH($AN75,Qual!$C$8:$C$133,0),7)+INDEX(Qual!$C$8:$M$133,MATCH($AN75,Qual!$C$8:$C$133,0),8)+INDEX(Qual!$C$8:$M$133,MATCH($AN75,Qual!$C$8:$C$133,0),9)+INDEX(Qual!$C$8:$M$133,MATCH($AN75,Qual!$C$8:$C$133,0),10)+INDEX(Qual!$C$8:$M$133,MATCH($AN75,Qual!$C$8:$C$133,0),11))","v":""}]
[{"$nulls":28},{"$f":"IF(AD76=0,\"\",'Check-In'!$B81)","v":""},{"$f":"'Check-In'!I81","v":0},{"$f":"IF(AC76=\"\",\"\",INDEX(Qual!$C$8:$U$133,MATCH($AC76,Qual!$C$8:$C$133,0),4))","v":""},{"$f":"IF(AC76=\"\",\"\",INDEX(Qual!$C$8:$U$133,MATCH($AC76,Qual!$C$8:$C$133,0),6))","v":""},{"$f":"IF(AC76=\"\",\"\",INDEX(Qual!$C$8:$U$133,MATCH($AC76,Qual!$C$8:$C$133,0),8))","v":""},{"$f":"IF(AC76=\"\",\"\",INDEX(Qual!$C$8:$U$133,MATCH($AC76,Qual!$C$8:$C$133,0),10))","v":""},{"$f":"IF(AC76=\"\",\"\",INDEX(Qual!$C$8:$U$133,MATCH($AC76,Qual!$C$8:$C$133,0),12))","v":""},{"$f":"IF(AC76=\"\",\"\",INDEX(Qual!$C$8:$U$133,MATCH($AC76,Qual!$C$8:$C$133,0),14))","v":""},{"$f":"IF(AC76=\"\",\"\",INDEX(Qual!$C$8:$U$133,MATCH($AC76,Qual!$C$8:$C$133,0),16))","v":""},{"$f":"IF(AC76=\"\",\"\",INDEX(Qual!$C$8:$U$133,MATCH($AC76,Qual!$C$8:$C$133,0),18))","v":""},null,{"$f":"IF(AO76=0,\"\",'Check-In'!$B81)","v":""},{"$f":"'Check-In'!V81","v":0},{"$f":"IF(AO76=0,\"\",INDEX(Qual!$C$8:$M$133,MATCH($AN76,Qual!$C$8:$C$133,0),4)+INDEX(Qual!$C$8:$M$133,MATCH($AN76,Qual!$C$8:$C$133,0),5)+INDEX(Qual!$C$8:$M$133,MATCH($AN76,Qual!$C$8:$C$133,0),6)+INDEX(Qual!$C$8:$M$133,MATCH($AN76,Qual!$C$8:$C$133,0),7)+INDEX(Qual!$C$8:$M$133,MATCH($AN76,Qual!$C$8:$C$133,0),8)+INDEX(Qual!$C$8:$M$133,MATCH($AN76,Qual!$C$8:$C$133,0),9)+INDEX(Qual!$C$8:$M$133,MATCH($AN76,Qual!$C$8:$C$133,0),10)+INDEX(Qual!$C$8:$M$133,MATCH($AN76,Qual!$C$8:$C$133,0),11))","v":""}]
[{"$nulls":28},{"$f":"IF(AD77=0,\"\",'Check-In'!$B82)","v":""},{"$f":"'Check-In'!I82","v":0},{"$f":"IF(AC77=\"\",\"\",INDEX(Qual!$C$8:$U$133,MATCH($AC77,Qual!$C$8:$C$133,0),4))","v":""},{"$f":"IF(AC77=\"\",\"\",INDEX(Qual!$C$8:$U$133,MATCH($AC77,Qual!$C$8:$C$133,0),6))","v":""},{"$f":"IF(AC77=\"\",\"\",INDEX(Qual!$C$8:$U$133,MATCH($AC77,Qual!$C$8:$C$133,0),8))","v":""},{"$f":"IF(AC77=\"\",\"\",INDEX(Qual!$C$8:$U$133,MATCH($AC77,Qual!$C$8:$C$133,0),10))","v":""},{"$f":"IF(AC77=\"\",\"\",INDEX(Qual!$C$8:$U$133,MATCH($AC77,Qual!$C$8:$C$133,0),12))","v":""},{"$f":"IF(AC77=\"\",\"\",INDEX(Qual!$C$8:$U$133,MATCH($AC77,Qual!$C$8:$C$133,0),14))","v":""},{"$f":"IF(AC77=\"\",\"\",INDEX(Qual!$C$8:$U$133,MATCH($AC77,Qual!$C$8:$C$133,0),16))","v":""},{"$f":"IF(AC77=\"\",\"\",INDEX(Qual!$C$8:$U$133,MATCH($AC77,Qual!$C$8:$C$133,0),18))","v":""},null,{"$f":"IF(AO77=0,\"\",'Check-In'!$B82)","v":""},{"$f":"'Check-In'!V82","v":0},{"$f":"IF(AO77=0,\"\",INDEX(Qual!$C$8:$M$133,MATCH($AN77,Qual!$C$8:$C$133,0),4)+INDEX(Qual!$C$8:$M$133,MATCH($AN77,Qual!$C$8:$C$133,0),5)+INDEX(Qual!$C$8:$M$133,MATCH($AN77,Qual!$C$8:$C$133,0),6)+INDEX(Qual!$C$8:$M$133,MATCH($AN77,Qual!$C$8:$C$133,0),7)+INDEX(Qual!$C$8:$M$133,MATCH($AN77,Qual!$C$8:$C$133,0),8)+INDEX(Qual!$C$8:$M$133,MATCH($AN77,Qual!$C$8:$C$133,0),9)+INDEX(Qual!$C$8:$M$133,MATCH($AN77,Qual!$C$8:$C$133,0),10)+INDEX(Qual!$C$8:$M$133,MATCH($AN77,Qual!$C$8:$C$133,0),11))","v":""}]
[{"$nulls":28},{"$f":"IF(AD78=0,\"\",'Check-In'!$B83)","v":""},{"$f":"'Check-In'!I83","v":0},{"$f":"IF(AC78=\"\",\"\",INDEX(Qual!$C$8:$U$133,MATCH($AC78,Qual!$C$8:$C$133,0),4))","v":""},{"$f":"IF(AC78=\"\",\"\",INDEX(Qual!$C$8:$U$133,MATCH($AC78,Qual!$C$8:$C$133,0),6))","v":""},{"$f":"IF(AC78=\"\",\"\",INDEX(Qual!$C$8:$U$133,MATCH($AC78,Qual!$C$8:$C$133,0),8))","v":""},{"$f":"IF(AC78=\"\",\"\",INDEX(Qual!$C$8:$U$133,MATCH($AC78,Qual!$C$8:$C$133,0),10))","v":""},{"$f":"IF(AC78=\"\",\"\",INDEX(Qual!$C$8:$U$133,MATCH($AC78,Qual!$C$8:$C$133,0),12))","v":""},{"$f":"IF(AC78=\"\",\"\",INDEX(Qual!$C$8:$U$133,MATCH($AC78,Qual!$C$8:$C$133,0),14))","v":""},{"$f":"IF(AC78=\"\",\"\",INDEX(Qual!$C$8:$U$133,MATCH($AC78,Qual!$C$8:$C$133,0),16))","v":""},{"$f":"IF(AC78=\"\",\"\",INDEX(Qual!$C$8:$U$133,MATCH($AC78,Qual!$C$8:$C$133,0),18))","v":""},null,{"$f":"IF(AO78=0,\"\",'Check-In'!$B83)","v":""},{"$f":"'Check-In'!V83","v":0},{"$f":"IF(AO78=0,\"\",INDEX(Qual!$C$8:$M$133,MATCH($AN78,Qual!$C$8:$C$133,0),4)+INDEX(Qual!$C$8:$M$133,MATCH($AN78,Qual!$C$8:$C$133,0),5)+INDEX(Qual!$C$8:$M$133,MATCH($AN78,Qual!$C$8:$C$133,0),6)+INDEX(Qual!$C$8:$M$133,MATCH($AN78,Qual!$C$8:$C$133,0),7)+INDEX(Qual!$C$8:$M$133,MATCH($AN78,Qual!$C$8:$C$133,0),8)+INDEX(Qual!$C$8:$M$133,MATCH($AN78,Qual!$C$8:$C$133,0),9)+INDEX(Qual!$C$8:$M$133,MATCH($AN78,Qual!$C$8:$C$133,0),10)+INDEX(Qual!$C$8:$M$133,MATCH($AN78,Qual!$C$8:$C$133,0),11))","v":""}]
[{"$nulls":28},{"$f":"IF(AD79=0,\"\",'Check-In'!$B84)","v":""},{"$f":"'Check-In'!I84","v":0},{"$f":"IF(AC79=\"\",\"\",INDEX(Qual!$C$8:$U$133,MATCH($AC79,Qual!$C$8:$C$133,0),4))","v":""},{"$f":"IF(AC79=\"\",\"\",INDEX(Qual!$C$8:$U$133,MATCH($AC79,Qual!$C$8:$C$133,0),6))","v":""},{"$f":"IF(AC79=\"\",\"\",INDEX(Qual!$C$8:$U$133,MATCH($AC79,Qual!$C$8:$C$133,0),8))","v":""},{"$f":"IF(AC79=\"\",\"\",INDEX(Qual!$C$8:$U$133,MATCH($AC79,Qual!$C$8:$C$133,0),10))","v":""},{"$f":"IF(AC79=\"\",\"\",INDEX(Qual!$C$8:$U$133,MATCH($AC79,Qual!$C$8:$C$133,0),12))","v":""},{"$f":"IF(AC79=\"\",\"\",INDEX(Qual!$C$8:$U$133,MATCH($AC79,Qual!$C$8:$C$133,0),14))","v":""},{"$f":"IF(AC79=\"\",\"\",INDEX(Qual!$C$8:$U$133,MATCH($AC79,Qual!$C$8:$C$133,0),16))","v":""},{"$f":"IF(AC79=\"\",\"\",INDEX(Qual!$C$8:$U$133,MATCH($AC79,Qual!$C$8:$C$133,0),18))","v":""},null,{"$f":"IF(AO79=0,\"\",'Check-In'!$B84)","v":""},{"$f":"'Check-In'!V84","v":0},{"$f":"IF(AO79=0,\"\",INDEX(Qual!$C$8:$M$133,MATCH($AN79,Qual!$C$8:$C$133,0),4)+INDEX(Qual!$C$8:$M$133,MATCH($AN79,Qual!$C$8:$C$133,0),5)+INDEX(Qual!$C$8:$M$133,MATCH($AN79,Qual!$C$8:$C$133,0),6)+INDEX(Qual!$C$8:$M$133,MATCH($AN79,Qual!$C$8:$C$133,0),7)+INDEX(Qual!$C$8:$M$133,MATCH($AN79,Qual!$C$8:$C$133,0),8)+INDEX(Qual!$C$8:$M$133,MATCH($AN79,Qual!$C$8:$C$133,0),9)+INDEX(Qual!$C$8:$M$133,MATCH($AN79,Qual!$C$8:$C$133,0),10)+INDEX(Qual!$C$8:$M$133,MATCH($AN79,Qual!$C$8:$C$133,0),11))","v":""}]
[{"$nulls":28},{"$f":"IF(AD80=0,\"\",'Check-In'!$B85)","v":""},{"$f":"'Check-In'!I85","v":0},{"$f":"IF(AC80=\"\",\"\",INDEX(Qual!$C$8:$U$133,MATCH($AC80,Qual!$C$8:$C$133,0),4))","v":""},{"$f":"IF(AC80=\"\",\"\",INDEX(Qual!$C$8:$U$133,MATCH($AC80,Qual!$C$8:$C$133,0),6))","v":""},{"$f":"IF(AC80=\"\",\"\",INDEX(Qual!$C$8:$U$133,MATCH($AC80,Qual!$C$8:$C$133,0),8))","v":""},{"$f":"IF(AC80=\"\",\"\",INDEX(Qual!$C$8:$U$133,MATCH($AC80,Qual!$C$8:$C$133,0),10))","v":""},{"$f":"IF(AC80=\"\",\"\",INDEX(Qual!$C$8:$U$133,MATCH($AC80,Qual!$C$8:$C$133,0),12))","v":""},{"$f":"IF(AC80=\"\",\"\",INDEX(Qual!$C$8:$U$133,MATCH($AC80,Qual!$C$8:$C$133,0),14))","v":""},{"$f":"IF(AC80=\"\",\"\",INDEX(Qual!$C$8:$U$133,MATCH($AC80,Qual!$C$8:$C$133,0),16))","v":""},{"$f":"IF(AC80=\"\",\"\",INDEX(Qual!$C$8:$U$133,MATCH($AC80,Qual!$C$8:$C$133,0),18))","v":""},null,{"$f":"IF(AO80=0,\"\",'Check-In'!$B85)","v":""},{"$f":"'Check-In'!V85","v":0},{"$f":"IF(AO80=0,\"\",INDEX(Qual!$C$8:$M$133,MATCH($AN80,Qual!$C$8:$C$133,0),4)+INDEX(Qual!$C$8:$M$133,MATCH($AN80,Qual!$C$8:$C$133,0),5)+INDEX(Qual!$C$8:$M$133,MATCH($AN80,Qual!$C$8:$C$133,0),6)+INDEX(Qual!$C$8:$M$133,MATCH($AN80,Qual!$C$8:$C$133,0),7)+INDEX(Qual!$C$8:$M$133,MATCH($AN80,Qual!$C$8:$C$133,0),8)+INDEX(Qual!$C$8:$M$133,MATCH($AN80,Qual!$C$8:$C$133,0),9)+INDEX(Qual!$C$8:$M$133,MATCH($AN80,Qual!$C$8:$C$133,0),10)+INDEX(Qual!$C$8:$M$133,MATCH($AN80,Qual!$C$8:$C$133,0),11))","v":""}]
[{"$nulls":28},{"$f":"IF(AD81=0,\"\",'Check-In'!$B86)","v":""},{"$f":"'Check-In'!I86","v":0},{"$f":"IF(AC81=\"\",\"\",INDEX(Qual!$C$8:$U$133,MATCH($AC81,Qual!$C$8:$C$133,0),4))","v":""},{"$f":"IF(AC81=\"\",\"\",INDEX(Qual!$C$8:$U$133,MATCH($AC81,Qual!$C$8:$C$133,0),6))","v":""},{"$f":"IF(AC81=\"\",\"\",INDEX(Qual!$C$8:$U$133,MATCH($AC81,Qual!$C$8:$C$133,0),8))","v":""},{"$f":"IF(AC81=\"\",\"\",INDEX(Qual!$C$8:$U$133,MATCH($AC81,Qual!$C$8:$C$133,0),10))","v":""},{"$f":"IF(AC81=\"\",\"\",INDEX(Qual!$C$8:$U$133,MATCH($AC81,Qual!$C$8:$C$133,0),12))","v":""},{"$f":"IF(AC81=\"\",\"\",INDEX(Qual!$C$8:$U$133,MATCH($AC81,Qual!$C$8:$C$133,0),14))","v":""},{"$f":"IF(AC81=\"\",\"\",INDEX(Qual!$C$8:$U$133,MATCH($AC81,Qual!$C$8:$C$133,0),16))","v":""},{"$f":"IF(AC81=\"\",\"\",INDEX(Qual!$C$8:$U$133,MATCH($AC81,Qual!$C$8:$C$133,0),18))","v":""},null,{"$f":"IF(AO81=0,\"\",'Check-In'!$B86)","v":""},{"$f":"'Check-In'!V86","v":0},{"$f":"IF(AO81=0,\"\",INDEX(Qual!$C$8:$M$133,MATCH($AN81,Qual!$C$8:$C$133,0),4)+INDEX(Qual!$C$8:$M$133,MATCH($AN81,Qual!$C$8:$C$133,0),5)+INDEX(Qual!$C$8:$M$133,MATCH($AN81,Qual!$C$8:$C$133,0),6)+INDEX(Qual!$C$8:$M$133,MATCH($AN81,Qual!$C$8:$C$133,0),7)+INDEX(Qual!$C$8:$M$133,MATCH($AN81,Qual!$C$8:$C$133,0),8)+INDEX(Qual!$C$8:$M$133,MATCH($AN81,Qual!$C$8:$C$133,0),9)+INDEX(Qual!$C$8:$M$133,MATCH($AN81,Qual!$C$8:$C$133,0),10)+INDEX(Qual!$C$8:$M$133,MATCH($AN81,Qual!$C$8:$C$133,0),11))","v":""}]
[{"$nulls":28},{"$f":"IF(AD82=0,\"\",'Check-In'!$B87)","v":""},{"$f":"'Check-In'!I87","v":0},{"$f":"IF(AC82=\"\",\"\",INDEX(Qual!$C$8:$U$133,MATCH($AC82,Qual!$C$8:$C$133,0),4))","v":""},{"$f":"IF(AC82=\"\",\"\",INDEX(Qual!$C$8:$U$133,MATCH($AC82,Qual!$C$8:$C$133,0),6))","v":""},{"$f":"IF(AC82=\"\",\"\",INDEX(Qual!$C$8:$U$133,MATCH($AC82,Qual!$C$8:$C$133,0),8))","v":""},{"$f":"IF(AC82=\"\",\"\",INDEX(Qual!$C$8:$U$133,MATCH($AC82,Qual!$C$8:$C$133,0),10))","v":""},{"$f":"IF(AC82=\"\",\"\",INDEX(Qual!$C$8:$U$133,MATCH($AC82,Qual!$C$8:$C$133,0),12))","v":""},{"$f":"IF(AC82=\"\",\"\",INDEX(Qual!$C$8:$U$133,MATCH($AC82,Qual!$C$8:$C$133,0),14))","v":""},{"$f":"IF(AC82=\"\",\"\",INDEX(Qual!$C$8:$U$133,MATCH($AC82,Qual!$C$8:$C$133,0),16))","v":""},{"$f":"IF(AC82=\"\",\"\",INDEX(Qual!$C$8:$U$133,MATCH($AC82,Qual!$C$8:$C$133,0),18))","v":""},null,{"$f":"IF(AO82=0,\"\",'Check-In'!$B87)","v":""},{"$f":"'Check-In'!V87","v":0},{"$f":"IF(AO82=0,\"\",INDEX(Qual!$C$8:$M$133,MATCH($AN82,Qual!$C$8:$C$133,0),4)+INDEX(Qual!$C$8:$M$133,MATCH($AN82,Qual!$C$8:$C$133,0),5)+INDEX(Qual!$C$8:$M$133,MATCH($AN82,Qual!$C$8:$C$133,0),6)+INDEX(Qual!$C$8:$M$133,MATCH($AN82,Qual!$C$8:$C$133,0),7)+INDEX(Qual!$C$8:$M$133,MATCH($AN82,Qual!$C$8:$C$133,0),8)+INDEX(Qual!$C$8:$M$133,MATCH($AN82,Qual!$C$8:$C$133,0),9)+INDEX(Qual!$C$8:$M$133,MATCH($AN82,Qual!$C$8:$C$133,0),10)+INDEX(Qual!$C$8:$M$133,MATCH($AN82,Qual!$C$8:$C$133,0),11))","v":""}]
[{"$nulls":28},{"$f":"IF(AD83=0,\"\",'Check-In'!$B88)","v":""},{"$f":"'Check-In'!I88","v":0},{"$f":"IF(AC83=\"\",\"\",INDEX(Qual!$C$8:$U$133,MATCH($AC83,Qual!$C$8:$C$133,0),4))","v":""},{"$f":"IF(AC83=\"\",\"\",INDEX(Qual!$C$8:$U$133,MATCH($AC83,Qual!$C$8:$C$133,0),6))","v":""},{"$f":"IF(AC83=\"\",\"\",INDEX(Qual!$C$8:$U$133,MATCH($AC83,Qual!$C$8:$C$133,0),8))","v":""},{"$f":"IF(AC83=\"\",\"\",INDEX(Qual!$C$8:$U$133,MATCH($AC83,Qual!$C$8:$C$133,0),10))","v":""},{"$f":"IF(AC83=\"\",\"\",INDEX(Qual!$C$8:$U$133,MATCH($AC83,Qual!$C$8:$C$133,0),12))","v":""},{"$f":"IF(AC83=\"\",\"\",INDEX(Qual!$C$8:$U$133,MATCH($AC83,Qual!$C$8:$C$133,0),14))","v":""},{"$f":"IF(AC83=\"\",\"\",INDEX(Qual!$C$8:$U$133,MATCH($AC83,Qual!$C$8:$C$133,0),16))","v":""},{"$f":"IF(AC83=\"\",\"\",INDEX(Qual!$C$8:$U$133,MATCH($AC83,Qual!$C$8:$C$133,0),18))","v":""},null,{"$f":"IF(AO83=0,\"\",'Check-In'!$B88)","v":""},{"$f":"'Check-In'!V88","v":0},{"$f":"IF(AO83=0,\"\",INDEX(Qual!$C$8:$M$133,MATCH($AN83,Qual!$C$8:$C$133,0),4)+INDEX(Qual!$C$8:$M$133,MATCH($AN83,Qual!$C$8:$C$133,0),5)+INDEX(Qual!$C$8:$M$133,MATCH($AN83,Qual!$C$8:$C$133,0),6)+INDEX(Qual!$C$8:$M$133,MATCH($AN83,Qual!$C$8:$C$133,0),7)+INDEX(Qual!$C$8:$M$133,MATCH($AN83,Qual!$C$8:$C$133,0),8)+INDEX(Qual!$C$8:$M$133,MATCH($AN83,Qual!$C$8:$C$133,0),9)+INDEX(Qual!$C$8:$M$133,MATCH($AN83,Qual!$C$8:$C$133,0),10)+INDEX(Qual!$C$8:$M$133,MATCH($AN83,Qual!$C$8:$C$133,0),11))","v":""}]
[{"$nulls":28},{"$f":"IF(AD84=0,\"\",'Check-In'!$B89)","v":""},{"$f":"'Check-In'!I89","v":0},{"$f":"IF(AC84=\"\",\"\",INDEX(Qual!$C$8:$U$133,MATCH($AC84,Qual!$C$8:$C$133,0),4))","v":""},{"$f":"IF(AC84=\"\",\"\",INDEX(Qual!$C$8:$U$133,MATCH($AC84,Qual!$C$8:$C$133,0),6))","v":""},{"$f":"IF(AC84=\"\",\"\",INDEX(Qual!$C$8:$U$133,MATCH($AC84,Qual!$C$8:$C$133,0),8))","v":""},{"$f":"IF(AC84=\"\",\"\",INDEX(Qual!$C$8:$U$133,MATCH($AC84,Qual!$C$8:$C$133,0),10))","v":""},{"$f":"IF(AC84=\"\",\"\",INDEX(Qual!$C$8:$U$133,MATCH($AC84,Qual!$C$8:$C$133,0),12))","v":""},{"$f":"IF(AC84=\"\",\"\",INDEX(Qual!$C$8:$U$133,MATCH($AC84,Qual!$C$8:$C$133,0),14))","v":""},{"$f":"IF(AC84=\"\",\"\",INDEX(Qual!$C$8:$U$133,MATCH($AC84,Qual!$C$8:$C$133,0),16))","v":""},{"$f":"IF(AC84=\"\",\"\",INDEX(Qual!$C$8:$U$133,MATCH($AC84,Qual!$C$8:$C$133,0),18))","v":""},null,{"$f":"IF(AO84=0,\"\",'Check-In'!$B89)","v":""},{"$f":"'Check-In'!V89","v":0},{"$f":"IF(AO84=0,\"\",INDEX(Qual!$C$8:$M$133,MATCH($AN84,Qual!$C$8:$C$133,0),4)+INDEX(Qual!$C$8:$M$133,MATCH($AN84,Qual!$C$8:$C$133,0),5)+INDEX(Qual!$C$8:$M$133,MATCH($AN84,Qual!$C$8:$C$133,0),6)+INDEX(Qual!$C$8:$M$133,MATCH($AN84,Qual!$C$8:$C$133,0),7)+INDEX(Qual!$C$8:$M$133,MATCH($AN84,Qual!$C$8:$C$133,0),8)+INDEX(Qual!$C$8:$M$133,MATCH($AN84,Qual!$C$8:$C$133,0),9)+INDEX(Qual!$C$8:$M$133,MATCH($AN84,Qual!$C$8:$C$133,0),10)+INDEX(Qual!$C$8:$M$133,MATCH($AN84,Qual!$C$8:$C$133,0),11))","v":""}]
[{"$nulls":28},{"$f":"IF(AD85=0,\"\",'Check-In'!$B90)","v":""},{"$f":"'Check-In'!I90","v":0},{"$f":"IF(AC85=\"\",\"\",INDEX(Qual!$C$8:$U$133,MATCH($AC85,Qual!$C$8:$C$133,0),4))","v":""},{"$f":"IF(AC85=\"\",\"\",INDEX(Qual!$C$8:$U$133,MATCH($AC85,Qual!$C$8:$C$133,0),6))","v":""},{"$f":"IF(AC85=\"\",\"\",INDEX(Qual!$C$8:$U$133,MATCH($AC85,Qual!$C$8:$C$133,0),8))","v":""},{"$f":"IF(AC85=\"\",\"\",INDEX(Qual!$C$8:$U$133,MATCH($AC85,Qual!$C$8:$C$133,0),10))","v":""},{"$f":"IF(AC85=\"\",\"\",INDEX(Qual!$C$8:$U$133,MATCH($AC85,Qual!$C$8:$C$133,0),12))","v":""},{"$f":"IF(AC85=\"\",\"\",INDEX(Qual!$C$8:$U$133,MATCH($AC85,Qual!$C$8:$C$133,0),14))","v":""},{"$f":"IF(AC85=\"\",\"\",INDEX(Qual!$C$8:$U$133,MATCH($AC85,Qual!$C$8:$C$133,0),16))","v":""},{"$f":"IF(AC85=\"\",\"\",INDEX(Qual!$C$8:$U$133,MATCH($AC85,Qual!$C$8:$C$133,0),18))","v":""},null,{"$f":"IF(AO85=0,\"\",'Check-In'!$B90)","v":""},{"$f":"'Check-In'!V90","v":0},{"$f":"IF(AO85=0,\"\",INDEX(Qual!$C$8:$M$133,MATCH($AN85,Qual!$C$8:$C$133,0),4)+INDEX(Qual!$C$8:$M$133,MATCH($AN85,Qual!$C$8:$C$133,0),5)+INDEX(Qual!$C$8:$M$133,MATCH($AN85,Qual!$C$8:$C$133,0),6)+INDEX(Qual!$C$8:$M$133,MATCH($AN85,Qual!$C$8:$C$133,0),7)+INDEX(Qual!$C$8:$M$133,MATCH($AN85,Qual!$C$8:$C$133,0),8)+INDEX(Qual!$C$8:$M$133,MATCH($AN85,Qual!$C$8:$C$133,0),9)+INDEX(Qual!$C$8:$M$133,MATCH($AN85,Qual!$C$8:$C$133,0),10)+INDEX(Qual!$C$8:$M$133,MATCH($AN85,Qual!$C$8:$C$133,0),11))","v":""}]
[{"$nulls":28},{"$f":"IF(AD86=0,\"\",'Check-In'!$B91)","v":""},{"$f":"'Check-In'!I91","v":0},{"$f":"IF(AC86=\"\",\"\",INDEX(Qual!$C$8:$U$133,MATCH($AC86,Qual!$C$8:$C$133,0),4))","v":""},{"$f":"IF(AC86=\"\",\"\",INDEX(Qual!$C$8:$U$133,MATCH($AC86,Qual!$C$8:$C$133,0),6))","v":""},{"$f":"IF(AC86=\"\",\"\",INDEX(Qual!$C$8:$U$133,MATCH($AC86,Qual!$C$8:$C$133,0),8))","v":""},{"$f":"IF(AC86=\"\",\"\",INDEX(Qual!$C$8:$U$133,MATCH($AC86,Qual!$C$8:$C$133,0),10))","v":""},{"$f":"IF(AC86=\"\",\"\",INDEX(Qual!$C$8:$U$133,MATCH($AC86,Qual!$C$8:$C$133,0),12))","v":""},{"$f":"IF(AC86=\"\",\"\",INDEX(Qual!$C$8:$U$133,MATCH($AC86,Qual!$C$8:$C$133,0),14))","v":""},{"$f":"IF(AC86=\"\",\"\",INDEX(Qual!$C$8:$U$133,MATCH($AC86,Qual!$C$8:$C$133,0),16))","v":""},{"$f":"IF(AC86=\"\",\"\",INDEX(Qual!$C$8:$U$133,MATCH($AC86,Qual!$C$8:$C$133,0),18))","v":""},null,{"$f":"IF(AO86=0,\"\",'Check-In'!$B91)","v":""},{"$f":"'Check-In'!V91","v":0},{"$f":"IF(AO86=0,\"\",INDEX(Qual!$C$8:$M$133,MATCH($AN86,Qual!$C$8:$C$133,0),4)+INDEX(Qual!$C$8:$M$133,MATCH($AN86,Qual!$C$8:$C$133,0),5)+INDEX(Qual!$C$8:$M$133,MATCH($AN86,Qual!$C$8:$C$133,0),6)+INDEX(Qual!$C$8:$M$133,MATCH($AN86,Qual!$C$8:$C$133,0),7)+INDEX(Qual!$C$8:$M$133,MATCH($AN86,Qual!$C$8:$C$133,0),8)+INDEX(Qual!$C$8:$M$133,MATCH($AN86,Qual!$C$8:$C$133,0),9)+INDEX(Qual!$C$8:$M$133,MATCH($AN86,Qual!$C$8:$C$133,0),10)+INDEX(Qual!$C$8:$M$133,MATCH($AN86,Qual!$C$8:$C$133,0),11))","v":""}]
[{"$nulls":28},{"$f":"IF(AD87=0,\"\",'Check-In'!$B92)","v":""},{"$f":"'Check-In'!I92","v":0},{"$f":"IF(AC87=\"\",\"\",INDEX(Qual!$C$8:$U$133,MATCH($AC87,Qual!$C$8:$C$133,0),4))","v":""},{"$f":"IF(AC87=\"\",\"\",INDEX(Qual!$C$8:$U$133,MATCH($AC87,Qual!$C$8:$C$133,0),6))","v":""},{"$f":"IF(AC87=\"\",\"\",INDEX(Qual!$C$8:$U$133,MATCH($AC87,Qual!$C$8:$C$133,0),8))","v":""},{"$f":"IF(AC87=\"\",\"\",INDEX(Qual!$C$8:$U$133,MATCH($AC87,Qual!$C$8:$C$133,0),10))","v":""},{"$f":"IF(AC87=\"\",\"\",INDEX(Qual!$C$8:$U$133,MATCH($AC87,Qual!$C$8:$C$133,0),12))","v":""},{"$f":"IF(AC87=\"\",\"\",INDEX(Qual!$C$8:$U$133,MATCH($AC87,Qual!$C$8:$C$133,0),14))","v":""},{"$f":"IF(AC87=\"\",\"\",INDEX(Qual!$C$8:$U$133,MATCH($AC87,Qual!$C$8:$C$133,0),16))","v":""},{"$f":"IF(AC87=\"\",\"\",INDEX(Qual!$C$8:$U$133,MATCH($AC87,Qual!$C$8:$C$133,0),18))","v":""},null,{"$f":"IF(AO87=0,\"\",'Check-In'!$B92)","v":""},{"$f":"'Check-In'!V92","v":0},{"$f":"IF(AO87=0,\"\",INDEX(Qual!$C$8:$M$133,MATCH($AN87,Qual!$C$8:$C$133,0),4)+INDEX(Qual!$C$8:$M$133,MATCH($AN87,Qual!$C$8:$C$133,0),5)+INDEX(Qual!$C$8:$M$133,MATCH($AN87,Qual!$C$8:$C$133,0),6)+INDEX(Qual!$C$8:$M$133,MATCH($AN87,Qual!$C$8:$C$133,0),7)+INDEX(Qual!$C$8:$M$133,MATCH($AN87,Qual!$C$8:$C$133,0),8)+INDEX(Qual!$C$8:$M$133,MATCH($AN87,Qual!$C$8:$C$133,0),9)+INDEX(Qual!$C$8:$M$133,MATCH($AN87,Qual!$C$8:$C$133,0),10)+INDEX(Qual!$C$8:$M$133,MATCH($AN87,Qual!$C$8:$C$133,0),11))","v":""}]
[{"$nulls":28},{"$f":"IF(AD88=0,\"\",'Check-In'!$B93)","v":""},{"$f":"'Check-In'!I93","v":0},{"$f":"IF(AC88=\"\",\"\",INDEX(Qual!$C$8:$U$133,MATCH($AC88,Qual!$C$8:$C$133,0),4))","v":""},{"$f":"IF(AC88=\"\",\"\",INDEX(Qual!$C$8:$U$133,MATCH($AC88,Qual!$C$8:$C$133,0),6))","v":""},{"$f":"IF(AC88=\"\",\"\",INDEX(Qual!$C$8:$U$133,MATCH($AC88,Qual!$C$8:$C$133,0),8))","v":""},{"$f":"IF(AC88=\"\",\"\",INDEX(Qual!$C$8:$U$133,MATCH($AC88,Qual!$C$8:$C$133,0),10))","v":""},{"$f":"IF(AC88=\"\",\"\",INDEX(Qual!$C$8:$U$133,MATCH($AC88,Qual!$C$8:$C$133,0),12))","v":""},{"$f":"IF(AC88=\"\",\"\",INDEX(Qual!$C$8:$U$133,MATCH($AC88,Qual!$C$8:$C$133,0),14))","v":""},{"$f":"IF(AC88=\"\",\"\",INDEX(Qual!$C$8:$U$133,MATCH($AC88,Qual!$C$8:$C$133,0),16))","v":""},{"$f":"IF(AC88=\"\",\"\",INDEX(Qual!$C$8:$U$133,MATCH($AC88,Qual!$C$8:$C$133,0),18))","v":""},null,{"$f":"IF(AO88=0,\"\",'Check-In'!$B93)","v":""},{"$f":"'Check-In'!V93","v":0},{"$f":"IF(AO88=0,\"\",INDEX(Qual!$C$8:$M$133,MATCH($AN88,Qual!$C$8:$C$133,0),4)+INDEX(Qual!$C$8:$M$133,MATCH($AN88,Qual!$C$8:$C$133,0),5)+INDEX(Qual!$C$8:$M$133,MATCH($AN88,Qual!$C$8:$C$133,0),6)+INDEX(Qual!$C$8:$M$133,MATCH($AN88,Qual!$C$8:$C$133,0),7)+INDEX(Qual!$C$8:$M$133,MATCH($AN88,Qual!$C$8:$C$133,0),8)+INDEX(Qual!$C$8:$M$133,MATCH($AN88,Qual!$C$8:$C$133,0),9)+INDEX(Qual!$C$8:$M$133,MATCH($AN88,Qual!$C$8:$C$133,0),10)+INDEX(Qual!$C$8:$M$133,MATCH($AN88,Qual!$C$8:$C$133,0),11))","v":""}]
[{"$nulls":28},{"$f":"IF(AD89=0,\"\",'Check-In'!$B94)","v":""},{"$f":"'Check-In'!I94","v":0},{"$f":"IF(AC89=\"\",\"\",INDEX(Qual!$C$8:$U$133,MATCH($AC89,Qual!$C$8:$C$133,0),4))","v":""},{"$f":"IF(AC89=\"\",\"\",INDEX(Qual!$C$8:$U$133,MATCH($AC89,Qual!$C$8:$C$133,0),6))","v":""},{"$f":"IF(AC89=\"\",\"\",INDEX(Qual!$C$8:$U$133,MATCH($AC89,Qual!$C$8:$C$133,0),8))","v":""},{"$f":"IF(AC89=\"\",\"\",INDEX(Qual!$C$8:$U$133,MATCH($AC89,Qual!$C$8:$C$133,0),10))","v":""},{"$f":"IF(AC89=\"\",\"\",INDEX(Qual!$C$8:$U$133,MATCH($AC89,Qual!$C$8:$C$133,0),12))","v":""},{"$f":"IF(AC89=\"\",\"\",INDEX(Qual!$C$8:$U$133,MATCH($AC89,Qual!$C$8:$C$133,0),14))","v":""},{"$f":"IF(AC89=\"\",\"\",INDEX(Qual!$C$8:$U$133,MATCH($AC89,Qual!$C$8:$C$133,0),16))","v":""},{"$f":"IF(AC89=\"\",\"\",INDEX(Qual!$C$8:$U$133,MATCH($AC89,Qual!$C$8:$C$133,0),18))","v":""},null,{"$f":"IF(AO89=0,\"\",'Check-In'!$B94)","v":""},{"$f":"'Check-In'!V94","v":0},{"$f":"IF(AO89=0,\"\",INDEX(Qual!$C$8:$M$133,MATCH($AN89,Qual!$C$8:$C$133,0),4)+INDEX(Qual!$C$8:$M$133,MATCH($AN89,Qual!$C$8:$C$133,0),5)+INDEX(Qual!$C$8:$M$133,MATCH($AN89,Qual!$C$8:$C$133,0),6)+INDEX(Qual!$C$8:$M$133,MATCH($AN89,Qual!$C$8:$C$133,0),7)+INDEX(Qual!$C$8:$M$133,MATCH($AN89,Qual!$C$8:$C$133,0),8)+INDEX(Qual!$C$8:$M$133,MATCH($AN89,Qual!$C$8:$C$133,0),9)+INDEX(Qual!$C$8:$M$133,MATCH($AN89,Qual!$C$8:$C$133,0),10)+INDEX(Qual!$C$8:$M$133,MATCH($AN89,Qual!$C$8:$C$133,0),11))","v":""}]
[{"$nulls":28},{"$f":"IF(AD90=0,\"\",'Check-In'!$B95)","v":""},{"$f":"'Check-In'!I95","v":0},{"$f":"IF(AC90=\"\",\"\",INDEX(Qual!$C$8:$U$133,MATCH($AC90,Qual!$C$8:$C$133,0),4))","v":""},{"$f":"IF(AC90=\"\",\"\",INDEX(Qual!$C$8:$U$133,MATCH($AC90,Qual!$C$8:$C$133,0),6))","v":""},{"$f":"IF(AC90=\"\",\"\",INDEX(Qual!$C$8:$U$133,MATCH($AC90,Qual!$C$8:$C$133,0),8))","v":""},{"$f":"IF(AC90=\"\",\"\",INDEX(Qual!$C$8:$U$133,MATCH($AC90,Qual!$C$8:$C$133,0),10))","v":""},{"$f":"IF(AC90=\"\",\"\",INDEX(Qual!$C$8:$U$133,MATCH($AC90,Qual!$C$8:$C$133,0),12))","v":""},{"$f":"IF(AC90=\"\",\"\",INDEX(Qual!$C$8:$U$133,MATCH($AC90,Qual!$C$8:$C$133,0),14))","v":""},{"$f":"IF(AC90=\"\",\"\",INDEX(Qual!$C$8:$U$133,MATCH($AC90,Qual!$C$8:$C$133,0),16))","v":""},{"$f":"IF(AC90=\"\",\"\",INDEX(Qual!$C$8:$U$133,MATCH($AC90,Qual!$C$8:$C$133,0),18))","v":""},null,{"$f":"IF(AO90=0,\"\",'Check-In'!$B95)","v":""},{"$f":"'Check-In'!V95","v":0},{"$f":"IF(AO90=0,\"\",INDEX(Qual!$C$8:$M$133,MATCH($AN90,Qual!$C$8:$C$133,0),4)+INDEX(Qual!$C$8:$M$133,MATCH($AN90,Qual!$C$8:$C$133,0),5)+INDEX(Qual!$C$8:$M$133,MATCH($AN90,Qual!$C$8:$C$133,0),6)+INDEX(Qual!$C$8:$M$133,MATCH($AN90,Qual!$C$8:$C$133,0),7)+INDEX(Qual!$C$8:$M$133,MATCH($AN90,Qual!$C$8:$C$133,0),8)+INDEX(Qual!$C$8:$M$133,MATCH($AN90,Qual!$C$8:$C$133,0),9)+INDEX(Qual!$C$8:$M$133,MATCH($AN90,Qual!$C$8:$C$133,0),10)+INDEX(Qual!$C$8:$M$133,MATCH($AN90,Qual!$C$8:$C$133,0),11))","v":""}]
[{"$nulls":28},{"$f":"IF(AD91=0,\"\",'Check-In'!$B96)","v":""},{"$f":"'Check-In'!I96","v":0},{"$f":"IF(AC91=\"\",\"\",INDEX(Qual!$C$8:$U$133,MATCH($AC91,Qual!$C$8:$C$133,0),4))","v":""},{"$f":"IF(AC91=\"\",\"\",INDEX(Qual!$C$8:$U$133,MATCH($AC91,Qual!$C$8:$C$133,0),6))","v":""},{"$f":"IF(AC91=\"\",\"\",INDEX(Qual!$C$8:$U$133,MATCH($AC91,Qual!$C$8:$C$133,0),8))","v":""},{"$f":"IF(AC91=\"\",\"\",INDEX(Qual!$C$8:$U$133,MATCH($AC91,Qual!$C$8:$C$133,0),10))","v":""},{"$f":"IF(AC91=\"\",\"\",INDEX(Qual!$C$8:$U$133,MATCH($AC91,Qual!$C$8:$C$133,0),12))","v":""},{"$f":"IF(AC91=\"\",\"\",INDEX(Qual!$C$8:$U$133,MATCH($AC91,Qual!$C$8:$C$133,0),14))","v":""},{"$f":"IF(AC91=\"\",\"\",INDEX(Qual!$C$8:$U$133,MATCH($AC91,Qual!$C$8:$C$133,0),16))","v":""},{"$f":"IF(AC91=\"\",\"\",INDEX(Qual!$C$8:$U$133,MATCH($AC91,Qual!$C$8:$C$133,0),18))","v":""},null,{"$f":"IF(AO91=0,\"\",'Check-In'!$B96)","v":""},{"$f":"'Check-In'!V96","v":0},{"$f":"IF(AO91=0,\"\",INDEX(Qual!$C$8:$M$133,MATCH($AN91,Qual!$C$8:$C$133,0),4)+INDEX(Qual!$C$8:$M$133,MATCH($AN91,Qual!$C$8:$C$133,0),5)+INDEX(Qual!$C$8:$M$133,MATCH($AN91,Qual!$C$8:$C$133,0),6)+INDEX(Qual!$C$8:$M$133,MATCH($AN91,Qual!$C$8:$C$133,0),7)+INDEX(Qual!$C$8:$M$133,MATCH($AN91,Qual!$C$8:$C$133,0),8)+INDEX(Qual!$C$8:$M$133,MATCH($AN91,Qual!$C$8:$C$133,0),9)+INDEX(Qual!$C$8:$M$133,MATCH($AN91,Qual!$C$8:$C$133,0),10)+INDEX(Qual!$C$8:$M$133,MATCH($AN91,Qual!$C$8:$C$133,0),11))","v":""}]
[{"$nulls":28},{"$f":"IF(AD92=0,\"\",'Check-In'!$B97)","v":""},{"$f":"'Check-In'!I97","v":0},{"$f":"IF(AC92=\"\",\"\",INDEX(Qual!$C$8:$U$133,MATCH($AC92,Qual!$C$8:$C$133,0),4))","v":""},{"$f":"IF(AC92=\"\",\"\",INDEX(Qual!$C$8:$U$133,MATCH($AC92,Qual!$C$8:$C$133,0),6))","v":""},{"$f":"IF(AC92=\"\",\"\",INDEX(Qual!$C$8:$U$133,MATCH($AC92,Qual!$C$8:$C$133,0),8))","v":""},{"$f":"IF(AC92=\"\",\"\",INDEX(Qual!$C$8:$U$133,MATCH($AC92,Qual!$C$8:$C$133,0),10))","v":""},{"$f":"IF(AC92=\"\",\"\",INDEX(Qual!$C$8:$U$133,MATCH($AC92,Qual!$C$8:$C$133,0),12))","v":""},{"$f":"IF(AC92=\"\",\"\",INDEX(Qual!$C$8:$U$133,MATCH($AC92,Qual!$C$8:$C$133,0),14))","v":""},{"$f":"IF(AC92=\"\",\"\",INDEX(Qual!$C$8:$U$133,MATCH($AC92,Qual!$C$8:$C$133,0),16))","v":""},{"$f":"IF(AC92=\"\",\"\",INDEX(Qual!$C$8:$U$133,MATCH($AC92,Qual!$C$8:$C$133,0),18))","v":""},null,{"$f":"IF(AO92=0,\"\",'Check-In'!$B97)","v":""},{"$f":"'Check-In'!V97","v":0},{"$f":"IF(AO92=0,\"\",INDEX(Qual!$C$8:$M$133,MATCH($AN92,Qual!$C$8:$C$133,0),4)+INDEX(Qual!$C$8:$M$133,MATCH($AN92,Qual!$C$8:$C$133,0),5)+INDEX(Qual!$C$8:$M$133,MATCH($AN92,Qual!$C$8:$C$133,0),6)+INDEX(Qual!$C$8:$M$133,MATCH($AN92,Qual!$C$8:$C$133,0),7)+INDEX(Qual!$C$8:$M$133,MATCH($AN92,Qual!$C$8:$C$133,0),8)+INDEX(Qual!$C$8:$M$133,MATCH($AN92,Qual!$C$8:$C$133,0),9)+INDEX(Qual!$C$8:$M$133,MATCH($AN92,Qual!$C$8:$C$133,0),10)+INDEX(Qual!$C$8:$M$133,MATCH($AN92,Qual!$C$8:$C$133,0),11))","v":""}]
[{"$nulls":28},{"$f":"IF(AD93=0,\"\",'Check-In'!$B98)","v":""},{"$f":"'Check-In'!I98","v":0},{"$f":"IF(AC93=\"\",\"\",INDEX(Qual!$C$8:$U$133,MATCH($AC93,Qual!$C$8:$C$133,0),4))","v":""},{"$f":"IF(AC93=\"\",\"\",INDEX(Qual!$C$8:$U$133,MATCH($AC93,Qual!$C$8:$C$133,0),6))","v":""},{"$f":"IF(AC93=\"\",\"\",INDEX(Qual!$C$8:$U$133,MATCH($AC93,Qual!$C$8:$C$133,0),8))","v":""},{"$f":"IF(AC93=\"\",\"\",INDEX(Qual!$C$8:$U$133,MATCH($AC93,Qual!$C$8:$C$133,0),10))","v":""},{"$f":"IF(AC93=\"\",\"\",INDEX(Qual!$C$8:$U$133,MATCH($AC93,Qual!$C$8:$C$133,0),12))","v":""},{"$f":"IF(AC93=\"\",\"\",INDEX(Qual!$C$8:$U$133,MATCH($AC93,Qual!$C$8:$C$133,0),14))","v":""},{"$f":"IF(AC93=\"\",\"\",INDEX(Qual!$C$8:$U$133,MATCH($AC93,Qual!$C$8:$C$133,0),16))","v":""},{"$f":"IF(AC93=\"\",\"\",INDEX(Qual!$C$8:$U$133,MATCH($AC93,Qual!$C$8:$C$133,0),18))","v":""},null,{"$f":"IF(AO93=0,\"\",'Check-In'!$B98)","v":""},{"$f":"'Check-In'!V98","v":0},{"$f":"IF(AO93=0,\"\",INDEX(Qual!$C$8:$M$133,MATCH($AN93,Qual!$C$8:$C$133,0),4)+INDEX(Qual!$C$8:$M$133,MATCH($AN93,Qual!$C$8:$C$133,0),5)+INDEX(Qual!$C$8:$M$133,MATCH($AN93,Qual!$C$8:$C$133,0),6)+INDEX(Qual!$C$8:$M$133,MATCH($AN93,Qual!$C$8:$C$133,0),7)+INDEX(Qual!$C$8:$M$133,MATCH($AN93,Qual!$C$8:$C$133,0),8)+INDEX(Qual!$C$8:$M$133,MATCH($AN93,Qual!$C$8:$C$133,0),9)+INDEX(Qual!$C$8:$M$133,MATCH($AN93,Qual!$C$8:$C$133,0),10)+INDEX(Qual!$C$8:$M$133,MATCH($AN93,Qual!$C$8:$C$133,0),11))","v":""}]
[{"$nulls":28},{"$f":"IF(AD94=0,\"\",'Check-In'!$B99)","v":""},{"$f":"'Check-In'!I99","v":0},{"$f":"IF(AC94=\"\",\"\",INDEX(Qual!$C$8:$U$133,MATCH($AC94,Qual!$C$8:$C$133,0),4))","v":""},{"$f":"IF(AC94=\"\",\"\",INDEX(Qual!$C$8:$U$133,MATCH($AC94,Qual!$C$8:$C$133,0),6))","v":""},{"$f":"IF(AC94=\"\",\"\",INDEX(Qual!$C$8:$U$133,MATCH($AC94,Qual!$C$8:$C$133,0),8))","v":""},{"$f":"IF(AC94=\"\",\"\",INDEX(Qual!$C$8:$U$133,MATCH($AC94,Qual!$C$8:$C$133,0),10))","v":""},{"$f":"IF(AC94=\"\",\"\",INDEX(Qual!$C$8:$U$133,MATCH($AC94,Qual!$C$8:$C$133,0),12))","v":""},{"$f":"IF(AC94=\"\",\"\",INDEX(Qual!$C$8:$U$133,MATCH($AC94,Qual!$C$8:$C$133,0),14))","v":""},{"$f":"IF(AC94=\"\",\"\",INDEX(Qual!$C$8:$U$133,MATCH($AC94,Qual!$C$8:$C$133,0),16))","v":""},{"$f":"IF(AC94=\"\",\"\",INDEX(Qual!$C$8:$U$133,MATCH($AC94,Qual!$C$8:$C$133,0),18))","v":""},null,{"$f":"IF(AO94=0,\"\",'Check-In'!$B99)","v":""},{"$f":"'Check-In'!V99","v":0},{"$f":"IF(AO94=0,\"\",INDEX(Qual!$C$8:$M$133,MATCH($AN94,Qual!$C$8:$C$133,0),4)+INDEX(Qual!$C$8:$M$133,MATCH($AN94,Qual!$C$8:$C$133,0),5)+INDEX(Qual!$C$8:$M$133,MATCH($AN94,Qual!$C$8:$C$133,0),6)+INDEX(Qual!$C$8:$M$133,MATCH($AN94,Qual!$C$8:$C$133,0),7)+INDEX(Qual!$C$8:$M$133,MATCH($AN94,Qual!$C$8:$C$133,0),8)+INDEX(Qual!$C$8:$M$133,MATCH($AN94,Qual!$C$8:$C$133,0),9)+INDEX(Qual!$C$8:$M$133,MATCH($AN94,Qual!$C$8:$C$133,0),10)+INDEX(Qual!$C$8:$M$133,MATCH($AN94,Qual!$C$8:$C$133,0),11))","v":""}]
[{"$nulls":28},{"$f":"IF(AD95=0,\"\",'Check-In'!$B100)","v":""},{"$f":"'Check-In'!I100","v":0},{"$f":"IF(AC95=\"\",\"\",INDEX(Qual!$C$8:$U$133,MATCH($AC95,Qual!$C$8:$C$133,0),4))","v":""},{"$f":"IF(AC95=\"\",\"\",INDEX(Qual!$C$8:$U$133,MATCH($AC95,Qual!$C$8:$C$133,0),6))","v":""},{"$f":"IF(AC95=\"\",\"\",INDEX(Qual!$C$8:$U$133,MATCH($AC95,Qual!$C$8:$C$133,0),8))","v":""},{"$f":"IF(AC95=\"\",\"\",INDEX(Qual!$C$8:$U$133,MATCH($AC95,Qual!$C$8:$C$133,0),10))","v":""},{"$f":"IF(AC95=\"\",\"\",INDEX(Qual!$C$8:$U$133,MATCH($AC95,Qual!$C$8:$C$133,0),12))","v":""},{"$f":"IF(AC95=\"\",\"\",INDEX(Qual!$C$8:$U$133,MATCH($AC95,Qual!$C$8:$C$133,0),14))","v":""},{"$f":"IF(AC95=\"\",\"\",INDEX(Qual!$C$8:$U$133,MATCH($AC95,Qual!$C$8:$C$133,0),16))","v":""},{"$f":"IF(AC95=\"\",\"\",INDEX(Qual!$C$8:$U$133,MATCH($AC95,Qual!$C$8:$C$133,0),18))","v":""},null,{"$f":"IF(AO95=0,\"\",'Check-In'!$B100)","v":""},{"$f":"'Check-In'!V100","v":0},{"$f":"IF(AO95=0,\"\",INDEX(Qual!$C$8:$M$133,MATCH($AN95,Qual!$C$8:$C$133,0),4)+INDEX(Qual!$C$8:$M$133,MATCH($AN95,Qual!$C$8:$C$133,0),5)+INDEX(Qual!$C$8:$M$133,MATCH($AN95,Qual!$C$8:$C$133,0),6)+INDEX(Qual!$C$8:$M$133,MATCH($AN95,Qual!$C$8:$C$133,0),7)+INDEX(Qual!$C$8:$M$133,MATCH($AN95,Qual!$C$8:$C$133,0),8)+INDEX(Qual!$C$8:$M$133,MATCH($AN95,Qual!$C$8:$C$133,0),9)+INDEX(Qual!$C$8:$M$133,MATCH($AN95,Qual!$C$8:$C$133,0),10)+INDEX(Qual!$C$8:$M$133,MATCH($AN95,Qual!$C$8:$C$133,0),11))","v":""}]
[{"$nulls":28},{"$f":"IF(AD96=0,\"\",'Check-In'!$B101)","v":""},{"$f":"'Check-In'!I101","v":0},{"$f":"IF(AC96=\"\",\"\",INDEX(Qual!$C$8:$U$133,MATCH($AC96,Qual!$C$8:$C$133,0),4))","v":""},{"$f":"IF(AC96=\"\",\"\",INDEX(Qual!$C$8:$U$133,MATCH($AC96,Qual!$C$8:$C$133,0),6))","v":""},{"$f":"IF(AC96=\"\",\"\",INDEX(Qual!$C$8:$U$133,MATCH($AC96,Qual!$C$8:$C$133,0),8))","v":""},{"$f":"IF(AC96=\"\",\"\",INDEX(Qual!$C$8:$U$133,MATCH($AC96,Qual!$C$8:$C$133,0),10))","v":""},{"$f":"IF(AC96=\"\",\"\",INDEX(Qual!$C$8:$U$133,MATCH($AC96,Qual!$C$8:$C$133,0),12))","v":""},{"$f":"IF(AC96=\"\",\"\",INDEX(Qual!$C$8:$U$133,MATCH($AC96,Qual!$C$8:$C$133,0),14))","v":""},{"$f":"IF(AC96=\"\",\"\",INDEX(Qual!$C$8:$U$133,MATCH($AC96,Qual!$C$8:$C$133,0),16))","v":""},{"$f":"IF(AC96=\"\",\"\",INDEX(Qual!$C$8:$U$133,MATCH($AC96,Qual!$C$8:$C$133,0),18))","v":""},null,{"$f":"IF(AO96=0,\"\",'Check-In'!$B101)","v":""},{"$f":"'Check-In'!V101","v":0},{"$f":"IF(AO96=0,\"\",INDEX(Qual!$C$8:$M$133,MATCH($AN96,Qual!$C$8:$C$133,0),4)+INDEX(Qual!$C$8:$M$133,MATCH($AN96,Qual!$C$8:$C$133,0),5)+INDEX(Qual!$C$8:$M$133,MATCH($AN96,Qual!$C$8:$C$133,0),6)+INDEX(Qual!$C$8:$M$133,MATCH($AN96,Qual!$C$8:$C$133,0),7)+INDEX(Qual!$C$8:$M$133,MATCH($AN96,Qual!$C$8:$C$133,0),8)+INDEX(Qual!$C$8:$M$133,MATCH($AN96,Qual!$C$8:$C$133,0),9)+INDEX(Qual!$C$8:$M$133,MATCH($AN96,Qual!$C$8:$C$133,0),10)+INDEX(Qual!$C$8:$M$133,MATCH($AN96,Qual!$C$8:$C$133,0),11))","v":""}]
[{"$nulls":28},{"$f":"IF(AD97=0,\"\",'Check-In'!$B102)","v":""},{"$f":"'Check-In'!I102","v":0},{"$f":"IF(AC97=\"\",\"\",INDEX(Qual!$C$8:$U$133,MATCH($AC97,Qual!$C$8:$C$133,0),4))","v":""},{"$f":"IF(AC97=\"\",\"\",INDEX(Qual!$C$8:$U$133,MATCH($AC97,Qual!$C$8:$C$133,0),6))","v":""},{"$f":"IF(AC97=\"\",\"\",INDEX(Qual!$C$8:$U$133,MATCH($AC97,Qual!$C$8:$C$133,0),8))","v":""},{"$f":"IF(AC97=\"\",\"\",INDEX(Qual!$C$8:$U$133,MATCH($AC97,Qual!$C$8:$C$133,0),10))","v":""},{"$f":"IF(AC97=\"\",\"\",INDEX(Qual!$C$8:$U$133,MATCH($AC97,Qual!$C$8:$C$133,0),12))","v":""},{"$f":"IF(AC97=\"\",\"\",INDEX(Qual!$C$8:$U$133,MATCH($AC97,Qual!$C$8:$C$133,0),14))","v":""},{"$f":"IF(AC97=\"\",\"\",INDEX(Qual!$C$8:$U$133,MATCH($AC97,Qual!$C$8:$C$133,0),16))","v":""},{"$f":"IF(AC97=\"\",\"\",INDEX(Qual!$C$8:$U$133,MATCH($AC97,Qual!$C$8:$C$133,0),18))","v":""},null,{"$f":"IF(AO97=0,\"\",'Check-In'!$B102)","v":""},{"$f":"'Check-In'!V102","v":0},{"$f":"IF(AO97=0,\"\",INDEX(Qual!$C$8:$M$133,MATCH($AN97,Qual!$C$8:$C$133,0),4)+INDEX(Qual!$C$8:$M$133,MATCH($AN97,Qual!$C$8:$C$133,0),5)+INDEX(Qual!$C$8:$M$133,MATCH($AN97,Qual!$C$8:$C$133,0),6)+INDEX(Qual!$C$8:$M$133,MATCH($AN97,Qual!$C$8:$C$133,0),7)+INDEX(Qual!$C$8:$M$133,MATCH($AN97,Qual!$C$8:$C$133,0),8)+INDEX(Qual!$C$8:$M$133,MATCH($AN97,Qual!$C$8:$C$133,0),9)+INDEX(Qual!$C$8:$M$133,MATCH($AN97,Qual!$C$8:$C$133,0),10)+INDEX(Qual!$C$8:$M$133,MATCH($AN97,Qual!$C$8:$C$133,0),11))","v":""}]
[{"$nulls":28},{"$f":"IF(AD98=0,\"\",'Check-In'!$B103)","v":""},{"$f":"'Check-In'!I103","v":0},{"$f":"IF(AC98=\"\",\"\",INDEX(Qual!$C$8:$U$133,MATCH($AC98,Qual!$C$8:$C$133,0),4))","v":""},{"$f":"IF(AC98=\"\",\"\",INDEX(Qual!$C$8:$U$133,MATCH($AC98,Qual!$C$8:$C$133,0),6))","v":""},{"$f":"IF(AC98=\"\",\"\",INDEX(Qual!$C$8:$U$133,MATCH($AC98,Qual!$C$8:$C$133,0),8))","v":""},{"$f":"IF(AC98=\"\",\"\",INDEX(Qual!$C$8:$U$133,MATCH($AC98,Qual!$C$8:$C$133,0),10))","v":""},{"$f":"IF(AC98=\"\",\"\",INDEX(Qual!$C$8:$U$133,MATCH($AC98,Qual!$C$8:$C$133,0),12))","v":""},{"$f":"IF(AC98=\"\",\"\",INDEX(Qual!$C$8:$U$133,MATCH($AC98,Qual!$C$8:$C$133,0),14))","v":""},{"$f":"IF(AC98=\"\",\"\",INDEX(Qual!$C$8:$U$133,MATCH($AC98,Qual!$C$8:$C$133,0),16))","v":""},{"$f":"IF(AC98=\"\",\"\",INDEX(Qual!$C$8:$U$133,MATCH($AC98,Qual!$C$8:$C$133,0),18))","v":""},null,{"$f":"IF(AO98=0,\"\",'Check-In'!$B103)","v":""},{"$f":"'Check-In'!V103","v":0},{"$f":"IF(AO98=0,\"\",INDEX(Qual!$C$8:$M$133,MATCH($AN98,Qual!$C$8:$C$133,0),4)+INDEX(Qual!$C$8:$M$133,MATCH($AN98,Qual!$C$8:$C$133,0),5)+INDEX(Qual!$C$8:$M$133,MATCH($AN98,Qual!$C$8:$C$133,0),6)+INDEX(Qual!$C$8:$M$133,MATCH($AN98,Qual!$C$8:$C$133,0),7)+INDEX(Qual!$C$8:$M$133,MATCH($AN98,Qual!$C$8:$C$133,0),8)+INDEX(Qual!$C$8:$M$133,MATCH($AN98,Qual!$C$8:$C$133,0),9)+INDEX(Qual!$C$8:$M$133,MATCH($AN98,Qual!$C$8:$C$133,0),10)+INDEX(Qual!$C$8:$M$133,MATCH($AN98,Qual!$C$8:$C$133,0),11))","v":""}]
[{"$nulls":28},{"$f":"IF(AD99=0,\"\",'Check-In'!$B104)","v":""},{"$f":"'Check-In'!I104","v":0},{"$f":"IF(AC99=\"\",\"\",INDEX(Qual!$C$8:$U$133,MATCH($AC99,Qual!$C$8:$C$133,0),4))","v":""},{"$f":"IF(AC99=\"\",\"\",INDEX(Qual!$C$8:$U$133,MATCH($AC99,Qual!$C$8:$C$133,0),6))","v":""},{"$f":"IF(AC99=\"\",\"\",INDEX(Qual!$C$8:$U$133,MATCH($AC99,Qual!$C$8:$C$133,0),8))","v":""},{"$f":"IF(AC99=\"\",\"\",INDEX(Qual!$C$8:$U$133,MATCH($AC99,Qual!$C$8:$C$133,0),10))","v":""},{"$f":"IF(AC99=\"\",\"\",INDEX(Qual!$C$8:$U$133,MATCH($AC99,Qual!$C$8:$C$133,0),12))","v":""},{"$f":"IF(AC99=\"\",\"\",INDEX(Qual!$C$8:$U$133,MATCH($AC99,Qual!$C$8:$C$133,0),14))","v":""},{"$f":"IF(AC99=\"\",\"\",INDEX(Qual!$C$8:$U$133,MATCH($AC99,Qual!$C$8:$C$133,0),16))","v":""},{"$f":"IF(AC99=\"\",\"\",INDEX(Qual!$C$8:$U$133,MATCH($AC99,Qual!$C$8:$C$133,0),18))","v":""},null,{"$f":"IF(AO99=0,\"\",'Check-In'!$B104)","v":""},{"$f":"'Check-In'!V104","v":0},{"$f":"IF(AO99=0,\"\",INDEX(Qual!$C$8:$M$133,MATCH($AN99,Qual!$C$8:$C$133,0),4)+INDEX(Qual!$C$8:$M$133,MATCH($AN99,Qual!$C$8:$C$133,0),5)+INDEX(Qual!$C$8:$M$133,MATCH($AN99,Qual!$C$8:$C$133,0),6)+INDEX(Qual!$C$8:$M$133,MATCH($AN99,Qual!$C$8:$C$133,0),7)+INDEX(Qual!$C$8:$M$133,MATCH($AN99,Qual!$C$8:$C$133,0),8)+INDEX(Qual!$C$8:$M$133,MATCH($AN99,Qual!$C$8:$C$133,0),9)+INDEX(Qual!$C$8:$M$133,MATCH($AN99,Qual!$C$8:$C$133,0),10)+INDEX(Qual!$C$8:$M$133,MATCH($AN99,Qual!$C$8:$C$133,0),11))","v":""}]
[{"$nulls":28},{"$f":"IF(AD100=0,\"\",'Check-In'!$B105)","v":""},{"$f":"'Check-In'!I105","v":0},{"$f":"IF(AC100=\"\",\"\",INDEX(Qual!$C$8:$U$133,MATCH($AC100,Qual!$C$8:$C$133,0),4))","v":""},{"$f":"IF(AC100=\"\",\"\",INDEX(Qual!$C$8:$U$133,MATCH($AC100,Qual!$C$8:$C$133,0),6))","v":""},{"$f":"IF(AC100=\"\",\"\",INDEX(Qual!$C$8:$U$133,MATCH($AC100,Qual!$C$8:$C$133,0),8))","v":""},{"$f":"IF(AC100=\"\",\"\",INDEX(Qual!$C$8:$U$133,MATCH($AC100,Qual!$C$8:$C$133,0),10))","v":""},{"$f":"IF(AC100=\"\",\"\",INDEX(Qual!$C$8:$U$133,MATCH($AC100,Qual!$C$8:$C$133,0),12))","v":""},{"$f":"IF(AC100=\"\",\"\",INDEX(Qual!$C$8:$U$133,MATCH($AC100,Qual!$C$8:$C$133,0),14))","v":""},{"$f":"IF(AC100=\"\",\"\",INDEX(Qual!$C$8:$U$133,MATCH($AC100,Qual!$C$8:$C$133,0),16))","v":""},{"$f":"IF(AC100=\"\",\"\",INDEX(Qual!$C$8:$U$133,MATCH($AC100,Qual!$C$8:$C$133,0),18))","v":""},null,{"$f":"IF(AO100=0,\"\",'Check-In'!$B105)","v":""},{"$f":"'Check-In'!V105","v":0},{"$f":"IF(AO100=0,\"\",INDEX(Qual!$C$8:$M$133,MATCH($AN100,Qual!$C$8:$C$133,0),4)+INDEX(Qual!$C$8:$M$133,MATCH($AN100,Qual!$C$8:$C$133,0),5)+INDEX(Qual!$C$8:$M$133,MATCH($AN100,Qual!$C$8:$C$133,0),6)+INDEX(Qual!$C$8:$M$133,MATCH($AN100,Qual!$C$8:$C$133,0),7)+INDEX(Qual!$C$8:$M$133,MATCH($AN100,Qual!$C$8:$C$133,0),8)+INDEX(Qual!$C$8:$M$133,MATCH($AN100,Qual!$C$8:$C$133,0),9)+INDEX(Qual!$C$8:$M$133,MATCH($AN100,Qual!$C$8:$C$133,0),10)+INDEX(Qual!$C$8:$M$133,MATCH($AN100,Qual!$C$8:$C$133,0),11))","v":""}]
[{"$nulls":28},{"$f":"IF(AD101=0,\"\",'Check-In'!$B106)","v":""},{"$f":"'Check-In'!I106","v":0},{"$f":"IF(AC101=\"\",\"\",INDEX(Qual!$C$8:$U$133,MATCH($AC101,Qual!$C$8:$C$133,0),4))","v":""},{"$f":"IF(AC101=\"\",\"\",INDEX(Qual!$C$8:$U$133,MATCH($AC101,Qual!$C$8:$C$133,0),6))","v":""},{"$f":"IF(AC101=\"\",\"\",INDEX(Qual!$C$8:$U$133,MATCH($AC101,Qual!$C$8:$C$133,0),8))","v":""},{"$f":"IF(AC101=\"\",\"\",INDEX(Qual!$C$8:$U$133,MATCH($AC101,Qual!$C$8:$C$133,0),10))","v":""},{"$f":"IF(AC101=\"\",\"\",INDEX(Qual!$C$8:$U$133,MATCH($AC101,Qual!$C$8:$C$133,0),12))","v":""},{"$f":"IF(AC101=\"\",\"\",INDEX(Qual!$C$8:$U$133,MATCH($AC101,Qual!$C$8:$C$133,0),14))","v":""},{"$f":"IF(AC101=\"\",\"\",INDEX(Qual!$C$8:$U$133,MATCH($AC101,Qual!$C$8:$C$133,0),16))","v":""},{"$f":"IF(AC101=\"\",\"\",INDEX(Qual!$C$8:$U$133,MATCH($AC101,Qual!$C$8:$C$133,0),18))","v":""},null,{"$f":"IF(AO101=0,\"\",'Check-In'!$B106)","v":""},{"$f":"'Check-In'!V106","v":0},{"$f":"IF(AO101=0,\"\",INDEX(Qual!$C$8:$M$133,MATCH($AN101,Qual!$C$8:$C$133,0),4)+INDEX(Qual!$C$8:$M$133,MATCH($AN101,Qual!$C$8:$C$133,0),5)+INDEX(Qual!$C$8:$M$133,MATCH($AN101,Qual!$C$8:$C$133,0),6)+INDEX(Qual!$C$8:$M$133,MATCH($AN101,Qual!$C$8:$C$133,0),7)+INDEX(Qual!$C$8:$M$133,MATCH($AN101,Qual!$C$8:$C$133,0),8)+INDEX(Qual!$C$8:$M$133,MATCH($AN101,Qual!$C$8:$C$133,0),9)+INDEX(Qual!$C$8:$M$133,MATCH($AN101,Qual!$C$8:$C$133,0),10)+INDEX(Qual!$C$8:$M$133,MATCH($AN101,Qual!$C$8:$C$133,0),11))","v":""}]
[{"$nulls":28},{"$f":"IF(AD102=0,\"\",'Check-In'!$B107)","v":""},{"$f":"'Check-In'!I107","v":0},{"$f":"IF(AC102=\"\",\"\",INDEX(Qual!$C$8:$U$133,MATCH($AC102,Qual!$C$8:$C$133,0),4))","v":""},{"$f":"IF(AC102=\"\",\"\",INDEX(Qual!$C$8:$U$133,MATCH($AC102,Qual!$C$8:$C$133,0),6))","v":""},{"$f":"IF(AC102=\"\",\"\",INDEX(Qual!$C$8:$U$133,MATCH($AC102,Qual!$C$8:$C$133,0),8))","v":""},{"$f":"IF(AC102=\"\",\"\",INDEX(Qual!$C$8:$U$133,MATCH($AC102,Qual!$C$8:$C$133,0),10))","v":""},{"$f":"IF(AC102=\"\",\"\",INDEX(Qual!$C$8:$U$133,MATCH($AC102,Qual!$C$8:$C$133,0),12))","v":""},{"$f":"IF(AC102=\"\",\"\",INDEX(Qual!$C$8:$U$133,MATCH($AC102,Qual!$C$8:$C$133,0),14))","v":""},{"$f":"IF(AC102=\"\",\"\",INDEX(Qual!$C$8:$U$133,MATCH($AC102,Qual!$C$8:$C$133,0),16))","v":""},{"$f":"IF(AC102=\"\",\"\",INDEX(Qual!$C$8:$U$133,MATCH($AC102,Qual!$C$8:$C$133,0),18))","v":""},null,{"$f":"IF(AO102=0,\"\",'Check-In'!$B107)","v":""},{"$f":"'Check-In'!V107","v":0},{"$f":"IF(AO102=0,\"\",INDEX(Qual!$C$8:$M$133,MATCH($AN102,Qual!$C$8:$C$133,0),4)+INDEX(Qual!$C$8:$M$133,MATCH($AN102,Qual!$C$8:$C$133,0),5)+INDEX(Qual!$C$8:$M$133,MATCH($AN102,Qual!$C$8:$C$133,0),6)+INDEX(Qual!$C$8:$M$133,MATCH($AN102,Qual!$C$8:$C$133,0),7)+INDEX(Qual!$C$8:$M$133,MATCH($AN102,Qual!$C$8:$C$133,0),8)+INDEX(Qual!$C$8:$M$133,MATCH($AN102,Qual!$C$8:$C$133,0),9)+INDEX(Qual!$C$8:$M$133,MATCH($AN102,Qual!$C$8:$C$133,0),10)+INDEX(Qual!$C$8:$M$133,MATCH($AN102,Qual!$C$8:$C$133,0),11))","v":""}]
[{"$nulls":28},{"$f":"IF(AD103=0,\"\",'Check-In'!$B108)","v":""},{"$f":"'Check-In'!I108","v":0},{"$f":"IF(AC103=\"\",\"\",INDEX(Qual!$C$8:$U$133,MATCH($AC103,Qual!$C$8:$C$133,0),4))","v":""},{"$f":"IF(AC103=\"\",\"\",INDEX(Qual!$C$8:$U$133,MATCH($AC103,Qual!$C$8:$C$133,0),6))","v":""},{"$f":"IF(AC103=\"\",\"\",INDEX(Qual!$C$8:$U$133,MATCH($AC103,Qual!$C$8:$C$133,0),8))","v":""},{"$f":"IF(AC103=\"\",\"\",INDEX(Qual!$C$8:$U$133,MATCH($AC103,Qual!$C$8:$C$133,0),10))","v":""},{"$f":"IF(AC103=\"\",\"\",INDEX(Qual!$C$8:$U$133,MATCH($AC103,Qual!$C$8:$C$133,0),12))","v":""},{"$f":"IF(AC103=\"\",\"\",INDEX(Qual!$C$8:$U$133,MATCH($AC103,Qual!$C$8:$C$133,0),14))","v":""},{"$f":"IF(AC103=\"\",\"\",INDEX(Qual!$C$8:$U$133,MATCH($AC103,Qual!$C$8:$C$133,0),16))","v":""},{"$f":"IF(AC103=\"\",\"\",INDEX(Qual!$C$8:$U$133,MATCH($AC103,Qual!$C$8:$C$133,0),18))","v":""},null,{"$f":"IF(AO103=0,\"\",'Check-In'!$B108)","v":""},{"$f":"'Check-In'!V108","v":0},{"$f":"IF(AO103=0,\"\",INDEX(Qual!$C$8:$M$133,MATCH($AN103,Qual!$C$8:$C$133,0),4)+INDEX(Qual!$C$8:$M$133,MATCH($AN103,Qual!$C$8:$C$133,0),5)+INDEX(Qual!$C$8:$M$133,MATCH($AN103,Qual!$C$8:$C$133,0),6)+INDEX(Qual!$C$8:$M$133,MATCH($AN103,Qual!$C$8:$C$133,0),7)+INDEX(Qual!$C$8:$M$133,MATCH($AN103,Qual!$C$8:$C$133,0),8)+INDEX(Qual!$C$8:$M$133,MATCH($AN103,Qual!$C$8:$C$133,0),9)+INDEX(Qual!$C$8:$M$133,MATCH($AN103,Qual!$C$8:$C$133,0),10)+INDEX(Qual!$C$8:$M$133,MATCH($AN103,Qual!$C$8:$C$133,0),11))","v":""}]
[{"$nulls":28},{"$f":"IF(AD104=0,\"\",'Check-In'!$B109)","v":""},{"$f":"'Check-In'!I109","v":0},{"$f":"IF(AC104=\"\",\"\",INDEX(Qual!$C$8:$U$133,MATCH($AC104,Qual!$C$8:$C$133,0),4))","v":""},{"$f":"IF(AC104=\"\",\"\",INDEX(Qual!$C$8:$U$133,MATCH($AC104,Qual!$C$8:$C$133,0),6))","v":""},{"$f":"IF(AC104=\"\",\"\",INDEX(Qual!$C$8:$U$133,MATCH($AC104,Qual!$C$8:$C$133,0),8))","v":""},{"$f":"IF(AC104=\"\",\"\",INDEX(Qual!$C$8:$U$133,MATCH($AC104,Qual!$C$8:$C$133,0),10))","v":""},{"$f":"IF(AC104=\"\",\"\",INDEX(Qual!$C$8:$U$133,MATCH($AC104,Qual!$C$8:$C$133,0),12))","v":""},{"$f":"IF(AC104=\"\",\"\",INDEX(Qual!$C$8:$U$133,MATCH($AC104,Qual!$C$8:$C$133,0),14))","v":""},{"$f":"IF(AC104=\"\",\"\",INDEX(Qual!$C$8:$U$133,MATCH($AC104,Qual!$C$8:$C$133,0),16))","v":""},{"$f":"IF(AC104=\"\",\"\",INDEX(Qual!$C$8:$U$133,MATCH($AC104,Qual!$C$8:$C$133,0),18))","v":""},null,{"$f":"IF(AO104=0,\"\",'Check-In'!$B109)","v":""},{"$f":"'Check-In'!V109","v":0},{"$f":"IF(AO104=0,\"\",INDEX(Qual!$C$8:$M$133,MATCH($AN104,Qual!$C$8:$C$133,0),4)+INDEX(Qual!$C$8:$M$133,MATCH($AN104,Qual!$C$8:$C$133,0),5)+INDEX(Qual!$C$8:$M$133,MATCH($AN104,Qual!$C$8:$C$133,0),6)+INDEX(Qual!$C$8:$M$133,MATCH($AN104,Qual!$C$8:$C$133,0),7)+INDEX(Qual!$C$8:$M$133,MATCH($AN104,Qual!$C$8:$C$133,0),8)+INDEX(Qual!$C$8:$M$133,MATCH($AN104,Qual!$C$8:$C$133,0),9)+INDEX(Qual!$C$8:$M$133,MATCH($AN104,Qual!$C$8:$C$133,0),10)+INDEX(Qual!$C$8:$M$133,MATCH($AN104,Qual!$C$8:$C$133,0),11))","v":""}]
[{"$nulls":28},{"$f":"IF(AD105=0,\"\",'Check-In'!$B110)","v":""},{"$f":"'Check-In'!I110","v":0},{"$f":"IF(AC105=\"\",\"\",INDEX(Qual!$C$8:$U$133,MATCH($AC105,Qual!$C$8:$C$133,0),4))","v":""},{"$f":"IF(AC105=\"\",\"\",INDEX(Qual!$C$8:$U$133,MATCH($AC105,Qual!$C$8:$C$133,0),6))","v":""},{"$f":"IF(AC105=\"\",\"\",INDEX(Qual!$C$8:$U$133,MATCH($AC105,Qual!$C$8:$C$133,0),8))","v":""},{"$f":"IF(AC105=\"\",\"\",INDEX(Qual!$C$8:$U$133,MATCH($AC105,Qual!$C$8:$C$133,0),10))","v":""},{"$f":"IF(AC105=\"\",\"\",INDEX(Qual!$C$8:$U$133,MATCH($AC105,Qual!$C$8:$C$133,0),12))","v":""},{"$f":"IF(AC105=\"\",\"\",INDEX(Qual!$C$8:$U$133,MATCH($AC105,Qual!$C$8:$C$133,0),14))","v":""},{"$f":"IF(AC105=\"\",\"\",INDEX(Qual!$C$8:$U$133,MATCH($AC105,Qual!$C$8:$C$133,0),16))","v":""},{"$f":"IF(AC105=\"\",\"\",INDEX(Qual!$C$8:$U$133,MATCH($AC105,Qual!$C$8:$C$133,0),18))","v":""},null,{"$f":"IF(AO105=0,\"\",'Check-In'!$B110)","v":""},{"$f":"'Check-In'!V110","v":0},{"$f":"IF(AO105=0,\"\",INDEX(Qual!$C$8:$M$133,MATCH($AN105,Qual!$C$8:$C$133,0),4)+INDEX(Qual!$C$8:$M$133,MATCH($AN105,Qual!$C$8:$C$133,0),5)+INDEX(Qual!$C$8:$M$133,MATCH($AN105,Qual!$C$8:$C$133,0),6)+INDEX(Qual!$C$8:$M$133,MATCH($AN105,Qual!$C$8:$C$133,0),7)+INDEX(Qual!$C$8:$M$133,MATCH($AN105,Qual!$C$8:$C$133,0),8)+INDEX(Qual!$C$8:$M$133,MATCH($AN105,Qual!$C$8:$C$133,0),9)+INDEX(Qual!$C$8:$M$133,MATCH($AN105,Qual!$C$8:$C$133,0),10)+INDEX(Qual!$C$8:$M$133,MATCH($AN105,Qual!$C$8:$C$133,0),11))","v":""}]
[{"$nulls":28},{"$f":"IF(AD106=0,\"\",'Check-In'!$B111)","v":""},{"$f":"'Check-In'!I111","v":0},{"$f":"IF(AC106=\"\",\"\",INDEX(Qual!$C$8:$U$133,MATCH($AC106,Qual!$C$8:$C$133,0),4))","v":""},{"$f":"IF(AC106=\"\",\"\",INDEX(Qual!$C$8:$U$133,MATCH($AC106,Qual!$C$8:$C$133,0),6))","v":""},{"$f":"IF(AC106=\"\",\"\",INDEX(Qual!$C$8:$U$133,MATCH($AC106,Qual!$C$8:$C$133,0),8))","v":""},{"$f":"IF(AC106=\"\",\"\",INDEX(Qual!$C$8:$U$133,MATCH($AC106,Qual!$C$8:$C$133,0),10))","v":""},{"$f":"IF(AC106=\"\",\"\",INDEX(Qual!$C$8:$U$133,MATCH($AC106,Qual!$C$8:$C$133,0),12))","v":""},{"$f":"IF(AC106=\"\",\"\",INDEX(Qual!$C$8:$U$133,MATCH($AC106,Qual!$C$8:$C$133,0),14))","v":""},{"$f":"IF(AC106=\"\",\"\",INDEX(Qual!$C$8:$U$133,MATCH($AC106,Qual!$C$8:$C$133,0),16))","v":""},{"$f":"IF(AC106=\"\",\"\",INDEX(Qual!$C$8:$U$133,MATCH($AC106,Qual!$C$8:$C$133,0),18))","v":""},null,{"$f":"IF(AO106=0,\"\",'Check-In'!$B111)","v":""},{"$f":"'Check-In'!V111","v":0},{"$f":"IF(AO106=0,\"\",INDEX(Qual!$C$8:$M$133,MATCH($AN106,Qual!$C$8:$C$133,0),4)+INDEX(Qual!$C$8:$M$133,MATCH($AN106,Qual!$C$8:$C$133,0),5)+INDEX(Qual!$C$8:$M$133,MATCH($AN106,Qual!$C$8:$C$133,0),6)+INDEX(Qual!$C$8:$M$133,MATCH($AN106,Qual!$C$8:$C$133,0),7)+INDEX(Qual!$C$8:$M$133,MATCH($AN106,Qual!$C$8:$C$133,0),8)+INDEX(Qual!$C$8:$M$133,MATCH($AN106,Qual!$C$8:$C$133,0),9)+INDEX(Qual!$C$8:$M$133,MATCH($AN106,Qual!$C$8:$C$133,0),10)+INDEX(Qual!$C$8:$M$133,MATCH($AN106,Qual!$C$8:$C$133,0),11))","v":""}]
[{"$nulls":28},{"$f":"IF(AD107=0,\"\",'Check-In'!$B112)","v":""},{"$f":"'Check-In'!I112","v":0},{"$f":"IF(AC107=\"\",\"\",INDEX(Qual!$C$8:$U$133,MATCH($AC107,Qual!$C$8:$C$133,0),4))","v":""},{"$f":"IF(AC107=\"\",\"\",INDEX(Qual!$C$8:$U$133,MATCH($AC107,Qual!$C$8:$C$133,0),6))","v":""},{"$f":"IF(AC107=\"\",\"\",INDEX(Qual!$C$8:$U$133,MATCH($AC107,Qual!$C$8:$C$133,0),8))","v":""},{"$f":"IF(AC107=\"\",\"\",INDEX(Qual!$C$8:$U$133,MATCH($AC107,Qual!$C$8:$C$133,0),10))","v":""},{"$f":"IF(AC107=\"\",\"\",INDEX(Qual!$C$8:$U$133,MATCH($AC107,Qual!$C$8:$C$133,0),12))","v":""},{"$f":"IF(AC107=\"\",\"\",INDEX(Qual!$C$8:$U$133,MATCH($AC107,Qual!$C$8:$C$133,0),14))","v":""},{"$f":"IF(AC107=\"\",\"\",INDEX(Qual!$C$8:$U$133,MATCH($AC107,Qual!$C$8:$C$133,0),16))","v":""},{"$f":"IF(AC107=\"\",\"\",INDEX(Qual!$C$8:$U$133,MATCH($AC107,Qual!$C$8:$C$133,0),18))","v":""},null,{"$f":"IF(AO107=0,\"\",'Check-In'!$B112)","v":""},{"$f":"'Check-In'!V112","v":0},{"$f":"IF(AO107=0,\"\",INDEX(Qual!$C$8:$M$133,MATCH($AN107,Qual!$C$8:$C$133,0),4)+INDEX(Qual!$C$8:$M$133,MATCH($AN107,Qual!$C$8:$C$133,0),5)+INDEX(Qual!$C$8:$M$133,MATCH($AN107,Qual!$C$8:$C$133,0),6)+INDEX(Qual!$C$8:$M$133,MATCH($AN107,Qual!$C$8:$C$133,0),7)+INDEX(Qual!$C$8:$M$133,MATCH($AN107,Qual!$C$8:$C$133,0),8)+INDEX(Qual!$C$8:$M$133,MATCH($AN107,Qual!$C$8:$C$133,0),9)+INDEX(Qual!$C$8:$M$133,MATCH($AN107,Qual!$C$8:$C$133,0),10)+INDEX(Qual!$C$8:$M$133,MATCH($AN107,Qual!$C$8:$C$133,0),11))","v":""}]
[{"$nulls":28},{"$f":"IF(AD108=0,\"\",'Check-In'!$B113)","v":""},{"$f":"'Check-In'!I113","v":0},{"$f":"IF(AC108=\"\",\"\",INDEX(Qual!$C$8:$U$133,MATCH($AC108,Qual!$C$8:$C$133,0),4))","v":""},{"$f":"IF(AC108=\"\",\"\",INDEX(Qual!$C$8:$U$133,MATCH($AC108,Qual!$C$8:$C$133,0),6))","v":""},{"$f":"IF(AC108=\"\",\"\",INDEX(Qual!$C$8:$U$133,MATCH($AC108,Qual!$C$8:$C$133,0),8))","v":""},{"$f":"IF(AC108=\"\",\"\",INDEX(Qual!$C$8:$U$133,MATCH($AC108,Qual!$C$8:$C$133,0),10))","v":""},{"$f":"IF(AC108=\"\",\"\",INDEX(Qual!$C$8:$U$133,MATCH($AC108,Qual!$C$8:$C$133,0),12))","v":""},{"$f":"IF(AC108=\"\",\"\",INDEX(Qual!$C$8:$U$133,MATCH($AC108,Qual!$C$8:$C$133,0),14))","v":""},{"$f":"IF(AC108=\"\",\"\",INDEX(Qual!$C$8:$U$133,MATCH($AC108,Qual!$C$8:$C$133,0),16))","v":""},{"$f":"IF(AC108=\"\",\"\",INDEX(Qual!$C$8:$U$133,MATCH($AC108,Qual!$C$8:$C$133,0),18))","v":""},null,{"$f":"IF(AO108=0,\"\",'Check-In'!$B113)","v":""},{"$f":"'Check-In'!V113","v":0},{"$f":"IF(AO108=0,\"\",INDEX(Qual!$C$8:$M$133,MATCH($AN108,Qual!$C$8:$C$133,0),4)+INDEX(Qual!$C$8:$M$133,MATCH($AN108,Qual!$C$8:$C$133,0),5)+INDEX(Qual!$C$8:$M$133,MATCH($AN108,Qual!$C$8:$C$133,0),6)+INDEX(Qual!$C$8:$M$133,MATCH($AN108,Qual!$C$8:$C$133,0),7)+INDEX(Qual!$C$8:$M$133,MATCH($AN108,Qual!$C$8:$C$133,0),8)+INDEX(Qual!$C$8:$M$133,MATCH($AN108,Qual!$C$8:$C$133,0),9)+INDEX(Qual!$C$8:$M$133,MATCH($AN108,Qual!$C$8:$C$133,0),10)+INDEX(Qual!$C$8:$M$133,MATCH($AN108,Qual!$C$8:$C$133,0),11))","v":""}]
[{"$nulls":28},{"$f":"IF(AD109=0,\"\",'Check-In'!$B114)","v":""},{"$f":"'Check-In'!I114","v":0},{"$f":"IF(AC109=\"\",\"\",INDEX(Qual!$C$8:$U$133,MATCH($AC109,Qual!$C$8:$C$133,0),4))","v":""},{"$f":"IF(AC109=\"\",\"\",INDEX(Qual!$C$8:$U$133,MATCH($AC109,Qual!$C$8:$C$133,0),6))","v":""},{"$f":"IF(AC109=\"\",\"\",INDEX(Qual!$C$8:$U$133,MATCH($AC109,Qual!$C$8:$C$133,0),8))","v":""},{"$f":"IF(AC109=\"\",\"\",INDEX(Qual!$C$8:$U$133,MATCH($AC109,Qual!$C$8:$C$133,0),10))","v":""},{"$f":"IF(AC109=\"\",\"\",INDEX(Qual!$C$8:$U$133,MATCH($AC109,Qual!$C$8:$C$133,0),12))","v":""},{"$f":"IF(AC109=\"\",\"\",INDEX(Qual!$C$8:$U$133,MATCH($AC109,Qual!$C$8:$C$133,0),14))","v":""},{"$f":"IF(AC109=\"\",\"\",INDEX(Qual!$C$8:$U$133,MATCH($AC109,Qual!$C$8:$C$133,0),16))","v":""},{"$f":"IF(AC109=\"\",\"\",INDEX(Qual!$C$8:$U$133,MATCH($AC109,Qual!$C$8:$C$133,0),18))","v":""},null,{"$f":"IF(AO109=0,\"\",'Check-In'!$B114)","v":""},{"$f":"'Check-In'!V114","v":0},{"$f":"IF(AO109=0,\"\",INDEX(Qual!$C$8:$M$133,MATCH($AN109,Qual!$C$8:$C$133,0),4)+INDEX(Qual!$C$8:$M$133,MATCH($AN109,Qual!$C$8:$C$133,0),5)+INDEX(Qual!$C$8:$M$133,MATCH($AN109,Qual!$C$8:$C$133,0),6)+INDEX(Qual!$C$8:$M$133,MATCH($AN109,Qual!$C$8:$C$133,0),7)+INDEX(Qual!$C$8:$M$133,MATCH($AN109,Qual!$C$8:$C$133,0),8)+INDEX(Qual!$C$8:$M$133,MATCH($AN109,Qual!$C$8:$C$133,0),9)+INDEX(Qual!$C$8:$M$133,MATCH($AN109,Qual!$C$8:$C$133,0),10)+INDEX(Qual!$C$8:$M$133,MATCH($AN109,Qual!$C$8:$C$133,0),11))","v":""}]
[{"$nulls":28},{"$f":"IF(AD110=0,\"\",'Check-In'!$B115)","v":""},{"$f":"'Check-In'!I115","v":0},{"$f":"IF(AC110=\"\",\"\",INDEX(Qual!$C$8:$U$133,MATCH($AC110,Qual!$C$8:$C$133,0),4))","v":""},{"$f":"IF(AC110=\"\",\"\",INDEX(Qual!$C$8:$U$133,MATCH($AC110,Qual!$C$8:$C$133,0),6))","v":""},{"$f":"IF(AC110=\"\",\"\",INDEX(Qual!$C$8:$U$133,MATCH($AC110,Qual!$C$8:$C$133,0),8))","v":""},{"$f":"IF(AC110=\"\",\"\",INDEX(Qual!$C$8:$U$133,MATCH($AC110,Qual!$C$8:$C$133,0),10))","v":""},{"$f":"IF(AC110=\"\",\"\",INDEX(Qual!$C$8:$U$133,MATCH($AC110,Qual!$C$8:$C$133,0),12))","v":""},{"$f":"IF(AC110=\"\",\"\",INDEX(Qual!$C$8:$U$133,MATCH($AC110,Qual!$C$8:$C$133,0),14))","v":""},{"$f":"IF(AC110=\"\",\"\",INDEX(Qual!$C$8:$U$133,MATCH($AC110,Qual!$C$8:$C$133,0),16))","v":""},{"$f":"IF(AC110=\"\",\"\",INDEX(Qual!$C$8:$U$133,MATCH($AC110,Qual!$C$8:$C$133,0),18))","v":""},null,{"$f":"IF(AO110=0,\"\",'Check-In'!$B115)","v":""},{"$f":"'Check-In'!V115","v":0},{"$f":"IF(AO110=0,\"\",INDEX(Qual!$C$8:$M$133,MATCH($AN110,Qual!$C$8:$C$133,0),4)+INDEX(Qual!$C$8:$M$133,MATCH($AN110,Qual!$C$8:$C$133,0),5)+INDEX(Qual!$C$8:$M$133,MATCH($AN110,Qual!$C$8:$C$133,0),6)+INDEX(Qual!$C$8:$M$133,MATCH($AN110,Qual!$C$8:$C$133,0),7)+INDEX(Qual!$C$8:$M$133,MATCH($AN110,Qual!$C$8:$C$133,0),8)+INDEX(Qual!$C$8:$M$133,MATCH($AN110,Qual!$C$8:$C$133,0),9)+INDEX(Qual!$C$8:$M$133,MATCH($AN110,Qual!$C$8:$C$133,0),10)+INDEX(Qual!$C$8:$M$133,MATCH($AN110,Qual!$C$8:$C$133,0),11))","v":""}]
[{"$nulls":28},{"$f":"IF(AD111=0,\"\",'Check-In'!$B116)","v":""},{"$f":"'Check-In'!I116","v":0},{"$f":"IF(AC111=\"\",\"\",INDEX(Qual!$C$8:$U$133,MATCH($AC111,Qual!$C$8:$C$133,0),4))","v":""},{"$f":"IF(AC111=\"\",\"\",INDEX(Qual!$C$8:$U$133,MATCH($AC111,Qual!$C$8:$C$133,0),6))","v":""},{"$f":"IF(AC111=\"\",\"\",INDEX(Qual!$C$8:$U$133,MATCH($AC111,Qual!$C$8:$C$133,0),8))","v":""},{"$f":"IF(AC111=\"\",\"\",INDEX(Qual!$C$8:$U$133,MATCH($AC111,Qual!$C$8:$C$133,0),10))","v":""},{"$f":"IF(AC111=\"\",\"\",INDEX(Qual!$C$8:$U$133,MATCH($AC111,Qual!$C$8:$C$133,0),12))","v":""},{"$f":"IF(AC111=\"\",\"\",INDEX(Qual!$C$8:$U$133,MATCH($AC111,Qual!$C$8:$C$133,0),14))","v":""},{"$f":"IF(AC111=\"\",\"\",INDEX(Qual!$C$8:$U$133,MATCH($AC111,Qual!$C$8:$C$133,0),16))","v":""},{"$f":"IF(AC111=\"\",\"\",INDEX(Qual!$C$8:$U$133,MATCH($AC111,Qual!$C$8:$C$133,0),18))","v":""},null,{"$f":"IF(AO111=0,\"\",'Check-In'!$B116)","v":""},{"$f":"'Check-In'!V116","v":0},{"$f":"IF(AO111=0,\"\",INDEX(Qual!$C$8:$M$133,MATCH($AN111,Qual!$C$8:$C$133,0),4)+INDEX(Qual!$C$8:$M$133,MATCH($AN111,Qual!$C$8:$C$133,0),5)+INDEX(Qual!$C$8:$M$133,MATCH($AN111,Qual!$C$8:$C$133,0),6)+INDEX(Qual!$C$8:$M$133,MATCH($AN111,Qual!$C$8:$C$133,0),7)+INDEX(Qual!$C$8:$M$133,MATCH($AN111,Qual!$C$8:$C$133,0),8)+INDEX(Qual!$C$8:$M$133,MATCH($AN111,Qual!$C$8:$C$133,0),9)+INDEX(Qual!$C$8:$M$133,MATCH($AN111,Qual!$C$8:$C$133,0),10)+INDEX(Qual!$C$8:$M$133,MATCH($AN111,Qual!$C$8:$C$133,0),11))","v":""}]
[{"$nulls":28},{"$f":"IF(AD112=0,\"\",'Check-In'!$B117)","v":""},{"$f":"'Check-In'!I117","v":0},{"$f":"IF(AC112=\"\",\"\",INDEX(Qual!$C$8:$U$133,MATCH($AC112,Qual!$C$8:$C$133,0),4))","v":""},{"$f":"IF(AC112=\"\",\"\",INDEX(Qual!$C$8:$U$133,MATCH($AC112,Qual!$C$8:$C$133,0),6))","v":""},{"$f":"IF(AC112=\"\",\"\",INDEX(Qual!$C$8:$U$133,MATCH($AC112,Qual!$C$8:$C$133,0),8))","v":""},{"$f":"IF(AC112=\"\",\"\",INDEX(Qual!$C$8:$U$133,MATCH($AC112,Qual!$C$8:$C$133,0),10))","v":""},{"$f":"IF(AC112=\"\",\"\",INDEX(Qual!$C$8:$U$133,MATCH($AC112,Qual!$C$8:$C$133,0),12))","v":""},{"$f":"IF(AC112=\"\",\"\",INDEX(Qual!$C$8:$U$133,MATCH($AC112,Qual!$C$8:$C$133,0),14))","v":""},{"$f":"IF(AC112=\"\",\"\",INDEX(Qual!$C$8:$U$133,MATCH($AC112,Qual!$C$8:$C$133,0),16))","v":""},{"$f":"IF(AC112=\"\",\"\",INDEX(Qual!$C$8:$U$133,MATCH($AC112,Qual!$C$8:$C$133,0),18))","v":""},null,{"$f":"IF(AO112=0,\"\",'Check-In'!$B117)","v":""},{"$f":"'Check-In'!V117","v":0},{"$f":"IF(AO112=0,\"\",INDEX(Qual!$C$8:$M$133,MATCH($AN112,Qual!$C$8:$C$133,0),4)+INDEX(Qual!$C$8:$M$133,MATCH($AN112,Qual!$C$8:$C$133,0),5)+INDEX(Qual!$C$8:$M$133,MATCH($AN112,Qual!$C$8:$C$133,0),6)+INDEX(Qual!$C$8:$M$133,MATCH($AN112,Qual!$C$8:$C$133,0),7)+INDEX(Qual!$C$8:$M$133,MATCH($AN112,Qual!$C$8:$C$133,0),8)+INDEX(Qual!$C$8:$M$133,MATCH($AN112,Qual!$C$8:$C$133,0),9)+INDEX(Qual!$C$8:$M$133,MATCH($AN112,Qual!$C$8:$C$133,0),10)+INDEX(Qual!$C$8:$M$133,MATCH($AN112,Qual!$C$8:$C$133,0),11))","v":""}]
[{"$nulls":28},{"$f":"IF(AD113=0,\"\",'Check-In'!$B118)","v":""},{"$f":"'Check-In'!I118","v":0},{"$f":"IF(AC113=\"\",\"\",INDEX(Qual!$C$8:$U$133,MATCH($AC113,Qual!$C$8:$C$133,0),4))","v":""},{"$f":"IF(AC113=\"\",\"\",INDEX(Qual!$C$8:$U$133,MATCH($AC113,Qual!$C$8:$C$133,0),6))","v":""},{"$f":"IF(AC113=\"\",\"\",INDEX(Qual!$C$8:$U$133,MATCH($AC113,Qual!$C$8:$C$133,0),8))","v":""},{"$f":"IF(AC113=\"\",\"\",INDEX(Qual!$C$8:$U$133,MATCH($AC113,Qual!$C$8:$C$133,0),10))","v":""},{"$f":"IF(AC113=\"\",\"\",INDEX(Qual!$C$8:$U$133,MATCH($AC113,Qual!$C$8:$C$133,0),12))","v":""},{"$f":"IF(AC113=\"\",\"\",INDEX(Qual!$C$8:$U$133,MATCH($AC113,Qual!$C$8:$C$133,0),14))","v":""},{"$f":"IF(AC113=\"\",\"\",INDEX(Qual!$C$8:$U$133,MATCH($AC113,Qual!$C$8:$C$133,0),16))","v":""},{"$f":"IF(AC113=\"\",\"\",INDEX(Qual!$C$8:$U$133,MATCH($AC113,Qual!$C$8:$C$133,0),18))","v":""},null,{"$f":"IF(AO113=0,\"\",'Check-In'!$B118)","v":""},{"$f":"'Check-In'!V118","v":0},{"$f":"IF(AO113=0,\"\",INDEX(Qual!$C$8:$M$133,MATCH($AN113,Qual!$C$8:$C$133,0),4)+INDEX(Qual!$C$8:$M$133,MATCH($AN113,Qual!$C$8:$C$133,0),5)+INDEX(Qual!$C$8:$M$133,MATCH($AN113,Qual!$C$8:$C$133,0),6)+INDEX(Qual!$C$8:$M$133,MATCH($AN113,Qual!$C$8:$C$133,0),7)+INDEX(Qual!$C$8:$M$133,MATCH($AN113,Qual!$C$8:$C$133,0),8)+INDEX(Qual!$C$8:$M$133,MATCH($AN113,Qual!$C$8:$C$133,0),9)+INDEX(Qual!$C$8:$M$133,MATCH($AN113,Qual!$C$8:$C$133,0),10)+INDEX(Qual!$C$8:$M$133,MATCH($AN113,Qual!$C$8:$C$133,0),11))","v":""}]
[{"$nulls":28},{"$f":"IF(AD114=0,\"\",'Check-In'!$B119)","v":""},{"$f":"'Check-In'!I119","v":0},{"$f":"IF(AC114=\"\",\"\",INDEX(Qual!$C$8:$U$133,MATCH($AC114,Qual!$C$8:$C$133,0),4))","v":""},{"$f":"IF(AC114=\"\",\"\",INDEX(Qual!$C$8:$U$133,MATCH($AC114,Qual!$C$8:$C$133,0),6))","v":""},{"$f":"IF(AC114=\"\",\"\",INDEX(Qual!$C$8:$U$133,MATCH($AC114,Qual!$C$8:$C$133,0),8))","v":""},{"$f":"IF(AC114=\"\",\"\",INDEX(Qual!$C$8:$U$133,MATCH($AC114,Qual!$C$8:$C$133,0),10))","v":""},{"$f":"IF(AC114=\"\",\"\",INDEX(Qual!$C$8:$U$133,MATCH($AC114,Qual!$C$8:$C$133,0),12))","v":""},{"$f":"IF(AC114=\"\",\"\",INDEX(Qual!$C$8:$U$133,MATCH($AC114,Qual!$C$8:$C$133,0),14))","v":""},{"$f":"IF(AC114=\"\",\"\",INDEX(Qual!$C$8:$U$133,MATCH($AC114,Qual!$C$8:$C$133,0),16))","v":""},{"$f":"IF(AC114=\"\",\"\",INDEX(Qual!$C$8:$U$133,MATCH($AC114,Qual!$C$8:$C$133,0),18))","v":""},null,{"$f":"IF(AO114=0,\"\",'Check-In'!$B119)","v":""},{"$f":"'Check-In'!V119","v":0},{"$f":"IF(AO114=0,\"\",INDEX(Qual!$C$8:$M$133,MATCH($AN114,Qual!$C$8:$C$133,0),4)+INDEX(Qual!$C$8:$M$133,MATCH($AN114,Qual!$C$8:$C$133,0),5)+INDEX(Qual!$C$8:$M$133,MATCH($AN114,Qual!$C$8:$C$133,0),6)+INDEX(Qual!$C$8:$M$133,MATCH($AN114,Qual!$C$8:$C$133,0),7)+INDEX(Qual!$C$8:$M$133,MATCH($AN114,Qual!$C$8:$C$133,0),8)+INDEX(Qual!$C$8:$M$133,MATCH($AN114,Qual!$C$8:$C$133,0),9)+INDEX(Qual!$C$8:$M$133,MATCH($AN114,Qual!$C$8:$C$133,0),10)+INDEX(Qual!$C$8:$M$133,MATCH($AN114,Qual!$C$8:$C$133,0),11))","v":""}]
[{"$nulls":28},{"$f":"IF(AD115=0,\"\",'Check-In'!$B120)","v":""},{"$f":"'Check-In'!I120","v":0},{"$f":"IF(AC115=\"\",\"\",INDEX(Qual!$C$8:$U$133,MATCH($AC115,Qual!$C$8:$C$133,0),4))","v":""},{"$f":"IF(AC115=\"\",\"\",INDEX(Qual!$C$8:$U$133,MATCH($AC115,Qual!$C$8:$C$133,0),6))","v":""},{"$f":"IF(AC115=\"\",\"\",INDEX(Qual!$C$8:$U$133,MATCH($AC115,Qual!$C$8:$C$133,0),8))","v":""},{"$f":"IF(AC115=\"\",\"\",INDEX(Qual!$C$8:$U$133,MATCH($AC115,Qual!$C$8:$C$133,0),10))","v":""},{"$f":"IF(AC115=\"\",\"\",INDEX(Qual!$C$8:$U$133,MATCH($AC115,Qual!$C$8:$C$133,0),12))","v":""},{"$f":"IF(AC115=\"\",\"\",INDEX(Qual!$C$8:$U$133,MATCH($AC115,Qual!$C$8:$C$133,0),14))","v":""},{"$f":"IF(AC115=\"\",\"\",INDEX(Qual!$C$8:$U$133,MATCH($AC115,Qual!$C$8:$C$133,0),16))","v":""},{"$f":"IF(AC115=\"\",\"\",INDEX(Qual!$C$8:$U$133,MATCH($AC115,Qual!$C$8:$C$133,0),18))","v":""},null,{"$f":"IF(AO115=0,\"\",'Check-In'!$B120)","v":""},{"$f":"'Check-In'!V120","v":0},{"$f":"IF(AO115=0,\"\",INDEX(Qual!$C$8:$M$133,MATCH($AN115,Qual!$C$8:$C$133,0),4)+INDEX(Qual!$C$8:$M$133,MATCH($AN115,Qual!$C$8:$C$133,0),5)+INDEX(Qual!$C$8:$M$133,MATCH($AN115,Qual!$C$8:$C$133,0),6)+INDEX(Qual!$C$8:$M$133,MATCH($AN115,Qual!$C$8:$C$133,0),7)+INDEX(Qual!$C$8:$M$133,MATCH($AN115,Qual!$C$8:$C$133,0),8)+INDEX(Qual!$C$8:$M$133,MATCH($AN115,Qual!$C$8:$C$133,0),9)+INDEX(Qual!$C$8:$M$133,MATCH($AN115,Qual!$C$8:$C$133,0),10)+INDEX(Qual!$C$8:$M$133,MATCH($AN115,Qual!$C$8:$C$133,0),11))","v":""}]
[{"$nulls":28},{"$f":"IF(AD116=0,\"\",'Check-In'!$B121)","v":""},{"$f":"'Check-In'!I121","v":0},{"$f":"IF(AC116=\"\",\"\",INDEX(Qual!$C$8:$U$133,MATCH($AC116,Qual!$C$8:$C$133,0),4))","v":""},{"$f":"IF(AC116=\"\",\"\",INDEX(Qual!$C$8:$U$133,MATCH($AC116,Qual!$C$8:$C$133,0),6))","v":""},{"$f":"IF(AC116=\"\",\"\",INDEX(Qual!$C$8:$U$133,MATCH($AC116,Qual!$C$8:$C$133,0),8))","v":""},{"$f":"IF(AC116=\"\",\"\",INDEX(Qual!$C$8:$U$133,MATCH($AC116,Qual!$C$8:$C$133,0),10))","v":""},{"$f":"IF(AC116=\"\",\"\",INDEX(Qual!$C$8:$U$133,MATCH($AC116,Qual!$C$8:$C$133,0),12))","v":""},{"$f":"IF(AC116=\"\",\"\",INDEX(Qual!$C$8:$U$133,MATCH($AC116,Qual!$C$8:$C$133,0),14))","v":""},{"$f":"IF(AC116=\"\",\"\",INDEX(Qual!$C$8:$U$133,MATCH($AC116,Qual!$C$8:$C$133,0),16))","v":""},{"$f":"IF(AC116=\"\",\"\",INDEX(Qual!$C$8:$U$133,MATCH($AC116,Qual!$C$8:$C$133,0),18))","v":""},null,{"$f":"IF(AO116=0,\"\",'Check-In'!$B121)","v":""},{"$f":"'Check-In'!V121","v":0},{"$f":"IF(AO116=0,\"\",INDEX(Qual!$C$8:$M$133,MATCH($AN116,Qual!$C$8:$C$133,0),4)+INDEX(Qual!$C$8:$M$133,MATCH($AN116,Qual!$C$8:$C$133,0),5)+INDEX(Qual!$C$8:$M$133,MATCH($AN116,Qual!$C$8:$C$133,0),6)+INDEX(Qual!$C$8:$M$133,MATCH($AN116,Qual!$C$8:$C$133,0),7)+INDEX(Qual!$C$8:$M$133,MATCH($AN116,Qual!$C$8:$C$133,0),8)+INDEX(Qual!$C$8:$M$133,MATCH($AN116,Qual!$C$8:$C$133,0),9)+INDEX(Qual!$C$8:$M$133,MATCH($AN116,Qual!$C$8:$C$133,0),10)+INDEX(Qual!$C$8:$M$133,MATCH($AN116,Qual!$C$8:$C$133,0),11))","v":""}]
[{"$nulls":28},{"$f":"IF(AD117=0,\"\",'Check-In'!$B122)","v":""},{"$f":"'Check-In'!I122","v":0},{"$f":"IF(AC117=\"\",\"\",INDEX(Qual!$C$8:$U$133,MATCH($AC117,Qual!$C$8:$C$133,0),4))","v":""},{"$f":"IF(AC117=\"\",\"\",INDEX(Qual!$C$8:$U$133,MATCH($AC117,Qual!$C$8:$C$133,0),6))","v":""},{"$f":"IF(AC117=\"\",\"\",INDEX(Qual!$C$8:$U$133,MATCH($AC117,Qual!$C$8:$C$133,0),8))","v":""},{"$f":"IF(AC117=\"\",\"\",INDEX(Qual!$C$8:$U$133,MATCH($AC117,Qual!$C$8:$C$133,0),10))","v":""},{"$f":"IF(AC117=\"\",\"\",INDEX(Qual!$C$8:$U$133,MATCH($AC117,Qual!$C$8:$C$133,0),12))","v":""},{"$f":"IF(AC117=\"\",\"\",INDEX(Qual!$C$8:$U$133,MATCH($AC117,Qual!$C$8:$C$133,0),14))","v":""},{"$f":"IF(AC117=\"\",\"\",INDEX(Qual!$C$8:$U$133,MATCH($AC117,Qual!$C$8:$C$133,0),16))","v":""},{"$f":"IF(AC117=\"\",\"\",INDEX(Qual!$C$8:$U$133,MATCH($AC117,Qual!$C$8:$C$133,0),18))","v":""},null,{"$f":"IF(AO117=0,\"\",'Check-In'!$B122)","v":""},{"$f":"'Check-In'!V122","v":0},{"$f":"IF(AO117=0,\"\",INDEX(Qual!$C$8:$M$133,MATCH($AN117,Qual!$C$8:$C$133,0),4)+INDEX(Qual!$C$8:$M$133,MATCH($AN117,Qual!$C$8:$C$133,0),5)+INDEX(Qual!$C$8:$M$133,MATCH($AN117,Qual!$C$8:$C$133,0),6)+INDEX(Qual!$C$8:$M$133,MATCH($AN117,Qual!$C$8:$C$133,0),7)+INDEX(Qual!$C$8:$M$133,MATCH($AN117,Qual!$C$8:$C$133,0),8)+INDEX(Qual!$C$8:$M$133,MATCH($AN117,Qual!$C$8:$C$133,0),9)+INDEX(Qual!$C$8:$M$133,MATCH($AN117,Qual!$C$8:$C$133,0),10)+INDEX(Qual!$C$8:$M$133,MATCH($AN117,Qual!$C$8:$C$133,0),11))","v":""}]
[{"$nulls":28},{"$f":"IF(AD118=0,\"\",'Check-In'!$B123)","v":""},{"$f":"'Check-In'!I123","v":0},{"$f":"IF(AC118=\"\",\"\",INDEX(Qual!$C$8:$U$133,MATCH($AC118,Qual!$C$8:$C$133,0),4))","v":""},{"$f":"IF(AC118=\"\",\"\",INDEX(Qual!$C$8:$U$133,MATCH($AC118,Qual!$C$8:$C$133,0),6))","v":""},{"$f":"IF(AC118=\"\",\"\",INDEX(Qual!$C$8:$U$133,MATCH($AC118,Qual!$C$8:$C$133,0),8))","v":""},{"$f":"IF(AC118=\"\",\"\",INDEX(Qual!$C$8:$U$133,MATCH($AC118,Qual!$C$8:$C$133,0),10))","v":""},{"$f":"IF(AC118=\"\",\"\",INDEX(Qual!$C$8:$U$133,MATCH($AC118,Qual!$C$8:$C$133,0),12))","v":""},{"$f":"IF(AC118=\"\",\"\",INDEX(Qual!$C$8:$U$133,MATCH($AC118,Qual!$C$8:$C$133,0),14))","v":""},{"$f":"IF(AC118=\"\",\"\",INDEX(Qual!$C$8:$U$133,MATCH($AC118,Qual!$C$8:$C$133,0),16))","v":""},{"$f":"IF(AC118=\"\",\"\",INDEX(Qual!$C$8:$U$133,MATCH($AC118,Qual!$C$8:$C$133,0),18))","v":""},null,{"$f":"IF(AO118=0,\"\",'Check-In'!$B123)","v":""},{"$f":"'Check-In'!V123","v":0},{"$f":"IF(AO118=0,\"\",INDEX(Qual!$C$8:$M$133,MATCH($AN118,Qual!$C$8:$C$133,0),4)+INDEX(Qual!$C$8:$M$133,MATCH($AN118,Qual!$C$8:$C$133,0),5)+INDEX(Qual!$C$8:$M$133,MATCH($AN118,Qual!$C$8:$C$133,0),6)+INDEX(Qual!$C$8:$M$133,MATCH($AN118,Qual!$C$8:$C$133,0),7)+INDEX(Qual!$C$8:$M$133,MATCH($AN118,Qual!$C$8:$C$133,0),8)+INDEX(Qual!$C$8:$M$133,MATCH($AN118,Qual!$C$8:$C$133,0),9)+INDEX(Qual!$C$8:$M$133,MATCH($AN118,Qual!$C$8:$C$133,0),10)+INDEX(Qual!$C$8:$M$133,MATCH($AN118,Qual!$C$8:$C$133,0),11))","v":""}]
[{"$nulls":28},{"$f":"IF(AD119=0,\"\",'Check-In'!$B124)","v":""},{"$f":"'Check-In'!I124","v":0},{"$f":"IF(AC119=\"\",\"\",INDEX(Qual!$C$8:$U$133,MATCH($AC119,Qual!$C$8:$C$133,0),4))","v":""},{"$f":"IF(AC119=\"\",\"\",INDEX(Qual!$C$8:$U$133,MATCH($AC119,Qual!$C$8:$C$133,0),6))","v":""},{"$f":"IF(AC119=\"\",\"\",INDEX(Qual!$C$8:$U$133,MATCH($AC119,Qual!$C$8:$C$133,0),8))","v":""},{"$f":"IF(AC119=\"\",\"\",INDEX(Qual!$C$8:$U$133,MATCH($AC119,Qual!$C$8:$C$133,0),10))","v":""},{"$f":"IF(AC119=\"\",\"\",INDEX(Qual!$C$8:$U$133,MATCH($AC119,Qual!$C$8:$C$133,0),12))","v":""},{"$f":"IF(AC119=\"\",\"\",INDEX(Qual!$C$8:$U$133,MATCH($AC119,Qual!$C$8:$C$133,0),14))","v":""},{"$f":"IF(AC119=\"\",\"\",INDEX(Qual!$C$8:$U$133,MATCH($AC119,Qual!$C$8:$C$133,0),16))","v":""},{"$f":"IF(AC119=\"\",\"\",INDEX(Qual!$C$8:$U$133,MATCH($AC119,Qual!$C$8:$C$133,0),18))","v":""},null,{"$f":"IF(AO119=0,\"\",'Check-In'!$B124)","v":""},{"$f":"'Check-In'!V124","v":0},{"$f":"IF(AO119=0,\"\",INDEX(Qual!$C$8:$M$133,MATCH($AN119,Qual!$C$8:$C$133,0),4)+INDEX(Qual!$C$8:$M$133,MATCH($AN119,Qual!$C$8:$C$133,0),5)+INDEX(Qual!$C$8:$M$133,MATCH($AN119,Qual!$C$8:$C$133,0),6)+INDEX(Qual!$C$8:$M$133,MATCH($AN119,Qual!$C$8:$C$133,0),7)+INDEX(Qual!$C$8:$M$133,MATCH($AN119,Qual!$C$8:$C$133,0),8)+INDEX(Qual!$C$8:$M$133,MATCH($AN119,Qual!$C$8:$C$133,0),9)+INDEX(Qual!$C$8:$M$133,MATCH($AN119,Qual!$C$8:$C$133,0),10)+INDEX(Qual!$C$8:$M$133,MATCH($AN119,Qual!$C$8:$C$133,0),11))","v":""}]
[{"$nulls":28},{"$f":"IF(AD120=0,\"\",'Check-In'!$B125)","v":""},{"$f":"'Check-In'!I125","v":0},{"$f":"IF(AC120=\"\",\"\",INDEX(Qual!$C$8:$U$133,MATCH($AC120,Qual!$C$8:$C$133,0),4))","v":""},{"$f":"IF(AC120=\"\",\"\",INDEX(Qual!$C$8:$U$133,MATCH($AC120,Qual!$C$8:$C$133,0),6))","v":""},{"$f":"IF(AC120=\"\",\"\",INDEX(Qual!$C$8:$U$133,MATCH($AC120,Qual!$C$8:$C$133,0),8))","v":""},{"$f":"IF(AC120=\"\",\"\",INDEX(Qual!$C$8:$U$133,MATCH($AC120,Qual!$C$8:$C$133,0),10))","v":""},{"$f":"IF(AC120=\"\",\"\",INDEX(Qual!$C$8:$U$133,MATCH($AC120,Qual!$C$8:$C$133,0),12))","v":""},{"$f":"IF(AC120=\"\",\"\",INDEX(Qual!$C$8:$U$133,MATCH($AC120,Qual!$C$8:$C$133,0),14))","v":""},{"$f":"IF(AC120=\"\",\"\",INDEX(Qual!$C$8:$U$133,MATCH($AC120,Qual!$C$8:$C$133,0),16))","v":""},{"$f":"IF(AC120=\"\",\"\",INDEX(Qual!$C$8:$U$133,MATCH($AC120,Qual!$C$8:$C$133,0),18))","v":""},null,{"$f":"IF(AO120=0,\"\",'Check-In'!$B125)","v":""},{"$f":"'Check-In'!V125","v":0},{"$f":"IF(AO120=0,\"\",INDEX(Qual!$C$8:$M$133,MATCH($AN120,Qual!$C$8:$C$133,0),4)+INDEX(Qual!$C$8:$M$133,MATCH($AN120,Qual!$C$8:$C$133,0),5)+INDEX(Qual!$C$8:$M$133,MATCH($AN120,Qual!$C$8:$C$133,0),6)+INDEX(Qual!$C$8:$M$133,MATCH($AN120,Qual!$C$8:$C$133,0),7)+INDEX(Qual!$C$8:$M$133,MATCH($AN120,Qual!$C$8:$C$133,0),8)+INDEX(Qual!$C$8:$M$133,MATCH($AN120,Qual!$C$8:$C$133,0),9)+INDEX(Qual!$C$8:$M$133,MATCH($AN120,Qual!$C$8:$C$133,0),10)+INDEX(Qual!$C$8:$M$133,MATCH($AN120,Qual!$C$8:$C$133,0),11))","v":""}]
[{"$nulls":28},{"$f":"IF(AD121=0,\"\",'Check-In'!$B126)","v":""},{"$f":"'Check-In'!I126","v":0},{"$f":"IF(AC121=\"\",\"\",INDEX(Qual!$C$8:$U$133,MATCH($AC121,Qual!$C$8:$C$133,0),4))","v":""},{"$f":"IF(AC121=\"\",\"\",INDEX(Qual!$C$8:$U$133,MATCH($AC121,Qual!$C$8:$C$133,0),6))","v":""},{"$f":"IF(AC121=\"\",\"\",INDEX(Qual!$C$8:$U$133,MATCH($AC121,Qual!$C$8:$C$133,0),8))","v":""},{"$f":"IF(AC121=\"\",\"\",INDEX(Qual!$C$8:$U$133,MATCH($AC121,Qual!$C$8:$C$133,0),10))","v":""},{"$f":"IF(AC121=\"\",\"\",INDEX(Qual!$C$8:$U$133,MATCH($AC121,Qual!$C$8:$C$133,0),12))","v":""},{"$f":"IF(AC121=\"\",\"\",INDEX(Qual!$C$8:$U$133,MATCH($AC121,Qual!$C$8:$C$133,0),14))","v":""},{"$f":"IF(AC121=\"\",\"\",INDEX(Qual!$C$8:$U$133,MATCH($AC121,Qual!$C$8:$C$133,0),16))","v":""},{"$f":"IF(AC121=\"\",\"\",INDEX(Qual!$C$8:$U$133,MATCH($AC121,Qual!$C$8:$C$133,0),18))","v":""},null,{"$f":"IF(AO121=0,\"\",'Check-In'!$B126)","v":""},{"$f":"'Check-In'!V126","v":0},{"$f":"IF(AO121=0,\"\",INDEX(Qual!$C$8:$M$133,MATCH($AN121,Qual!$C$8:$C$133,0),4)+INDEX(Qual!$C$8:$M$133,MATCH($AN121,Qual!$C$8:$C$133,0),5)+INDEX(Qual!$C$8:$M$133,MATCH($AN121,Qual!$C$8:$C$133,0),6)+INDEX(Qual!$C$8:$M$133,MATCH($AN121,Qual!$C$8:$C$133,0),7)+INDEX(Qual!$C$8:$M$133,MATCH($AN121,Qual!$C$8:$C$133,0),8)+INDEX(Qual!$C$8:$M$133,MATCH($AN121,Qual!$C$8:$C$133,0),9)+INDEX(Qual!$C$8:$M$133,MATCH($AN121,Qual!$C$8:$C$133,0),10)+INDEX(Qual!$C$8:$M$133,MATCH($AN121,Qual!$C$8:$C$133,0),11))","v":""}]
[{"$nulls":28},{"$f":"IF(AD122=0,\"\",'Check-In'!$B127)","v":""},{"$f":"'Check-In'!I127","v":0},{"$f":"IF(AC122=\"\",\"\",INDEX(Qual!$C$8:$U$133,MATCH($AC122,Qual!$C$8:$C$133,0),4))","v":""},{"$f":"IF(AC122=\"\",\"\",INDEX(Qual!$C$8:$U$133,MATCH($AC122,Qual!$C$8:$C$133,0),6))","v":""},{"$f":"IF(AC122=\"\",\"\",INDEX(Qual!$C$8:$U$133,MATCH($AC122,Qual!$C$8:$C$133,0),8))","v":""},{"$f":"IF(AC122=\"\",\"\",INDEX(Qual!$C$8:$U$133,MATCH($AC122,Qual!$C$8:$C$133,0),10))","v":""},{"$f":"IF(AC122=\"\",\"\",INDEX(Qual!$C$8:$U$133,MATCH($AC122,Qual!$C$8:$C$133,0),12))","v":""},{"$f":"IF(AC122=\"\",\"\",INDEX(Qual!$C$8:$U$133,MATCH($AC122,Qual!$C$8:$C$133,0),14))","v":""},{"$f":"IF(AC122=\"\",\"\",INDEX(Qual!$C$8:$U$133,MATCH($AC122,Qual!$C$8:$C$133,0),16))","v":""},{"$f":"IF(AC122=\"\",\"\",INDEX(Qual!$C$8:$U$133,MATCH($AC122,Qual!$C$8:$C$133,0),18))","v":""},null,{"$f":"IF(AO122=0,\"\",'Check-In'!$B127)","v":""},{"$f":"'Check-In'!V127","v":0},{"$f":"IF(AO122=0,\"\",INDEX(Qual!$C$8:$M$133,MATCH($AN122,Qual!$C$8:$C$133,0),4)+INDEX(Qual!$C$8:$M$133,MATCH($AN122,Qual!$C$8:$C$133,0),5)+INDEX(Qual!$C$8:$M$133,MATCH($AN122,Qual!$C$8:$C$133,0),6)+INDEX(Qual!$C$8:$M$133,MATCH($AN122,Qual!$C$8:$C$133,0),7)+INDEX(Qual!$C$8:$M$133,MATCH($AN122,Qual!$C$8:$C$133,0),8)+INDEX(Qual!$C$8:$M$133,MATCH($AN122,Qual!$C$8:$C$133,0),9)+INDEX(Qual!$C$8:$M$133,MATCH($AN122,Qual!$C$8:$C$133,0),10)+INDEX(Qual!$C$8:$M$133,MATCH($AN122,Qual!$C$8:$C$133,0),11))","v":""}]
[{"$nulls":28},{"$f":"IF(AD123=0,\"\",'Check-In'!$B128)","v":""},{"$f":"'Check-In'!I128","v":0},{"$f":"IF(AC123=\"\",\"\",INDEX(Qual!$C$8:$U$133,MATCH($AC123,Qual!$C$8:$C$133,0),4))","v":""},{"$f":"IF(AC123=\"\",\"\",INDEX(Qual!$C$8:$U$133,MATCH($AC123,Qual!$C$8:$C$133,0),6))","v":""},{"$f":"IF(AC123=\"\",\"\",INDEX(Qual!$C$8:$U$133,MATCH($AC123,Qual!$C$8:$C$133,0),8))","v":""},{"$f":"IF(AC123=\"\",\"\",INDEX(Qual!$C$8:$U$133,MATCH($AC123,Qual!$C$8:$C$133,0),10))","v":""},{"$f":"IF(AC123=\"\",\"\",INDEX(Qual!$C$8:$U$133,MATCH($AC123,Qual!$C$8:$C$133,0),12))","v":""},{"$f":"IF(AC123=\"\",\"\",INDEX(Qual!$C$8:$U$133,MATCH($AC123,Qual!$C$8:$C$133,0),14))","v":""},{"$f":"IF(AC123=\"\",\"\",INDEX(Qual!$C$8:$U$133,MATCH($AC123,Qual!$C$8:$C$133,0),16))","v":""},{"$f":"IF(AC123=\"\",\"\",INDEX(Qual!$C$8:$U$133,MATCH($AC123,Qual!$C$8:$C$133,0),18))","v":""},null,{"$f":"IF(AO123=0,\"\",'Check-In'!$B128)","v":""},{"$f":"'Check-In'!V128","v":0},{"$f":"IF(AO123=0,\"\",INDEX(Qual!$C$8:$M$133,MATCH($AN123,Qual!$C$8:$C$133,0),4)+INDEX(Qual!$C$8:$M$133,MATCH($AN123,Qual!$C$8:$C$133,0),5)+INDEX(Qual!$C$8:$M$133,MATCH($AN123,Qual!$C$8:$C$133,0),6)+INDEX(Qual!$C$8:$M$133,MATCH($AN123,Qual!$C$8:$C$133,0),7)+INDEX(Qual!$C$8:$M$133,MATCH($AN123,Qual!$C$8:$C$133,0),8)+INDEX(Qual!$C$8:$M$133,MATCH($AN123,Qual!$C$8:$C$133,0),9)+INDEX(Qual!$C$8:$M$133,MATCH($AN123,Qual!$C$8:$C$133,0),10)+INDEX(Qual!$C$8:$M$133,MATCH($AN123,Qual!$C$8:$C$133,0),11))","v":""}]
[{"$nulls":28},{"$f":"IF(AD124=0,\"\",'Check-In'!$B129)","v":""},{"$f":"'Check-In'!I129","v":0},{"$f":"IF(AC124=\"\",\"\",INDEX(Qual!$C$8:$U$133,MATCH($AC124,Qual!$C$8:$C$133,0),4))","v":""},{"$f":"IF(AC124=\"\",\"\",INDEX(Qual!$C$8:$U$133,MATCH($AC124,Qual!$C$8:$C$133,0),6))","v":""},{"$f":"IF(AC124=\"\",\"\",INDEX(Qual!$C$8:$U$133,MATCH($AC124,Qual!$C$8:$C$133,0),8))","v":""},{"$f":"IF(AC124=\"\",\"\",INDEX(Qual!$C$8:$U$133,MATCH($AC124,Qual!$C$8:$C$133,0),10))","v":""},{"$f":"IF(AC124=\"\",\"\",INDEX(Qual!$C$8:$U$133,MATCH($AC124,Qual!$C$8:$C$133,0),12))","v":""},{"$f":"IF(AC124=\"\",\"\",INDEX(Qual!$C$8:$U$133,MATCH($AC124,Qual!$C$8:$C$133,0),14))","v":""},{"$f":"IF(AC124=\"\",\"\",INDEX(Qual!$C$8:$U$133,MATCH($AC124,Qual!$C$8:$C$133,0),16))","v":""},{"$f":"IF(AC124=\"\",\"\",INDEX(Qual!$C$8:$U$133,MATCH($AC124,Qual!$C$8:$C$133,0),18))","v":""},null,{"$f":"IF(AO124=0,\"\",'Check-In'!$B129)","v":""},{"$f":"'Check-In'!V129","v":0},{"$f":"IF(AO124=0,\"\",INDEX(Qual!$C$8:$M$133,MATCH($AN124,Qual!$C$8:$C$133,0),4)+INDEX(Qual!$C$8:$M$133,MATCH($AN124,Qual!$C$8:$C$133,0),5)+INDEX(Qual!$C$8:$M$133,MATCH($AN124,Qual!$C$8:$C$133,0),6)+INDEX(Qual!$C$8:$M$133,MATCH($AN124,Qual!$C$8:$C$133,0),7)+INDEX(Qual!$C$8:$M$133,MATCH($AN124,Qual!$C$8:$C$133,0),8)+INDEX(Qual!$C$8:$M$133,MATCH($AN124,Qual!$C$8:$C$133,0),9)+INDEX(Qual!$C$8:$M$133,MATCH($AN124,Qual!$C$8:$C$133,0),10)+INDEX(Qual!$C$8:$M$133,MATCH($AN124,Qual!$C$8:$C$133,0),11))","v":""}]
[{"$nulls":28},{"$f":"IF(AD125=0,\"\",'Check-In'!$B130)","v":""},{"$f":"'Check-In'!I130","v":0},{"$f":"IF(AC125=\"\",\"\",INDEX(Qual!$C$8:$U$133,MATCH($AC125,Qual!$C$8:$C$133,0),4))","v":""},{"$f":"IF(AC125=\"\",\"\",INDEX(Qual!$C$8:$U$133,MATCH($AC125,Qual!$C$8:$C$133,0),6))","v":""},{"$f":"IF(AC125=\"\",\"\",INDEX(Qual!$C$8:$U$133,MATCH($AC125,Qual!$C$8:$C$133,0),8))","v":""},{"$f":"IF(AC125=\"\",\"\",INDEX(Qual!$C$8:$U$133,MATCH($AC125,Qual!$C$8:$C$133,0),10))","v":""},{"$f":"IF(AC125=\"\",\"\",INDEX(Qual!$C$8:$U$133,MATCH($AC125,Qual!$C$8:$C$133,0),12))","v":""},{"$f":"IF(AC125=\"\",\"\",INDEX(Qual!$C$8:$U$133,MATCH($AC125,Qual!$C$8:$C$133,0),14))","v":""},{"$f":"IF(AC125=\"\",\"\",INDEX(Qual!$C$8:$U$133,MATCH($AC125,Qual!$C$8:$C$133,0),16))","v":""},{"$f":"IF(AC125=\"\",\"\",INDEX(Qual!$C$8:$U$133,MATCH($AC125,Qual!$C$8:$C$133,0),18))","v":""},null,{"$f":"IF(AO125=0,\"\",'Check-In'!$B130)","v":""},{"$f":"'Check-In'!V130","v":0},{"$f":"IF(AO125=0,\"\",INDEX(Qual!$C$8:$M$133,MATCH($AN125,Qual!$C$8:$C$133,0),4)+INDEX(Qual!$C$8:$M$133,MATCH($AN125,Qual!$C$8:$C$133,0),5)+INDEX(Qual!$C$8:$M$133,MATCH($AN125,Qual!$C$8:$C$133,0),6)+INDEX(Qual!$C$8:$M$133,MATCH($AN125,Qual!$C$8:$C$133,0),7)+INDEX(Qual!$C$8:$M$133,MATCH($AN125,Qual!$C$8:$C$133,0),8)+INDEX(Qual!$C$8:$M$133,MATCH($AN125,Qual!$C$8:$C$133,0),9)+INDEX(Qual!$C$8:$M$133,MATCH($AN125,Qual!$C$8:$C$133,0),10)+INDEX(Qual!$C$8:$M$133,MATCH($AN125,Qual!$C$8:$C$133,0),11))","v":""}]
[{"$nulls":28},{"$f":"IF(AD126=0,\"\",'Check-In'!$B131)","v":""},{"$f":"'Check-In'!I131","v":0},{"$f":"IF(AC126=\"\",\"\",INDEX(Qual!$C$8:$U$133,MATCH($AC126,Qual!$C$8:$C$133,0),4))","v":""},{"$f":"IF(AC126=\"\",\"\",INDEX(Qual!$C$8:$U$133,MATCH($AC126,Qual!$C$8:$C$133,0),6))","v":""},{"$f":"IF(AC126=\"\",\"\",INDEX(Qual!$C$8:$U$133,MATCH($AC126,Qual!$C$8:$C$133,0),8))","v":""},{"$f":"IF(AC126=\"\",\"\",INDEX(Qual!$C$8:$U$133,MATCH($AC126,Qual!$C$8:$C$133,0),10))","v":""},{"$f":"IF(AC126=\"\",\"\",INDEX(Qual!$C$8:$U$133,MATCH($AC126,Qual!$C$8:$C$133,0),12))","v":""},{"$f":"IF(AC126=\"\",\"\",INDEX(Qual!$C$8:$U$133,MATCH($AC126,Qual!$C$8:$C$133,0),14))","v":""},{"$f":"IF(AC126=\"\",\"\",INDEX(Qual!$C$8:$U$133,MATCH($AC126,Qual!$C$8:$C$133,0),16))","v":""},{"$f":"IF(AC126=\"\",\"\",INDEX(Qual!$C$8:$U$133,MATCH($AC126,Qual!$C$8:$C$133,0),18))","v":""},null,{"$f":"IF(AO126=0,\"\",'Check-In'!$B131)","v":""},{"$f":"'Check-In'!V131","v":0},{"$f":"IF(AO126=0,\"\",INDEX(Qual!$C$8:$M$133,MATCH($AN126,Qual!$C$8:$C$133,0),4)+INDEX(Qual!$C$8:$M$133,MATCH($AN126,Qual!$C$8:$C$133,0),5)+INDEX(Qual!$C$8:$M$133,MATCH($AN126,Qual!$C$8:$C$133,0),6)+INDEX(Qual!$C$8:$M$133,MATCH($AN126,Qual!$C$8:$C$133,0),7)+INDEX(Qual!$C$8:$M$133,MATCH($AN126,Qual!$C$8:$C$133,0),8)+INDEX(Qual!$C$8:$M$133,MATCH($AN126,Qual!$C$8:$C$133,0),9)+INDEX(Qual!$C$8:$M$133,MATCH($AN126,Qual!$C$8:$C$133,0),10)+INDEX(Qual!$C$8:$M$133,MATCH($AN126,Qual!$C$8:$C$133,0),11))","v":""}]
[{"$nulls":28},{"$f":"IF(AD127=0,\"\",'Check-In'!$B132)","v":0},{"$f":"IF('Check-In'!I132=\"\",\"\",'Check-In'!I132)","v":""},{"$f":"IF(AC127=\"\",\"\",INDEX(Qual!$C$8:$U$133,MATCH($AC127,Qual!$C$8:$C$133,0),4))","v":{"$error":"#N/A"}},{"$f":"IF(AC127=\"\",\"\",INDEX(Qual!$C$8:$U$133,MATCH($AC127,Qual!$C$8:$C$133,0),6))","v":{"$error":"#N/A"}},{"$f":"IF(AC127=\"\",\"\",INDEX(Qual!$C$8:$U$133,MATCH($AC127,Qual!$C$8:$C$133,0),8))","v":{"$error":"#N/A"}},{"$f":"IF(AC127=\"\",\"\",INDEX(Qual!$C$8:$U$133,MATCH($AC127,Qual!$C$8:$C$133,0),10))","v":{"$error":"#N/A"}},{"$f":"IF(AC127=\"\",\"\",INDEX(Qual!$C$8:$U$133,MATCH($AC127,Qual!$C$8:$C$133,0),12))","v":{"$error":"#N/A"}},{"$f":"IF(AC127=\"\",\"\",INDEX(Qual!$C$8:$U$133,MATCH($AC127,Qual!$C$8:$C$133,0),14))","v":{"$error":"#N/A"}},{"$f":"IF(AC127=\"\",\"\",INDEX(Qual!$C$8:$U$133,MATCH($AC127,Qual!$C$8:$C$133,0),16))","v":{"$error":"#N/A"}},{"$f":"IF(AC127=\"\",\"\",INDEX(Qual!$C$8:$U$133,MATCH($AC127,Qual!$C$8:$C$133,0),18))","v":{"$error":"#N/A"}},null,{"$f":"IF(AO127=0,\"\",'Check-In'!$B132)","v":""},{"$f":"'Check-In'!V132","v":0},{"$f":"IF(AO127=0,\"\",INDEX(Qual!$C$8:$M$133,MATCH($AN127,Qual!$C$8:$C$133,0),4)+INDEX(Qual!$C$8:$M$133,MATCH($AN127,Qual!$C$8:$C$133,0),5)+INDEX(Qual!$C$8:$M$133,MATCH($AN127,Qual!$C$8:$C$133,0),6)+INDEX(Qual!$C$8:$M$133,MATCH($AN127,Qual!$C$8:$C$133,0),7)+INDEX(Qual!$C$8:$M$133,MATCH($AN127,Qual!$C$8:$C$133,0),8)+INDEX(Qual!$C$8:$M$133,MATCH($AN127,Qual!$C$8:$C$133,0),9)+INDEX(Qual!$C$8:$M$133,MATCH($AN127,Qual!$C$8:$C$133,0),10)+INDEX(Qual!$C$8:$M$133,MATCH($AN127,Qual!$C$8:$C$133,0),11))","v":""}]

{"sheet":"Prize List","index":14,"n_rows":74,"n_cols":14,"rows_kept":74}
[]
[null,null,"CBA","Central Bowlers Alliance",{"$nulls":4},"CBA"]
[{"$nulls":3},"INDIVIDUAL TOURNAMENT RECORD"]
[null,null,"USBC Certification # 04987"]
[null,"DATE:",{"$f":"'Check-In'!B2","v":"2022-04-24"},null,{"$f":"CONCATENATE(\"      Center:  \",'Check-In'!B3)","v":"      Center:  Cedarvale"},{"$nulls":8},{"$f":"CONCATENATE(\"Number Entries:  \",'Check-In'!D134)","v":"Number Entries:  62"}]
[null,null,"Main Prize List"]
[null,"  #","NAME","CITY","QUAL","SEMI","BON","TOTAL","PTS","Opt $","QL $","BW $","Prize Money","Total $"]
[1,"1st",{"$f":"IF(A8=\"\",\"\",IF(Payout>=24,'1D1GMP'!C100,IF(Payout>=22,#REF!,IF(Payout>=20,#REF!,IF(Payout>=18,#REF!,IF(Payout>=16,#REF!,IF(Payout>=14,#REF!,IF(Payout>=12,#REF!,IF(Payout>=10,#REF!,#REF!)))))))))","v":{"$error":"#REF!"}},null,{"$f":"IF(A8=\"\",\"\",INDEX(Qual!$C$8:$Z$127,MATCH(C8,Qual!$C$8:$C$127,0),11))","v":{"$error":"#REF!"}},{"$f":"IF(A8=\"\",\"\",IF(Payout>=24,INDEX('1D1GMP'!$F$63:$BE$67,MATCH(C8,'1D1GMP'!$F$63:$F$67,0),44),IF(Payout>=22,INDEX(#REF!,MATCH(C8,#REF!,0),44),IF(Payout>=20,INDEX(#REF!,MATCH(C8,#REF!,0),44),IF(Payout>=18,INDEX(#REF!,MATCH(C8,#REF!,0),44),IF(Payout>=16,INDEX(#REF!,MATCH(C8,#REF!,0),44),IF(Payout>=14,INDEX(#REF!,MATCH(C8,#REF!,0),44),IF(Payout>=12,INDEX(#REF!,MATCH(C8,#REF!,0),48),IF(Payout>=10,INDEX(#REF!,MATCH(C8,#REF!,0),44),INDEX(#REF!,MATCH(C8,#REF!,0),44))))))))))","v":{"$error":"#REF!"}},{"$f":"IF(A8=\"\",\"\",IF(Payout>=24,INDEX('1D1GMP'!$F$63:$BE$67,MATCH(C8,'1D1GMP'!$F$63:$F$67,0),52),IF(Payout>=22,INDEX(#REF!,MATCH(C8,#REF!,0),52),IF(Payout>=20,INDEX(#REF!,MATCH(C8,#REF!,0),52),IF(Payout>=18,INDEX(#REF!,MATCH(C8,#REF!,0),52),IF(Payout>=16,INDEX(#REF!,MATCH(C8,#REF!,0),52),IF(Payout>=14,INDEX(#REF!,MATCH(C8,#REF!,0),52),IF(Payout>=12,INDEX(#REF!,MATCH(C8,#REF!,0),52),IF(Payout>=10,INDEX(#REF!,MATCH(C8,#REF!,0),52),INDEX(#REF!,MATCH(C8,#REF!,0),52))))))))))","v":{"$error":"#REF!"}},{"$f":"IF(A8=\"\",\"\",SUM(E8:G8))","v":{"$error":"#REF!"}},25,{"$f":"IF(ISNA(INDEX($F$35:$N$38,MATCH(C8,$F$35:$F$38,0),12)),\"\",INDEX($F$35:$N$38,MATCH(C8,$F$35:$F$38,0),12))","v":{"$error":"#REF!"}},{"$f":"IF(C8=$D$51,$N$51,\"\")","v":{"$error":"#REF!"}},{"$f":"IF(C8=\"\",\"\",IF(INDEX(CheckIn,MATCH(C8,CheckInName,0),8)=30,B2W30,IF(INDEX(CheckIn,MATCH(C8,CheckInName,0),8)=20,B2W20,IF(INDEX(CheckIn,MATCH(C8,CheckInName,0),8)=10,B2W10,\"\"))))","v":{"$error":"#REF!"}},{"v":375,"d":"$375"},{"$f":"SUM(J8:M8)","v":{"$error":"#REF!"}}]
[2,"2nd",{"$f":"IF(A9=\"\",\"\",IF(Payout>=24,'1D1GMP'!C101,IF(Payout>=22,#REF!,IF(Payout>=20,#REF!,IF(Payout>=18,#REF!,IF(Payout>=16,#REF!,IF(Payout>=14,#REF!,IF(Payout>=12,#REF!,IF(Payout>=10,#REF!,#REF!)))))))))","v":{"$error":"#REF!"}},null,{"$f":"IF(A9=\"\",\"\",INDEX(Qual!$C$8:$Z$127,MATCH(C9,Qual!$C$8:$C$127,0),11))","v":{"$error":"#REF!"}},{"$f":"IF(A9=\"\",\"\",IF(Payout>=24,INDEX('1D1GMP'!$F$63:$BE$67,MATCH(C9,'1D1GMP'!$F$63:$F$67,0),44),IF(Payout>=22,INDEX(#REF!,MATCH(C9,#REF!,0),44),IF(Payout>=20,INDEX(#REF!,MATCH(C9,#REF!,0),44),IF(Payout>=18,INDEX(#REF!,MATCH(C9,#REF!,0),44),IF(Payout>=16,INDEX(#REF!,MATCH(C9,#REF!,0),44),IF(Payout>=14,INDEX(#REF!,MATCH(C9,#REF!,0),44),IF(Payout>=12,INDEX(#REF!,MATCH(C9,#REF!,0),48),IF(Payout>=10,INDEX(#REF!,MATCH(C9,#REF!,0),44),INDEX(#REF!,MATCH(C9,#REF!,0),44))))))))))","v":{"$error":"#REF!"}},{"$f":"IF(A9=\"\",\"\",IF(Payout>=24,INDEX('1D1GMP'!$F$63:$BE$67,MATCH(C9,'1D1GMP'!$F$63:$F$67,0),52),IF(Payout>=22,INDEX(#REF!,MATCH(C9,#REF!,0),52),IF(Payout>=20,INDEX(#REF!,MATCH(C9,#REF!,0),52),IF(Payout>=18,INDEX(#REF!,MATCH(C9,#REF!,0),52),IF(Payout>=16,INDEX(#REF!,MATCH(C9,#REF!,0),52),IF(Payout>=14,INDEX(#REF!,MATCH(C9,#REF!,0),52),IF(Payout>=12,INDEX(#REF!,MATCH(C9,#REF!,0),52),IF(Payout>=10,INDEX(#REF!,MATCH(C9,#REF!,0),52),INDEX(#REF!,MATCH(C9,#REF!,0),52))))))))))","v":{"$error":"#REF!"}},{"$f":"IF(A9=\"\",\"\",SUM(E9:G9))","v":{"$error":"#REF!"}},23,{"$error":"#REF!"},{"$f":"IF(C9=$D$51,$N$51,\"\")","v":{"$error":"#REF!"}},null,{"v":285,"d":"$285"},{"$f":"SUM(J9:M9)","v":{"$error":"#REF!"}}]
[3,"3rd",{"$f":"IF(A10=\"\",\"\",IF(Payout>=24,'1D1GMP'!C102,IF(Payout>=22,#REF!,IF(Payout>=20,#REF!,IF(Payout>=18,#REF!,IF(Payout>=16,#REF!,IF(Payout>=14,#REF!,IF(Payout>=12,#REF!,IF(Payout>=10,#REF!,#REF!)))))))))","v":{"$error":"#REF!"}},null,{"$f":"IF(A10=\"\",\"\",INDEX(Qual!$C$8:$Z$127,MATCH(C10,Qual!$C$8:$C$127,0),11))","v":{"$error":"#REF!"}},{"$f":"IF(A10=\"\",\"\",IF(Payout>=24,INDEX('1D1GMP'!$F$63:$BE$67,MATCH(C10,'1D1GMP'!$F$63:$F$67,0),44),IF(Payout>=22,INDEX(#REF!,MATCH(C10,#REF!,0),44),IF(Payout>=20,INDEX(#REF!,MATCH(C10,#REF!,0),44),IF(Payout>=18,INDEX(#REF!,MATCH(C10,#REF!,0),44),IF(Payout>=16,INDEX(#REF!,MATCH(C10,#REF!,0),44),IF(Payout>=14,INDEX(#REF!,MATCH(C10,#REF!,0),44),IF(Payout>=12,INDEX(#REF!,MATCH(C10,#REF!,0),48),IF(Payout>=10,INDEX(#REF!,MATCH(C10,#REF!,0),44),INDEX(#REF!,MATCH(C10,#REF!,0),44))))))))))","v":{"$error":"#REF!"}},{"$f":"IF(A10=\"\",\"\",IF(Payout>=24,INDEX('1D1GMP'!$F$63:$BE$67,MATCH(C10,'1D1GMP'!$F$63:$F$67,0),52),IF(Payout>=22,INDEX(#REF!,MATCH(C10,#REF!,0),52),IF(Payout>=20,INDEX(#REF!,MATCH(C10,#REF!,0),52),IF(Payout>=18,INDEX(#REF!,MATCH(C10,#REF!,0),52),IF(Payout>=16,INDEX(#REF!,MATCH(C10,#REF!,0),52),IF(Payout>=14,INDEX(#REF!,MATCH(C10,#REF!,0),52),IF(Payout>=12,INDEX(#REF!,MATCH(C10,#REF!,0),52),IF(Payout>=10,INDEX(#REF!,MATCH(C10,#REF!,0),52),INDEX(#REF!,MATCH(C10,#REF!,0),52))))))))))","v":{"$error":"#REF!"}},{"$error":"#REF!"},21,{"$error":"#REF!"},{"$error":"#REF!"},null,{"v":230,"d":"$230"},{"$error":"#REF!"}]
[4,"4th",{"$f":"IF(A11=\"\",\"\",IF(Payout>=24,'1D1GMP'!C103,IF(Payout>=22,#REF!,IF(Payout>=20,#REF!,IF(Payout>=18,#REF!,IF(Payout>=16,#REF!,IF(Payout>=14,#REF!,IF(Payout>=12,#REF!,IF(Payout>=10,#REF!,#REF!)))))))))","v":{"$error":"#REF!"}},null,{"$f":"IF(A11=\"\",\"\",INDEX(Qual!$C$8:$Z$127,MATCH(C11,Qual!$C$8:$C$127,0),11))","v":{"$error":"#REF!"}},{"$f":"IF(A11=\"\",\"\",IF(Payout>=24,INDEX('1D1GMP'!$F$63:$BE$67,MATCH(C11,'1D1GMP'!$F$63:$F$67,0),44),IF(Payout>=22,INDEX(#REF!,MATCH(C11,#REF!,0),44),IF(Payout>=20,INDEX(#REF!,MATCH(C11,#REF!,0),44),IF(Payout>=18,INDEX(#REF!,MATCH(C11,#REF!,0),44),IF(Payout>=16,INDEX(#REF!,MATCH(C11,#REF!,0),44),IF(Payout>=14,INDEX(#REF!,MATCH(C11,#REF!,0),44),IF(Payout>=12,INDEX(#REF!,MATCH(C11,#REF!,0),48),IF(Payout>=10,INDEX(#REF!,MATCH(C11,#REF!,0),44),INDEX(#REF!,MATCH(C11,#REF!,0),44))))))))))","v":{"$error":"#REF!"}},{"$f":"IF(A11=\"\",\"\",IF(Payout>=24,INDEX('1D1GMP'!$F$63:$BE$67,MATCH(C11,'1D1GMP'!$F$63:$F$67,0),52),IF(Payout>=22,INDEX(#REF!,MATCH(C11,#REF!,0),52),IF(Payout>=20,INDEX(#REF!,MATCH(C11,#REF!,0),52),IF(Payout>=18,INDEX(#REF!,MATCH(C11,#REF!,0),52),IF(Payout>=16,INDEX(#REF!,MATCH(C11,#REF!,0),52),IF(Payout>=14,INDEX(#REF!,MATCH(C11,#REF!,0),52),IF(Payout>=12,INDEX(#REF!,MATCH(C11,#REF!,0),52),IF(Payout>=10,INDEX(#REF!,MATCH(C11,#REF!,0),52),INDEX(#REF!,MATCH(C11,#REF!,0),52))))))))))","v":{"$error":"#REF!"}},{"$error":"#REF!"},19,{"$error":"#REF!"},{"$error":"#REF!"},null,{"v":190,"d":"$190"},{"$error":"#REF!"}]
[5,"5th",{"$f":"IF(A12=\"\",\"\",IF(Payout>=24,'1D1GMP'!C104,IF(Payout>=22,#REF!,IF(Payout>=20,#REF!,IF(Payout>=18,#REF!,IF(Payout>=16,#REF!,IF(Payout>=14,#REF!,IF(Payout>=12,#REF!,IF(Payout>=10,#REF!,#REF!)))))))))","v":{"$error":"#REF!"}},null,{"$f":"IF(A12=\"\",\"\",INDEX(Qual!$C$8:$Z$127,MATCH(C12,Qual!$C$8:$C$127,0),11))","v":{"$error":"#REF!"}},{"$f":"IF(A12=\"\",\"\",IF(Payout>=24,INDEX('1D1GMP'!$F$63:$BE$67,MATCH(C12,'1D1GMP'!$F$63:$F$67,0),44),IF(Payout>=22,INDEX(#REF!,MATCH(C12,#REF!,0),44),IF(Payout>=20,INDEX(#REF!,MATCH(C12,#REF!,0),44),IF(Payout>=18,INDEX(#REF!,MATCH(C12,#REF!,0),44),IF(Payout>=16,INDEX(#REF!,MATCH(C12,#REF!,0),44),IF(Payout>=14,INDEX(#REF!,MATCH(C12,#REF!,0),44),IF(Payout>=12,INDEX(#REF!,MATCH(C12,#REF!,0),48),IF(Payout>=10,INDEX(#REF!,MATCH(C12,#REF!,0),44),INDEX(#REF!,MATCH(C12,#REF!,0),44))))))))))","v":{"$error":"#REF!"}},{"$f":"IF(A12=\"\",\"\",IF(Payout>=24,INDEX('1D1GMP'!$F$63:$BE$67,MATCH(C12,'1D1GMP'!$F$63:$F$67,0),52),IF(Payout>=22,INDEX(#REF!,MATCH(C12,#REF!,0),52),IF(Payout>=20,INDEX(#REF!,MATCH(C12,#REF!,0),52),IF(Payout>=18,INDEX(#REF!,MATCH(C12,#REF!,0),52),IF(Payout>=16,INDEX(#REF!,MATCH(C12,#REF!,0),52),IF(Payout>=14,INDEX(#REF!,MATCH(C12,#REF!,0),52),IF(Payout>=12,INDEX(#REF!,MATCH(C12,#REF!,0),52),IF(Payout>=10,INDEX(#REF!,MATCH(C12,#REF!,0),52),INDEX(#REF!,MATCH(C12,#REF!,0),52))))))))))","v":{"$error":"#REF!"}},{"$error":"#REF!"},17,{"$error":"#REF!"},{"$error":"#REF!"},null,{"v":160,"d":"$160"},{"$error":"#REF!"}]
[6,"6th",{"$f":"IF(A13=\"\",\"\",IF(Payout>=24,'1D1GMP'!C68:O68,IF(Payout>=22,#REF!,IF(Payout>=20,#REF!,IF(Payout>=18,#REF!,IF(Payout>=16,#REF!,IF(Payout>=14,#REF!,IF(Payout>=12,#REF!,IF(Payout>=10,#REF!,#REF!)))))))))","v":{"$error":"#REF!"}},null,{"$f":"IF(A13=\"\",\"\",INDEX(Qual!$C$8:$Z$127,MATCH(C13,Qual!$C$8:$C$127,0),11))","v":{"$error":"#REF!"}},{"$f":"IF(A13=\"\",\"\",IF(Payout>=24,'1D1GMP'!AT68:AW68,IF(Payout>=22,#REF!,IF(Payout>=20,#REF!,IF(Payout>=18,#REF!,IF(Payout>=16,#REF!,IF(Payout>=14,#REF!,IF(Payout>=12,#REF!,IF(Payout>=10,#REF!,#REF!)))))))))","v":{"$error":"#REF!"}},{"$f":"IF(A13=\"\",\"\",IF(Payout>=24,'1D1GMP'!BB68:BE68,IF(Payout>=22,#REF!,IF(Payout>=20,#REF!,IF(Payout>=18,#REF!,IF(Payout>=16,#REF!,IF(Payout>=14,#REF!,IF(Payout>=12,#REF!,IF(Payout>=10,#REF!,#REF!)))))))))","v":{"$error":"#REF!"}},{"$error":"#REF!"},15,{"$error":"#REF!"},{"$error":"#REF!"},null,{"v":140,"d":"$140"},{"$error":"#REF!"}]
[7,"7th",{"$f":"IF(A14=\"\",\"\",IF(Payout>=24,'1D1GMP'!C69:O69,IF(Payout>=22,#REF!,IF(Payout>=20,#REF!,IF(Payout>=18,#REF!,IF(Payout>=16,#REF!,IF(Payout>=14,#REF!,IF(Payout>=12,#REF!,IF(Payout>=10,#REF!,#REF!)))))))))","v":{"$error":"#REF!"}},null,{"$f":"IF(A14=\"\",\"\",INDEX(Qual!$C$8:$Z$127,MATCH(C14,Qual!$C$8:$C$127,0),11))","v":{"$error":"#REF!"}},{"$f":"IF(A14=\"\",\"\",IF(Payout>=24,'1D1GMP'!AT69:AW69,IF(Payout>=22,#REF!,IF(Payout>=20,#REF!,IF(Payout>=18,#REF!,IF(Payout>=16,#REF!,IF(Payout>=14,#REF!,IF(Payout>=12,#REF!,IF(Payout>=10,#REF!,#REF!)))))))))","v":{"$error":"#REF!"}},{"$f":"IF(A14=\"\",\"\",IF(Payout>=24,'1D1GMP'!BB69:BE69,IF(Payout>=22,#REF!,IF(Payout>=20,#REF!,IF(Payout>=18,#REF!,IF(Payout>=16,#REF!,IF(Payout>=14,#REF!,IF(Payout>=12,#REF!,IF(Payout>=10,#REF!,#REF!)))))))))","v":{"$error":"#REF!"}},{"$error":"#REF!"},14,{"$error":"#REF!"},{"$error":"#REF!"},null,{"v":120,"d":"$120"},{"$error":"#REF!"}]
[8,"8th",{"$f":"IF(A15=\"\",\"\",IF(Payout>=24,'1D1GMP'!C70:O70,IF(Payout>=22,#REF!,IF(Payout>=20,#REF!,IF(Payout>=18,#REF!,IF(Payout>=16,#REF!,IF(Payout>=14,#REF!,IF(Payout>=12,#REF!,IF(Payout>=10,#REF!,#REF!)))))))))","v":{"$error":"#REF!"}},null,{"$f":"IF(A15=\"\",\"\",INDEX(Qual!$C$8:$Z$127,MATCH(C15,Qual!$C$8:$C$127,0),11))","v":{"$error":"#REF!"}},{"$f":"IF(A15=\"\",\"\",IF(Payout>=24,'1D1GMP'!AT70:AW70,IF(Payout>=22,#REF!,IF(Payout>=20,#REF!,IF(Payout>=18,#REF!,IF(Payout>=16,#REF!,IF(Payout>=14,#REF!,IF(Payout>=12,#REF!,IF(Payout>=10,#REF!,#REF!)))))))))","v":{"$error":"#REF!"}},{"$f":"IF(A15=\"\",\"\",IF(Payout>=24,'1D1GMP'!BB70:BE70,IF(Payout>=22,#REF!,IF(Payout>=20,#REF!,IF(Payout>=18,#REF!,IF(Payout>=16,#REF!,IF(Payout>=14,#REF!,IF(Payout>=12,#REF!,IF(Payout>=10,#REF!,#REF!)))))))))","v":{"$error":"#REF!"}},{"$error":"#REF!"},13,{"$error":"#REF!"},{"$error":"#REF!"},null,{"v":110,"d":"$110"},{"$error":"#REF!"}]
[{"$f":"IF(A15>='Check-In'!$D$135,\"\",A15+1)","v":9},{"$f":"IF(A16=\"\",\"\",\"9th\")","v":"9th"},{"$f":"IF(A16=\"\",\"\",IF(Payout>=24,'1D1GMP'!C71:O71,IF(Payout>=22,#REF!,IF(Payout>=20,#REF!,IF(Payout>=18,#REF!,IF(Payout>=16,#REF!,IF(Payout>=14,#REF!,IF(Payout>=12,#REF!,IF(Payout>=10,#REF!,Qual!C16)))))))))","v":{"$error":"#REF!"}},null,{"$f":"IF(A16=\"\",\"\",INDEX(Qual!$C$8:$Z$127,MATCH(C16,Qual!$C$8:$C$127,0),11))","v":{"$error":"#REF!"}},{"$f":"IF(A16=\"\",\"\",IF(Payout>=24,'1D1GMP'!AT71:AW71,IF(Payout>=22,#REF!,IF(Payout>=20,#REF!,IF(Payout>=18,#REF!,IF(Payout>=16,#REF!,IF(Payout>=14,#REF!,IF(Payout>=12,#REF!,IF(Payout>=10,#REF!,#REF!)))))))))","v":{"$error":"#REF!"}},{"$f":"IF(A16=\"\",\"\",IF(Payout>=24,'1D1GMP'!BB71:BE71,IF(Payout>=22,#REF!,IF(Payout>=20,#REF!,IF(Payout>=18,#REF!,IF(Payout>=16,#REF!,IF(Payout>=14,#REF!,IF(Payout>=12,#REF!,IF(Payout>=10,#REF!,#REF!)))))))))","v":{"$error":"#REF!"}},{"$error":"#REF!"},12,{"$error":"#REF!"},{"$error":"#REF!"},null,{"v":105,"d":"$105"},{"$error":"#REF!"}]
[{"$f":"IF(A16>='Check-In'!$D$135,\"\",A16+1)","v":10},{"$f":"IF(A17=\"\",\"\",\"10th\")","v":"10th"},{"$f":"IF(A17=\"\",\"\",IF(Payout>=24,'1D1GMP'!C72:O72,IF(Payout>=22,#REF!,IF(Payout>=20,#REF!,IF(Payout>=18,#REF!,IF(Payout>=16,#REF!,IF(Payout>=14,#REF!,IF(Payout>=12,#REF!,#REF!))))))))","v":{"$error":"#REF!"}},null,{"$f":"IF(A17=\"\",\"\",INDEX(Qual!$C$8:$Z$127,MATCH(C17,Qual!$C$8:$C$127,0),11))","v":{"$error":"#REF!"}},{"$f":"IF(A17=\"\",\"\",IF(Payout>=24,'1D1GMP'!AT72:AW72,IF(Payout>=22,#REF!,IF(Payout>=20,#REF!,IF(Payout>=18,#REF!,IF(Payout>=16,#REF!,IF(Payout>=14,#REF!,IF(Payout>=12,#REF!,IF(Payout>=10,#REF!,#REF!)))))))))","v":{"$error":"#REF!"}},{"$f":"IF(A17=\"\",\"\",IF(Payout>=24,'1D1GMP'!BB72:BE72,IF(Payout>=22,#REF!,IF(Payout>=20,#REF!,IF(Payout>=18,#REF!,IF(Payout>=16,#REF!,IF(Payout>=14,#REF!,IF(Payout>=12,#REF!,IF(Payout>=10,#REF!,#REF!)))))))))","v":{"$error":"#REF!"}},{"$error":"#REF!"},11,{"$error":"#REF!"},{"$error":"#REF!"},null,{"v":100,"d":"$100"},{"$error":"#REF!"}]
[{"$f":"IF(A17>='Check-In'!$D$135,\"\",A17+1)","v":11},{"$f":"IF(A18=\"\",\"\",\"11th\")","v":"11th"},{"$f":"IF(A18=\"\",\"\",IF(Payout>=24,'1D1GMP'!C73:O73,IF(Payout>=22,#REF!,IF(Payout>=20,#REF!,IF(Payout>=18,#REF!,IF(Payout>=16,#REF!,IF(Payout>=14,#REF!,IF(Payout>=12,#REF!,Qual!C18))))))))","v":{"$error":"#REF!"}},null,{"$f":"IF(A18=\"\",\"\",INDEX(Qual!$C$8:$Z$127,MATCH(C18,Qual!$C$8:$C$127,0),11))","v":{"$error":"#REF!"}},{"$f":"IF(A18=\"\",\"\",IF(Payout>=24,'1D1GMP'!AT73:AW73,IF(Payout>=22,#REF!,IF(Payout>=20,#REF!,IF(Payout>=18,#REF!,IF(Payout>=16,#REF!,IF(Payout>=14,#REF!,IF(Payout>=12,#REF!,IF(Payout>=10,#REF!,#REF!)))))))))","v":{"$error":"#REF!"}},{"$f":"IF(A18=\"\",\"\",IF(Payout>=24,'1D1GMP'!BB73:BE73,IF(Payout>=22,#REF!,IF(Payout>=20,#REF!,IF(Payout>=18,#REF!,IF(Payout>=16,#REF!,IF(Payout>=14,#REF!,IF(Payout>=12,#REF!,IF(Payout>=10,#REF!,#REF!)))))))))","v":{"$error":"#REF!"}},{"$error":"#REF!"},7,{"$error":"#REF!"},{"$error":"#REF!"},null,null,{"$error":"#REF!"}]
[{"$f":"IF(A18>='Check-In'!$D$135,\"\",A18+1)","v":12},{"$f":"IF(A19=\"\",\"\",\"12th\")","v":"12th"},{"$f":"IF(A19=\"\",\"\",IF(Payout>=24,'1D1GMP'!C74:O74,IF(Payout>=22,#REF!,IF(Payout>=20,#REF!,IF(Payout>=18,#REF!,IF(Payout>=16,#REF!,IF(Payout>=14,#REF!,#REF!)))))))","v":{"$error":"#REF!"}},null,{"$f":"IF(A19=\"\",\"\",INDEX(Qual!$C$8:$Z$127,MATCH(C19,Qual!$C$8:$C$127,0),11))","v":{"$error":"#REF!"}},{"$f":"IF(A19=\"\",\"\",IF(Payout>=24,'1D1GMP'!AT74:AW74,IF(Payout>=22,#REF!,IF(Payout>=20,#REF!,IF(Payout>=18,#REF!,IF(Payout>=16,#REF!,IF(Payout>=14,#REF!,IF(Payout>=12,#REF!,IF(Payout>=10,#REF!,#REF!)))))))))","v":{"$error":"#REF!"}},{"$f":"IF(A19=\"\",\"\",IF(Payout>=24,'1D1GMP'!BB74:BE74,IF(Payout>=22,#REF!,IF(Payout>=20,#REF!,IF(Payout>=18,#REF!,IF(Payout>=16,#REF!,IF(Payout>=14,#REF!,IF(Payout>=12,#REF!,IF(Payout>=10,#REF!,#REF!)))))))))","v":{"$error":"#REF!"}},{"$error":"#REF!"},5,{"$error":"#REF!"},{"$error":"#REF!"},null,null,{"$error":"#REF!"}]
[{"$f":"IF(A19>='Check-In'!$D$135,\"\",A19+1)","v":13},{"$f":"IF(A20=\"\",\"\",\"13th\")","v":"13th"},{"$f":"IF(A20=\"\",\"\",IF(Payout>=24,'1D1GMP'!C75:O75,IF(Payout>=22,#REF!,IF(Payout>=20,#REF!,IF(Payout>=18,#REF!,IF(Payout>=16,#REF!,IF(Payout>=14,#REF!,Qual!C20)))))))","v":{"$error":"#REF!"}},null,{"$f":"IF(A20=\"\",\"\",INDEX(Qual!$C$8:$Z$127,MATCH(C20,Qual!$C$8:$C$127,0),11))","v":{"$error":"#REF!"}},{"$f":"IF(A20=\"\",\"\",IF(Payout>=24,'1D1GMP'!AT75:AW75,IF(Payout>=22,#REF!,IF(Payout>=20,#REF!,IF(Payout>=18,#REF!,IF(Payout>=16,#REF!,IF(Payout>=14,#REF!,IF(Payout>=12,#REF!,IF(Payout>=10,#REF!,#REF!)))))))))","v":{"$error":"#REF!"}},{"$f":"IF(A20=\"\",\"\",IF(Payout>=24,'1D1GMP'!BB75:BE75,IF(Payout>=22,#REF!,IF(Payout>=20,#REF!,IF(Payout>=18,#REF!,IF(Payout>=16,#REF!,IF(Payout>=14,#REF!,IF(Payout>=12,#REF!,IF(Payout>=10,#REF!,#REF!)))))))))","v":{"$error":"#REF!"}},{"$error":"#REF!"},5,{"$error":"#REF!"},{"$error":"#REF!"},null,null,{"$error":"#REF!"}]
[{"$f":"IF(A20>='Check-In'!$D$135,\"\",A20+1)","v":14},{"$f":"IF(A21=\"\",\"\",\"14th\")","v":"14th"},{"$f":"IF(A21=\"\",\"\",IF(Payout>=24,'1D1GMP'!C76:O76,IF(Payout>=22,#REF!,IF(Payout>=20,#REF!,IF(Payout>=18,#REF!,IF(Payout>=16,#REF!,#REF!))))))","v":{"$error":"#REF!"}},null,{"$f":"IF(A21=\"\",\"\",INDEX(Qual!$C$8:$Z$127,MATCH(C21,Qual!$C$8:$C$127,0),11))","v":{"$error":"#REF!"}},{"$f":"IF(A21=\"\",\"\",IF(Payout>=24,'1D1GMP'!AT76:AW76,IF(Payout>=22,#REF!,IF(Payout>=20,#REF!,IF(Payout>=18,#REF!,IF(Payout>=16,#REF!,IF(Payout>=14,#REF!,IF(Payout>=12,#REF!,IF(Payout>=10,#REF!,#REF!)))))))))","v":{"$error":"#REF!"}},{"$f":"IF(A21=\"\",\"\",IF(Payout>=24,'1D1GMP'!BB76:BE76,IF(Payout>=22,#REF!,IF(Payout>=20,#REF!,IF(Payout>=18,#REF!,IF(Payout>=16,#REF!,IF(Payout>=14,#REF!,IF(Payout>=12,#REF!,IF(Payout>=10,#REF!,#REF!)))))))))","v":{"$error":"#REF!"}},{"$error":"#REF!"},5,{"$error":"#REF!"},{"$error":"#REF!"},null,null,{"$error":"#REF!"}]
[{"$f":"IF(A21>='Check-In'!$D$135,\"\",A21+1)","v":15},{"$f":"IF(A22=\"\",\"\",\"15th\")","v":"15th"},{"$f":"IF(A22=\"\",\"\",IF(Payout>=24,'1D1GMP'!C77:O77,IF(Payout>=22,#REF!,IF(Payout>=20,#REF!,IF(Payout>=18,#REF!,IF(Payout>=16,#REF!,Qual!C22))))))","v":{"$error":"#REF!"}},null,{"$f":"IF(A22=\"\",\"\",INDEX(Qual!$C$8:$Z$127,MATCH(C22,Qual!$C$8:$C$127,0),11))","v":{"$error":"#REF!"}},{"$f":"IF(A22=\"\",\"\",IF(Payout>=24,'1D1GMP'!AT77:AW77,IF(Payout>=22,#REF!,IF(Payout>=20,#REF!,IF(Payout>=18,#REF!,IF(Payout>=16,#REF!,IF(Payout>=14,#REF!,IF(Payout>=12,#REF!,IF(Payout>=10,#REF!,#REF!)))))))))","v":{"$error":"#REF!"}},{"$f":"IF(A22=\"\",\"\",IF(Payout>=24,'1D1GMP'!BB77:BE77,IF(Payout>=22,#REF!,IF(Payout>=20,#REF!,IF(Payout>=18,#REF!,IF(Payout>=16,#REF!,IF(Payout>=14,#REF!,IF(Payout>=12,#REF!,IF(Payout>=10,#REF!,#REF!)))))))))","v":{"$error":"#REF!"}},{"$error":"#REF!"},5,{"$error":"#REF!"},{"$error":"#REF!"},null,null,{"$error":"#REF!"}]
[{"$f":"IF(A22>='Check-In'!$D$135,\"\",A22+1)","v":16},{"$f":"IF(A23=\"\",\"\",\"16th\")","v":"16th"},{"$f":"IF(A23=\"\",\"\",IF(Payout>=24,'1D1GMP'!C78:O78,IF(Payout>=22,#REF!,IF(Payout>=20,#REF!,IF(Payout>=18,#REF!,#REF!)))))","v":{"$error":"#REF!"}},null,{"$f":"IF(A23=\"\",\"\",INDEX(Qual!$C$8:$Z$127,MATCH(C23,Qual!$C$8:$C$127,0),11))","v":{"$error":"#REF!"}},{"$f":"IF(A23=\"\",\"\",IF(Payout>=24,'1D1GMP'!AT78:AW78,IF(Payout>=22,#REF!,IF(Payout>=20,#REF!,IF(Payout>=18,#REF!,IF(Payout>=16,#REF!,IF(Payout>=14,#REF!,IF(Payout>=12,#REF!,IF(Payout>=10,#REF!,#REF!)))))))))","v":{"$error":"#REF!"}},{"$f":"IF(A23=\"\",\"\",IF(Payout>=24,'1D1GMP'!BB78:BE78,IF(Payout>=22,#REF!,IF(Payout>=20,#REF!,IF(Payout>=18,#REF!,IF(Payout>=16,#REF!,IF(Payout>=14,#REF!,IF(Payout>=12,#REF!,IF(Payout>=10,#REF!,#REF!)))))))))","v":{"$error":"#REF!"}},{"$error":"#REF!"},5,{"$error":"#REF!"},{"$error":"#REF!"},null,null,{"$error":"#REF!"}]
[{"$f":"IF(A23>='Check-In'!$D$135,\"\",A23+1)","v":17},{"$f":"IF(A24=\"\",\"\",\"17th\")","v":"17th"},{"$f":"IF(A24=\"\",\"\",IF(Payout>=24,'1D1GMP'!C79:O79,IF(Payout>=22,#REF!,IF(Payout>=20,#REF!,IF(Payout>=18,#REF!,Qual!C24)))))","v":{"$error":"#REF!"}},null,{"$f":"IF(A24=\"\",\"\",INDEX(Qual!$C$8:$Z$127,MATCH(C24,Qual!$C$8:$C$127,0),11))","v":{"$error":"#REF!"}},{"$f":"IF(A24=\"\",\"\",IF(Payout>=24,'1D1GMP'!AT79:AW79,IF(Payout>=22,#REF!,IF(Payout>=20,#REF!,IF(Payout>=18,#REF!,IF(Payout>=16,#REF!,IF(Payout>=14,#REF!,IF(Payout>=12,#REF!,IF(Payout>=10,#REF!,#REF!)))))))))","v":{"$error":"#REF!"}},{"$f":"IF(A24=\"\",\"\",IF(Payout>=24,'1D1GMP'!BB79:BE79,IF(Payout>=22,#REF!,IF(Payout>=20,#REF!,IF(Payout>=18,#REF!,IF(Payout>=16,#REF!,IF(Payout>=14,#REF!,IF(Payout>=12,#REF!,IF(Payout>=10,#REF!,#REF!)))))))))","v":{"$error":"#REF!"}},{"$error":"#REF!"},5,{"$error":"#REF!"},{"$error":"#REF!"},null,null,{"$error":"#REF!"}]
[{"$f":"IF(A24>='Check-In'!$D$135,\"\",A24+1)","v":18},{"$f":"IF(A25=\"\",\"\",\"18th\")","v":"18th"},{"$f":"IF(A25=\"\",\"\",IF(Payout>=24,'1D1GMP'!C80:O80,IF(Payout>=22,#REF!,IF(Payout>=20,#REF!,#REF!))))","v":{"$error":"#REF!"}},null,{"$f":"IF(A25=\"\",\"\",INDEX(Qual!$C$8:$Z$127,MATCH(C25,Qual!$C$8:$C$127,0),11))","v":{"$error":"#REF!"}},{"$f":"IF(A25=\"\",\"\",IF(Payout>=24,'1D1GMP'!AT80:AW80,IF(Payout>=22,#REF!,IF(Payout>=20,#REF!,IF(Payout>=18,#REF!,IF(Payout>=16,#REF!,IF(Payout>=14,#REF!,IF(Payout>=12,#REF!,IF(Payout>=10,#REF!,#REF!)))))))))","v":{"$error":"#REF!"}},{"$f":"IF(A25=\"\",\"\",IF(Payout>=24,'1D1GMP'!BB80:BE80,IF(Payout>=22,#REF!,IF(Payout>=20,#REF!,IF(Payout>=18,#REF!,IF(Payout>=16,#REF!,IF(Payout>=14,#REF!,IF(Payout>=12,#REF!,IF(Payout>=10,#REF!,#REF!)))))))))","v":{"$error":"#REF!"}},{"$error":"#REF!"},5,{"$error":"#REF!"},{"$error":"#REF!"},null,null,{"$error":"#REF!"}]
[{"$f":"IF(A25>='Check-In'!$D$135,\"\",A25+1)","v":19},{"$f":"IF(A26=\"\",\"\",\"19th\")","v":"19th"},{"$f":"IF(A26=\"\",\"\",IF(Payout>=24,'1D1GMP'!C81:O81,IF(Payout>=22,#REF!,IF(Payout>=20,#REF!,Qual!C26))))","v":{"$error":"#REF!"}},null,{"$f":"IF(A26=\"\",\"\",INDEX(Qual!$C$8:$Z$127,MATCH(C26,Qual!$C$8:$C$127,0),11))","v":{"$error":"#REF!"}},{"$f":"IF(A26=\"\",\"\",IF(Payout>=24,'1D1GMP'!AT81:AW81,IF(Payout>=22,#REF!,IF(Payout>=20,#REF!,IF(Payout>=18,#REF!,IF(Payout>=16,#REF!,IF(Payout>=14,#REF!,IF(Payout>=12,#REF!,IF(Payout>=10,#REF!,#REF!)))))))))","v":{"$error":"#REF!"}},{"$f":"IF(A26=\"\",\"\",IF(Payout>=24,'1D1GMP'!BB81:BE81,IF(Payout>=22,#REF!,IF(Payout>=20,#REF!,IF(Payout>=18,#REF!,IF(Payout>=16,#REF!,IF(Payout>=14,#REF!,IF(Payout>=12,#REF!,IF(Payout>=10,#REF!,#REF!)))))))))","v":{"$error":"#REF!"}},{"$error":"#REF!"},5,{"$error":"#REF!"},{"$error":"#REF!"},null,null,{"$error":"#REF!"}]
[{"$f":"IF(A26>='Check-In'!$D$135,\"\",A26+1)","v":20},{"$f":"IF(A27=\"\",\"\",\"20th\")","v":"20th"},{"$f":"IF(A27=\"\",\"\",IF(Payout>=24,'1D1GMP'!C82:O82,IF(Payout>=22,#REF!,#REF!)))","v":{"$error":"#REF!"}},null,{"$f":"IF(A27=\"\",\"\",INDEX(Qual!$C$8:$Z$127,MATCH(C27,Qual!$C$8:$C$127,0),11))","v":{"$error":"#REF!"}},{"$f":"IF(A27=\"\",\"\",IF(Payout>=24,'1D1GMP'!AT82:AW82,IF(Payout>=22,#REF!,IF(Payout>=20,#REF!,IF(Payout>=18,#REF!,IF(Payout>=16,#REF!,IF(Payout>=14,#REF!,IF(Payout>=12,#REF!,IF(Payout>=10,#REF!,#REF!)))))))))","v":{"$error":"#REF!"}},{"$f":"IF(A27=\"\",\"\",IF(Payout>=24,'1D1GMP'!BB82:BE82,IF(Payout>=22,#REF!,IF(Payout>=20,#REF!,IF(Payout>=18,#REF!,IF(Payout>=16,#REF!,IF(Payout>=14,#REF!,IF(Payout>=12,#REF!,IF(Payout>=10,#REF!,#REF!)))))))))","v":{"$error":"#REF!"}},{"$f":"IF(A27=\"\",\"\",SUM(E27:G27))","v":{"$error":"#REF!"}},5,{"$error":"#REF!"},{"$f":"IF(C27=$D$51,$N$51,\"\")","v":{"$error":"#REF!"}},null,null,{"$f":"SUM(J27:M27)","v":{"$error":"#REF!"}}]
[{"$f":"IF(A27>='Check-In'!$D$135,\"\",A27+1)","v":""},{"$f":"IF(A28=\"\",\"\",\"21st\")","v":""},{"$f":"IF(A28=\"\",\"\",IF(Payout>=24,'1D1GMP'!C83:O83,IF(Payout>=22,#REF!,Qual!C28)))","v":""},null,{"$f":"IF(A28=\"\",\"\",INDEX(Qual!$C$8:$Z$127,MATCH(C28,Qual!$C$8:$C$127,0),11))","v":""},{"$f":"IF(A28=\"\",\"\",IF(Payout>=24,'1D1GMP'!AT83:AW83,IF(Payout>=22,#REF!,IF(Payout>=20,#REF!,IF(Payout>=18,#REF!,IF(Payout>=16,#REF!,IF(Payout>=14,#REF!,IF(Payout>=12,#REF!,IF(Payout>=10,#REF!,#REF!)))))))))","v":""},{"$f":"IF(A28=\"\",\"\",IF(Payout>=24,'1D1GMP'!BB83:BE83,IF(Payout>=22,#REF!,IF(Payout>=20,#REF!,IF(Payout>=18,#REF!,IF(Payout>=16,#REF!,IF(Payout>=14,#REF!,IF(Payout>=12,#REF!,IF(Payout>=10,#REF!,#REF!)))))))))","v":""},{"$f":"IF(A28=\"\",\"\",SUM(E28:G28))","v":""},5,"",{"$f":"IF(C28=$D$51,$N$51,\"\")","v":""},null,null,{"$f":"SUM(J28:M28)","v":{"v":0,"d":"$0"}}]
[{"$f":"IF(A28>='Check-In'!$D$135,\"\",A28+1)","v":""},{"$f":"IF(A29=\"\",\"\",\"22nd\")","v":""},{"$f":"IF(A29=\"\",\"\",IF(Payout>=24,'1D1GMP'!C84:O84,#REF!))","v":""},null,{"$f":"IF(A29=\"\",\"\",INDEX(Qual!$C$8:$Z$127,MATCH(C29,Qual!$C$8:$C$127,0),11))","v":""},{"$f":"IF(A29=\"\",\"\",IF(Payout>=24,'1D1GMP'!AT84:AW84,IF(Payout>=22,#REF!,IF(Payout>=20,#REF!,IF(Payout>=18,#REF!,IF(Payout>=16,#REF!,IF(Payout>=14,#REF!,IF(Payout>=12,#REF!,IF(Payout>=10,#REF!,#REF!)))))))))","v":""},{"$f":"IF(A29=\"\",\"\",IF(Payout>=24,'1D1GMP'!BB84:BE84,IF(Payout>=22,#REF!,IF(Payout>=20,#REF!,IF(Payout>=18,#REF!,IF(Payout>=16,#REF!,IF(Payout>=14,#REF!,IF(Payout>=12,#REF!,IF(Payout>=10,#REF!,#REF!)))))))))","v":""},{"$f":"IF(A29=\"\",\"\",SUM(E29:G29))","v":""},5,"",{"$f":"IF(C29=$D$51,$N$51,\"\")","v":""},null,null,{"$f":"SUM(J29:M29)","v":{"v":0,"d":"$0"}}]
[{"$f":"IF(A29>='Check-In'!$D$135,\"\",A29+1)","v":""},{"$f":"IF(A30=\"\",\"\",\"23rd\")","v":""},{"$f":"IF(A30=\"\",\"\",IF(Payout>=24,'1D1GMP'!C85:O85,Qual!C30))","v":""},null,{"$f":"IF(A30=\"\",\"\",INDEX(Qual!$C$8:$Z$127,MATCH(C30,Qual!$C$8:$C$127,0),11))","v":""},{"$f":"IF(A30=\"\",\"\",IF(Payout>=24,'1D1GMP'!AT85:AW85,IF(Payout>=22,#REF!,IF(Payout>=20,#REF!,IF(Payout>=18,#REF!,IF(Payout>=16,#REF!,IF(Payout>=14,#REF!,IF(Payout>=12,#REF!,IF(Payout>=10,#REF!,#REF!)))))))))","v":""},{"$f":"IF(A30=\"\",\"\",IF(Payout>=24,'1D1GMP'!BB85:BE85,IF(Payout>=22,#REF!,IF(Payout>=20,#REF!,IF(Payout>=18,#REF!,IF(Payout>=16,#REF!,IF(Payout>=14,#REF!,IF(Payout>=12,#REF!,IF(Payout>=10,#REF!,#REF!)))))))))","v":""},{"$f":"IF(A30=\"\",\"\",SUM(E30:G30))","v":""},5,"",{"$f":"IF(C30=$D$51,$N$51,\"\")","v":""},null,null,{"$f":"SUM(J30:M30)","v":{"v":0,"d":"$0"}}]
[{"$f":"IF(A30>='Check-In'!$D$135,\"\",A30+1)","v":""},{"$f":"IF(A31=\"\",\"\",\"24th\")","v":""},{"$f":"IF(A31=\"\",\"\",'1D1GMP'!C86:O86)","v":""},null,{"$f":"IF(A31=\"\",\"\",INDEX(Qual!$C$8:$Z$127,MATCH(C31,Qual!$C$8:$C$127,0),11))","v":""},{"$f":"IF(A31=\"\",\"\",IF(Payout>=24,'1D1GMP'!AT86:AW86,IF(Payout>=22,#REF!,IF(Payout>=20,#REF!,IF(Payout>=18,#REF!,IF(Payout>=16,#REF!,IF(Payout>=14,#REF!,IF(Payout>=12,#REF!,IF(Payout>=10,#REF!,#REF!)))))))))","v":""},{"$f":"IF(A31=\"\",\"\",IF(Payout>=24,'1D1GMP'!BB86:BE86,IF(Payout>=22,#REF!,IF(Payout>=20,#REF!,IF(Payout>=18,#REF!,IF(Payout>=16,#REF!,IF(Payout>=14,#REF!,IF(Payout>=12,#REF!,IF(Payout>=10,#REF!,#REF!)))))))))","v":""},{"$f":"IF(A31=\"\",\"\",SUM(E31:G31))","v":""},5,"",{"$f":"IF(C31=$D$51,$N$51,\"\")","v":""},null,null,{"$f":"SUM(J31:M31)","v":{"v":0,"d":"$0"}}]
[null,null,"Bonus = 30 points per match won",null,null,{"$f":"IF(A32=\"\",\"\",IF(Payout>=24,\"24\",IF(Payout>20,\"20\",IF(Payout>=16,\"16\",IF(Payout>=12,#REF!,IF(Payout>=10,#REF!,#REF!))))))","v":""},{"$f":"IF(A32=\"\",\"\",IF(Payout>=24,\"24\",IF(Payout>20,\"20\",IF(Payout>=16,\"16\",IF(Payout>=12,#REF!,IF(Payout>=10,#REF!,#REF!))))))","v":""}]
[]
[{"$f":"IF(A26>='Check-In'!$D$135,\"\",A26+1)","v":20},null,"Optional Qualifying Prize List"]
[null,"1st",{"$f":"Opt!F1","v":{"$error":"#N/A"}},null,{"$f":"Opt!G1","v":""},{"$nulls":8},{"$f":"Opt!I1","v":{"v":0,"d":"$0"}}]
[null,"2nd",{"$f":"Opt!F2","v":{"$error":"#N/A"}},null,{"$f":"Opt!G2","v":""},{"$nulls":8},{"$f":"Opt!I2","v":{"v":0,"d":"$0"}}]
[null,"3rd",{"$f":"Opt!F3","v":{"$error":"#N/A"}},null,{"$f":"Opt!G3","v":""},{"$nulls":8},{"$f":"Opt!I3","v":{"v":0,"d":"$0"}}]
[null,{"$f":"IF(Opt!E4=\"\",\"\",\"4th\")","v":""},{"$f":"Opt!F4","v":{"$error":"#N/A"}},null,{"$f":"Opt!G4","v":""},{"$nulls":8},{"$f":"Opt!I4","v":""}]
[]
[null,null,"Bonus Senior Casher"]
[{"$f":"IF('Check-In'!$D$136=\"\",\"\",1)","v":1},{"$f":"IF(A41<>\"\",\"1st\",\"\")","v":"1st"},{"$f":"IF(B47=\"\",\"\",INDEX('Sr-F'!F1:H10,MATCH(SMALL('Sr-F'!H1:H10,A41),'Sr-F'!H1:H10,0),1))","v":"STOEBNER, JOHN"},null,{"$f":"IF(A41=\"\",\"\",INDEX(Qual!$C$8:$Z$127,MATCH(C41,Qual!$C$8:$C$127,0),11))","v":0},{"$nulls":8},{"$f":"IF(B41=\"\",\"\",90)","v":{"v":90,"d":"$90"}}]
[{"$f":"IF(A41>='Check-In'!$D$136,\"\",A41+1)","v":2},{"$f":"IF(A42<>\"\",\"2nd\",\"\")","v":"2nd"},{"$f":"IF(B48=\"\",\"\",INDEX('Sr-F'!F2:H11,MATCH(SMALL('Sr-F'!H2:H11,A42),'Sr-F'!H2:H11,0),1))","v":"MICEK, BOB"},null,{"$f":"IF(A42=\"\",\"\",INDEX(Qual!$C$8:$Z$127,MATCH(C42,Qual!$C$8:$C$127,0),11))","v":40},{"$nulls":8},{"$f":"IF(B42=\"\",\"\",90)","v":{"v":90,"d":"$90"}}]
[{"$f":"IF(A42>='Check-In'!$D$136,\"\",A42+1)","v":3},{"$f":"IF(A43<>\"\",\"3rd\",\"\")","v":"3rd"},{"$f":"IF(B49=\"\",\"\",INDEX('Sr-F'!F3:H12,MATCH(SMALL('Sr-F'!H3:H12,A43),'Sr-F'!H3:H12,0),1))","v":""},{"$nulls":10},{"$f":"IF(B43=\"\",\"\",90)","v":{"v":90,"d":"$90"}}]
[{"$f":"IF(A42>='Check-In'!$D$136,\"\",A42+1)","v":3},null,{"$f":"IF(A44=\"\",\"\",IF('Sr-F'!H3>0,'Sr-F'!F3,IF('Sr-F'!H4>0,'Sr-F'!F4,\"\")))","v":"HOMMES, JOHN"},null,{"$f":"IF(A44=\"\",\"\",INDEX(Qual!$C$8:$Z$127,MATCH(C44,Qual!$C$8:$C$127,0),11))","v":40}]
[]
[null,null,"Bonus Female Casher"]
[{"$f":"IF('Check-In'!$D$137=\"\",\"\",1)","v":1},{"$f":"IF('Sr-F'!R2>0,\"1st\",\"\")","v":"1st"},{"$f":"IF(B47=\"\",\"\",INDEX('Sr-F'!O1:Q10,MATCH(SMALL('Sr-F'!Q1:Q10,A47),'Sr-F'!Q1:Q10,0),1))","v":"WORM, KEN"},null,{"$f":"IF(A47=\"\",\"\",INDEX(Qual!$C$8:$Z$127,MATCH(C47,Qual!$C$8:$C$127,0),11))","v":40},{"$nulls":8},{"$f":"IF(B47=\"\",\"\",90)","v":{"v":90,"d":"$90"}}]
[{"$f":"IF(A47>='Check-In'!$D$137,\"\",A47+1)","v":2},{"$f":"IF('Sr-F'!R2>1,\"2nd\",\"\")","v":"2nd"},{"$f":"IF(B48=\"\",\"\",INDEX('Sr-F'!O2:Q11,MATCH(SMALL('Sr-F'!Q2:Q11,A48),'Sr-F'!Q2:Q11,0),1))","v":"BLAZEJ, GEORGE"},null,{"$f":"IF(A48=\"\",\"\",INDEX(Qual!$C$8:$Z$127,MATCH(C48,Qual!$C$8:$C$127,0),11))","v":0},{"$nulls":8},{"$f":"IF(B48=\"\",\"\",90)","v":{"v":90,"d":"$90"}}]
[{"$f":"IF(A48>='Check-In'!$D$137,\"\",A48+1)","v":3},null,{"$f":"IF(A49=\"\",\"\",IF('Sr-F'!Q3>0,'Sr-F'!O3,IF('Sr-F'!Q4>0,'Sr-F'!O4,IF('Sr-F'!Q5>0,'Sr-F'!O5,\"\"))))","v":"BLAZEJ, GEORGE"},null,{"$f":"IF(A49=\"\",\"\",INDEX(Qual!$C$8:$Z$127,MATCH(C49,Qual!$C$8:$C$127,0),11))","v":0}]
[]
[null,"QL","Qualifying Leader",{"$f":"Qual!C8","v":"OULMAN, DAVE"},{"$f":"INDEX(Qual!$C$8:$Z$127,MATCH(D51,Qual!$C$8:$C$127,0),11)","v":40},{"$nulls":8},{"v":50,"d":"$50"}]
[null,"Stepladder Finals"]
[null,null,"GAME 1:",{"$f":"IF(OR(Payout=8,Payout=9),#REF!,IF(OR(Payout=10,Payout=11),#REF!,IF(OR(Payout=12,Payout=13),#REF!,IF(OR(Payout=14,Payout=15),#REF!,IF(OR(Payout=16,Payout=17),#REF!,IF(OR(Payout=18,Payout=19),#REF!,IF(OR(Payout=20,Payout=21),#REF!,IF(OR(Payout=22,Payout=23),#REF!,'1D1GMP'!D100))))))))","v":{"$error":"#REF!"}}]
[null,null,"GAME 2:",{"$f":"IF(OR(Payout=8,Payout=9),#REF!,IF(OR(Payout=10,Payout=11),#REF!,IF(OR(Payout=12,Payout=13),#REF!,IF(OR(Payout=14,Payout=15),#REF!,IF(OR(Payout=16,Payout=17),#REF!,IF(OR(Payout=18,Payout=19),#REF!,IF(OR(Payout=20,Payout=21),#REF!,IF(OR(Payout=22,Payout=23),#REF!,'1D1GMP'!D101))))))))","v":{"$error":"#REF!"}}]
[null,null,"GAME 3:",{"$f":"IF(OR(Payout=8,Payout=9),#REF!,IF(OR(Payout=10,Payout=11),#REF!,IF(OR(Payout=12,Payout=13),#REF!,IF(OR(Payout=14,Payout=15),#REF!,IF(OR(Payout=16,Payout=17),#REF!,IF(OR(Payout=18,Payout=19),#REF!,IF(OR(Payout=20,Payout=21),#REF!,IF(OR(Payout=22,Payout=23),#REF!,'1D1GMP'!D102))))))))","v":{"$error":"#REF!"}}]
[null,null,"GAME 4:",{"$f":"IF(OR(Payout=8,Payout=9),#REF!,IF(OR(Payout=10,Payout=11),#REF!,IF(OR(Payout=12,Payout=13),#REF!,IF(OR(Payout=14,Payout=15),#REF!,IF(OR(Payout=16,Payout=17),#REF!,IF(OR(Payout=18,Payout=19),#REF!,IF(OR(Payout=20,Payout=21),#REF!,IF(OR(Payout=22,Payout=23),#REF!,'1D1GMP'!D103))))))))","v":{"$error":"#REF!"}}]
[]
[]
[null,"Plaques donated by Mikes Pro Shop",{"$nulls":10},"Average to Cash",{"$f":"IF(Payout=0,\"\",INDEX(Qual!A8:Z133,MATCH(Payout,Qual!A8:A133,0),14))","v":{"v":168,"d":"168.00"}}]
[null,{"$f":"CONCATENATE(\"Bet You'll win Jackpot paid - $\",B2WJ)","v":"Bet You'll win Jackpot paid - $"},{"$nulls":10},"Average to Qualify",{"$f":"IF(Payout=0,\"\",IF(OR(Payout=8,Payout=10,Payout=12,Payout=14,Payout=16,Payout=18,Payout=20,Payout=22,Payout=24),N59,INDEX(Qual!A8:Z133,MATCH(Payout-1,Qual!A8:A133,0),14)))","v":{"v":168,"d":"168.00"}}]
[]
[{"$nulls":3},"Income",{"$f":"CONCATENATE('Check-In'!D134,\" x 75\")","v":"62 x 75"},{"$f":"'Check-In'!D134*'Check-In'!D6","v":{"v":5580,"d":"$5,580"}},{"$nulls":6},"Optional Average to Cash",{"$f":"IF(OptPayOut=0,\"\",INDEX(Opt!$E$1:$H$25,MATCH(LARGE(Opt!$E$1:$E$25,1),Opt!$E$1:$E$25,0),4))","v":""}]
[{"$nulls":3},"Expenses (less)",{"$f":"CONCATENATE('Check-In'!D134,\" x 26\")","v":"62 x 26"},{"$f":"'Check-In'!D134*26","v":{"v":1612,"d":"$1,612"}}]
[{"$nulls":3},"Prize Fund",{"$f":"CONCATENATE('Check-In'!D134,\" x 49\")","v":"62 x 49"},{"$f":"'Check-In'!D134*49","v":{"v":3038,"d":"$3,038"}},{"$nulls":7},{"$f":"SUM(N8:N31)+SUM(N40:N51)","v":{"$error":"#REF!"}}]
[{"$nulls":3},"Linds (Plus)",null,{"$f":"F64+E65","v":{"v":3038,"d":"$3,038"}},{"$nulls":7},{"$f":"SUM(N35:N38)","v":{"v":0,"d":"$0"}}]
[{"$nulls":3},"Hammer (Plus)",null,{"$f":"F65+E66","v":{"v":3038,"d":"$3,038"}},"Total"]
[{"$nulls":3},"Optional",{"$f":"CONCATENATE('Check-In'!G134,\" x 25\")","v":"0 x 25"},{"$f":"'Check-In'!G134*'Check-In'!G6","v":{"v":0,"d":"$0"}}]
[{"$nulls":5},"Left to Right"]
[{"$nulls":5},"Champion John Kreyer, Jr.",{"$nulls":7},"Next CBA Tournament"]
[{"$nulls":5},"General Manager John Foss",{"$nulls":7},"Center"]
[{"$nulls":5},"Dan Bock",{"$nulls":7},"Tournament Type"]
[{"$nulls":5},"Chad Nelson",{"$nulls":7},"Date(s)"]
[{"$nulls":5},"Dave Langer"]
[{"$nulls":5},"Matt Paine"]

{"sheet":"Opt","index":15,"n_rows":100,"n_cols":12,"rows_kept":100,"hidden":true}
[{"$f":"IF('Check-In'!G7=\"\",\"\",'Check-In'!G7)","v":""},{"$f":"IF(A1=\"\",\"\",'Check-In'!B7)","v":""},{"$f":"INDEX(Qual!$C$8:$V$127,MATCH(B1,Qual!$C$8:$C$127,0),11)","v":0},null,{"$f":"IF(OptPayOut>1,1,\"\")","v":""},{"$f":"INDEX($B$1:$C$100,MATCH(G1,$C$1:$C$100,0),1)","v":{"$error":"#N/A"}},{"$f":"IF(E1=\"\",\"\",IF(ISNA(LARGE($C$1:$C$100,E1)),\"\",LARGE($C$1:$C$100,E1)))","v":""},{"$f":"INDEX(Qual!C8:Z127,MATCH(F1,Qual!C8:C127,0),13)","v":{"$error":"#N/A"}},{"$f":"MROUND('Check-In'!$G$134*25*J1,5)","v":0},{"v":0.5,"d":"50%"},null,{"$f":"'Check-In'!G142","v":{"v":0,"d":"$0"}}]
[{"$f":"IF('Check-In'!G8=\"\",\"\",'Check-In'!G8)","v":""},{"$f":"IF(A2=\"\",\"\",'Check-In'!B8)","v":""},{"$f":"INDEX(Qual!$C$8:$V$127,MATCH(B2,Qual!$C$8:$C$127,0),11)","v":0},null,{"$f":"IF(E1>='Check-In'!$G$135,\"\",E1+1)","v":""},{"$error":"#N/A"},"",{"$f":"INDEX(Qual!C9:Z128,MATCH(F2,Qual!C9:C128,0),13)","v":{"$error":"#N/A"}},{"$f":"MROUND('Check-In'!$G$134*25*J2,5)","v":0},{"v":0.3,"d":"30%"}]
[{"$f":"IF('Check-In'!G9=\"\",\"\",'Check-In'!G9)","v":""},{"$f":"IF(A3=\"\",\"\",'Check-In'!B9)","v":""},{"$f":"INDEX(Qual!$C$8:$V$127,MATCH(B3,Qual!$C$8:$C$127,0),11)","v":0},null,{"$f":"IF(E2>='Check-In'!$G$135,\"\",E2+1)","v":""},{"$error":"#N/A"},"",{"$f":"INDEX(Qual!C10:Z129,MATCH(F3,Qual!C10:C129,0),13)","v":{"$error":"#N/A"}},{"$f":"MROUND('Check-In'!$G$134*25*J3,5)","v":0},{"v":0.2,"d":"20%"},null,{"$f":"SUM(J1:J4)","v":{"v":1,"d":"100%"}}]
[{"$f":"IF('Check-In'!G10=\"\",\"\",'Check-In'!G10)","v":""},{"$f":"IF(A4=\"\",\"\",'Check-In'!B10)","v":""},{"$f":"INDEX(Qual!$C$8:$V$127,MATCH(B4,Qual!$C$8:$C$127,0),11)","v":0},null,{"$f":"IF(E3>='Check-In'!$G$135,\"\",E3+1)","v":""},{"$error":"#N/A"},"",{"$f":"INDEX(Qual!C11:Z130,MATCH(F4,Qual!C11:C130,0),13)","v":{"$error":"#N/A"}},{"$f":"IF(E4=\"\",\"\",'Check-In'!$G$134*25*J4)","v":""}]
[{"$f":"IF('Check-In'!G11=\"\",\"\",'Check-In'!G11)","v":""},{"$f":"IF(A5=\"\",\"\",'Check-In'!B11)","v":""},{"$f":"INDEX(Qual!$C$8:$V$127,MATCH(B5,Qual!$C$8:$C$127,0),11)","v":0},null,{"$f":"IF(E4>='Check-In'!$G$135,\"\",E4+1)","v":""},{"$error":"#N/A"},"",{"$f":"INDEX(Qual!C12:Z131,MATCH(F5,Qual!C12:C131,0),13)","v":{"$error":"#N/A"}},{"$f":"SUM(I1:I4)","v":0}]
[{"$f":"IF('Check-In'!G12=\"\",\"\",'Check-In'!G12)","v":""},{"$f":"IF(A6=\"\",\"\",'Check-In'!B12)","v":""},{"$f":"INDEX(Qual!$C$8:$V$127,MATCH(B6,Qual!$C$8:$C$127,0),11)","v":0},null,{"$f":"IF(E5>='Check-In'!$G$135,\"\",E5+1)","v":""},{"$error":"#N/A"},"",{"$f":"INDEX(Qual!C13:Z132,MATCH(F6,Qual!C13:C132,0),13)","v":{"$error":"#N/A"}}]
[{"$f":"IF('Check-In'!G13=\"\",\"\",'Check-In'!G13)","v":""},{"$f":"IF(A7=\"\",\"\",'Check-In'!B13)","v":""},{"$f":"INDEX(Qual!$C$8:$V$127,MATCH(B7,Qual!$C$8:$C$127,0),11)","v":0},null,{"$f":"IF(E6>='Check-In'!$G$135,\"\",E6+1)","v":""},{"$error":"#N/A"},"",{"$f":"INDEX(Qual!C14:Z133,MATCH(F7,Qual!C14:C133,0),13)","v":{"$error":"#N/A"}}]
[{"$f":"IF('Check-In'!G14=\"\",\"\",'Check-In'!G14)","v":""},{"$f":"IF(A8=\"\",\"\",'Check-In'!B14)","v":""},{"$f":"INDEX(Qual!$C$8:$V$127,MATCH(B8,Qual!$C$8:$C$127,0),11)","v":0},null,{"$f":"IF(E7>='Check-In'!$G$135,\"\",E7+1)","v":""},{"$error":"#N/A"},"",{"$f":"INDEX(Qual!C15:Z134,MATCH(F8,Qual!C15:C134,0),13)","v":{"$error":"#N/A"}}]
[{"$f":"IF('Check-In'!G15=\"\",\"\",'Check-In'!G15)","v":""},{"$f":"IF(A9=\"\",\"\",'Check-In'!B15)","v":""},{"$f":"INDEX(Qual!$C$8:$V$127,MATCH(B9,Qual!$C$8:$C$127,0),11)","v":0},null,{"$f":"IF(E8>='Check-In'!$G$135,\"\",E8+1)","v":""},{"$error":"#N/A"},"",{"$f":"INDEX(Qual!C16:Z135,MATCH(F9,Qual!C16:C135,0),13)","v":{"$error":"#N/A"}}]
[{"$f":"IF('Check-In'!G16=\"\",\"\",'Check-In'!G16)","v":""},{"$f":"IF(A10=\"\",\"\",'Check-In'!B16)","v":""},{"$f":"INDEX(Qual!$C$8:$V$127,MATCH(B10,Qual!$C$8:$C$127,0),11)","v":0},null,{"$f":"IF(E9>='Check-In'!$G$135,\"\",E9+1)","v":""},{"$error":"#N/A"},"",{"$f":"INDEX(Qual!C17:Z136,MATCH(F10,Qual!C17:C136,0),13)","v":{"$error":"#N/A"}}]
[{"$f":"IF('Check-In'!G17=\"\",\"\",'Check-In'!G17)","v":""},{"$f":"IF(A11=\"\",\"\",'Check-In'!B17)","v":""},{"$f":"INDEX(Qual!$C$8:$V$127,MATCH(B11,Qual!$C$8:$C$127,0),11)","v":0}]
[{"$f":"IF('Check-In'!G18=\"\",\"\",'Check-In'!G18)","v":""},{"$f":"IF(A12=\"\",\"\",'Check-In'!B18)","v":""},{"$f":"INDEX(Qual!$C$8:$V$127,MATCH(B12,Qual!$C$8:$C$127,0),11)","v":0}]
[{"$f":"IF('Check-In'!G19=\"\",\"\",'Check-In'!G19)","v":""},{"$f":"IF(A13=\"\",\"\",'Check-In'!B19)","v":""},{"$f":"INDEX(Qual!$C$8:$V$127,MATCH(B13,Qual!$C$8:$C$127,0),11)","v":0}]
[{"$f":"IF('Check-In'!G20=\"\",\"\",'Check-In'!G20)","v":""},{"$f":"IF(A14=\"\",\"\",'Check-In'!B20)","v":""},{"$f":"INDEX(Qual!$C$8:$V$127,MATCH(B14,Qual!$C$8:$C$127,0),11)","v":0}]
[{"$f":"IF('Check-In'!G21=\"\",\"\",'Check-In'!G21)","v":""},{"$f":"IF(A15=\"\",\"\",'Check-In'!B21)","v":""},{"$f":"INDEX(Qual!$C$8:$V$127,MATCH(B15,Qual!$C$8:$C$127,0),11)","v":0}]
[{"$f":"IF('Check-In'!G22=\"\",\"\",'Check-In'!G22)","v":""},{"$f":"IF(A16=\"\",\"\",'Check-In'!B22)","v":""},{"$f":"INDEX(Qual!$C$8:$V$127,MATCH(B16,Qual!$C$8:$C$127,0),11)","v":0}]
[{"$f":"IF('Check-In'!G23=\"\",\"\",'Check-In'!G23)","v":""},{"$f":"IF(A17=\"\",\"\",'Check-In'!B23)","v":""},{"$f":"INDEX(Qual!$C$8:$V$127,MATCH(B17,Qual!$C$8:$C$127,0),11)","v":0}]
[{"$f":"IF('Check-In'!G24=\"\",\"\",'Check-In'!G24)","v":""},{"$f":"IF(A18=\"\",\"\",'Check-In'!B24)","v":""},{"$f":"INDEX(Qual!$C$8:$V$127,MATCH(B18,Qual!$C$8:$C$127,0),11)","v":0}]
[{"$f":"IF('Check-In'!G25=\"\",\"\",'Check-In'!G25)","v":""},{"$f":"IF(A19=\"\",\"\",'Check-In'!B25)","v":""},{"$f":"INDEX(Qual!$C$8:$V$127,MATCH(B19,Qual!$C$8:$C$127,0),11)","v":0}]
[{"$f":"IF('Check-In'!G26=\"\",\"\",'Check-In'!G26)","v":""},{"$f":"IF(A20=\"\",\"\",'Check-In'!B26)","v":""},{"$f":"INDEX(Qual!$C$8:$V$127,MATCH(B20,Qual!$C$8:$C$127,0),11)","v":0}]
[{"$f":"IF('Check-In'!G27=\"\",\"\",'Check-In'!G27)","v":""},{"$f":"IF(A21=\"\",\"\",'Check-In'!B27)","v":""},{"$f":"INDEX(Qual!$C$8:$V$127,MATCH(B21,Qual!$C$8:$C$127,0),11)","v":0}]
[{"$f":"IF('Check-In'!G28=\"\",\"\",'Check-In'!G28)","v":""},{"$f":"IF(A22=\"\",\"\",'Check-In'!B28)","v":""},{"$f":"INDEX(Qual!$C$8:$V$127,MATCH(B22,Qual!$C$8:$C$127,0),11)","v":0}]
[{"$f":"IF('Check-In'!G29=\"\",\"\",'Check-In'!G29)","v":""},{"$f":"IF(A23=\"\",\"\",'Check-In'!B29)","v":""},{"$f":"INDEX(Qual!$C$8:$V$127,MATCH(B23,Qual!$C$8:$C$127,0),11)","v":0}]
[{"$f":"IF('Check-In'!G30=\"\",\"\",'Check-In'!G30)","v":""},{"$f":"IF(A24=\"\",\"\",'Check-In'!B30)","v":""},{"$f":"INDEX(Qual!$C$8:$V$127,MATCH(B24,Qual!$C$8:$C$127,0),11)","v":0}]
[{"$f":"IF('Check-In'!G31=\"\",\"\",'Check-In'!G31)","v":""},{"$f":"IF(A25=\"\",\"\",'Check-In'!B31)","v":""},{"$f":"INDEX(Qual!$C$8:$V$127,MATCH(B25,Qual!$C$8:$C$127,0),11)","v":0}]
[{"$f":"IF('Check-In'!G32=\"\",\"\",'Check-In'!G32)","v":""},{"$f":"IF(A26=\"\",\"\",'Check-In'!B32)","v":""},{"$f":"INDEX(Qual!$C$8:$V$127,MATCH(B26,Qual!$C$8:$C$127,0),11)","v":0}]
[{"$f":"IF('Check-In'!G33=\"\",\"\",'Check-In'!G33)","v":""},{"$f":"IF(A27=\"\",\"\",'Check-In'!B33)","v":""},{"$f":"INDEX(Qual!$C$8:$V$127,MATCH(B27,Qual!$C$8:$C$127,0),11)","v":0}]
[{"$f":"IF('Check-In'!G34=\"\",\"\",'Check-In'!G34)","v":""},{"$f":"IF(A28=\"\",\"\",'Check-In'!B34)","v":""},{"$f":"INDEX(Qual!$C$8:$V$127,MATCH(B28,Qual!$C$8:$C$127,0),11)","v":0}]
[{"$f":"IF('Check-In'!G35=\"\",\"\",'Check-In'!G35)","v":""},{"$f":"IF(A29=\"\",\"\",'Check-In'!B35)","v":""},{"$f":"INDEX(Qual!$C$8:$V$127,MATCH(B29,Qual!$C$8:$C$127,0),11)","v":0}]
[{"$f":"IF('Check-In'!G36=\"\",\"\",'Check-In'!G36)","v":""},{"$f":"IF(A30=\"\",\"\",'Check-In'!B36)","v":""},{"$f":"INDEX(Qual!$C$8:$V$127,MATCH(B30,Qual!$C$8:$C$127,0),11)","v":0}]
[{"$f":"IF('Check-In'!G37=\"\",\"\",'Check-In'!G37)","v":""},{"$f":"IF(A31=\"\",\"\",'Check-In'!B37)","v":""},{"$f":"INDEX(Qual!$C$8:$V$127,MATCH(B31,Qual!$C$8:$C$127,0),11)","v":0}]
[{"$f":"IF('Check-In'!G38=\"\",\"\",'Check-In'!G38)","v":""},{"$f":"IF(A32=\"\",\"\",'Check-In'!B38)","v":""},{"$f":"INDEX(Qual!$C$8:$V$127,MATCH(B32,Qual!$C$8:$C$127,0),11)","v":0}]
[{"$f":"IF('Check-In'!G39=\"\",\"\",'Check-In'!G39)","v":""},{"$f":"IF(A33=\"\",\"\",'Check-In'!B39)","v":""},{"$f":"INDEX(Qual!$C$8:$V$127,MATCH(B33,Qual!$C$8:$C$127,0),11)","v":0}]
[{"$f":"IF('Check-In'!G40=\"\",\"\",'Check-In'!G40)","v":""},{"$f":"IF(A34=\"\",\"\",'Check-In'!B40)","v":""},{"$f":"INDEX(Qual!$C$8:$V$127,MATCH(B34,Qual!$C$8:$C$127,0),11)","v":0}]
[{"$f":"IF('Check-In'!G41=\"\",\"\",'Check-In'!G41)","v":""},{"$f":"IF(A35=\"\",\"\",'Check-In'!B41)","v":""},{"$f":"INDEX(Qual!$C$8:$V$127,MATCH(B35,Qual!$C$8:$C$127,0),11)","v":0}]
[{"$f":"IF('Check-In'!G42=\"\",\"\",'Check-In'!G42)","v":""},{"$f":"IF(A36=\"\",\"\",'Check-In'!B42)","v":""},{"$f":"INDEX(Qual!$C$8:$V$127,MATCH(B36,Qual!$C$8:$C$127,0),11)","v":0}]
[{"$f":"IF('Check-In'!G43=\"\",\"\",'Check-In'!G43)","v":""},{"$f":"IF(A37=\"\",\"\",'Check-In'!B43)","v":""},{"$f":"INDEX(Qual!$C$8:$V$127,MATCH(B37,Qual!$C$8:$C$127,0),11)","v":0}]
[{"$f":"IF('Check-In'!G44=\"\",\"\",'Check-In'!G44)","v":""},{"$f":"IF(A38=\"\",\"\",'Check-In'!B44)","v":""},{"$f":"INDEX(Qual!$C$8:$V$127,MATCH(B38,Qual!$C$8:$C$127,0),11)","v":0}]
[{"$f":"IF('Check-In'!G45=\"\",\"\",'Check-In'!G45)","v":""},{"$f":"IF(A39=\"\",\"\",'Check-In'!B45)","v":""},{"$f":"INDEX(Qual!$C$8:$V$127,MATCH(B39,Qual!$C$8:$C$127,0),11)","v":0}]
[{"$f":"IF('Check-In'!G46=\"\",\"\",'Check-In'!G46)","v":""},{"$f":"IF(A40=\"\",\"\",'Check-In'!B46)","v":""},{"$f":"INDEX(Qual!$C$8:$V$127,MATCH(B40,Qual!$C$8:$C$127,0),11)","v":0}]
[{"$f":"IF('Check-In'!G47=\"\",\"\",'Check-In'!G47)","v":""},{"$f":"IF(A41=\"\",\"\",'Check-In'!B47)","v":""},{"$f":"INDEX(Qual!$C$8:$V$127,MATCH(B41,Qual!$C$8:$C$127,0),11)","v":0}]
[{"$f":"IF('Check-In'!G48=\"\",\"\",'Check-In'!G48)","v":""},{"$f":"IF(A42=\"\",\"\",'Check-In'!B48)","v":""},{"$f":"INDEX(Qual!$C$8:$V$127,MATCH(B42,Qual!$C$8:$C$127,0),11)","v":0}]
[{"$f":"IF('Check-In'!G49=\"\",\"\",'Check-In'!G49)","v":""},{"$f":"IF(A43=\"\",\"\",'Check-In'!B49)","v":""},{"$f":"INDEX(Qual!$C$8:$V$127,MATCH(B43,Qual!$C$8:$C$127,0),11)","v":0}]
[{"$f":"IF('Check-In'!G50=\"\",\"\",'Check-In'!G50)","v":""},{"$f":"IF(A44=\"\",\"\",'Check-In'!B50)","v":""},{"$f":"INDEX(Qual!$C$8:$V$127,MATCH(B44,Qual!$C$8:$C$127,0),11)","v":0}]
[{"$f":"IF('Check-In'!G51=\"\",\"\",'Check-In'!G51)","v":""},{"$f":"IF(A45=\"\",\"\",'Check-In'!B51)","v":""},{"$f":"INDEX(Qual!$C$8:$V$127,MATCH(B45,Qual!$C$8:$C$127,0),11)","v":0}]
[{"$f":"IF('Check-In'!G52=\"\",\"\",'Check-In'!G52)","v":""},{"$f":"IF(A46=\"\",\"\",'Check-In'!B52)","v":""},{"$f":"INDEX(Qual!$C$8:$V$127,MATCH(B46,Qual!$C$8:$C$127,0),11)","v":0}]
[{"$f":"IF('Check-In'!G53=\"\",\"\",'Check-In'!G53)","v":""},{"$f":"IF(A47=\"\",\"\",'Check-In'!B53)","v":""},{"$f":"INDEX(Qual!$C$8:$V$127,MATCH(B47,Qual!$C$8:$C$127,0),11)","v":0}]
[{"$f":"IF('Check-In'!G54=\"\",\"\",'Check-In'!G54)","v":""},{"$f":"IF(A48=\"\",\"\",'Check-In'!B54)","v":""},{"$f":"INDEX(Qual!$C$8:$V$127,MATCH(B48,Qual!$C$8:$C$127,0),11)","v":0}]
[{"$f":"IF('Check-In'!G55=\"\",\"\",'Check-In'!G55)","v":""},{"$f":"IF(A49=\"\",\"\",'Check-In'!B55)","v":""},{"$f":"INDEX(Qual!$C$8:$V$127,MATCH(B49,Qual!$C$8:$C$127,0),11)","v":0}]
[{"$f":"IF('Check-In'!G56=\"\",\"\",'Check-In'!G56)","v":""},{"$f":"IF(A50=\"\",\"\",'Check-In'!B56)","v":""},{"$f":"INDEX(Qual!$C$8:$V$127,MATCH(B50,Qual!$C$8:$C$127,0),11)","v":0}]
[{"$f":"IF('Check-In'!G57=\"\",\"\",'Check-In'!G57)","v":""},{"$f":"IF(A51=\"\",\"\",'Check-In'!B57)","v":""},{"$f":"INDEX(Qual!$C$8:$V$127,MATCH(B51,Qual!$C$8:$C$127,0),11)","v":0}]
[{"$f":"IF('Check-In'!G58=\"\",\"\",'Check-In'!G58)","v":""},{"$f":"IF(A52=\"\",\"\",'Check-In'!B58)","v":""},{"$f":"INDEX(Qual!$C$8:$V$127,MATCH(B52,Qual!$C$8:$C$127,0),11)","v":0}]
[{"$f":"IF('Check-In'!G59=\"\",\"\",'Check-In'!G59)","v":""},{"$f":"IF(A53=\"\",\"\",'Check-In'!B59)","v":""},{"$f":"INDEX(Qual!$C$8:$V$127,MATCH(B53,Qual!$C$8:$C$127,0),11)","v":0}]
[{"$f":"IF('Check-In'!G60=\"\",\"\",'Check-In'!G60)","v":""},{"$f":"IF(A54=\"\",\"\",'Check-In'!B60)","v":""},{"$f":"INDEX(Qual!$C$8:$V$127,MATCH(B54,Qual!$C$8:$C$127,0),11)","v":0}]
[{"$f":"IF('Check-In'!G61=\"\",\"\",'Check-In'!G61)","v":""},{"$f":"IF(A55=\"\",\"\",'Check-In'!B61)","v":""},{"$f":"INDEX(Qual!$C$8:$V$127,MATCH(B55,Qual!$C$8:$C$127,0),11)","v":0}]
[{"$f":"IF('Check-In'!G62=\"\",\"\",'Check-In'!G62)","v":""},{"$f":"IF(A56=\"\",\"\",'Check-In'!B62)","v":""},{"$f":"INDEX(Qual!$C$8:$V$127,MATCH(B56,Qual!$C$8:$C$127,0),11)","v":0}]
[{"$f":"IF('Check-In'!G63=\"\",\"\",'Check-In'!G63)","v":""},{"$f":"IF(A57=\"\",\"\",'Check-In'!B63)","v":""},{"$f":"INDEX(Qual!$C$8:$V$127,MATCH(B57,Qual!$C$8:$C$127,0),11)","v":0}]
[{"$f":"IF('Check-In'!G64=\"\",\"\",'Check-In'!G64)","v":""},{"$f":"IF(A58=\"\",\"\",'Check-In'!B64)","v":""},{"$f":"INDEX(Qual!$C$8:$V$127,MATCH(B58,Qual!$C$8:$C$127,0),11)","v":0}]
[{"$f":"IF('Check-In'!G65=\"\",\"\",'Check-In'!G65)","v":""},{"$f":"IF(A59=\"\",\"\",'Check-In'!B65)","v":""},{"$f":"INDEX(Qual!$C$8:$V$127,MATCH(B59,Qual!$C$8:$C$127,0),11)","v":0}]
[{"$f":"IF('Check-In'!G66=\"\",\"\",'Check-In'!G66)","v":""},{"$f":"IF(A60=\"\",\"\",'Check-In'!B66)","v":""},{"$f":"INDEX(Qual!$C$8:$V$127,MATCH(B60,Qual!$C$8:$C$127,0),11)","v":0}]
[{"$f":"IF('Check-In'!G67=\"\",\"\",'Check-In'!G67)","v":""},{"$f":"IF(A61=\"\",\"\",'Check-In'!B67)","v":""},{"$f":"INDEX(Qual!$C$8:$V$127,MATCH(B61,Qual!$C$8:$C$127,0),11)","v":0}]
[{"$f":"IF('Check-In'!G68=\"\",\"\",'Check-In'!G68)","v":""},{"$f":"IF(A62=\"\",\"\",'Check-In'!B68)","v":""},{"$f":"INDEX(Qual!$C$8:$V$127,MATCH(B62,Qual!$C$8:$C$127,0),11)","v":0}]
[{"$f":"IF('Check-In'!G69=\"\",\"\",'Check-In'!G69)","v":""},{"$f":"IF(A63=\"\",\"\",'Check-In'!B69)","v":""},{"$f":"INDEX(Qual!$C$8:$V$127,MATCH(B63,Qual!$C$8:$C$127,0),11)","v":0}]
[{"$f":"IF('Check-In'!G70=\"\",\"\",'Check-In'!G70)","v":""},{"$f":"IF(A64=\"\",\"\",'Check-In'!B70)","v":""},{"$f":"INDEX(Qual!$C$8:$V$127,MATCH(B64,Qual!$C$8:$C$127,0),11)","v":0}]
[{"$f":"IF('Check-In'!G71=\"\",\"\",'Check-In'!G71)","v":""},{"$f":"IF(A65=\"\",\"\",'Check-In'!B71)","v":""},{"$f":"INDEX(Qual!$C$8:$V$127,MATCH(B65,Qual!$C$8:$C$127,0),11)","v":0}]
[{"$f":"IF('Check-In'!G72=\"\",\"\",'Check-In'!G72)","v":""},{"$f":"IF(A66=\"\",\"\",'Check-In'!B72)","v":""},{"$f":"INDEX(Qual!$C$8:$V$127,MATCH(B66,Qual!$C$8:$C$127,0),11)","v":0}]
[{"$f":"IF('Check-In'!G73=\"\",\"\",'Check-In'!G73)","v":""},{"$f":"IF(A67=\"\",\"\",'Check-In'!B73)","v":""},{"$f":"INDEX(Qual!$C$8:$V$127,MATCH(B67,Qual!$C$8:$C$127,0),11)","v":0}]
[{"$f":"IF('Check-In'!G74=\"\",\"\",'Check-In'!G74)","v":""},{"$f":"IF(A68=\"\",\"\",'Check-In'!B74)","v":""},{"$f":"INDEX(Qual!$C$8:$V$127,MATCH(B68,Qual!$C$8:$C$127,0),11)","v":0}]
[{"$f":"IF('Check-In'!G75=\"\",\"\",'Check-In'!G75)","v":""},{"$f":"IF(A69=\"\",\"\",'Check-In'!B75)","v":""},{"$f":"INDEX(Qual!$C$8:$V$127,MATCH(B69,Qual!$C$8:$C$127,0),11)","v":0}]
[{"$f":"IF('Check-In'!G76=\"\",\"\",'Check-In'!G76)","v":""},{"$f":"IF(A70=\"\",\"\",'Check-In'!B76)","v":""},{"$f":"INDEX(Qual!$C$8:$V$127,MATCH(B70,Qual!$C$8:$C$127,0),11)","v":0}]
[{"$f":"IF('Check-In'!G77=\"\",\"\",'Check-In'!G77)","v":""},{"$f":"IF(A71=\"\",\"\",'Check-In'!B77)","v":""},{"$f":"INDEX(Qual!$C$8:$V$127,MATCH(B71,Qual!$C$8:$C$127,0),11)","v":0}]
[{"$f":"IF('Check-In'!G78=\"\",\"\",'Check-In'!G78)","v":""},{"$f":"IF(A72=\"\",\"\",'Check-In'!B78)","v":""},{"$f":"INDEX(Qual!$C$8:$V$127,MATCH(B72,Qual!$C$8:$C$127,0),11)","v":0}]
[{"$f":"IF('Check-In'!G79=\"\",\"\",'Check-In'!G79)","v":""},{"$f":"IF(A73=\"\",\"\",'Check-In'!B79)","v":""},{"$f":"INDEX(Qual!$C$8:$V$127,MATCH(B73,Qual!$C$8:$C$127,0),11)","v":0}]
[{"$f":"IF('Check-In'!G80=\"\",\"\",'Check-In'!G80)","v":""},{"$f":"IF(A74=\"\",\"\",'Check-In'!B80)","v":""},{"$f":"INDEX(Qual!$C$8:$V$127,MATCH(B74,Qual!$C$8:$C$127,0),11)","v":0}]
[{"$f":"IF('Check-In'!G107=\"\",\"\",'Check-In'!G107)","v":""},{"$f":"IF(A75=\"\",\"\",'Check-In'!B107)","v":""},{"$f":"INDEX(Qual!$C$8:$V$127,MATCH(B75,Qual!$C$8:$C$127,0),11)","v":0}]
[{"$f":"IF('Check-In'!G108=\"\",\"\",'Check-In'!G108)","v":""},{"$f":"IF(A76=\"\",\"\",'Check-In'!B108)","v":""},{"$f":"INDEX(Qual!$C$8:$V$127,MATCH(B76,Qual!$C$8:$C$127,0),11)","v":0}]
[{"$f":"IF('Check-In'!G109=\"\",\"\",'Check-In'!G109)","v":""},{"$f":"IF(A77=\"\",\"\",'Check-In'!B109)","v":""},{"$f":"INDEX(Qual!$C$8:$V$127,MATCH(B77,Qual!$C$8:$C$127,0),11)","v":0}]
[{"$f":"IF('Check-In'!G110=\"\",\"\",'Check-In'!G110)","v":""},{"$f":"IF(A78=\"\",\"\",'Check-In'!B110)","v":""},{"$f":"INDEX(Qual!$C$8:$V$127,MATCH(B78,Qual!$C$8:$C$127,0),11)","v":0}]
[{"$f":"IF('Check-In'!G111=\"\",\"\",'Check-In'!G111)","v":""},{"$f":"IF(A79=\"\",\"\",'Check-In'!B111)","v":""},{"$f":"INDEX(Qual!$C$8:$V$127,MATCH(B79,Qual!$C$8:$C$127,0),11)","v":0}]
[{"$f":"IF('Check-In'!G112=\"\",\"\",'Check-In'!G112)","v":""},{"$f":"IF(A80=\"\",\"\",'Check-In'!B112)","v":""},{"$f":"INDEX(Qual!$C$8:$V$127,MATCH(B80,Qual!$C$8:$C$127,0),11)","v":0}]
[{"$f":"IF('Check-In'!G113=\"\",\"\",'Check-In'!G113)","v":""},{"$f":"IF(A81=\"\",\"\",'Check-In'!B113)","v":""},{"$f":"INDEX(Qual!$C$8:$V$127,MATCH(B81,Qual!$C$8:$C$127,0),11)","v":0}]
[{"$f":"IF('Check-In'!G114=\"\",\"\",'Check-In'!G114)","v":""},{"$f":"IF(A82=\"\",\"\",'Check-In'!B114)","v":""},{"$f":"INDEX(Qual!$C$8:$V$127,MATCH(B82,Qual!$C$8:$C$127,0),11)","v":0}]
[{"$f":"IF('Check-In'!G115=\"\",\"\",'Check-In'!G115)","v":""},{"$f":"IF(A83=\"\",\"\",'Check-In'!B115)","v":""},{"$f":"INDEX(Qual!$C$8:$V$127,MATCH(B83,Qual!$C$8:$C$127,0),11)","v":0}]
[{"$f":"IF('Check-In'!G116=\"\",\"\",'Check-In'!G116)","v":""},{"$f":"IF(A84=\"\",\"\",'Check-In'!B116)","v":""},{"$f":"INDEX(Qual!$C$8:$V$127,MATCH(B84,Qual!$C$8:$C$127,0),11)","v":0}]
[{"$f":"IF('Check-In'!G117=\"\",\"\",'Check-In'!G117)","v":""},{"$f":"IF(A85=\"\",\"\",'Check-In'!B117)","v":""},{"$f":"INDEX(Qual!$C$8:$V$127,MATCH(B85,Qual!$C$8:$C$127,0),11)","v":0}]
[{"$f":"IF('Check-In'!G118=\"\",\"\",'Check-In'!G118)","v":""},{"$f":"IF(A86=\"\",\"\",'Check-In'!B118)","v":""},{"$f":"INDEX(Qual!$C$8:$V$127,MATCH(B86,Qual!$C$8:$C$127,0),11)","v":0}]
[{"$f":"IF('Check-In'!G119=\"\",\"\",'Check-In'!G119)","v":""},{"$f":"IF(A87=\"\",\"\",'Check-In'!B119)","v":""},{"$f":"INDEX(Qual!$C$8:$V$127,MATCH(B87,Qual!$C$8:$C$127,0),11)","v":0}]
[{"$f":"IF('Check-In'!G120=\"\",\"\",'Check-In'!G120)","v":""},{"$f":"IF(A88=\"\",\"\",'Check-In'!B120)","v":""},{"$f":"INDEX(Qual!$C$8:$V$127,MATCH(B88,Qual!$C$8:$C$127,0),11)","v":0}]
[{"$f":"IF('Check-In'!G121=\"\",\"\",'Check-In'!G121)","v":""},{"$f":"IF(A89=\"\",\"\",'Check-In'!B121)","v":""},{"$f":"INDEX(Qual!$C$8:$V$127,MATCH(B89,Qual!$C$8:$C$127,0),11)","v":0}]
[{"$f":"IF('Check-In'!G122=\"\",\"\",'Check-In'!G122)","v":""},{"$f":"IF(A90=\"\",\"\",'Check-In'!B122)","v":""},{"$f":"INDEX(Qual!$C$8:$V$127,MATCH(B90,Qual!$C$8:$C$127,0),11)","v":0}]
[{"$f":"IF('Check-In'!G123=\"\",\"\",'Check-In'!G123)","v":""},{"$f":"IF(A91=\"\",\"\",'Check-In'!B123)","v":""},{"$f":"INDEX(Qual!$C$8:$V$127,MATCH(B91,Qual!$C$8:$C$127,0),11)","v":0}]
[{"$f":"IF('Check-In'!G124=\"\",\"\",'Check-In'!G124)","v":""},{"$f":"IF(A92=\"\",\"\",'Check-In'!B124)","v":""},{"$f":"INDEX(Qual!$C$8:$V$127,MATCH(B92,Qual!$C$8:$C$127,0),11)","v":0}]
[{"$f":"IF('Check-In'!G125=\"\",\"\",'Check-In'!G125)","v":""},{"$f":"IF(A93=\"\",\"\",'Check-In'!B125)","v":""},{"$f":"INDEX(Qual!$C$8:$V$127,MATCH(B93,Qual!$C$8:$C$127,0),11)","v":0}]
[{"$f":"IF('Check-In'!G126=\"\",\"\",'Check-In'!G126)","v":""},{"$f":"IF(A94=\"\",\"\",'Check-In'!B126)","v":""},{"$f":"INDEX(Qual!$C$8:$V$127,MATCH(B94,Qual!$C$8:$C$127,0),11)","v":0}]
[{"$f":"IF('Check-In'!G127=\"\",\"\",'Check-In'!G127)","v":""},{"$f":"IF(A95=\"\",\"\",'Check-In'!B127)","v":""},{"$f":"INDEX(Qual!$C$8:$V$127,MATCH(B95,Qual!$C$8:$C$127,0),11)","v":0}]
[{"$f":"IF('Check-In'!G128=\"\",\"\",'Check-In'!G128)","v":""},{"$f":"IF(A96=\"\",\"\",'Check-In'!B128)","v":""},{"$f":"INDEX(Qual!$C$8:$V$127,MATCH(B96,Qual!$C$8:$C$127,0),11)","v":0}]
[{"$f":"IF('Check-In'!G129=\"\",\"\",'Check-In'!G129)","v":""},{"$f":"IF(A97=\"\",\"\",'Check-In'!B129)","v":""},{"$f":"INDEX(Qual!$C$8:$V$127,MATCH(B97,Qual!$C$8:$C$127,0),11)","v":0}]
[{"$f":"IF('Check-In'!G130=\"\",\"\",'Check-In'!G130)","v":""},{"$f":"IF(A98=\"\",\"\",'Check-In'!B130)","v":""},{"$f":"INDEX(Qual!$C$8:$V$127,MATCH(B98,Qual!$C$8:$C$127,0),11)","v":0}]
[{"$f":"IF('Check-In'!G131=\"\",\"\",'Check-In'!G131)","v":""},{"$f":"IF(A99=\"\",\"\",'Check-In'!B131)","v":""},{"$f":"INDEX(Qual!$C$8:$V$127,MATCH(B99,Qual!$C$8:$C$127,0),11)","v":0}]
[{"$f":"IF('Check-In'!G132=\"\",\"\",'Check-In'!G132)","v":""},{"$f":"IF(A100=\"\",\"\",'Check-In'!B132)","v":""},{"$f":"INDEX(Qual!$C$8:$V$127,MATCH(B100,Qual!$C$8:$C$127,0),11)","v":0}]

{"sheet":"Sr-F","index":16,"n_rows":100,"n_cols":19,"rows_kept":100,"hidden":true}
[{"$f":"IF(Tourn=\"MSC\",IF('Check-In'!C7=\"SS\",'Check-In'!C7,\"\"),IF('Check-In'!C7=\"SR\",'Check-In'!C7,\"\"))","v":""},{"$f":"IF(A1=\"\",\"\",'Check-In'!B7)","v":""},{"$f":"INDEX(Qual!$C$8:$Z$127,MATCH(B1,Qual!$C$8:$C$127,0),22)","v":""},null,1,{"$f":"INDEX($B$1:$C$100,MATCH(G1,$C$1:$C$100,0),1)","v":"CAUGHEY, STEVE"},{"$f":"IF(ISERROR(LARGE($C$1:$C$100,E1)),\"\",LARGE($C$1:$C$100,E1))","v":2109},{"$f":"IF(INDEX(Qual!$A$8:$V$127,MATCH(F1,Qual!$C$8:$C$127,0),1)<'Check-In'!$D$135,\"\",INDEX(Qual!$A$8:$V$127,MATCH(F1,Qual!$C$8:$C$127,0),1))","v":""},{"$f":"COUNT(H1:H10)","v":4},{"$f":"IF(Tourn=\"msc\",IF('Check-In'!C7=\"ROG\",'Check-In'!C7,\"\"),IF('Check-In'!C7=\"F\",'Check-In'!C7,\"\"))","v":""},{"$f":"IF(J1=\"\",\"\",'Check-In'!B7)","v":""},{"$f":"INDEX(Qual!$C$8:$Z$127,MATCH(K1,Qual!$C$8:$C$127,0),22)","v":""},null,1,{"$f":"INDEX($K$1:$L$100,MATCH(P1,$L$1:$L$100,0),1)","v":"HAVLISH, TOM"},{"$f":"IF(ISERROR(LARGE($L$1:$L$100,N1)),\"\",LARGE($L$1:$L$100,N1))","v":1970},{"$f":"IF(P1=\"\",\"\",IF(INDEX(Qual!$A$8:$V$127,MATCH(O1,Qual!$C$8:$C$127,0),1)<'Check-In'!$D$135,\"\",INDEX(Qual!$A$8:$V$127,MATCH(O1,Qual!$C$8:$C$127,0),1)))","v":""},{"$f":"COUNT(Q1:Q10)","v":7},{"$f":"SMALL(Q1:Q6,1)","v":35}]
[{"$f":"IF(Tourn=\"MSC\",IF('Check-In'!C8=\"SS\",'Check-In'!C8,\"\"),IF('Check-In'!C8=\"SR\",'Check-In'!C8,\"\"))","v":""},{"$f":"IF(A2=\"\",\"\",'Check-In'!B8)","v":""},{"$f":"INDEX(Qual!$C$8:$Z$127,MATCH(B2,Qual!$C$8:$C$127,0),22)","v":""},null,2,"SAVOY, TODD",{"$f":"IF(ISERROR(LARGE($C$1:$C$100,E2)),\"\",LARGE($C$1:$C$100,E2))","v":2061},{"$f":"IF(F2=\"\",\"\",IF(INDEX(Qual!$A$8:$V$127,MATCH(F2,Qual!$C$8:$C$127,0),1)<'Check-In'!$D$135,\"\",INDEX(Qual!$A$8:$V$127,MATCH(F2,Qual!$C$8:$C$127,0),1)))","v":""},{"$f":"ROUNDDOWN(I1/3,0)","v":1},{"$f":"IF(Tourn=\"msc\",IF('Check-In'!C8=\"ROG\",'Check-In'!C8,\"\"),IF('Check-In'!C8=\"F\",'Check-In'!C8,\"\"))","v":""},{"$f":"IF(J2=\"\",\"\",'Check-In'!B8)","v":""},{"$f":"INDEX(Qual!$C$8:$Z$127,MATCH(K2,Qual!$C$8:$C$127,0),22)","v":""},null,2,{"$f":"INDEX($K$1:$L$100,MATCH(P2,$L$1:$L$100,0),1)","v":"WORM, KEN"},{"$f":"IF(ISERROR(LARGE($L$1:$L$100,N2)),\"\",LARGE($L$1:$L$100,N2))","v":1759},{"$f":"IF(P2=\"\",\"\",IF(INDEX(Qual!$A$8:$V$127,MATCH(O2,Qual!$C$8:$C$127,0),1)<'Check-In'!$D$135,\"\",INDEX(Qual!$A$8:$V$127,MATCH(O2,Qual!$C$8:$C$127,0),1)))","v":35},{"$f":"ROUNDDOWN(R1/3,0)","v":2}]
[{"$f":"IF(Tourn=\"MSC\",IF('Check-In'!C9=\"SS\",'Check-In'!C9,\"\"),IF('Check-In'!C9=\"SR\",'Check-In'!C9,\"\"))","v":""},{"$f":"IF(A3=\"\",\"\",'Check-In'!B9)","v":""},{"$f":"INDEX(Qual!$C$8:$Z$127,MATCH(B3,Qual!$C$8:$C$127,0),22)","v":""},null,3,"HOMMES, JOHN",2049,{"$f":"IF(F3=\"\",\"\",IF(INDEX(Qual!$A$8:$V$127,MATCH(F3,Qual!$C$8:$C$127,0),1)<'Check-In'!$D$135,\"\",INDEX(Qual!$A$8:$V$127,MATCH(F3,Qual!$C$8:$C$127,0),1)))","v":""},null,{"$f":"IF(Tourn=\"msc\",IF('Check-In'!C9=\"ROG\",'Check-In'!C9,\"\"),IF('Check-In'!C9=\"F\",'Check-In'!C9,\"\"))","v":""},{"$f":"IF(J3=\"\",\"\",'Check-In'!B9)","v":""},{"$f":"INDEX(Qual!$C$8:$Z$127,MATCH(K3,Qual!$C$8:$C$127,0),22)","v":""},null,3,"BLAZEJ, GEORGE",1735,{"$f":"IF(P3=\"\",\"\",IF(INDEX(Qual!$A$8:$V$127,MATCH(O3,Qual!$C$8:$C$127,0),1)<'Check-In'!$D$135,\"\",INDEX(Qual!$A$8:$V$127,MATCH(O3,Qual!$C$8:$C$127,0),1)))","v":37}]
[{"$f":"IF(Tourn=\"MSC\",IF('Check-In'!C10=\"SS\",'Check-In'!C10,\"\"),IF('Check-In'!C10=\"SR\",'Check-In'!C10,\"\"))","v":""},{"$f":"IF(A4=\"\",\"\",'Check-In'!B10)","v":""},{"$f":"INDEX(Qual!$C$8:$Z$127,MATCH(B4,Qual!$C$8:$C$127,0),22)","v":""},null,4,"DOWNER, ROB",2023,{"$f":"IF(F4=\"\",\"\",IF(INDEX(Qual!$A$8:$V$127,MATCH(F4,Qual!$C$8:$C$127,0),1)<'Check-In'!$D$135,\"\",INDEX(Qual!$A$8:$V$127,MATCH(F4,Qual!$C$8:$C$127,0),1)))","v":""},null,{"$f":"IF(Tourn=\"msc\",IF('Check-In'!C10=\"ROG\",'Check-In'!C10,\"\"),IF('Check-In'!C10=\"F\",'Check-In'!C10,\"\"))","v":""},{"$f":"IF(J4=\"\",\"\",'Check-In'!B10)","v":""},{"$f":"INDEX(Qual!$C$8:$Z$127,MATCH(K4,Qual!$C$8:$C$127,0),22)","v":""},null,4,"SCHMID, MIKE",1723,{"$f":"IF(P4=\"\",\"\",IF(INDEX(Qual!$A$8:$V$127,MATCH(O4,Qual!$C$8:$C$127,0),1)<'Check-In'!$D$135,\"\",INDEX(Qual!$A$8:$V$127,MATCH(O4,Qual!$C$8:$C$127,0),1)))","v":39}]
[{"$f":"IF(Tourn=\"MSC\",IF('Check-In'!C11=\"SS\",'Check-In'!C11,\"\"),IF('Check-In'!C11=\"SR\",'Check-In'!C11,\"\"))","v":""},{"$f":"IF(A5=\"\",\"\",'Check-In'!B11)","v":""},{"$f":"INDEX(Qual!$C$8:$Z$127,MATCH(B5,Qual!$C$8:$C$127,0),22)","v":""},null,5,"GREEN, GARY",1997,{"$f":"IF(F5=\"\",\"\",IF(INDEX(Qual!$A$8:$V$127,MATCH(F5,Qual!$C$8:$C$127,0),1)<'Check-In'!$D$135,\"\",INDEX(Qual!$A$8:$V$127,MATCH(F5,Qual!$C$8:$C$127,0),1)))","v":""},null,{"$f":"IF(Tourn=\"msc\",IF('Check-In'!C11=\"ROG\",'Check-In'!C11,\"\"),IF('Check-In'!C11=\"F\",'Check-In'!C11,\"\"))","v":""},{"$f":"IF(J5=\"\",\"\",'Check-In'!B11)","v":""},{"$f":"INDEX(Qual!$C$8:$Z$127,MATCH(K5,Qual!$C$8:$C$127,0),22)","v":""},null,5,"POELZER, CLARK",1710,{"$f":"IF(P5=\"\",\"\",IF(INDEX(Qual!$A$8:$V$127,MATCH(O5,Qual!$C$8:$C$127,0),1)<'Check-In'!$D$135,\"\",INDEX(Qual!$A$8:$V$127,MATCH(O5,Qual!$C$8:$C$127,0),1)))","v":42}]
[{"$f":"IF(Tourn=\"MSC\",IF('Check-In'!C12=\"SS\",'Check-In'!C12,\"\"),IF('Check-In'!C12=\"SR\",'Check-In'!C12,\"\"))","v":""},{"$f":"IF(A6=\"\",\"\",'Check-In'!B12)","v":""},{"$f":"INDEX(Qual!$C$8:$Z$127,MATCH(B6,Qual!$C$8:$C$127,0),22)","v":""},null,6,"BORDSON, DAVE",1878,{"$f":"IF(F6=\"\",\"\",IF(INDEX(Qual!$A$8:$V$127,MATCH(F6,Qual!$C$8:$C$127,0),1)<'Check-In'!$D$135,\"\",INDEX(Qual!$A$8:$V$127,MATCH(F6,Qual!$C$8:$C$127,0),1)))","v":""},null,{"$f":"IF(Tourn=\"msc\",IF('Check-In'!C12=\"ROG\",'Check-In'!C12,\"\"),IF('Check-In'!C12=\"F\",'Check-In'!C12,\"\"))","v":"ROG"},{"$f":"IF(J6=\"\",\"\",'Check-In'!B12)","v":"POELZER, CLARK"},{"$f":"INDEX(Qual!$C$8:$Z$127,MATCH(K6,Qual!$C$8:$C$127,0),22)","v":1710},null,6,"SCHACHT, TERRY",1662,{"$f":"IF(P6=\"\",\"\",IF(INDEX(Qual!$A$8:$V$127,MATCH(O6,Qual!$C$8:$C$127,0),1)<'Check-In'!$D$135,\"\",INDEX(Qual!$A$8:$V$127,MATCH(O6,Qual!$C$8:$C$127,0),1)))","v":46}]
[{"$f":"IF(Tourn=\"MSC\",IF('Check-In'!C13=\"SS\",'Check-In'!C13,\"\"),IF('Check-In'!C13=\"SR\",'Check-In'!C13,\"\"))","v":""},{"$f":"IF(A7=\"\",\"\",'Check-In'!B13)","v":""},{"$f":"INDEX(Qual!$C$8:$Z$127,MATCH(B7,Qual!$C$8:$C$127,0),22)","v":""},null,7,"STOEBNER, JOHN",1867,{"$f":"IF(F7=\"\",\"\",IF(INDEX(Qual!$A$8:$V$127,MATCH(F7,Qual!$C$8:$C$127,0),1)<'Check-In'!$D$135,\"\",INDEX(Qual!$A$8:$V$127,MATCH(F7,Qual!$C$8:$C$127,0),1)))","v":20},null,{"$f":"IF(Tourn=\"msc\",IF('Check-In'!C13=\"ROG\",'Check-In'!C13,\"\"),IF('Check-In'!C13=\"F\",'Check-In'!C13,\"\"))","v":""},{"$f":"IF(J7=\"\",\"\",'Check-In'!B13)","v":""},{"$f":"INDEX(Qual!$C$8:$Z$127,MATCH(K7,Qual!$C$8:$C$127,0),22)","v":""},null,7,"HAUGH, BOB",1631,{"$f":"IF(P7=\"\",\"\",IF(INDEX(Qual!$A$8:$V$127,MATCH(O7,Qual!$C$8:$C$127,0),1)<'Check-In'!$D$135,\"\",INDEX(Qual!$A$8:$V$127,MATCH(O7,Qual!$C$8:$C$127,0),1)))","v":50}]
[{"$f":"IF(Tourn=\"MSC\",IF('Check-In'!C14=\"SS\",'Check-In'!C14,\"\"),IF('Check-In'!C14=\"SR\",'Check-In'!C14,\"\"))","v":""},{"$f":"IF(A8=\"\",\"\",'Check-In'!B14)","v":""},{"$f":"INDEX(Qual!$C$8:$Z$127,MATCH(B8,Qual!$C$8:$C$127,0),22)","v":""},null,8,"MICEK, BOB",{"$f":"IF(ISERROR(LARGE($C$1:$C$100,E8)),\"\",LARGE($C$1:$C$100,E8))","v":1856},{"$f":"IF(F8=\"\",\"\",IF(INDEX(Qual!$A$8:$V$127,MATCH(F8,Qual!$C$8:$C$127,0),1)<'Check-In'!$D$135,\"\",INDEX(Qual!$A$8:$V$127,MATCH(F8,Qual!$C$8:$C$127,0),1)))","v":21},null,{"$f":"IF(Tourn=\"msc\",IF('Check-In'!C14=\"ROG\",'Check-In'!C14,\"\"),IF('Check-In'!C14=\"F\",'Check-In'!C14,\"\"))","v":""},{"$f":"IF(J8=\"\",\"\",'Check-In'!B14)","v":""},{"$f":"INDEX(Qual!$C$8:$Z$127,MATCH(K8,Qual!$C$8:$C$127,0),22)","v":""},null,8,"WEINKE, RON",1412,{"$f":"IF(P8=\"\",\"\",IF(INDEX(Qual!$A$8:$V$127,MATCH(O8,Qual!$C$8:$C$127,0),1)<'Check-In'!$D$135,\"\",INDEX(Qual!$A$8:$V$127,MATCH(O8,Qual!$C$8:$C$127,0),1)))","v":62}]
[{"$f":"IF(Tourn=\"MSC\",IF('Check-In'!C15=\"SS\",'Check-In'!C15,\"\"),IF('Check-In'!C15=\"SR\",'Check-In'!C15,\"\"))","v":""},{"$f":"IF(A9=\"\",\"\",'Check-In'!B15)","v":""},{"$f":"INDEX(Qual!$C$8:$Z$127,MATCH(B9,Qual!$C$8:$C$127,0),22)","v":""},null,9,"RACETTE, TIM",{"$f":"IF(ISERROR(LARGE($C$1:$C$100,E9)),\"\",LARGE($C$1:$C$100,E9))","v":1810},{"$f":"IF(F9=\"\",\"\",IF(INDEX(Qual!$A$8:$V$127,MATCH(F9,Qual!$C$8:$C$127,0),1)<'Check-In'!$D$135,\"\",INDEX(Qual!$A$8:$V$127,MATCH(F9,Qual!$C$8:$C$127,0),1)))","v":25},null,{"$f":"IF(Tourn=\"msc\",IF('Check-In'!C15=\"ROG\",'Check-In'!C15,\"\"),IF('Check-In'!C15=\"F\",'Check-In'!C15,\"\"))","v":""},{"$f":"IF(J9=\"\",\"\",'Check-In'!B15)","v":""},{"$f":"INDEX(Qual!$C$8:$Z$127,MATCH(K9,Qual!$C$8:$C$127,0),22)","v":""},null,9,"","",{"$f":"IF(P9=\"\",\"\",IF(INDEX(Qual!$A$8:$V$127,MATCH(O9,Qual!$C$8:$C$127,0),1)<'Check-In'!$D$135,\"\",INDEX(Qual!$A$8:$V$127,MATCH(O9,Qual!$C$8:$C$127,0),1)))","v":""}]
[{"$f":"IF(Tourn=\"MSC\",IF('Check-In'!C16=\"SS\",'Check-In'!C16,\"\"),IF('Check-In'!C16=\"SR\",'Check-In'!C16,\"\"))","v":""},{"$f":"IF(A10=\"\",\"\",'Check-In'!B16)","v":""},{"$f":"INDEX(Qual!$C$8:$Z$127,MATCH(B10,Qual!$C$8:$C$127,0),22)","v":""},null,10,"WIRZ, MIKE",{"$f":"IF(ISERROR(LARGE($C$1:$C$100,E10)),\"\",LARGE($C$1:$C$100,E10))","v":1780},{"$f":"IF(F10=\"\",\"\",IF(INDEX(Qual!$A$8:$V$127,MATCH(F10,Qual!$C$8:$C$127,0),1)<'Check-In'!$D$135,\"\",INDEX(Qual!$A$8:$V$127,MATCH(F10,Qual!$C$8:$C$127,0),1)))","v":30},null,{"$f":"IF(Tourn=\"msc\",IF('Check-In'!C16=\"ROG\",'Check-In'!C16,\"\"),IF('Check-In'!C16=\"F\",'Check-In'!C16,\"\"))","v":""},{"$f":"IF(J10=\"\",\"\",'Check-In'!B16)","v":""},{"$f":"INDEX(Qual!$C$8:$Z$127,MATCH(K10,Qual!$C$8:$C$127,0),22)","v":""},null,10,"","",{"$f":"IF(P10=\"\",\"\",IF(INDEX(Qual!$A$8:$V$127,MATCH(O10,Qual!$C$8:$C$127,0),1)<'Check-In'!$D$135,\"\",INDEX(Qual!$A$8:$V$127,MATCH(O10,Qual!$C$8:$C$127,0),1)))","v":""}]
[{"$f":"IF(Tourn=\"MSC\",IF('Check-In'!C17=\"SS\",'Check-In'!C17,\"\"),IF('Check-In'!C17=\"SR\",'Check-In'!C17,\"\"))","v":""},{"$f":"IF(A11=\"\",\"\",'Check-In'!B17)","v":""},{"$f":"INDEX(Qual!$C$8:$Z$127,MATCH(B11,Qual!$C$8:$C$127,0),22)","v":""},{"$nulls":6},{"$f":"IF(Tourn=\"msc\",IF('Check-In'!C17=\"ROG\",'Check-In'!C17,\"\"),IF('Check-In'!C17=\"F\",'Check-In'!C17,\"\"))","v":""},{"$f":"IF(J11=\"\",\"\",'Check-In'!B17)","v":""},{"$f":"INDEX(Qual!$C$8:$Z$127,MATCH(K11,Qual!$C$8:$C$127,0),22)","v":""}]
[{"$f":"IF(Tourn=\"MSC\",IF('Check-In'!C18=\"SS\",'Check-In'!C18,\"\"),IF('Check-In'!C18=\"SR\",'Check-In'!C18,\"\"))","v":""},{"$f":"IF(A12=\"\",\"\",'Check-In'!B18)","v":""},{"$f":"INDEX(Qual!$C$8:$Z$127,MATCH(B12,Qual!$C$8:$C$127,0),22)","v":""},{"$nulls":6},{"$f":"IF(Tourn=\"msc\",IF('Check-In'!C18=\"ROG\",'Check-In'!C18,\"\"),IF('Check-In'!C18=\"F\",'Check-In'!C18,\"\"))","v":"ROG"},{"$f":"IF(J12=\"\",\"\",'Check-In'!B18)","v":"HAVLISH, TOM"},{"$f":"INDEX(Qual!$C$8:$Z$127,MATCH(K12,Qual!$C$8:$C$127,0),22)","v":1970}]
[{"$f":"IF(Tourn=\"MSC\",IF('Check-In'!C19=\"SS\",'Check-In'!C19,\"\"),IF('Check-In'!C19=\"SR\",'Check-In'!C19,\"\"))","v":""},{"$f":"IF(A13=\"\",\"\",'Check-In'!B19)","v":""},{"$f":"INDEX(Qual!$C$8:$Z$127,MATCH(B13,Qual!$C$8:$C$127,0),22)","v":""},{"$nulls":6},{"$f":"IF(Tourn=\"msc\",IF('Check-In'!C19=\"ROG\",'Check-In'!C19,\"\"),IF('Check-In'!C19=\"F\",'Check-In'!C19,\"\"))","v":""},{"$f":"IF(J13=\"\",\"\",'Check-In'!B19)","v":""},{"$f":"INDEX(Qual!$C$8:$Z$127,MATCH(K13,Qual!$C$8:$C$127,0),22)","v":""}]
[{"$f":"IF(Tourn=\"MSC\",IF('Check-In'!C20=\"SS\",'Check-In'!C20,\"\"),IF('Check-In'!C20=\"SR\",'Check-In'!C20,\"\"))","v":"SS"},{"$f":"IF(A14=\"\",\"\",'Check-In'!B20)","v":"JENSEN, ROBERT"},{"$f":"INDEX(Qual!$C$8:$Z$127,MATCH(B14,Qual!$C$8:$C$127,0),22)","v":1632},{"$nulls":6},{"$f":"IF(Tourn=\"msc\",IF('Check-In'!C20=\"ROG\",'Check-In'!C20,\"\"),IF('Check-In'!C20=\"F\",'Check-In'!C20,\"\"))","v":""},{"$f":"IF(J14=\"\",\"\",'Check-In'!B20)","v":""},{"$f":"INDEX(Qual!$C$8:$Z$127,MATCH(K14,Qual!$C$8:$C$127,0),22)","v":""}]
[{"$f":"IF(Tourn=\"MSC\",IF('Check-In'!C21=\"SS\",'Check-In'!C21,\"\"),IF('Check-In'!C21=\"SR\",'Check-In'!C21,\"\"))","v":""},{"$f":"IF(A15=\"\",\"\",'Check-In'!B21)","v":""},{"$f":"INDEX(Qual!$C$8:$Z$127,MATCH(B15,Qual!$C$8:$C$127,0),22)","v":""},{"$nulls":6},{"$f":"IF(Tourn=\"msc\",IF('Check-In'!C21=\"ROG\",'Check-In'!C21,\"\"),IF('Check-In'!C21=\"F\",'Check-In'!C21,\"\"))","v":""},{"$f":"IF(J15=\"\",\"\",'Check-In'!B21)","v":""},{"$f":"INDEX(Qual!$C$8:$Z$127,MATCH(K15,Qual!$C$8:$C$127,0),22)","v":""}]
[{"$f":"IF(Tourn=\"MSC\",IF('Check-In'!C22=\"SS\",'Check-In'!C22,\"\"),IF('Check-In'!C22=\"SR\",'Check-In'!C22,\"\"))","v":""},{"$f":"IF(A16=\"\",\"\",'Check-In'!B22)","v":""},{"$f":"INDEX(Qual!$C$8:$Z$127,MATCH(B16,Qual!$C$8:$C$127,0),22)","v":""},{"$nulls":6},{"$f":"IF(Tourn=\"msc\",IF('Check-In'!C22=\"ROG\",'Check-In'!C22,\"\"),IF('Check-In'!C22=\"F\",'Check-In'!C22,\"\"))","v":""},{"$f":"IF(J16=\"\",\"\",'Check-In'!B22)","v":""},{"$f":"INDEX(Qual!$C$8:$Z$127,MATCH(K16,Qual!$C$8:$C$127,0),22)","v":""}]
[{"$f":"IF(Tourn=\"MSC\",IF('Check-In'!C23=\"SS\",'Check-In'!C23,\"\"),IF('Check-In'!C23=\"SR\",'Check-In'!C23,\"\"))","v":""},{"$f":"IF(A17=\"\",\"\",'Check-In'!B23)","v":""},{"$f":"INDEX(Qual!$C$8:$Z$127,MATCH(B17,Qual!$C$8:$C$127,0),22)","v":""},{"$nulls":6},{"$f":"IF(Tourn=\"msc\",IF('Check-In'!C23=\"ROG\",'Check-In'!C23,\"\"),IF('Check-In'!C23=\"F\",'Check-In'!C23,\"\"))","v":"ROG"},{"$f":"IF(J17=\"\",\"\",'Check-In'!B23)","v":"BLAZEJ, GEORGE"},{"$f":"INDEX(Qual!$C$8:$Z$127,MATCH(K17,Qual!$C$8:$C$127,0),22)","v":1735}]
[{"$f":"IF(Tourn=\"MSC\",IF('Check-In'!C24=\"SS\",'Check-In'!C24,\"\"),IF('Check-In'!C24=\"SR\",'Check-In'!C24,\"\"))","v":""},{"$f":"IF(A18=\"\",\"\",'Check-In'!B24)","v":""},{"$f":"INDEX(Qual!$C$8:$Z$127,MATCH(B18,Qual!$C$8:$C$127,0),22)","v":""},{"$nulls":6},{"$f":"IF(Tourn=\"msc\",IF('Check-In'!C24=\"ROG\",'Check-In'!C24,\"\"),IF('Check-In'!C24=\"F\",'Check-In'!C24,\"\"))","v":"ROG"},{"$f":"IF(J18=\"\",\"\",'Check-In'!B24)","v":"WEINKE, RON"},{"$f":"INDEX(Qual!$C$8:$Z$127,MATCH(K18,Qual!$C$8:$C$127,0),22)","v":1412}]
[{"$f":"IF(Tourn=\"MSC\",IF('Check-In'!C25=\"SS\",'Check-In'!C25,\"\"),IF('Check-In'!C25=\"SR\",'Check-In'!C25,\"\"))","v":""},{"$f":"IF(A19=\"\",\"\",'Check-In'!B25)","v":""},{"$f":"INDEX(Qual!$C$8:$Z$127,MATCH(B19,Qual!$C$8:$C$127,0),22)","v":""},{"$nulls":6},{"$f":"IF(Tourn=\"msc\",IF('Check-In'!C25=\"ROG\",'Check-In'!C25,\"\"),IF('Check-In'!C25=\"F\",'Check-In'!C25,\"\"))","v":""},{"$f":"IF(J19=\"\",\"\",'Check-In'!B25)","v":""},{"$f":"INDEX(Qual!$C$8:$Z$127,MATCH(K19,Qual!$C$8:$C$127,0),22)","v":""}]
[{"$f":"IF(Tourn=\"MSC\",IF('Check-In'!C26=\"SS\",'Check-In'!C26,\"\"),IF('Check-In'!C26=\"SR\",'Check-In'!C26,\"\"))","v":""},{"$f":"IF(A20=\"\",\"\",'Check-In'!B26)","v":""},{"$f":"INDEX(Qual!$C$8:$Z$127,MATCH(B20,Qual!$C$8:$C$127,0),22)","v":""},{"$nulls":6},{"$f":"IF(Tourn=\"msc\",IF('Check-In'!C26=\"ROG\",'Check-In'!C26,\"\"),IF('Check-In'!C26=\"F\",'Check-In'!C26,\"\"))","v":""},{"$f":"IF(J20=\"\",\"\",'Check-In'!B26)","v":""},{"$f":"INDEX(Qual!$C$8:$Z$127,MATCH(K20,Qual!$C$8:$C$127,0),22)","v":""}]
[{"$f":"IF(Tourn=\"MSC\",IF('Check-In'!C27=\"SS\",'Check-In'!C27,\"\"),IF('Check-In'!C27=\"SR\",'Check-In'!C27,\"\"))","v":"SS"},{"$f":"IF(A21=\"\",\"\",'Check-In'!B27)","v":"VANWIE, MIKE"},{"$f":"INDEX(Qual!$C$8:$Z$127,MATCH(B21,Qual!$C$8:$C$127,0),22)","v":1760},{"$nulls":6},{"$f":"IF(Tourn=\"msc\",IF('Check-In'!C27=\"ROG\",'Check-In'!C27,\"\"),IF('Check-In'!C27=\"F\",'Check-In'!C27,\"\"))","v":""},{"$f":"IF(J21=\"\",\"\",'Check-In'!B27)","v":""},{"$f":"INDEX(Qual!$C$8:$Z$127,MATCH(K21,Qual!$C$8:$C$127,0),22)","v":""}]
[{"$f":"IF(Tourn=\"MSC\",IF('Check-In'!C28=\"SS\",'Check-In'!C28,\"\"),IF('Check-In'!C28=\"SR\",'Check-In'!C28,\"\"))","v":""},{"$f":"IF(A22=\"\",\"\",'Check-In'!B28)","v":""},{"$f":"INDEX(Qual!$C$8:$Z$127,MATCH(B22,Qual!$C$8:$C$127,0),22)","v":""},{"$nulls":6},{"$f":"IF(Tourn=\"msc\",IF('Check-In'!C28=\"ROG\",'Check-In'!C28,\"\"),IF('Check-In'!C28=\"F\",'Check-In'!C28,\"\"))","v":""},{"$f":"IF(J22=\"\",\"\",'Check-In'!B28)","v":""},{"$f":"INDEX(Qual!$C$8:$Z$127,MATCH(K22,Qual!$C$8:$C$127,0),22)","v":""}]
[{"$f":"IF(Tourn=\"MSC\",IF('Check-In'!C29=\"SS\",'Check-In'!C29,\"\"),IF('Check-In'!C29=\"SR\",'Check-In'!C29,\"\"))","v":"SS"},{"$f":"IF(A23=\"\",\"\",'Check-In'!B29)","v":"GREEN, GARY"},{"$f":"INDEX(Qual!$C$8:$Z$127,MATCH(B23,Qual!$C$8:$C$127,0),22)","v":1997},{"$nulls":6},{"$f":"IF(Tourn=\"msc\",IF('Check-In'!C29=\"ROG\",'Check-In'!C29,\"\"),IF('Check-In'!C29=\"F\",'Check-In'!C29,\"\"))","v":""},{"$f":"IF(J23=\"\",\"\",'Check-In'!B29)","v":""},{"$f":"INDEX(Qual!$C$8:$Z$127,MATCH(K23,Qual!$C$8:$C$127,0),22)","v":""}]
[{"$f":"IF(Tourn=\"MSC\",IF('Check-In'!C30=\"SS\",'Check-In'!C30,\"\"),IF('Check-In'!C30=\"SR\",'Check-In'!C30,\"\"))","v":"SS"},{"$f":"IF(A24=\"\",\"\",'Check-In'!B30)","v":"ROBILLARD, BOB"},{"$f":"INDEX(Qual!$C$8:$Z$127,MATCH(B24,Qual!$C$8:$C$127,0),22)","v":1733},{"$nulls":6},{"$f":"IF(Tourn=\"msc\",IF('Check-In'!C30=\"ROG\",'Check-In'!C30,\"\"),IF('Check-In'!C30=\"F\",'Check-In'!C30,\"\"))","v":""},{"$f":"IF(J24=\"\",\"\",'Check-In'!B30)","v":""},{"$f":"INDEX(Qual!$C$8:$Z$127,MATCH(K24,Qual!$C$8:$C$127,0),22)","v":""}]
[{"$f":"IF(Tourn=\"MSC\",IF('Check-In'!C31=\"SS\",'Check-In'!C31,\"\"),IF('Check-In'!C31=\"SR\",'Check-In'!C31,\"\"))","v":"SS"},{"$f":"IF(A25=\"\",\"\",'Check-In'!B31)","v":"HENK, RICK"},{"$f":"INDEX(Qual!$C$8:$Z$127,MATCH(B25,Qual!$C$8:$C$127,0),22)","v":1715},{"$nulls":6},{"$f":"IF(Tourn=\"msc\",IF('Check-In'!C31=\"ROG\",'Check-In'!C31,\"\"),IF('Check-In'!C31=\"F\",'Check-In'!C31,\"\"))","v":""},{"$f":"IF(J25=\"\",\"\",'Check-In'!B31)","v":""},{"$f":"INDEX(Qual!$C$8:$Z$127,MATCH(K25,Qual!$C$8:$C$127,0),22)","v":""}]
[{"$f":"IF(Tourn=\"MSC\",IF('Check-In'!C32=\"SS\",'Check-In'!C32,\"\"),IF('Check-In'!C32=\"SR\",'Check-In'!C32,\"\"))","v":"SS"},{"$f":"IF(A26=\"\",\"\",'Check-In'!B32)","v":"HOMMES, JOHN"},{"$f":"INDEX(Qual!$C$8:$Z$127,MATCH(B26,Qual!$C$8:$C$127,0),22)","v":2049},{"$nulls":6},{"$f":"IF(Tourn=\"msc\",IF('Check-In'!C32=\"ROG\",'Check-In'!C32,\"\"),IF('Check-In'!C32=\"F\",'Check-In'!C32,\"\"))","v":""},{"$f":"IF(J26=\"\",\"\",'Check-In'!B32)","v":""},{"$f":"INDEX(Qual!$C$8:$Z$127,MATCH(K26,Qual!$C$8:$C$127,0),22)","v":""}]
[{"$f":"IF(Tourn=\"MSC\",IF('Check-In'!C33=\"SS\",'Check-In'!C33,\"\"),IF('Check-In'!C33=\"SR\",'Check-In'!C33,\"\"))","v":""},{"$f":"IF(A27=\"\",\"\",'Check-In'!B33)","v":""},{"$f":"INDEX(Qual!$C$8:$Z$127,MATCH(B27,Qual!$C$8:$C$127,0),22)","v":""},{"$nulls":6},{"$f":"IF(Tourn=\"msc\",IF('Check-In'!C33=\"ROG\",'Check-In'!C33,\"\"),IF('Check-In'!C33=\"F\",'Check-In'!C33,\"\"))","v":""},{"$f":"IF(J27=\"\",\"\",'Check-In'!B33)","v":""},{"$f":"INDEX(Qual!$C$8:$Z$127,MATCH(K27,Qual!$C$8:$C$127,0),22)","v":""}]
[{"$f":"IF(Tourn=\"MSC\",IF('Check-In'!C34=\"SS\",'Check-In'!C34,\"\"),IF('Check-In'!C34=\"SR\",'Check-In'!C34,\"\"))","v":""},{"$f":"IF(A28=\"\",\"\",'Check-In'!B34)","v":""},{"$f":"INDEX(Qual!$C$8:$Z$127,MATCH(B28,Qual!$C$8:$C$127,0),22)","v":""},{"$nulls":6},{"$f":"IF(Tourn=\"msc\",IF('Check-In'!C34=\"ROG\",'Check-In'!C34,\"\"),IF('Check-In'!C34=\"F\",'Check-In'!C34,\"\"))","v":""},{"$f":"IF(J28=\"\",\"\",'Check-In'!B34)","v":""},{"$f":"INDEX(Qual!$C$8:$Z$127,MATCH(K28,Qual!$C$8:$C$127,0),22)","v":""}]
[{"$f":"IF(Tourn=\"MSC\",IF('Check-In'!C35=\"SS\",'Check-In'!C35,\"\"),IF('Check-In'!C35=\"SR\",'Check-In'!C35,\"\"))","v":"SS"},{"$f":"IF(A29=\"\",\"\",'Check-In'!B35)","v":"BORDSON, DAVE"},{"$f":"INDEX(Qual!$C$8:$Z$127,MATCH(B29,Qual!$C$8:$C$127,0),22)","v":1878},{"$nulls":6},{"$f":"IF(Tourn=\"msc\",IF('Check-In'!C35=\"ROG\",'Check-In'!C35,\"\"),IF('Check-In'!C35=\"F\",'Check-In'!C35,\"\"))","v":""},{"$f":"IF(J29=\"\",\"\",'Check-In'!B35)","v":""},{"$f":"INDEX(Qual!$C$8:$Z$127,MATCH(K29,Qual!$C$8:$C$127,0),22)","v":""}]
[{"$f":"IF(Tourn=\"MSC\",IF('Check-In'!C36=\"SS\",'Check-In'!C36,\"\"),IF('Check-In'!C36=\"SR\",'Check-In'!C36,\"\"))","v":""},{"$f":"IF(A30=\"\",\"\",'Check-In'!B36)","v":""},{"$f":"INDEX(Qual!$C$8:$Z$127,MATCH(B30,Qual!$C$8:$C$127,0),22)","v":""},{"$nulls":6},{"$f":"IF(Tourn=\"msc\",IF('Check-In'!C36=\"ROG\",'Check-In'!C36,\"\"),IF('Check-In'!C36=\"F\",'Check-In'!C36,\"\"))","v":""},{"$f":"IF(J30=\"\",\"\",'Check-In'!B36)","v":""},{"$f":"INDEX(Qual!$C$8:$Z$127,MATCH(K30,Qual!$C$8:$C$127,0),22)","v":""}]
[{"$f":"IF(Tourn=\"MSC\",IF('Check-In'!C37=\"SS\",'Check-In'!C37,\"\"),IF('Check-In'!C37=\"SR\",'Check-In'!C37,\"\"))","v":""},{"$f":"IF(A31=\"\",\"\",'Check-In'!B37)","v":""},{"$f":"INDEX(Qual!$C$8:$Z$127,MATCH(B31,Qual!$C$8:$C$127,0),22)","v":""},{"$nulls":6},{"$f":"IF(Tourn=\"msc\",IF('Check-In'!C37=\"ROG\",'Check-In'!C37,\"\"),IF('Check-In'!C37=\"F\",'Check-In'!C37,\"\"))","v":""},{"$f":"IF(J31=\"\",\"\",'Check-In'!B37)","v":""},{"$f":"INDEX(Qual!$C$8:$Z$127,MATCH(K31,Qual!$C$8:$C$127,0),22)","v":""}]
[{"$f":"IF(Tourn=\"MSC\",IF('Check-In'!C38=\"SS\",'Check-In'!C38,\"\"),IF('Check-In'!C38=\"SR\",'Check-In'!C38,\"\"))","v":""},{"$f":"IF(A32=\"\",\"\",'Check-In'!B38)","v":""},{"$f":"INDEX(Qual!$C$8:$Z$127,MATCH(B32,Qual!$C$8:$C$127,0),22)","v":""},{"$nulls":6},{"$f":"IF(Tourn=\"msc\",IF('Check-In'!C38=\"ROG\",'Check-In'!C38,\"\"),IF('Check-In'!C38=\"F\",'Check-In'!C38,\"\"))","v":"ROG"},{"$f":"IF(J32=\"\",\"\",'Check-In'!B38)","v":"SCHACHT, TERRY"},{"$f":"INDEX(Qual!$C$8:$Z$127,MATCH(K32,Qual!$C$8:$C$127,0),22)","v":1662}]
[{"$f":"IF(Tourn=\"MSC\",IF('Check-In'!C39=\"SS\",'Check-In'!C39,\"\"),IF('Check-In'!C39=\"SR\",'Check-In'!C39,\"\"))","v":"SS"},{"$f":"IF(A33=\"\",\"\",'Check-In'!B39)","v":"GOODWIN, CRAIG"},{"$f":"INDEX(Qual!$C$8:$Z$127,MATCH(B33,Qual!$C$8:$C$127,0),22)","v":1655},{"$nulls":6},{"$f":"IF(Tourn=\"msc\",IF('Check-In'!C39=\"ROG\",'Check-In'!C39,\"\"),IF('Check-In'!C39=\"F\",'Check-In'!C39,\"\"))","v":""},{"$f":"IF(J33=\"\",\"\",'Check-In'!B39)","v":""},{"$f":"INDEX(Qual!$C$8:$Z$127,MATCH(K33,Qual!$C$8:$C$127,0),22)","v":""}]
[{"$f":"IF(Tourn=\"MSC\",IF('Check-In'!C40=\"SS\",'Check-In'!C40,\"\"),IF('Check-In'!C40=\"SR\",'Check-In'!C40,\"\"))","v":"SS"},{"$f":"IF(A34=\"\",\"\",'Check-In'!B40)","v":"CLEVELAND, RON"},{"$f":"INDEX(Qual!$C$8:$Z$127,MATCH(B34,Qual!$C$8:$C$127,0),22)","v":1627},{"$nulls":6},{"$f":"IF(Tourn=\"msc\",IF('Check-In'!C40=\"ROG\",'Check-In'!C40,\"\"),IF('Check-In'!C40=\"F\",'Check-In'!C40,\"\"))","v":""},{"$f":"IF(J34=\"\",\"\",'Check-In'!B40)","v":""},{"$f":"INDEX(Qual!$C$8:$Z$127,MATCH(K34,Qual!$C$8:$C$127,0),22)","v":""}]
[{"$f":"IF(Tourn=\"MSC\",IF('Check-In'!C41=\"SS\",'Check-In'!C41,\"\"),IF('Check-In'!C41=\"SR\",'Check-In'!C41,\"\"))","v":"SS"},{"$f":"IF(A35=\"\",\"\",'Check-In'!B41)","v":"STOEBNER, JOHN"},{"$f":"INDEX(Qual!$C$8:$Z$127,MATCH(B35,Qual!$C$8:$C$127,0),22)","v":1867},{"$nulls":6},{"$f":"IF(Tourn=\"msc\",IF('Check-In'!C41=\"ROG\",'Check-In'!C41,\"\"),IF('Check-In'!C41=\"F\",'Check-In'!C41,\"\"))","v":""},{"$f":"IF(J35=\"\",\"\",'Check-In'!B41)","v":""},{"$f":"INDEX(Qual!$C$8:$Z$127,MATCH(K35,Qual!$C$8:$C$127,0),22)","v":""}]
[{"$f":"IF(Tourn=\"MSC\",IF('Check-In'!C42=\"SS\",'Check-In'!C42,\"\"),IF('Check-In'!C42=\"SR\",'Check-In'!C42,\"\"))","v":"SS"},{"$f":"IF(A36=\"\",\"\",'Check-In'!B42)","v":"SODERGREN, SCOTT"},{"$f":"INDEX(Qual!$C$8:$Z$127,MATCH(B36,Qual!$C$8:$C$127,0),22)","v":1666},{"$nulls":6},{"$f":"IF(Tourn=\"msc\",IF('Check-In'!C42=\"ROG\",'Check-In'!C42,\"\"),IF('Check-In'!C42=\"F\",'Check-In'!C42,\"\"))","v":""},{"$f":"IF(J36=\"\",\"\",'Check-In'!B42)","v":""},{"$f":"INDEX(Qual!$C$8:$Z$127,MATCH(K36,Qual!$C$8:$C$127,0),22)","v":""}]
[{"$f":"IF(Tourn=\"MSC\",IF('Check-In'!C43=\"SS\",'Check-In'!C43,\"\"),IF('Check-In'!C43=\"SR\",'Check-In'!C43,\"\"))","v":""},{"$f":"IF(A37=\"\",\"\",'Check-In'!B43)","v":""},{"$f":"INDEX(Qual!$C$8:$Z$127,MATCH(B37,Qual!$C$8:$C$127,0),22)","v":""},{"$nulls":6},{"$f":"IF(Tourn=\"msc\",IF('Check-In'!C43=\"ROG\",'Check-In'!C43,\"\"),IF('Check-In'!C43=\"F\",'Check-In'!C43,\"\"))","v":""},{"$f":"IF(J37=\"\",\"\",'Check-In'!B43)","v":""},{"$f":"INDEX(Qual!$C$8:$Z$127,MATCH(K37,Qual!$C$8:$C$127,0),22)","v":""}]
[{"$f":"IF(Tourn=\"MSC\",IF('Check-In'!C44=\"SS\",'Check-In'!C44,\"\"),IF('Check-In'!C44=\"SR\",'Check-In'!C44,\"\"))","v":""},{"$f":"IF(A38=\"\",\"\",'Check-In'!B44)","v":""},{"$f":"INDEX(Qual!$C$8:$Z$127,MATCH(B38,Qual!$C$8:$C$127,0),22)","v":""},{"$nulls":6},{"$f":"IF(Tourn=\"msc\",IF('Check-In'!C44=\"ROG\",'Check-In'!C44,\"\"),IF('Check-In'!C44=\"F\",'Check-In'!C44,\"\"))","v":"ROG"},{"$f":"IF(J38=\"\",\"\",'Check-In'!B44)","v":"SCHMID, MIKE"},{"$f":"INDEX(Qual!$C$8:$Z$127,MATCH(K38,Qual!$C$8:$C$127,0),22)","v":1723}]
[{"$f":"IF(Tourn=\"MSC\",IF('Check-In'!C45=\"SS\",'Check-In'!C45,\"\"),IF('Check-In'!C45=\"SR\",'Check-In'!C45,\"\"))","v":""},{"$f":"IF(A39=\"\",\"\",'Check-In'!B45)","v":""},{"$f":"INDEX(Qual!$C$8:$Z$127,MATCH(B39,Qual!$C$8:$C$127,0),22)","v":""},{"$nulls":6},{"$f":"IF(Tourn=\"msc\",IF('Check-In'!C45=\"ROG\",'Check-In'!C45,\"\"),IF('Check-In'!C45=\"F\",'Check-In'!C45,\"\"))","v":""},{"$f":"IF(J39=\"\",\"\",'Check-In'!B45)","v":""},{"$f":"INDEX(Qual!$C$8:$Z$127,MATCH(K39,Qual!$C$8:$C$127,0),22)","v":""}]
[{"$f":"IF(Tourn=\"MSC\",IF('Check-In'!C46=\"SS\",'Check-In'!C46,\"\"),IF('Check-In'!C46=\"SR\",'Check-In'!C46,\"\"))","v":""},{"$f":"IF(A40=\"\",\"\",'Check-In'!B46)","v":""},{"$f":"INDEX(Qual!$C$8:$Z$127,MATCH(B40,Qual!$C$8:$C$127,0),22)","v":""},{"$nulls":6},{"$f":"IF(Tourn=\"msc\",IF('Check-In'!C46=\"ROG\",'Check-In'!C46,\"\"),IF('Check-In'!C46=\"F\",'Check-In'!C46,\"\"))","v":""},{"$f":"IF(J40=\"\",\"\",'Check-In'!B46)","v":""},{"$f":"INDEX(Qual!$C$8:$Z$127,MATCH(K40,Qual!$C$8:$C$127,0),22)","v":""}]
[{"$f":"IF(Tourn=\"MSC\",IF('Check-In'!C47=\"SS\",'Check-In'!C47,\"\"),IF('Check-In'!C47=\"SR\",'Check-In'!C47,\"\"))","v":"SS"},{"$f":"IF(A41=\"\",\"\",'Check-In'!B47)","v":"BRUINSMA, DEAN"},{"$f":"INDEX(Qual!$C$8:$Z$127,MATCH(B41,Qual!$C$8:$C$127,0),22)","v":1650},{"$nulls":6},{"$f":"IF(Tourn=\"msc\",IF('Check-In'!C47=\"ROG\",'Check-In'!C47,\"\"),IF('Check-In'!C47=\"F\",'Check-In'!C47,\"\"))","v":""},{"$f":"IF(J41=\"\",\"\",'Check-In'!B47)","v":""},{"$f":"INDEX(Qual!$C$8:$Z$127,MATCH(K41,Qual!$C$8:$C$127,0),22)","v":""}]
[{"$f":"IF(Tourn=\"MSC\",IF('Check-In'!C48=\"SS\",'Check-In'!C48,\"\"),IF('Check-In'!C48=\"SR\",'Check-In'!C48,\"\"))","v":"SS"},{"$f":"IF(A42=\"\",\"\",'Check-In'!B48)","v":"CAUGHEY, STEVE"},{"$f":"INDEX(Qual!$C$8:$Z$127,MATCH(B42,Qual!$C$8:$C$127,0),22)","v":2109},{"$nulls":6},{"$f":"IF(Tourn=\"msc\",IF('Check-In'!C48=\"ROG\",'Check-In'!C48,\"\"),IF('Check-In'!C48=\"F\",'Check-In'!C48,\"\"))","v":""},{"$f":"IF(J42=\"\",\"\",'Check-In'!B48)","v":""},{"$f":"INDEX(Qual!$C$8:$Z$127,MATCH(K42,Qual!$C$8:$C$127,0),22)","v":""}]
[{"$f":"IF(Tourn=\"MSC\",IF('Check-In'!C49=\"SS\",'Check-In'!C49,\"\"),IF('Check-In'!C49=\"SR\",'Check-In'!C49,\"\"))","v":"SS"},{"$f":"IF(A43=\"\",\"\",'Check-In'!B49)","v":"WIRZ, MIKE"},{"$f":"INDEX(Qual!$C$8:$Z$127,MATCH(B43,Qual!$C$8:$C$127,0),22)","v":1780},{"$nulls":6},{"$f":"IF(Tourn=\"msc\",IF('Check-In'!C49=\"ROG\",'Check-In'!C49,\"\"),IF('Check-In'!C49=\"F\",'Check-In'!C49,\"\"))","v":""},{"$f":"IF(J43=\"\",\"\",'Check-In'!B49)","v":""},{"$f":"INDEX(Qual!$C$8:$Z$127,MATCH(K43,Qual!$C$8:$C$127,0),22)","v":""}]
[{"$f":"IF(Tourn=\"MSC\",IF('Check-In'!C50=\"SS\",'Check-In'!C50,\"\"),IF('Check-In'!C50=\"SR\",'Check-In'!C50,\"\"))","v":"SS"},{"$f":"IF(A44=\"\",\"\",'Check-In'!B50)","v":"MANSKE, WARREN"},{"$f":"INDEX(Qual!$C$8:$Z$127,MATCH(B44,Qual!$C$8:$C$127,0),22)","v":1552},{"$nulls":6},{"$f":"IF(Tourn=\"msc\",IF('Check-In'!C50=\"ROG\",'Check-In'!C50,\"\"),IF('Check-In'!C50=\"F\",'Check-In'!C50,\"\"))","v":""},{"$f":"IF(J44=\"\",\"\",'Check-In'!B50)","v":""},{"$f":"INDEX(Qual!$C$8:$Z$127,MATCH(K44,Qual!$C$8:$C$127,0),22)","v":""}]
[{"$f":"IF(Tourn=\"MSC\",IF('Check-In'!C51=\"SS\",'Check-In'!C51,\"\"),IF('Check-In'!C51=\"SR\",'Check-In'!C51,\"\"))","v":""},{"$f":"IF(A45=\"\",\"\",'Check-In'!B51)","v":""},{"$f":"INDEX(Qual!$C$8:$Z$127,MATCH(B45,Qual!$C$8:$C$127,0),22)","v":""},{"$nulls":6},{"$f":"IF(Tourn=\"msc\",IF('Check-In'!C51=\"ROG\",'Check-In'!C51,\"\"),IF('Check-In'!C51=\"F\",'Check-In'!C51,\"\"))","v":""},{"$f":"IF(J45=\"\",\"\",'Check-In'!B51)","v":""},{"$f":"INDEX(Qual!$C$8:$Z$127,MATCH(K45,Qual!$C$8:$C$127,0),22)","v":""}]
[{"$f":"IF(Tourn=\"MSC\",IF('Check-In'!C52=\"SS\",'Check-In'!C52,\"\"),IF('Check-In'!C52=\"SR\",'Check-In'!C52,\"\"))","v":""},{"$f":"IF(A46=\"\",\"\",'Check-In'!B52)","v":""},{"$f":"INDEX(Qual!$C$8:$Z$127,MATCH(B46,Qual!$C$8:$C$127,0),22)","v":""},{"$nulls":6},{"$f":"IF(Tourn=\"msc\",IF('Check-In'!C52=\"ROG\",'Check-In'!C52,\"\"),IF('Check-In'!C52=\"F\",'Check-In'!C52,\"\"))","v":""},{"$f":"IF(J46=\"\",\"\",'Check-In'!B52)","v":""},{"$f":"INDEX(Qual!$C$8:$Z$127,MATCH(K46,Qual!$C$8:$C$127,0),22)","v":""}]
[{"$f":"IF(Tourn=\"MSC\",IF('Check-In'!C53=\"SS\",'Check-In'!C53,\"\"),IF('Check-In'!C53=\"SR\",'Check-In'!C53,\"\"))","v":"SS"},{"$f":"IF(A47=\"\",\"\",'Check-In'!B53)","v":"HALIDA, TERRY"},{"$f":"INDEX(Qual!$C$8:$Z$127,MATCH(B47,Qual!$C$8:$C$127,0),22)","v":1449},{"$nulls":6},{"$f":"IF(Tourn=\"msc\",IF('Check-In'!C53=\"ROG\",'Check-In'!C53,\"\"),IF('Check-In'!C53=\"F\",'Check-In'!C53,\"\"))","v":""},{"$f":"IF(J47=\"\",\"\",'Check-In'!B53)","v":""},{"$f":"INDEX(Qual!$C$8:$Z$127,MATCH(K47,Qual!$C$8:$C$127,0),22)","v":""}]
[{"$f":"IF(Tourn=\"MSC\",IF('Check-In'!C54=\"SS\",'Check-In'!C54,\"\"),IF('Check-In'!C54=\"SR\",'Check-In'!C54,\"\"))","v":""},{"$f":"IF(A48=\"\",\"\",'Check-In'!B54)","v":""},{"$f":"INDEX(Qual!$C$8:$Z$127,MATCH(B48,Qual!$C$8:$C$127,0),22)","v":""},{"$nulls":6},{"$f":"IF(Tourn=\"msc\",IF('Check-In'!C54=\"ROG\",'Check-In'!C54,\"\"),IF('Check-In'!C54=\"F\",'Check-In'!C54,\"\"))","v":""},{"$f":"IF(J48=\"\",\"\",'Check-In'!B54)","v":""},{"$f":"INDEX(Qual!$C$8:$Z$127,MATCH(K48,Qual!$C$8:$C$127,0),22)","v":""}]
[{"$f":"IF(Tourn=\"MSC\",IF('Check-In'!C55=\"SS\",'Check-In'!C55,\"\"),IF('Check-In'!C55=\"SR\",'Check-In'!C55,\"\"))","v":"SS"},{"$f":"IF(A49=\"\",\"\",'Check-In'!B55)","v":"MICEK, BOB"},{"$f":"INDEX(Qual!$C$8:$Z$127,MATCH(B49,Qual!$C$8:$C$127,0),22)","v":1856},{"$nulls":6},{"$f":"IF(Tourn=\"msc\",IF('Check-In'!C55=\"ROG\",'Check-In'!C55,\"\"),IF('Check-In'!C55=\"F\",'Check-In'!C55,\"\"))","v":""},{"$f":"IF(J49=\"\",\"\",'Check-In'!B55)","v":""},{"$f":"INDEX(Qual!$C$8:$Z$127,MATCH(K49,Qual!$C$8:$C$127,0),22)","v":""}]
[{"$f":"IF(Tourn=\"MSC\",IF('Check-In'!C56=\"SS\",'Check-In'!C56,\"\"),IF('Check-In'!C56=\"SR\",'Check-In'!C56,\"\"))","v":"SS"},{"$f":"IF(A50=\"\",\"\",'Check-In'!B56)","v":"CORBETT, TOM"},{"$f":"INDEX(Qual!$C$8:$Z$127,MATCH(B50,Qual!$C$8:$C$127,0),22)","v":1764},{"$nulls":6},{"$f":"IF(Tourn=\"msc\",IF('Check-In'!C56=\"ROG\",'Check-In'!C56,\"\"),IF('Check-In'!C56=\"F\",'Check-In'!C56,\"\"))","v":""},{"$f":"IF(J50=\"\",\"\",'Check-In'!B56)","v":""},{"$f":"INDEX(Qual!$C$8:$Z$127,MATCH(K50,Qual!$C$8:$C$127,0),22)","v":""}]
[{"$f":"IF(Tourn=\"MSC\",IF('Check-In'!C57=\"SS\",'Check-In'!C57,\"\"),IF('Check-In'!C57=\"SR\",'Check-In'!C57,\"\"))","v":"SS"},{"$f":"IF(A51=\"\",\"\",'Check-In'!B57)","v":"SAVOY, TODD"},{"$f":"INDEX(Qual!$C$8:$Z$127,MATCH(B51,Qual!$C$8:$C$127,0),22)","v":2061},{"$nulls":6},{"$f":"IF(Tourn=\"msc\",IF('Check-In'!C57=\"ROG\",'Check-In'!C57,\"\"),IF('Check-In'!C57=\"F\",'Check-In'!C57,\"\"))","v":""},{"$f":"IF(J51=\"\",\"\",'Check-In'!B57)","v":""},{"$f":"INDEX(Qual!$C$8:$Z$127,MATCH(K51,Qual!$C$8:$C$127,0),22)","v":""}]
[{"$f":"IF(Tourn=\"MSC\",IF('Check-In'!C58=\"SS\",'Check-In'!C58,\"\"),IF('Check-In'!C58=\"SR\",'Check-In'!C58,\"\"))","v":""},{"$f":"IF(A52=\"\",\"\",'Check-In'!B58)","v":""},{"$f":"INDEX(Qual!$C$8:$Z$127,MATCH(B52,Qual!$C$8:$C$127,0),22)","v":""},{"$nulls":6},{"$f":"IF(Tourn=\"msc\",IF('Check-In'!C58=\"ROG\",'Check-In'!C58,\"\"),IF('Check-In'!C58=\"F\",'Check-In'!C58,\"\"))","v":""},{"$f":"IF(J52=\"\",\"\",'Check-In'!B58)","v":""},{"$f":"INDEX(Qual!$C$8:$Z$127,MATCH(K52,Qual!$C$8:$C$127,0),22)","v":""}]
[{"$f":"IF(Tourn=\"MSC\",IF('Check-In'!C59=\"SS\",'Check-In'!C59,\"\"),IF('Check-In'!C59=\"SR\",'Check-In'!C59,\"\"))","v":"SS"},{"$f":"IF(A53=\"\",\"\",'Check-In'!B59)","v":"DOWNER, ROB"},{"$f":"INDEX(Qual!$C$8:$Z$127,MATCH(B53,Qual!$C$8:$C$127,0),22)","v":2023},{"$nulls":6},{"$f":"IF(Tourn=\"msc\",IF('Check-In'!C59=\"ROG\",'Check-In'!C59,\"\"),IF('Check-In'!C59=\"F\",'Check-In'!C59,\"\"))","v":""},{"$f":"IF(J53=\"\",\"\",'Check-In'!B59)","v":""},{"$f":"INDEX(Qual!$C$8:$Z$127,MATCH(K53,Qual!$C$8:$C$127,0),22)","v":""}]
[{"$f":"IF(Tourn=\"MSC\",IF('Check-In'!C60=\"SS\",'Check-In'!C60,\"\"),IF('Check-In'!C60=\"SR\",'Check-In'!C60,\"\"))","v":""},{"$f":"IF(A54=\"\",\"\",'Check-In'!B60)","v":""},{"$f":"INDEX(Qual!$C$8:$Z$127,MATCH(B54,Qual!$C$8:$C$127,0),22)","v":""},{"$nulls":6},{"$f":"IF(Tourn=\"msc\",IF('Check-In'!C60=\"ROG\",'Check-In'!C60,\"\"),IF('Check-In'!C60=\"F\",'Check-In'!C60,\"\"))","v":""},{"$f":"IF(J54=\"\",\"\",'Check-In'!B60)","v":""},{"$f":"INDEX(Qual!$C$8:$Z$127,MATCH(K54,Qual!$C$8:$C$127,0),22)","v":""}]
[{"$f":"IF(Tourn=\"MSC\",IF('Check-In'!C61=\"SS\",'Check-In'!C61,\"\"),IF('Check-In'!C61=\"SR\",'Check-In'!C61,\"\"))","v":""},{"$f":"IF(A55=\"\",\"\",'Check-In'!B61)","v":""},{"$f":"INDEX(Qual!$C$8:$Z$127,MATCH(B55,Qual!$C$8:$C$127,0),22)","v":""},{"$nulls":6},{"$f":"IF(Tourn=\"msc\",IF('Check-In'!C61=\"ROG\",'Check-In'!C61,\"\"),IF('Check-In'!C61=\"F\",'Check-In'!C61,\"\"))","v":""},{"$f":"IF(J55=\"\",\"\",'Check-In'!B61)","v":""},{"$f":"INDEX(Qual!$C$8:$Z$127,MATCH(K55,Qual!$C$8:$C$127,0),22)","v":""}]
[{"$f":"IF(Tourn=\"MSC\",IF('Check-In'!C62=\"SS\",'Check-In'!C62,\"\"),IF('Check-In'!C62=\"SR\",'Check-In'!C62,\"\"))","v":"SS"},{"$f":"IF(A56=\"\",\"\",'Check-In'!B62)","v":"THOMPSON, DOUG"},{"$f":"INDEX(Qual!$C$8:$Z$127,MATCH(B56,Qual!$C$8:$C$127,0),22)","v":1419},{"$nulls":6},{"$f":"IF(Tourn=\"msc\",IF('Check-In'!C62=\"ROG\",'Check-In'!C62,\"\"),IF('Check-In'!C62=\"F\",'Check-In'!C62,\"\"))","v":""},{"$f":"IF(J56=\"\",\"\",'Check-In'!B62)","v":""},{"$f":"INDEX(Qual!$C$8:$Z$127,MATCH(K56,Qual!$C$8:$C$127,0),22)","v":""}]
[{"$f":"IF(Tourn=\"MSC\",IF('Check-In'!C63=\"SS\",'Check-In'!C63,\"\"),IF('Check-In'!C63=\"SR\",'Check-In'!C63,\"\"))","v":"SS"},{"$f":"IF(A57=\"\",\"\",'Check-In'!B63)","v":"DAVISON, PAUL"},{"$f":"INDEX(Qual!$C$8:$Z$127,MATCH(B57,Qual!$C$8:$C$127,0),22)","v":1536},{"$nulls":6},{"$f":"IF(Tourn=\"msc\",IF('Check-In'!C63=\"ROG\",'Check-In'!C63,\"\"),IF('Check-In'!C63=\"F\",'Check-In'!C63,\"\"))","v":""},{"$f":"IF(J57=\"\",\"\",'Check-In'!B63)","v":""},{"$f":"INDEX(Qual!$C$8:$Z$127,MATCH(K57,Qual!$C$8:$C$127,0),22)","v":""}]
[{"$f":"IF(Tourn=\"MSC\",IF('Check-In'!C64=\"SS\",'Check-In'!C64,\"\"),IF('Check-In'!C64=\"SR\",'Check-In'!C64,\"\"))","v":""},{"$f":"IF(A58=\"\",\"\",'Check-In'!B64)","v":""},{"$f":"INDEX(Qual!$C$8:$Z$127,MATCH(B58,Qual!$C$8:$C$127,0),22)","v":""},{"$nulls":6},{"$f":"IF(Tourn=\"msc\",IF('Check-In'!C64=\"ROG\",'Check-In'!C64,\"\"),IF('Check-In'!C64=\"F\",'Check-In'!C64,\"\"))","v":"ROG"},{"$f":"IF(J58=\"\",\"\",'Check-In'!B64)","v":"HAUGH, BOB"},{"$f":"INDEX(Qual!$C$8:$Z$127,MATCH(K58,Qual!$C$8:$C$127,0),22)","v":1631}]
[{"$f":"IF(Tourn=\"MSC\",IF('Check-In'!C65=\"SS\",'Check-In'!C65,\"\"),IF('Check-In'!C65=\"SR\",'Check-In'!C65,\"\"))","v":""},{"$f":"IF(A59=\"\",\"\",'Check-In'!B65)","v":""},{"$f":"INDEX(Qual!$C$8:$Z$127,MATCH(B59,Qual!$C$8:$C$127,0),22)","v":""},{"$nulls":6},{"$f":"IF(Tourn=\"msc\",IF('Check-In'!C65=\"ROG\",'Check-In'!C65,\"\"),IF('Check-In'!C65=\"F\",'Check-In'!C65,\"\"))","v":""},{"$f":"IF(J59=\"\",\"\",'Check-In'!B65)","v":""},{"$f":"INDEX(Qual!$C$8:$Z$127,MATCH(K59,Qual!$C$8:$C$127,0),22)","v":""}]
[{"$f":"IF(Tourn=\"MSC\",IF('Check-In'!C66=\"SS\",'Check-In'!C66,\"\"),IF('Check-In'!C66=\"SR\",'Check-In'!C66,\"\"))","v":"SS"},{"$f":"IF(A60=\"\",\"\",'Check-In'!B66)","v":"RACETTE, TIM"},{"$f":"INDEX(Qual!$C$8:$Z$127,MATCH(B60,Qual!$C$8:$C$127,0),22)","v":1810},{"$nulls":6},{"$f":"IF(Tourn=\"msc\",IF('Check-In'!C66=\"ROG\",'Check-In'!C66,\"\"),IF('Check-In'!C66=\"F\",'Check-In'!C66,\"\"))","v":""},{"$f":"IF(J60=\"\",\"\",'Check-In'!B66)","v":""},{"$f":"INDEX(Qual!$C$8:$Z$127,MATCH(K60,Qual!$C$8:$C$127,0),22)","v":""}]
[{"$f":"IF(Tourn=\"MSC\",IF('Check-In'!C67=\"SS\",'Check-In'!C67,\"\"),IF('Check-In'!C67=\"SR\",'Check-In'!C67,\"\"))","v":""},{"$f":"IF(A61=\"\",\"\",'Check-In'!B67)","v":""},{"$f":"INDEX(Qual!$C$8:$Z$127,MATCH(B61,Qual!$C$8:$C$127,0),22)","v":""},{"$nulls":6},{"$f":"IF(Tourn=\"msc\",IF('Check-In'!C67=\"ROG\",'Check-In'!C67,\"\"),IF('Check-In'!C67=\"F\",'Check-In'!C67,\"\"))","v":""},{"$f":"IF(J61=\"\",\"\",'Check-In'!B67)","v":""},{"$f":"INDEX(Qual!$C$8:$Z$127,MATCH(K61,Qual!$C$8:$C$127,0),22)","v":""}]
[{"$f":"IF(Tourn=\"MSC\",IF('Check-In'!C68=\"SS\",'Check-In'!C68,\"\"),IF('Check-In'!C68=\"SR\",'Check-In'!C68,\"\"))","v":""},{"$f":"IF(A62=\"\",\"\",'Check-In'!B68)","v":""},{"$f":"INDEX(Qual!$C$8:$Z$127,MATCH(B62,Qual!$C$8:$C$127,0),22)","v":""},{"$nulls":6},{"$f":"IF(Tourn=\"msc\",IF('Check-In'!C68=\"ROG\",'Check-In'!C68,\"\"),IF('Check-In'!C68=\"F\",'Check-In'!C68,\"\"))","v":"ROG"},{"$f":"IF(J62=\"\",\"\",'Check-In'!B68)","v":"WORM, KEN"},{"$f":"INDEX(Qual!$C$8:$Z$127,MATCH(K62,Qual!$C$8:$C$127,0),22)","v":1759}]
[{"$f":"IF(Tourn=\"MSC\",IF('Check-In'!C69=\"SS\",'Check-In'!C69,\"\"),IF('Check-In'!C69=\"SR\",'Check-In'!C69,\"\"))","v":""},{"$f":"IF(A63=\"\",\"\",'Check-In'!B69)","v":""},{"$f":"INDEX(Qual!$C$8:$Z$127,MATCH(B63,Qual!$C$8:$C$127,0),22)","v":""},{"$nulls":6},{"$f":"IF(Tourn=\"msc\",IF('Check-In'!C69=\"ROG\",'Check-In'!C69,\"\"),IF('Check-In'!C69=\"F\",'Check-In'!C69,\"\"))","v":""},{"$f":"IF(J63=\"\",\"\",'Check-In'!B69)","v":""},{"$f":"INDEX(Qual!$C$8:$Z$127,MATCH(K63,Qual!$C$8:$C$127,0),22)","v":""}]
[{"$f":"IF(Tourn=\"MSC\",IF('Check-In'!C70=\"SS\",'Check-In'!C70,\"\"),IF('Check-In'!C70=\"SR\",'Check-In'!C70,\"\"))","v":""},{"$f":"IF(A64=\"\",\"\",'Check-In'!B70)","v":""},{"$f":"INDEX(Qual!$C$8:$Z$127,MATCH(B64,Qual!$C$8:$C$127,0),22)","v":""},{"$nulls":6},{"$f":"IF(Tourn=\"msc\",IF('Check-In'!C70=\"ROG\",'Check-In'!C70,\"\"),IF('Check-In'!C70=\"F\",'Check-In'!C70,\"\"))","v":""},{"$f":"IF(J64=\"\",\"\",'Check-In'!B70)","v":""},{"$f":"INDEX(Qual!$C$8:$Z$127,MATCH(K64,Qual!$C$8:$C$127,0),22)","v":""}]
[{"$f":"IF(Tourn=\"MSC\",IF('Check-In'!C71=\"SS\",'Check-In'!C71,\"\"),IF('Check-In'!C71=\"SR\",'Check-In'!C71,\"\"))","v":""},{"$f":"IF(A65=\"\",\"\",'Check-In'!B71)","v":""},{"$f":"INDEX(Qual!$C$8:$Z$127,MATCH(B65,Qual!$C$8:$C$127,0),22)","v":""},{"$nulls":6},{"$f":"IF(Tourn=\"msc\",IF('Check-In'!C71=\"ROG\",'Check-In'!C71,\"\"),IF('Check-In'!C71=\"F\",'Check-In'!C71,\"\"))","v":""},{"$f":"IF(J65=\"\",\"\",'Check-In'!B71)","v":""},{"$f":"INDEX(Qual!$C$8:$Z$127,MATCH(K65,Qual!$C$8:$C$127,0),22)","v":""}]
[{"$f":"IF(Tourn=\"MSC\",IF('Check-In'!C72=\"SS\",'Check-In'!C72,\"\"),IF('Check-In'!C72=\"SR\",'Check-In'!C72,\"\"))","v":""},{"$f":"IF(A66=\"\",\"\",'Check-In'!B72)","v":""},{"$f":"INDEX(Qual!$C$8:$Z$127,MATCH(B66,Qual!$C$8:$C$127,0),22)","v":""},{"$nulls":6},{"$f":"IF(Tourn=\"msc\",IF('Check-In'!C72=\"ROG\",'Check-In'!C72,\"\"),IF('Check-In'!C72=\"F\",'Check-In'!C72,\"\"))","v":""},{"$f":"IF(J66=\"\",\"\",'Check-In'!B72)","v":""},{"$f":"INDEX(Qual!$C$8:$Z$127,MATCH(K66,Qual!$C$8:$C$127,0),22)","v":""}]
[{"$f":"IF(Tourn=\"MSC\",IF('Check-In'!C73=\"SS\",'Check-In'!C73,\"\"),IF('Check-In'!C73=\"SR\",'Check-In'!C73,\"\"))","v":""},{"$f":"IF(A67=\"\",\"\",'Check-In'!B73)","v":""},{"$f":"INDEX(Qual!$C$8:$Z$127,MATCH(B67,Qual!$C$8:$C$127,0),22)","v":""},{"$nulls":6},{"$f":"IF(Tourn=\"msc\",IF('Check-In'!C73=\"ROG\",'Check-In'!C73,\"\"),IF('Check-In'!C73=\"F\",'Check-In'!C73,\"\"))","v":""},{"$f":"IF(J67=\"\",\"\",'Check-In'!B73)","v":""},{"$f":"INDEX(Qual!$C$8:$Z$127,MATCH(K67,Qual!$C$8:$C$127,0),22)","v":""}]
[{"$f":"IF(Tourn=\"MSC\",IF('Check-In'!C74=\"SS\",'Check-In'!C74,\"\"),IF('Check-In'!C74=\"SR\",'Check-In'!C74,\"\"))","v":""},{"$f":"IF(A68=\"\",\"\",'Check-In'!B74)","v":""},{"$f":"INDEX(Qual!$C$8:$Z$127,MATCH(B68,Qual!$C$8:$C$127,0),22)","v":""},{"$nulls":6},{"$f":"IF(Tourn=\"msc\",IF('Check-In'!C74=\"ROG\",'Check-In'!C74,\"\"),IF('Check-In'!C74=\"F\",'Check-In'!C74,\"\"))","v":""},{"$f":"IF(J68=\"\",\"\",'Check-In'!B74)","v":""},{"$f":"INDEX(Qual!$C$8:$Z$127,MATCH(K68,Qual!$C$8:$C$127,0),22)","v":""}]
[{"$f":"IF(Tourn=\"MSC\",IF('Check-In'!C75=\"SS\",'Check-In'!C75,\"\"),IF('Check-In'!C75=\"SR\",'Check-In'!C75,\"\"))","v":""},{"$f":"IF(A69=\"\",\"\",'Check-In'!B75)","v":""},{"$f":"INDEX(Qual!$C$8:$Z$127,MATCH(B69,Qual!$C$8:$C$127,0),22)","v":""},{"$nulls":6},{"$f":"IF(Tourn=\"msc\",IF('Check-In'!C75=\"ROG\",'Check-In'!C75,\"\"),IF('Check-In'!C75=\"F\",'Check-In'!C75,\"\"))","v":""},{"$f":"IF(J69=\"\",\"\",'Check-In'!B75)","v":""},{"$f":"INDEX(Qual!$C$8:$Z$127,MATCH(K69,Qual!$C$8:$C$127,0),22)","v":""}]
[{"$f":"IF(Tourn=\"MSC\",IF('Check-In'!C76=\"SS\",'Check-In'!C76,\"\"),IF('Check-In'!C76=\"SR\",'Check-In'!C76,\"\"))","v":""},{"$f":"IF(A70=\"\",\"\",'Check-In'!B76)","v":""},{"$f":"INDEX(Qual!$C$8:$Z$127,MATCH(B70,Qual!$C$8:$C$127,0),22)","v":""},{"$nulls":6},{"$f":"IF(Tourn=\"msc\",IF('Check-In'!C76=\"ROG\",'Check-In'!C76,\"\"),IF('Check-In'!C76=\"F\",'Check-In'!C76,\"\"))","v":""},{"$f":"IF(J70=\"\",\"\",'Check-In'!B76)","v":""},{"$f":"INDEX(Qual!$C$8:$Z$127,MATCH(K70,Qual!$C$8:$C$127,0),22)","v":""}]
[{"$f":"IF(Tourn=\"MSC\",IF('Check-In'!C77=\"SS\",'Check-In'!C77,\"\"),IF('Check-In'!C77=\"SR\",'Check-In'!C77,\"\"))","v":""},{"$f":"IF(A71=\"\",\"\",'Check-In'!B77)","v":""},{"$f":"INDEX(Qual!$C$8:$Z$127,MATCH(B71,Qual!$C$8:$C$127,0),22)","v":""},{"$nulls":6},{"$f":"IF(Tourn=\"msc\",IF('Check-In'!C77=\"ROG\",'Check-In'!C77,\"\"),IF('Check-In'!C77=\"F\",'Check-In'!C77,\"\"))","v":""},{"$f":"IF(J71=\"\",\"\",'Check-In'!B77)","v":""},{"$f":"INDEX(Qual!$C$8:$Z$127,MATCH(K71,Qual!$C$8:$C$127,0),22)","v":""}]
[{"$f":"IF(Tourn=\"MSC\",IF('Check-In'!C78=\"SS\",'Check-In'!C78,\"\"),IF('Check-In'!C78=\"SR\",'Check-In'!C78,\"\"))","v":""},{"$f":"IF(A72=\"\",\"\",'Check-In'!B78)","v":""},{"$f":"INDEX(Qual!$C$8:$Z$127,MATCH(B72,Qual!$C$8:$C$127,0),22)","v":""},{"$nulls":6},{"$f":"IF(Tourn=\"msc\",IF('Check-In'!C78=\"ROG\",'Check-In'!C78,\"\"),IF('Check-In'!C78=\"F\",'Check-In'!C78,\"\"))","v":""},{"$f":"IF(J72=\"\",\"\",'Check-In'!B78)","v":""},{"$f":"INDEX(Qual!$C$8:$Z$127,MATCH(K72,Qual!$C$8:$C$127,0),22)","v":""}]
[{"$f":"IF(Tourn=\"MSC\",IF('Check-In'!C79=\"SS\",'Check-In'!C79,\"\"),IF('Check-In'!C79=\"SR\",'Check-In'!C79,\"\"))","v":""},{"$f":"IF(A73=\"\",\"\",'Check-In'!B79)","v":""},{"$f":"INDEX(Qual!$C$8:$Z$127,MATCH(B73,Qual!$C$8:$C$127,0),22)","v":""},{"$nulls":6},{"$f":"IF(Tourn=\"msc\",IF('Check-In'!C79=\"ROG\",'Check-In'!C79,\"\"),IF('Check-In'!C79=\"F\",'Check-In'!C79,\"\"))","v":""},{"$f":"IF(J73=\"\",\"\",'Check-In'!B79)","v":""},{"$f":"INDEX(Qual!$C$8:$Z$127,MATCH(K73,Qual!$C$8:$C$127,0),22)","v":""}]
[{"$f":"IF(Tourn=\"MSC\",IF('Check-In'!C80=\"SS\",'Check-In'!C80,\"\"),IF('Check-In'!C80=\"SR\",'Check-In'!C80,\"\"))","v":""},{"$f":"IF(A74=\"\",\"\",'Check-In'!B80)","v":""},{"$f":"INDEX(Qual!$C$8:$Z$127,MATCH(B74,Qual!$C$8:$C$127,0),22)","v":""},{"$nulls":6},{"$f":"IF(Tourn=\"msc\",IF('Check-In'!C80=\"ROG\",'Check-In'!C80,\"\"),IF('Check-In'!C80=\"F\",'Check-In'!C80,\"\"))","v":""},{"$f":"IF(J74=\"\",\"\",'Check-In'!B80)","v":""},{"$f":"INDEX(Qual!$C$8:$Z$127,MATCH(K74,Qual!$C$8:$C$127,0),22)","v":""}]
[{"$f":"IF(Tourn=\"MSC\",IF('Check-In'!C81=\"SS\",'Check-In'!C81,\"\"),IF('Check-In'!C81=\"SR\",'Check-In'!C81,\"\"))","v":""},{"$f":"IF(A75=\"\",\"\",'Check-In'!B107)","v":""},{"$f":"INDEX(Qual!$C$8:$Z$127,MATCH(B75,Qual!$C$8:$C$127,0),22)","v":""},{"$nulls":6},{"$f":"IF(Tourn=\"msc\",IF('Check-In'!C81=\"ROG\",'Check-In'!C81,\"\"),IF('Check-In'!C81=\"F\",'Check-In'!C81,\"\"))","v":""},{"$f":"IF(J75=\"\",\"\",'Check-In'!B107)","v":""},{"$f":"INDEX(Qual!$C$8:$Z$127,MATCH(K75,Qual!$C$8:$C$127,0),22)","v":""}]
[{"$f":"IF(Tourn=\"MSC\",IF('Check-In'!C82=\"SS\",'Check-In'!C82,\"\"),IF('Check-In'!C82=\"SR\",'Check-In'!C82,\"\"))","v":""},{"$f":"IF(A76=\"\",\"\",'Check-In'!B108)","v":""},{"$f":"INDEX(Qual!$C$8:$Z$127,MATCH(B76,Qual!$C$8:$C$127,0),22)","v":""},{"$nulls":6},{"$f":"IF(Tourn=\"msc\",IF('Check-In'!C82=\"ROG\",'Check-In'!C82,\"\"),IF('Check-In'!C82=\"F\",'Check-In'!C82,\"\"))","v":""},{"$f":"IF(J76=\"\",\"\",'Check-In'!B108)","v":""},{"$f":"INDEX(Qual!$C$8:$Z$127,MATCH(K76,Qual!$C$8:$C$127,0),22)","v":""}]
[{"$f":"IF(Tourn=\"MSC\",IF('Check-In'!C83=\"SS\",'Check-In'!C83,\"\"),IF('Check-In'!C83=\"SR\",'Check-In'!C83,\"\"))","v":""},{"$f":"IF(A77=\"\",\"\",'Check-In'!B109)","v":""},{"$f":"INDEX(Qual!$C$8:$Z$127,MATCH(B77,Qual!$C$8:$C$127,0),22)","v":""},{"$nulls":6},{"$f":"IF(Tourn=\"msc\",IF('Check-In'!C83=\"ROG\",'Check-In'!C83,\"\"),IF('Check-In'!C83=\"F\",'Check-In'!C83,\"\"))","v":""},{"$f":"IF(J77=\"\",\"\",'Check-In'!B109)","v":""},{"$f":"INDEX(Qual!$C$8:$Z$127,MATCH(K77,Qual!$C$8:$C$127,0),22)","v":""}]
[{"$f":"IF(Tourn=\"MSC\",IF('Check-In'!C84=\"SS\",'Check-In'!C84,\"\"),IF('Check-In'!C84=\"SR\",'Check-In'!C84,\"\"))","v":""},{"$f":"IF(A78=\"\",\"\",'Check-In'!B110)","v":""},{"$f":"INDEX(Qual!$C$8:$Z$127,MATCH(B78,Qual!$C$8:$C$127,0),22)","v":""},{"$nulls":6},{"$f":"IF(Tourn=\"msc\",IF('Check-In'!C84=\"ROG\",'Check-In'!C84,\"\"),IF('Check-In'!C84=\"F\",'Check-In'!C84,\"\"))","v":""},{"$f":"IF(J78=\"\",\"\",'Check-In'!B110)","v":""},{"$f":"INDEX(Qual!$C$8:$Z$127,MATCH(K78,Qual!$C$8:$C$127,0),22)","v":""}]
[{"$f":"IF(Tourn=\"MSC\",IF('Check-In'!C85=\"SS\",'Check-In'!C85,\"\"),IF('Check-In'!C85=\"SR\",'Check-In'!C85,\"\"))","v":""},{"$f":"IF(A79=\"\",\"\",'Check-In'!B111)","v":""},{"$f":"INDEX(Qual!$C$8:$Z$127,MATCH(B79,Qual!$C$8:$C$127,0),22)","v":""},{"$nulls":6},{"$f":"IF(Tourn=\"msc\",IF('Check-In'!C85=\"ROG\",'Check-In'!C85,\"\"),IF('Check-In'!C85=\"F\",'Check-In'!C85,\"\"))","v":""},{"$f":"IF(J79=\"\",\"\",'Check-In'!B111)","v":""},{"$f":"INDEX(Qual!$C$8:$Z$127,MATCH(K79,Qual!$C$8:$C$127,0),22)","v":""}]
[{"$f":"IF(Tourn=\"MSC\",IF('Check-In'!C86=\"SS\",'Check-In'!C86,\"\"),IF('Check-In'!C86=\"SR\",'Check-In'!C86,\"\"))","v":""},{"$f":"IF(A80=\"\",\"\",'Check-In'!B112)","v":""},{"$f":"INDEX(Qual!$C$8:$Z$127,MATCH(B80,Qual!$C$8:$C$127,0),22)","v":""},{"$nulls":6},{"$f":"IF(Tourn=\"msc\",IF('Check-In'!C86=\"ROG\",'Check-In'!C86,\"\"),IF('Check-In'!C86=\"F\",'Check-In'!C86,\"\"))","v":""},{"$f":"IF(J80=\"\",\"\",'Check-In'!B112)","v":""},{"$f":"INDEX(Qual!$C$8:$Z$127,MATCH(K80,Qual!$C$8:$C$127,0),22)","v":""}]
[{"$f":"IF(Tourn=\"MSC\",IF('Check-In'!C87=\"SS\",'Check-In'!C87,\"\"),IF('Check-In'!C87=\"SR\",'Check-In'!C87,\"\"))","v":""},{"$f":"IF(A81=\"\",\"\",'Check-In'!B113)","v":""},{"$f":"INDEX(Qual!$C$8:$Z$127,MATCH(B81,Qual!$C$8:$C$127,0),22)","v":""},{"$nulls":6},{"$f":"IF(Tourn=\"msc\",IF('Check-In'!C87=\"ROG\",'Check-In'!C87,\"\"),IF('Check-In'!C87=\"F\",'Check-In'!C87,\"\"))","v":""},{"$f":"IF(J81=\"\",\"\",'Check-In'!B113)","v":""},{"$f":"INDEX(Qual!$C$8:$Z$127,MATCH(K81,Qual!$C$8:$C$127,0),22)","v":""}]
[{"$f":"IF(Tourn=\"MSC\",IF('Check-In'!C88=\"SS\",'Check-In'!C88,\"\"),IF('Check-In'!C88=\"SR\",'Check-In'!C88,\"\"))","v":""},{"$f":"IF(A82=\"\",\"\",'Check-In'!B114)","v":""},{"$f":"INDEX(Qual!$C$8:$Z$127,MATCH(B82,Qual!$C$8:$C$127,0),22)","v":""},{"$nulls":6},{"$f":"IF(Tourn=\"msc\",IF('Check-In'!C88=\"ROG\",'Check-In'!C88,\"\"),IF('Check-In'!C88=\"F\",'Check-In'!C88,\"\"))","v":""},{"$f":"IF(J82=\"\",\"\",'Check-In'!B114)","v":""},{"$f":"INDEX(Qual!$C$8:$Z$127,MATCH(K82,Qual!$C$8:$C$127,0),22)","v":""}]
[{"$f":"IF(Tourn=\"MSC\",IF('Check-In'!C89=\"SS\",'Check-In'!C89,\"\"),IF('Check-In'!C89=\"SR\",'Check-In'!C89,\"\"))","v":""},{"$f":"IF(A83=\"\",\"\",'Check-In'!B115)","v":""},{"$f":"INDEX(Qual!$C$8:$Z$127,MATCH(B83,Qual!$C$8:$C$127,0),22)","v":""},{"$nulls":6},{"$f":"IF(Tourn=\"msc\",IF('Check-In'!C89=\"ROG\",'Check-In'!C89,\"\"),IF('Check-In'!C89=\"F\",'Check-In'!C89,\"\"))","v":""},{"$f":"IF(J83=\"\",\"\",'Check-In'!B115)","v":""},{"$f":"INDEX(Qual!$C$8:$Z$127,MATCH(K83,Qual!$C$8:$C$127,0),22)","v":""}]
[{"$f":"IF(Tourn=\"MSC\",IF('Check-In'!C90=\"SS\",'Check-In'!C90,\"\"),IF('Check-In'!C90=\"SR\",'Check-In'!C90,\"\"))","v":""},{"$f":"IF(A84=\"\",\"\",'Check-In'!B116)","v":""},{"$f":"INDEX(Qual!$C$8:$Z$127,MATCH(B84,Qual!$C$8:$C$127,0),22)","v":""},{"$nulls":6},{"$f":"IF(Tourn=\"msc\",IF('Check-In'!C90=\"ROG\",'Check-In'!C90,\"\"),IF('Check-In'!C90=\"F\",'Check-In'!C90,\"\"))","v":""},{"$f":"IF(J84=\"\",\"\",'Check-In'!B116)","v":""},{"$f":"INDEX(Qual!$C$8:$Z$127,MATCH(K84,Qual!$C$8:$C$127,0),22)","v":""}]
[{"$f":"IF(Tourn=\"MSC\",IF('Check-In'!C91=\"SS\",'Check-In'!C91,\"\"),IF('Check-In'!C91=\"SR\",'Check-In'!C91,\"\"))","v":""},{"$f":"IF(A85=\"\",\"\",'Check-In'!B117)","v":""},{"$f":"INDEX(Qual!$C$8:$Z$127,MATCH(B85,Qual!$C$8:$C$127,0),22)","v":""},{"$nulls":6},{"$f":"IF(Tourn=\"msc\",IF('Check-In'!C91=\"ROG\",'Check-In'!C91,\"\"),IF('Check-In'!C91=\"F\",'Check-In'!C91,\"\"))","v":""},{"$f":"IF(J85=\"\",\"\",'Check-In'!B117)","v":""},{"$f":"INDEX(Qual!$C$8:$Z$127,MATCH(K85,Qual!$C$8:$C$127,0),22)","v":""}]
[{"$f":"IF(Tourn=\"MSC\",IF('Check-In'!C92=\"SS\",'Check-In'!C92,\"\"),IF('Check-In'!C92=\"SR\",'Check-In'!C92,\"\"))","v":""},{"$f":"IF(A86=\"\",\"\",'Check-In'!B118)","v":""},{"$f":"INDEX(Qual!$C$8:$Z$127,MATCH(B86,Qual!$C$8:$C$127,0),22)","v":""},{"$nulls":6},{"$f":"IF(Tourn=\"msc\",IF('Check-In'!C92=\"ROG\",'Check-In'!C92,\"\"),IF('Check-In'!C92=\"F\",'Check-In'!C92,\"\"))","v":""},{"$f":"IF(J86=\"\",\"\",'Check-In'!B118)","v":""},{"$f":"INDEX(Qual!$C$8:$Z$127,MATCH(K86,Qual!$C$8:$C$127,0),22)","v":""}]
[{"$f":"IF(Tourn=\"MSC\",IF('Check-In'!C93=\"SS\",'Check-In'!C93,\"\"),IF('Check-In'!C93=\"SR\",'Check-In'!C93,\"\"))","v":""},{"$f":"IF(A87=\"\",\"\",'Check-In'!B119)","v":""},{"$f":"INDEX(Qual!$C$8:$Z$127,MATCH(B87,Qual!$C$8:$C$127,0),22)","v":""},{"$nulls":6},{"$f":"IF(Tourn=\"msc\",IF('Check-In'!C93=\"ROG\",'Check-In'!C93,\"\"),IF('Check-In'!C93=\"F\",'Check-In'!C93,\"\"))","v":""},{"$f":"IF(J87=\"\",\"\",'Check-In'!B119)","v":""},{"$f":"INDEX(Qual!$C$8:$Z$127,MATCH(K87,Qual!$C$8:$C$127,0),22)","v":""}]
[{"$f":"IF(Tourn=\"MSC\",IF('Check-In'!C94=\"SS\",'Check-In'!C94,\"\"),IF('Check-In'!C94=\"SR\",'Check-In'!C94,\"\"))","v":""},{"$f":"IF(A88=\"\",\"\",'Check-In'!B120)","v":""},{"$f":"INDEX(Qual!$C$8:$Z$127,MATCH(B88,Qual!$C$8:$C$127,0),22)","v":""},{"$nulls":6},{"$f":"IF(Tourn=\"msc\",IF('Check-In'!C94=\"ROG\",'Check-In'!C94,\"\"),IF('Check-In'!C94=\"F\",'Check-In'!C94,\"\"))","v":""},{"$f":"IF(J88=\"\",\"\",'Check-In'!B120)","v":""},{"$f":"INDEX(Qual!$C$8:$Z$127,MATCH(K88,Qual!$C$8:$C$127,0),22)","v":""}]
[{"$f":"IF(Tourn=\"MSC\",IF('Check-In'!C95=\"SS\",'Check-In'!C95,\"\"),IF('Check-In'!C95=\"SR\",'Check-In'!C95,\"\"))","v":""},{"$f":"IF(A89=\"\",\"\",'Check-In'!B121)","v":""},{"$f":"INDEX(Qual!$C$8:$Z$127,MATCH(B89,Qual!$C$8:$C$127,0),22)","v":""},{"$nulls":6},{"$f":"IF(Tourn=\"msc\",IF('Check-In'!C95=\"ROG\",'Check-In'!C95,\"\"),IF('Check-In'!C95=\"F\",'Check-In'!C95,\"\"))","v":""},{"$f":"IF(J89=\"\",\"\",'Check-In'!B121)","v":""},{"$f":"INDEX(Qual!$C$8:$Z$127,MATCH(K89,Qual!$C$8:$C$127,0),22)","v":""}]
[{"$f":"IF(Tourn=\"MSC\",IF('Check-In'!C96=\"SS\",'Check-In'!C96,\"\"),IF('Check-In'!C96=\"SR\",'Check-In'!C96,\"\"))","v":""},{"$f":"IF(A90=\"\",\"\",'Check-In'!B122)","v":""},{"$f":"INDEX(Qual!$C$8:$Z$127,MATCH(B90,Qual!$C$8:$C$127,0),22)","v":""},{"$nulls":6},{"$f":"IF(Tourn=\"msc\",IF('Check-In'!C96=\"ROG\",'Check-In'!C96,\"\"),IF('Check-In'!C96=\"F\",'Check-In'!C96,\"\"))","v":""},{"$f":"IF(J90=\"\",\"\",'Check-In'!B122)","v":""},{"$f":"INDEX(Qual!$C$8:$Z$127,MATCH(K90,Qual!$C$8:$C$127,0),22)","v":""}]
[{"$f":"IF(Tourn=\"MSC\",IF('Check-In'!C97=\"SS\",'Check-In'!C97,\"\"),IF('Check-In'!C97=\"SR\",'Check-In'!C97,\"\"))","v":""},{"$f":"IF(A91=\"\",\"\",'Check-In'!B123)","v":""},{"$f":"INDEX(Qual!$C$8:$Z$127,MATCH(B91,Qual!$C$8:$C$127,0),22)","v":""},{"$nulls":6},{"$f":"IF(Tourn=\"msc\",IF('Check-In'!C97=\"ROG\",'Check-In'!C97,\"\"),IF('Check-In'!C97=\"F\",'Check-In'!C97,\"\"))","v":""},{"$f":"IF(J91=\"\",\"\",'Check-In'!B123)","v":""},{"$f":"INDEX(Qual!$C$8:$Z$127,MATCH(K91,Qual!$C$8:$C$127,0),22)","v":""}]
[{"$f":"IF(Tourn=\"MSC\",IF('Check-In'!C98=\"SS\",'Check-In'!C98,\"\"),IF('Check-In'!C98=\"SR\",'Check-In'!C98,\"\"))","v":""},{"$f":"IF(A92=\"\",\"\",'Check-In'!B124)","v":""},{"$f":"INDEX(Qual!$C$8:$Z$127,MATCH(B92,Qual!$C$8:$C$127,0),22)","v":""},{"$nulls":6},{"$f":"IF(Tourn=\"msc\",IF('Check-In'!C98=\"ROG\",'Check-In'!C98,\"\"),IF('Check-In'!C98=\"F\",'Check-In'!C98,\"\"))","v":""},{"$f":"IF(J92=\"\",\"\",'Check-In'!B124)","v":""},{"$f":"INDEX(Qual!$C$8:$Z$127,MATCH(K92,Qual!$C$8:$C$127,0),22)","v":""}]
[{"$f":"IF(Tourn=\"MSC\",IF('Check-In'!C99=\"SS\",'Check-In'!C99,\"\"),IF('Check-In'!C99=\"SR\",'Check-In'!C99,\"\"))","v":""},{"$f":"IF(A93=\"\",\"\",'Check-In'!B125)","v":""},{"$f":"INDEX(Qual!$C$8:$Z$127,MATCH(B93,Qual!$C$8:$C$127,0),22)","v":""},{"$nulls":6},{"$f":"IF(Tourn=\"msc\",IF('Check-In'!C99=\"ROG\",'Check-In'!C99,\"\"),IF('Check-In'!C99=\"F\",'Check-In'!C99,\"\"))","v":""},{"$f":"IF(J93=\"\",\"\",'Check-In'!B125)","v":""},{"$f":"INDEX(Qual!$C$8:$Z$127,MATCH(K93,Qual!$C$8:$C$127,0),22)","v":""}]
[{"$f":"IF(Tourn=\"MSC\",IF('Check-In'!C100=\"SS\",'Check-In'!C100,\"\"),IF('Check-In'!C100=\"SR\",'Check-In'!C100,\"\"))","v":""},{"$f":"IF(A94=\"\",\"\",'Check-In'!B126)","v":""},{"$f":"INDEX(Qual!$C$8:$Z$127,MATCH(B94,Qual!$C$8:$C$127,0),22)","v":""},{"$nulls":6},{"$f":"IF(Tourn=\"msc\",IF('Check-In'!C100=\"ROG\",'Check-In'!C100,\"\"),IF('Check-In'!C100=\"F\",'Check-In'!C100,\"\"))","v":""},{"$f":"IF(J94=\"\",\"\",'Check-In'!B126)","v":""},{"$f":"INDEX(Qual!$C$8:$Z$127,MATCH(K94,Qual!$C$8:$C$127,0),22)","v":""}]
[{"$f":"IF(Tourn=\"MSC\",IF('Check-In'!C101=\"SS\",'Check-In'!C101,\"\"),IF('Check-In'!C101=\"SR\",'Check-In'!C101,\"\"))","v":""},{"$f":"IF(A95=\"\",\"\",'Check-In'!B127)","v":""},{"$f":"INDEX(Qual!$C$8:$Z$127,MATCH(B95,Qual!$C$8:$C$127,0),22)","v":""},{"$nulls":6},{"$f":"IF(Tourn=\"msc\",IF('Check-In'!C101=\"ROG\",'Check-In'!C101,\"\"),IF('Check-In'!C101=\"F\",'Check-In'!C101,\"\"))","v":""},{"$f":"IF(J95=\"\",\"\",'Check-In'!B127)","v":""},{"$f":"INDEX(Qual!$C$8:$Z$127,MATCH(K95,Qual!$C$8:$C$127,0),22)","v":""}]
[{"$f":"IF(Tourn=\"MSC\",IF('Check-In'!C102=\"SS\",'Check-In'!C102,\"\"),IF('Check-In'!C102=\"SR\",'Check-In'!C102,\"\"))","v":""},{"$f":"IF(A96=\"\",\"\",'Check-In'!B128)","v":""},{"$f":"INDEX(Qual!$C$8:$Z$127,MATCH(B96,Qual!$C$8:$C$127,0),22)","v":""},{"$nulls":6},{"$f":"IF(Tourn=\"msc\",IF('Check-In'!C102=\"ROG\",'Check-In'!C102,\"\"),IF('Check-In'!C102=\"F\",'Check-In'!C102,\"\"))","v":""},{"$f":"IF(J96=\"\",\"\",'Check-In'!B128)","v":""},{"$f":"INDEX(Qual!$C$8:$Z$127,MATCH(K96,Qual!$C$8:$C$127,0),22)","v":""}]
[{"$f":"IF(Tourn=\"MSC\",IF('Check-In'!C103=\"SS\",'Check-In'!C103,\"\"),IF('Check-In'!C103=\"SR\",'Check-In'!C103,\"\"))","v":""},{"$f":"IF(A97=\"\",\"\",'Check-In'!B129)","v":""},{"$f":"INDEX(Qual!$C$8:$Z$127,MATCH(B97,Qual!$C$8:$C$127,0),22)","v":""},{"$nulls":6},{"$f":"IF(Tourn=\"msc\",IF('Check-In'!C103=\"ROG\",'Check-In'!C103,\"\"),IF('Check-In'!C103=\"F\",'Check-In'!C103,\"\"))","v":""},{"$f":"IF(J97=\"\",\"\",'Check-In'!B129)","v":""},{"$f":"INDEX(Qual!$C$8:$Z$127,MATCH(K97,Qual!$C$8:$C$127,0),22)","v":""}]
[{"$f":"IF(Tourn=\"MSC\",IF('Check-In'!C104=\"SS\",'Check-In'!C104,\"\"),IF('Check-In'!C104=\"SR\",'Check-In'!C104,\"\"))","v":""},{"$f":"IF(A98=\"\",\"\",'Check-In'!B130)","v":""},{"$f":"INDEX(Qual!$C$8:$Z$127,MATCH(B98,Qual!$C$8:$C$127,0),22)","v":""},{"$nulls":6},{"$f":"IF(Tourn=\"msc\",IF('Check-In'!C104=\"ROG\",'Check-In'!C104,\"\"),IF('Check-In'!C104=\"F\",'Check-In'!C104,\"\"))","v":""},{"$f":"IF(J98=\"\",\"\",'Check-In'!B130)","v":""},{"$f":"INDEX(Qual!$C$8:$Z$127,MATCH(K98,Qual!$C$8:$C$127,0),22)","v":""}]
[{"$f":"IF(Tourn=\"MSC\",IF('Check-In'!C105=\"SS\",'Check-In'!C105,\"\"),IF('Check-In'!C105=\"SR\",'Check-In'!C105,\"\"))","v":""},{"$f":"IF(A99=\"\",\"\",'Check-In'!B131)","v":""},{"$f":"INDEX(Qual!$C$8:$Z$127,MATCH(B99,Qual!$C$8:$C$127,0),22)","v":""},{"$nulls":6},{"$f":"IF(Tourn=\"msc\",IF('Check-In'!C105=\"ROG\",'Check-In'!C105,\"\"),IF('Check-In'!C105=\"F\",'Check-In'!C105,\"\"))","v":""},{"$f":"IF(J99=\"\",\"\",'Check-In'!B131)","v":""},{"$f":"INDEX(Qual!$C$8:$Z$127,MATCH(K99,Qual!$C$8:$C$127,0),22)","v":""}]
[{"$f":"IF(Tourn=\"MSC\",IF('Check-In'!C106=\"SS\",'Check-In'!C106,\"\"),IF('Check-In'!C106=\"SR\",'Check-In'!C106,\"\"))","v":""},{"$f":"IF(A100=\"\",\"\",'Check-In'!B132)","v":""},{"$f":"INDEX(Qual!$C$8:$Z$127,MATCH(B100,Qual!$C$8:$C$127,0),22)","v":""},{"$nulls":6},{"$f":"IF(Tourn=\"msc\",IF('Check-In'!C106=\"ROG\",'Check-In'!C106,\"\"),IF('Check-In'!C106=\"F\",'Check-In'!C106,\"\"))","v":""},{"$f":"IF(J100=\"\",\"\",'Check-In'!B132)","v":""},{"$f":"INDEX(Qual!$C$8:$Z$127,MATCH(K100,Qual!$C$8:$C$127,0),22)","v":""}]

{"sheet":"Fin Rpt","index":17,"n_rows":21,"n_cols":4,"rows_kept":21,"merged":[[2,0,2,3],[12,0,12,3]]}
[]
[]
["Income"]
[{"$f":"'Check-In'!D134","v":62},"Entry Fee",{"$f":"'Check-In'!D6","v":{"v":90,"d":"$90.00"}},{"$f":"C4*A4","v":{"v":5580,"d":"$5,580.00"}}]
[null,"Sponsor Money",null,{"v":0,"d":"$0.00"}]
[null,"Sponsor Money",null,{"v":0,"d":"$0.00"}]
[null,"Sponsor Money",null,{"v":0,"d":"$0.00"}]
[null,"Ball Raffle"]
[null,"Bracket Profit",{"v":5,"d":"$5.00"},{"$f":"C9*A9","v":{"v":0,"d":"$0.00"}}]
[{"$nulls":3},{"$f":"SUM(D4:D9)","v":{"v":5580,"d":"$5,580.00"}}]
[]
[]
["Expenses"]
[{"$f":"A4","v":62},"Lineage",{"v":10,"d":"$10.00"},{"$f":"C14*A14","v":{"v":620,"d":"$620.00"}}]
[{"$f":"A4","v":62},"Director Fees",{"v":6,"d":"$6.00"},{"$f":"C15*A15","v":{"v":372,"d":"$372.00"}}]
[{"$f":"A4","v":62},"Year-End",{"v":6,"d":"$6.00"},{"$f":"C16*A16","v":{"v":372,"d":"$372.00"}}]
[null,"Prize Fund",null,{"$f":"#REF!","v":{"$error":"#REF!"}}]
[]
[{"$nulls":3},{"$f":"SUM(D14:D17)","v":{"$error":"#REF!"}}]
[]
[null,null,"Plus or (Minus)",{"$f":"D10-D19","v":{"$error":"#REF!"}}]